{"text_format":"1","workbook":"xlsx","n_sheets":3,"sheets":["Harmonogram FEP 2021-2027_v.15","Arkusz1","Arkusz2"],"not_rendered":{"charts":0,"images":1,"macros":1,"external_links":1,"defined_names":2,"comments":0,"pivot_tables":0},"unopened":[],"bounds":{"document_bytes":16777216,"sheet_cells":100000,"rows_first":2000,"rows_last":500,"rows_between":2000,"halvings":0,"cell_chars":16384,"cell_head_chars":4096},"cells_cut":0,"cells_raw":0,"read":"whole","date_system":"1900"}

{"sheet":"Harmonogram FEP 2021-2027_v.15","index":0,"n_rows":1032,"n_cols":23,"rows_kept":1032,"cut":false,"hidden":false,"merged":[[3,0,3,8],[2,0,2,5],[0,0,0,5]]}
[]
[]
[]
["Harmonogram naborów wniosków o dofinansowanie w ramach programu regionalnego Fundusze Europejskie dla Pomorza 2021-2027"]
["(wersja z dnia 27 marca 2025 roku)"]
["Kod programu","Numer priorytetu","Numer działania","Kod działania","Nazwa działania","Realizacja instrumentów terytorialnych","Tytuł naboru","Typy projektów, które mogą otrzymać dofinansowanie ","Wnioskodawcy - typy ogólne","Wnioskodawcy - typy szczegółowe","Kwartał rozpoczęcia naboru","Data początkowa naboru","Kwartał zakończenia naboru","Data końcowa naboru","Budżet naboru (PLN)","W tym środki z budżetu państwa (PLN)","Obszar geograficzny","Instytucja przyjmująca wnioski o dofinansowanie","Sposób wyboru projektów","Kod celu szczegółowego","Nazwa celu szczegółowego","Fundusz","Informacje dodatkowe"]
["FEPM","01","01",{"$f":"_xlfn.CONCAT(A7,\".\",B7,\".\",C7)","v":"FEPM.01.01"},"Badania i innowacje w przedsiębiorstwach","Nie dotyczy",null,"A. Prace badawczo – rozwojowe w przedsiębiorstwach\n1. Realizacja prac B+R przedsiębiorstw, w tym w ramach regionalnych agend badawczych w oparciu o współpracę przedsiębiorstw oraz jednostek naukowych i badawczych, np. szkół wyższych.\n2. Realizacja prac B+R przez mikro i małe przedsiębiorstwa, w tym z udziałem jednostek naukowych i badawczych, wraz z komercjalizacją i wdrożeniem wyników prac B+R.\n3. Rozwój infrastruktury B+R w przedsiębiorstwach rozumianej jako:\na. budowa, rozbudowa, przebudowa laboratoriów specjalistycznych, działów B+R lub centrów badawczo-rozwojowych w przedsiębiorstwach;\nb. zakup wyposażenia, w tym aparatury badawczej, sprzętu i urządzeń laboratoryjnych, technologii i innej niezbędnej infrastruktury służącej tworzeniu innowacyjnych produktów i usług.\n\nPonadto w ramach typów projektu 1. i 2., jako element projektu możliwe będą:\na. wsparcie technologii cyfrowych;\nb. ochrona własności intelektualnej przedsiębiorstwa oraz transferu technologii poprzez np. nabycie praw własności intelektualnej (jeżeli jest uzasadniona wynikami prac B+R).","Przedsiębiorstwa","MŚP","I kwartał 2025","2025-03-24","II kwartał 2025","2025-05-09",80000000,0,"całe województwo","Agencja Rozwoju Pomorza S.A.","konkurencyjny","EFRR.CP1.I",{"$f":"VLOOKUP(T7,Arkusz2!$G$2:$I$34,3,0)","v":"Rozwijanie i wzmacnianie zdolności badawczych i innowacyjnych oraz wykorzystywanie zaawansowanych technologii"},{"$f":"VLOOKUP(D7,Arkusz2!O2:P1139,2,0)","v":"EFRR"},"Nabór ogłoszony 06.03.2025 r.\n\nWnioskodawcy:\nWyłącznie wnioskodawcy posiadający siedzibę w granicach administracyjnych województwa pomorskiego."]
["FEPM","02","02",{"$f":"_xlfn.CONCAT(A8,\".\",B8,\".\",C8)","v":"FEPM.02.02"},{"$f":"VLOOKUP(D8,Arkusz2!$D$2:$E$1137,2,0)","v":"Efektywność energetyczna – ZIT na terenie obszaru metropolitalnego"},"ZIT","\"Kompleksowa termomodernizacja budynku biblioteki publicznej w Pucku\"\n\nWnioskodawca: \nGmina Miasta Puck","A. Poprawa efektywności energetycznej:\n1. Kompleksowe przedsięwzięcia termomodernizacyjne polegające m.in. na:\na. zmniejszeniu strat ciepła przez przenikanie w zewnętrznych przegrodach\nb. modernizacji źródła ciepła\nc. modernizacji systemów grzewczo–wentylacyjnych z zastosowaniem wysokosprawnej rekuperacji energii\nd. modernizacji instalacji wewnętrznej centralnego ogrzewania i ciepłej wody użytkowej\ne. wykorzystaniu OZE.\n2. W powiązaniu z typem 1. uzupełniająco możliwe będą działania funkcjonalnie powiązane z termomodernizowanym budynkiem dotyczące:\na. rozwoju systemów zarządzania energią lub wodą\nb. modernizacji oświetlenia wewnętrznego ograniczającego zużycie energii elektrycznej\nc. zastosowania błękitno-zielonej infrastruktury np. zielone dachy i ściany\nd. likwidacji barier architektonicznych z uwzględnieniem potrzeb osób z niepełnosprawnościami\ne. edukacji podnoszącej świadomość użytkowników dot. efektywności energetycznej\nf. innych prac budowlanych.","Administracja publiczna","Jednostki Samorządu Terytorialnego","I kwartał 2025","2025-01-29","II kwartał 2025","2025-04-30",4696157,0,"Obszar wskazany w Strategii ZIT dla Obszaru Metropolitalnego Gdańsk-Gdynia-Sopot.","Urząd Marszałkowski Województwa Pomorskiego\n(Departament Programów Regionalnych)","niekonkurencyjny","EFRR/FS.CP2.I",{"$f":"VLOOKUP(T8,Arkusz2!$G$2:$I$34,3,0)","v":"Wspieranie efektywności energetycznej i redukcji emisji gazów cieplarnianych"},{"$f":"VLOOKUP(D8,Arkusz2!O3:P1140,2,0)","v":"EFRR"},"Kwota przewidziana na dofinansowanie: z Kart projektów wynikających z przedsięwzięć wskazanych w Strategi ZIT stanowiących załącznik do Porozumienia z dnia 27.02.2024 r. (Aneks nr 1 z dnia 31 lipca 2024 r.)"]
["FEPM","02","02","FEPM.02.02",{"$f":"VLOOKUP(D9,Arkusz2!$D$2:$E$1137,2,0)","v":"Efektywność energetyczna – ZIT na terenie obszaru metropolitalnego"},"ZIT","\"Poprawa efektywności energetycznej budynku urzędu gminy w Liniewie\"\n\nWnioskodawca: \nGmina Liniewo","A. Poprawa efektywności energetycznej:\n1. Kompleksowe przedsięwzięcia termomodernizacyjne polegające m.in. na:\na. zmniejszeniu strat ciepła przez przenikanie w zewnętrznych przegrodach\nb. modernizacji źródła ciepła\nc. modernizacji systemów grzewczo–wentylacyjnych z zastosowaniem wysokosprawnej rekuperacji energii\nd. modernizacji instalacji wewnętrznej centralnego ogrzewania i ciepłej wody użytkowej\ne. wykorzystaniu OZE.\n2. W powiązaniu z typem 1. uzupełniająco możliwe będą działania funkcjonalnie powiązane z termomodernizowanym budynkiem dotyczące:\na. rozwoju systemów zarządzania energią lub wodą\nb. modernizacji oświetlenia wewnętrznego ograniczającego zużycie energii elektrycznej\nc. zastosowania błękitno-zielonej infrastruktury np. zielone dachy i ściany\nd. likwidacji barier architektonicznych z uwzględnieniem potrzeb osób z niepełnosprawnościami\ne. edukacji podnoszącej świadomość użytkowników dot. efektywności energetycznej\nf. innych prac budowlanych.","Administracja publiczna","Jednostki Samorządu Terytorialnego","I kwartał 2025","2025-01-29","II kwartał 2025","2025-04-30",916807,0,"Obszar wskazany w Strategii ZIT dla Obszaru Metropolitalnego Gdańsk-Gdynia-Sopot.","Urząd Marszałkowski Województwa Pomorskiego\n(Departament Programów Regionalnych)","niekonkurencyjny","EFRR/FS.CP2.I",{"$f":"VLOOKUP(T9,Arkusz2!$G$2:$I$34,3,0)","v":"Wspieranie efektywności energetycznej i redukcji emisji gazów cieplarnianych"},{"$f":"VLOOKUP(D9,Arkusz2!O4:P1141,2,0)","v":"EFRR"},"Kwota przewidziana na dofinansowanie: z Kart projektów wynikających z przedsięwzięć wskazanych w Strategi ZIT stanowiących załącznik do Porozumienia z dnia 27.02.2024 r. (Aneks nr 1 z dnia 31 lipca 2024 r.)"]
["FEPM","02","02","FEPM.02.02",{"$f":"VLOOKUP(D10,Arkusz2!$D$2:$E$1137,2,0)","v":"Efektywność energetyczna – ZIT na terenie obszaru metropolitalnego"},"ZIT","\"Poprawa efektywności energetycznej budynków szkoły podstawowej w Wysinie\"\n\nWnioskodawca: \nGmina Liniewo","A. Poprawa efektywności energetycznej:\n1. Kompleksowe przedsięwzięcia termomodernizacyjne polegające m.in. na:\na. zmniejszeniu strat ciepła przez przenikanie w zewnętrznych przegrodach\nb. modernizacji źródła ciepła\nc. modernizacji systemów grzewczo–wentylacyjnych z zastosowaniem wysokosprawnej rekuperacji energii\nd. modernizacji instalacji wewnętrznej centralnego ogrzewania i ciepłej wody użytkowej\ne. wykorzystaniu OZE.\n2. W powiązaniu z typem 1. uzupełniająco możliwe będą działania funkcjonalnie powiązane z termomodernizowanym budynkiem dotyczące:\na. rozwoju systemów zarządzania energią lub wodą\nb. modernizacji oświetlenia wewnętrznego ograniczającego zużycie energii elektrycznej\nc. zastosowania błękitno-zielonej infrastruktury np. zielone dachy i ściany\nd. likwidacji barier architektonicznych z uwzględnieniem potrzeb osób z niepełnosprawnościami\ne. edukacji podnoszącej świadomość użytkowników dot. efektywności energetycznej\nf. innych prac budowlanych.","Administracja publiczna","Jednostki Samorządu Terytorialnego","I kwartał 2025","2025-01-29","II kwartał 2025","2025-04-30",1036573,0,"Obszar wskazany w Strategii ZIT dla Obszaru Metropolitalnego Gdańsk-Gdynia-Sopot.","Urząd Marszałkowski Województwa Pomorskiego\n(Departament Programów Regionalnych)","niekonkurencyjny","EFRR/FS.CP2.I",{"$f":"VLOOKUP(T10,Arkusz2!$G$2:$I$34,3,0)","v":"Wspieranie efektywności energetycznej i redukcji emisji gazów cieplarnianych"},{"$f":"VLOOKUP(D10,Arkusz2!O5:P1142,2,0)","v":"EFRR"},"Kwota przewidziana na dofinansowanie: z Kart projektów wynikających z przedsięwzięć wskazanych w Strategi ZIT stanowiących załącznik do Porozumienia z dnia 27.02.2024 r. (Aneks nr 1 z dnia 31 lipca 2024 r.)"]
["FEPM","02","02","FEPM.02.02",{"$f":"VLOOKUP(D11,Arkusz2!$D$2:$E$1137,2,0)","v":"Efektywność energetyczna – ZIT na terenie obszaru metropolitalnego"},"ZIT","\"Termomodernizacja budynku komunalnego w Pruszczu Gdańskim\" \n\nWnioskodawca: \nGmina Miejska Pruszcz Gdański","A. Poprawa efektywności energetycznej:\n1. Kompleksowe przedsięwzięcia termomodernizacyjne polegające m.in. na:\na. zmniejszeniu strat ciepła przez przenikanie w zewnętrznych przegrodach\nb. modernizacji źródła ciepła\nc. modernizacji systemów grzewczo–wentylacyjnych z zastosowaniem wysokosprawnej rekuperacji energii\nd. modernizacji instalacji wewnętrznej centralnego ogrzewania i ciepłej wody użytkowej\ne. wykorzystaniu OZE.\n2. W powiązaniu z typem 1. uzupełniająco możliwe będą działania funkcjonalnie powiązane z termomodernizowanym budynkiem dotyczące:\na. rozwoju systemów zarządzania energią lub wodą\nb. modernizacji oświetlenia wewnętrznego ograniczającego zużycie energii elektrycznej\nc. zastosowania błękitno-zielonej infrastruktury np. zielone dachy i ściany\nd. likwidacji barier architektonicznych z uwzględnieniem potrzeb osób z niepełnosprawnościami\ne. edukacji podnoszącej świadomość użytkowników dot. efektywności energetycznej\nf. innych prac budowlanych.","Administracja publiczna","Jednostki Samorządu Terytorialnego","I kwartał 2025","2025-01-29","II kwartał 2025","2025-04-30",828000,0,"Obszar wskazany w Strategii ZIT dla Obszaru Metropolitalnego Gdańsk-Gdynia-Sopot.","Urząd Marszałkowski Województwa Pomorskiego\n(Departament Programów Regionalnych)","niekonkurencyjny","EFRR/FS.CP2.I",{"$f":"VLOOKUP(T11,Arkusz2!$G$2:$I$34,3,0)","v":"Wspieranie efektywności energetycznej i redukcji emisji gazów cieplarnianych"},{"$f":"VLOOKUP(D11,Arkusz2!O6:P1143,2,0)","v":"EFRR"},"Kwota przewidziana na dofinansowanie: z Kart projektów wynikających z przedsięwzięć wskazanych w Strategi ZIT stanowiących załącznik do Porozumienia z dnia 27.02.2024 r. (Aneks nr 2 z dnia 24 października 2024 r.)"]
["FEPM","02","02","FEPM.02.02",{"$f":"VLOOKUP(D12,Arkusz2!$D$2:$E$1137,2,0)","v":"Efektywność energetyczna – ZIT na terenie obszaru metropolitalnego"},"ZIT","\"Termomodernizacja energetyczna budynku Szkoły Podstawowej w Borku Kamiennym, Gmina Sulęczyno.\"\n\nWnioskodawca: \nGmina Sulęczyno","A. Poprawa efektywności energetycznej:\n1. Kompleksowe przedsięwzięcia termomodernizacyjne polegające m.in. na:\na. zmniejszeniu strat ciepła przez przenikanie w zewnętrznych przegrodach\nb. modernizacji źródła ciepła\nc. modernizacji systemów grzewczo–wentylacyjnych z zastosowaniem wysokosprawnej rekuperacji energii\nd. modernizacji instalacji wewnętrznej centralnego ogrzewania i ciepłej wody użytkowej\ne. wykorzystaniu OZE.\n2. W powiązaniu z typem 1. uzupełniająco możliwe będą działania funkcjonalnie powiązane z termomodernizowanym budynkiem dotyczące:\na. rozwoju systemów zarządzania energią lub wodą\nb. modernizacji oświetlenia wewnętrznego ograniczającego zużycie energii elektrycznej\nc. zastosowania błękitno-zielonej infrastruktury np. zielone dachy i ściany\nd. likwidacji barier architektonicznych z uwzględnieniem potrzeb osób z niepełnosprawnościami\ne. edukacji podnoszącej świadomość użytkowników dot. efektywności energetycznej\nf. innych prac budowlanych.","Administracja publiczna","Jednostki Samorządu Terytorialnego","I kwartał 2025","2025-01-29","II kwartał 2025","2025-04-30",3362431,0,"Obszar wskazany w Strategii ZIT dla Obszaru Metropolitalnego Gdańsk-Gdynia-Sopot.","Urząd Marszałkowski Województwa Pomorskiego\n(Departament Programów Regionalnych)","niekonkurencyjny","EFRR/FS.CP2.I",{"$f":"VLOOKUP(T12,Arkusz2!$G$2:$I$34,3,0)","v":"Wspieranie efektywności energetycznej i redukcji emisji gazów cieplarnianych"},{"$f":"VLOOKUP(D12,Arkusz2!O7:P1144,2,0)","v":"EFRR"},"Kwota przewidziana na dofinansowanie: z Kart projektów wynikających z przedsięwzięć wskazanych w Strategi ZIT stanowiących załącznik do Porozumienia z dnia 27.02.2024 r. (Aneks nr 2 z dnia 24 października 2024 r.)"]
["FEPM","02","02","FEPM.02.02",{"$f":"VLOOKUP(D13,Arkusz2!$D$2:$E$1137,2,0)","v":"Efektywność energetyczna – ZIT na terenie obszaru metropolitalnego"},"ZIT","\"Poprawa efektywności energetycznej budynku szkoły podstawowej w Głodowie\"\n\nWnioskodawca:\nGmina Liniewo","A. Poprawa efektywności energetycznej:\n1. Kompleksowe przedsięwzięcia termomodernizacyjne polegające m.in. na:\na. zmniejszeniu strat ciepła przez przenikanie w zewnętrznych przegrodach\nb. modernizacji źródła ciepła\nc. modernizacji systemów grzewczo–wentylacyjnych z zastosowaniem wysokosprawnej rekuperacji energii\nd. modernizacji instalacji wewnętrznej centralnego ogrzewania i ciepłej wody użytkowej\ne. wykorzystaniu OZE.\n2. W powiązaniu z typem 1. uzupełniająco możliwe będą działania funkcjonalnie powiązane z termomodernizowanym budynkiem dotyczące:\na. rozwoju systemów zarządzania energią lub wodą\nb. modernizacji oświetlenia wewnętrznego ograniczającego zużycie energii elektrycznej\nc. zastosowania błękitno-zielonej infrastruktury np. zielone dachy i ściany\nd. likwidacji barier architektonicznych z uwzględnieniem potrzeb osób z niepełnosprawnościami\ne. edukacji podnoszącej świadomość użytkowników dot. efektywności energetycznej\nf. innych prac budowlanych.","Administracja publiczna","Jednostki Samorządu Terytorialnego","I kwartał 2025","2025-01-29","II kwartał 2025","2025-04-30",881359,0,"Obszar wskazany w Strategii ZIT dla Obszaru Metropolitalnego Gdańsk-Gdynia-Sopot.","Urząd Marszałkowski Województwa Pomorskiego\n(Departament Programów Regionalnych)","niekonkurencyjny","EFRR/FS.CP2.I",{"$f":"VLOOKUP(T13,Arkusz2!$G$2:$I$34,3,0)","v":"Wspieranie efektywności energetycznej i redukcji emisji gazów cieplarnianych"},{"$f":"VLOOKUP(D13,Arkusz2!O8:P1145,2,0)","v":"EFRR"},"Kwota przewidziana na dofinansowanie: z Kart projektów wynikających z przedsięwzięć wskazanych w Strategi ZIT stanowiących załącznik do Porozumienia z dnia 27.02.2024 r. (Aneks nr 2 z dnia 24 października 2024 r.)"]
["FEPM","02","02","FEPM.02.02",{"$f":"VLOOKUP(D14,Arkusz2!$D$2:$E$1137,2,0)","v":"Efektywność energetyczna – ZIT na terenie obszaru metropolitalnego"},"ZIT","\"Termomodernizacja budynku Ośrodka Zdrowia w Przywidzu\"\n\nWnioskodawca: \nGmina Przywidz","A. Poprawa efektywności energetycznej:\n1. Kompleksowe przedsięwzięcia termomodernizacyjne polegające m.in. na:\na. zmniejszeniu strat ciepła przez przenikanie w zewnętrznych przegrodach\nb. modernizacji źródła ciepła\nc. modernizacji systemów grzewczo–wentylacyjnych z zastosowaniem wysokosprawnej rekuperacji energii\nd. modernizacji instalacji wewnętrznej centralnego ogrzewania i ciepłej wody użytkowej\ne. wykorzystaniu OZE.\n2. W powiązaniu z typem 1. uzupełniająco możliwe będą działania funkcjonalnie powiązane z termomodernizowanym budynkiem dotyczące:\na. rozwoju systemów zarządzania energią lub wodą\nb. modernizacji oświetlenia wewnętrznego ograniczającego zużycie energii elektrycznej\nc. zastosowania błękitno-zielonej infrastruktury np. zielone dachy i ściany\nd. likwidacji barier architektonicznych z uwzględnieniem potrzeb osób z niepełnosprawnościami\ne. edukacji podnoszącej świadomość użytkowników dot. efektywności energetycznej\nf. innych prac budowlanych.","Administracja publiczna","Jednostki Samorządu Terytorialnego","I kwartał 2025","2025-01-29","II kwartał 2025","2025-04-30",2526384,0,"Obszar wskazany w Strategii ZIT dla Obszaru Metropolitalnego Gdańsk-Gdynia-Sopot.","Urząd Marszałkowski Województwa Pomorskiego\n(Departament Programów Regionalnych)","niekonkurencyjny","EFRR/FS.CP2.I",{"$f":"VLOOKUP(T14,Arkusz2!$G$2:$I$34,3,0)","v":"Wspieranie efektywności energetycznej i redukcji emisji gazów cieplarnianych"},{"$f":"VLOOKUP(D14,Arkusz2!O9:P1146,2,0)","v":"EFRR"},"Kwota przewidziana na dofinansowanie: z Kart projektów wynikających z przedsięwzięć wskazanych w Strategi ZIT stanowiących załącznik do Porozumienia z dnia 27.02.2024 r. (Aneks nr 3 z dnia 28 listopada 2024 r.)"]
["FEPM","02","02","FEPM.02.02",{"$f":"VLOOKUP(D15,Arkusz2!$D$2:$E$1137,2,0)","v":"Efektywność energetyczna – ZIT na terenie obszaru metropolitalnego"},"ZIT","\"Kompleksowa termomodernizacja budynku Urzędu Gminy Somonino\"\n\nWnioskodawca:\nGmina Somonino","A. Poprawa efektywności energetycznej:\n1. Kompleksowe przedsięwzięcia termomodernizacyjne polegające m.in. na:\na. zmniejszeniu strat ciepła przez przenikanie w zewnętrznych przegrodach\nb. modernizacji źródła ciepła\nc. modernizacji systemów grzewczo–wentylacyjnych z zastosowaniem wysokosprawnej rekuperacji energii\nd. modernizacji instalacji wewnętrznej centralnego ogrzewania i ciepłej wody użytkowej\ne. wykorzystaniu OZE.\n2. W powiązaniu z typem 1. uzupełniająco możliwe będą działania funkcjonalnie powiązane z termomodernizowanym budynkiem dotyczące:\na. rozwoju systemów zarządzania energią lub wodą\nb. modernizacji oświetlenia wewnętrznego ograniczającego zużycie energii elektrycznej\nc. zastosowania błękitno-zielonej infrastruktury np. zielone dachy i ściany\nd. likwidacji barier architektonicznych z uwzględnieniem potrzeb osób z niepełnosprawnościami\ne. edukacji podnoszącej świadomość użytkowników dot. efektywności energetycznej\nf. innych prac budowlanych.","Administracja publiczna","Jednostki Samorządu Terytorialnego","I kwartał 2025","2025-01-29","II kwartał 2025","2025-04-30",1382113,0,"Obszar wskazany w Strategii ZIT dla Obszaru Metropolitalnego Gdańsk-Gdynia-Sopot.","Urząd Marszałkowski Województwa Pomorskiego\n(Departament Programów Regionalnych)","niekonkurencyjny","EFRR/FS.CP2.I",{"$f":"VLOOKUP(T15,Arkusz2!$G$2:$I$34,3,0)","v":"Wspieranie efektywności energetycznej i redukcji emisji gazów cieplarnianych"},{"$f":"VLOOKUP(D15,Arkusz2!O10:P1147,2,0)","v":"EFRR"},"Kwota przewidziana na dofinansowanie: z Kart projektów wynikających z przedsięwzięć wskazanych w Strategi ZIT stanowiących załącznik do Porozumienia z dnia 27.02.2024 r. (Aneks nr 3 z dnia 28 listopada 2024 r.)"]
["FEPM","02","02","FEPM.02.02",{"$f":"VLOOKUP(D16,Arkusz2!$D$2:$E$1137,2,0)","v":"Efektywność energetyczna – ZIT na terenie obszaru metropolitalnego"},"ZIT","\"Poprawa efektywności energetycznej budynku Ochotniczej Straży Pożarnej w Stężycy\"\n\nWnioskodawca: \nGmina Stężyca","A. Poprawa efektywności energetycznej:\n1. Kompleksowe przedsięwzięcia termomodernizacyjne polegające m.in. na:\na. zmniejszeniu strat ciepła przez przenikanie w zewnętrznych przegrodach\nb. modernizacji źródła ciepła\nc. modernizacji systemów grzewczo–wentylacyjnych z zastosowaniem wysokosprawnej rekuperacji energii\nd. modernizacji instalacji wewnętrznej centralnego ogrzewania i ciepłej wody użytkowej\ne. wykorzystaniu OZE.\n2. W powiązaniu z typem 1. uzupełniająco możliwe będą działania funkcjonalnie powiązane z termomodernizowanym budynkiem dotyczące:\na. rozwoju systemów zarządzania energią lub wodą\nb. modernizacji oświetlenia wewnętrznego ograniczającego zużycie energii elektrycznej\nc. zastosowania błękitno-zielonej infrastruktury np. zielone dachy i ściany\nd. likwidacji barier architektonicznych z uwzględnieniem potrzeb osób z niepełnosprawnościami\ne. edukacji podnoszącej świadomość użytkowników dot. efektywności energetycznej\nf. innych prac budowlanych.","Administracja publiczna","Jednostki Samorządu Terytorialnego","I kwartał 2025","2025-01-29","II kwartał 2025","2025-04-30",6603932,0,"Obszar wskazany w Strategii ZIT dla Obszaru Metropolitalnego Gdańsk-Gdynia-Sopot.","Urząd Marszałkowski Województwa Pomorskiego\n(Departament Programów Regionalnych)","niekonkurencyjny","EFRR/FS.CP2.I",{"$f":"VLOOKUP(T16,Arkusz2!$G$2:$I$34,3,0)","v":"Wspieranie efektywności energetycznej i redukcji emisji gazów cieplarnianych"},{"$f":"VLOOKUP(D16,Arkusz2!O11:P1148,2,0)","v":"EFRR"},"Kwota przewidziana na dofinansowanie: z Kart projektów wynikających z przedsięwzięć wskazanych w Strategi ZIT stanowiących załącznik do Porozumienia z dnia 27.02.2024 r. (Aneks nr 3 z dnia 28 listopada 2024 r.)"]
["FEPM","02","02","FEPM.02.02",{"$f":"VLOOKUP(D17,Arkusz2!$D$2:$E$1137,2,0)","v":"Efektywność energetyczna – ZIT na terenie obszaru metropolitalnego"},"ZIT","\"Termomodernizacja mieszkalnych budynków komunalnych w Wejherowie\"\n\nWnioskodawca: \nGmina Miasta Wejherowa","A. Poprawa efektywności energetycznej:\n1. Kompleksowe przedsięwzięcia termomodernizacyjne polegające m.in. na:\na. zmniejszeniu strat ciepła przez przenikanie w zewnętrznych przegrodach\nb. modernizacji źródła ciepła\nc. modernizacji systemów grzewczo–wentylacyjnych z zastosowaniem wysokosprawnej rekuperacji energii\nd. modernizacji instalacji wewnętrznej centralnego ogrzewania i ciepłej wody użytkowej\ne. wykorzystaniu OZE.\n2. W powiązaniu z typem 1. uzupełniająco możliwe będą działania funkcjonalnie powiązane z termomodernizowanym budynkiem dotyczące:\na. rozwoju systemów zarządzania energią lub wodą\nb. modernizacji oświetlenia wewnętrznego ograniczającego zużycie energii elektrycznej\nc. zastosowania błękitno-zielonej infrastruktury np. zielone dachy i ściany\nd. likwidacji barier architektonicznych z uwzględnieniem potrzeb osób z niepełnosprawnościami\ne. edukacji podnoszącej świadomość użytkowników dot. efektywności energetycznej\nf. innych prac budowlanych.","Administracja publiczna","Jednostki Samorządu Terytorialnego","II kwartał 2025","2025-04-09","II kwartał 2025","2025-04-30",4920042,0,"Obszar wskazany w Strategii ZIT dla Obszaru Metropolitalnego Gdańsk-Gdynia-Sopot.","Urząd Marszałkowski Województwa Pomorskiego\n(Departament Programów Regionalnych)","niekonkurencyjny","EFRR/FS.CP2.I",{"$f":"VLOOKUP(T17,Arkusz2!$G$2:$I$34,3,0)","v":"Wspieranie efektywności energetycznej i redukcji emisji gazów cieplarnianych"},{"$f":"VLOOKUP(D17,Arkusz2!O12:P1149,2,0)","v":"EFRR"},"Udostępnienie regulaminu wyboru projektów - kwiecień 2025\n\nKwota przewidziana na dofinansowanie: z Kart projektów wynikających z przedsięwzięć wskazanych w Strategi ZIT stanowiących załącznik do Porozumienia z dnia 27.02.2024 r. (Aneks nr 6 z dnia 20 marca 2025 r.)"]
["FEPM","02","02","FEPM.02.02",{"$f":"VLOOKUP(D18,Arkusz2!$D$2:$E$1137,2,0)","v":"Efektywność energetyczna – ZIT na terenie obszaru metropolitalnego"},"ZIT","\"Termomodernizacja 6 budynków użyteczności publicznej w Rumi\"\n\nWnioskodawca:\nGmina Miejska Rumia","A. Poprawa efektywności energetycznej:\n1. Kompleksowe przedsięwzięcia termomodernizacyjne polegające m.in. na:\na. zmniejszeniu strat ciepła przez przenikanie w zewnętrznych przegrodach\nb. modernizacji źródła ciepła\nc. modernizacji systemów grzewczo–wentylacyjnych z zastosowaniem wysokosprawnej rekuperacji energii\nd. modernizacji instalacji wewnętrznej centralnego ogrzewania i ciepłej wody użytkowej\ne. wykorzystaniu OZE.\n2. W powiązaniu z typem 1. uzupełniająco możliwe będą działania funkcjonalnie powiązane z termomodernizowanym budynkiem dotyczące:\na. rozwoju systemów zarządzania energią lub wodą\nb. modernizacji oświetlenia wewnętrznego ograniczającego zużycie energii elektrycznej\nc. zastosowania błękitno-zielonej infrastruktury np. zielone dachy i ściany\nd. likwidacji barier architektonicznych z uwzględnieniem potrzeb osób z niepełnosprawnościami\ne. edukacji podnoszącej świadomość użytkowników dot. efektywności energetycznej\nf. innych prac budowlanych.","Administracja publiczna","Jednostki Samorządu Terytorialnego","III kwartał 2025",null,"IV kwartał 2025",null,13201160,0,"Obszar wskazany w Strategii ZIT dla Obszaru Metropolitalnego Gdańsk-Gdynia-Sopot.","Urząd Marszałkowski Województwa Pomorskiego\n(Departament Programów Regionalnych)","niekonkurencyjny","EFRR/FS.CP2.I",{"$f":"VLOOKUP(T18,Arkusz2!$G$2:$I$34,3,0)","v":"Wspieranie efektywności energetycznej i redukcji emisji gazów cieplarnianych"},{"$f":"VLOOKUP(D18,Arkusz2!O12:P1149,2,0)","v":"EFRR"},"Kwota przewidziana na dofinansowanie: z Kart projektów wynikających z przedsięwzięć wskazanych w Strategi ZIT stanowiących załącznik do Porozumienia z dnia 27.02.2024 r. (Aneks nr 4 z dnia 21 stycznia 2025 r.)"]
["FEPM","02","02","FEPM.02.02",{"$f":"VLOOKUP(D19,Arkusz2!$D$2:$E$1137,2,0)","v":"Efektywność energetyczna – ZIT na terenie obszaru metropolitalnego"},"ZIT","\"Kompleksowa termomodernizacja budynków należących do jednostek samorządu terytorialnego na terenie Gminy Tczew\"\n\nWnioskodawca: \nGmina Tczew","A. Poprawa efektywności energetycznej:\n1. Kompleksowe przedsięwzięcia termomodernizacyjne polegające m.in. na:\na. zmniejszeniu strat ciepła przez przenikanie w zewnętrznych przegrodach\nb. modernizacji źródła ciepła\nc. modernizacji systemów grzewczo–wentylacyjnych z zastosowaniem wysokosprawnej rekuperacji energii\nd. modernizacji instalacji wewnętrznej centralnego ogrzewania i ciepłej wody użytkowej\ne. wykorzystaniu OZE.\n2. W powiązaniu z typem 1. uzupełniająco możliwe będą działania funkcjonalnie powiązane z termomodernizowanym budynkiem dotyczące:\na. rozwoju systemów zarządzania energią lub wodą\nb. modernizacji oświetlenia wewnętrznego ograniczającego zużycie energii elektrycznej\nc. zastosowania błękitno-zielonej infrastruktury np. zielone dachy i ściany\nd. likwidacji barier architektonicznych z uwzględnieniem potrzeb osób z niepełnosprawnościami\ne. edukacji podnoszącej świadomość użytkowników dot. efektywności energetycznej\nf. innych prac budowlanych.","Administracja publiczna","Jednostki Samorządu Terytorialnego","III kwartał 2025",null,"IV kwartał 2025",null,1340739,0,"Obszar wskazany w Strategii ZIT dla Obszaru Metropolitalnego Gdańsk-Gdynia-Sopot.","Urząd Marszałkowski Województwa Pomorskiego\n(Departament Programów Regionalnych)","niekonkurencyjny","EFRR/FS.CP2.I",{"$f":"VLOOKUP(T19,Arkusz2!$G$2:$I$34,3,0)","v":"Wspieranie efektywności energetycznej i redukcji emisji gazów cieplarnianych"},{"$f":"VLOOKUP(D19,Arkusz2!O14:P1151,2,0)","v":"EFRR"},"Kwota przewidziana na dofinansowanie: z Kart projektów wynikających z przedsięwzięć wskazanych w Strategi ZIT stanowiących załącznik do Porozumienia z dnia 27.02.2024 r. (Aneks nr 2 z dnia 24 października 2024 r.)"]
["FEPM","02","02","FEPM.02.02",{"$f":"VLOOKUP(D20,Arkusz2!$D$2:$E$1137,2,0)","v":"Efektywność energetyczna – ZIT na terenie obszaru metropolitalnego"},"ZIT","\"Kompleksowa termomodernizacja budynku gminnej biblioteki w Stegnie\"\n\nWnioskodawca: \nGmina Stegna","A. Poprawa efektywności energetycznej:\n1. Kompleksowe przedsięwzięcia termomodernizacyjne polegające m.in. na:\na. zmniejszeniu strat ciepła przez przenikanie w zewnętrznych przegrodach\nb. modernizacji źródła ciepła\nc. modernizacji systemów grzewczo–wentylacyjnych z zastosowaniem wysokosprawnej rekuperacji energii\nd. modernizacji instalacji wewnętrznej centralnego ogrzewania i ciepłej wody użytkowej\ne. wykorzystaniu OZE.\n2. W powiązaniu z typem 1. uzupełniająco możliwe będą działania funkcjonalnie powiązane z termomodernizowanym budynkiem dotyczące:\na. rozwoju systemów zarządzania energią lub wodą\nb. modernizacji oświetlenia wewnętrznego ograniczającego zużycie energii elektrycznej\nc. zastosowania błękitno-zielonej infrastruktury np. zielone dachy i ściany\nd. likwidacji barier architektonicznych z uwzględnieniem potrzeb osób z niepełnosprawnościami\ne. edukacji podnoszącej świadomość użytkowników dot. efektywności energetycznej\nf. innych prac budowlanych.","Administracja publiczna","Jednostki Samorządu Terytorialnego","III kwartał 2025",null,"IV kwartał 2025",null,989021,0,"Obszar wskazany w Strategii ZIT dla Obszaru Metropolitalnego Gdańsk-Gdynia-Sopot.","Urząd Marszałkowski Województwa Pomorskiego\n(Departament Programów Regionalnych)","niekonkurencyjny","EFRR/FS.CP2.I",{"$f":"VLOOKUP(T20,Arkusz2!$G$2:$I$34,3,0)","v":"Wspieranie efektywności energetycznej i redukcji emisji gazów cieplarnianych"},{"$f":"VLOOKUP(D20,Arkusz2!O15:P1152,2,0)","v":"EFRR"},"Kwota przewidziana na dofinansowanie: z Kart projektów wynikających z przedsięwzięć wskazanych w Strategi ZIT stanowiących załącznik do Porozumienia z dnia 27.02.2024 r. (Aneks nr 2 z dnia 24 października 2024 r.)"]
["FEPM","02","02","FEPM.02.02",{"$f":"VLOOKUP(D21,Arkusz2!$D$2:$E$1137,2,0)","v":"Efektywność energetyczna – ZIT na terenie obszaru metropolitalnego"},"ZIT","\"Termomodernizacja budynku przedszkola w Gniewie\"\n\nWnioskodawca:\nGmina Gniew","A. Poprawa efektywności energetycznej:\n1. Kompleksowe przedsięwzięcia termomodernizacyjne polegające m.in. na:\na. zmniejszeniu strat ciepła przez przenikanie w zewnętrznych przegrodach\nb. modernizacji źródła ciepła\nc. modernizacji systemów grzewczo–wentylacyjnych z zastosowaniem wysokosprawnej rekuperacji energii\nd. modernizacji instalacji wewnętrznej centralnego ogrzewania i ciepłej wody użytkowej\ne. wykorzystaniu OZE.\n2. W powiązaniu z typem 1. uzupełniająco możliwe będą działania funkcjonalnie powiązane z termomodernizowanym budynkiem dotyczące:\na. rozwoju systemów zarządzania energią lub wodą\nb. modernizacji oświetlenia wewnętrznego ograniczającego zużycie energii elektrycznej\nc. zastosowania błękitno-zielonej infrastruktury np. zielone dachy i ściany\nd. likwidacji barier architektonicznych z uwzględnieniem potrzeb osób z niepełnosprawnościami\ne. edukacji podnoszącej świadomość użytkowników dot. efektywności energetycznej\nf. innych prac budowlanych.","Administracja publiczna","Jednostki Samorządu Terytorialnego","III kwartał 2025",null,"IV kwartał 2025",null,700000,0,"Obszar wskazany w Strategii ZIT dla Obszaru Metropolitalnego Gdańsk-Gdynia-Sopot.","Urząd Marszałkowski Województwa Pomorskiego\n(Departament Programów Regionalnych)","niekonkurencyjny","EFRR/FS.CP2.I",{"$f":"VLOOKUP(T21,Arkusz2!$G$2:$I$34,3,0)","v":"Wspieranie efektywności energetycznej i redukcji emisji gazów cieplarnianych"},{"$f":"VLOOKUP(D21,Arkusz2!O16:P1153,2,0)","v":"EFRR"},"Kwota przewidziana na dofinansowanie: z Kart projektów wynikających z przedsięwzięć wskazanych w Strategi ZIT stanowiących załącznik do Porozumienia z dnia 27.02.2024 r. (Aneks nr 3 z dnia 28 listopada 2024 r.)"]
["FEPM","02","02","FEPM.02.02",{"$f":"VLOOKUP(D22,Arkusz2!$D$2:$E$1137,2,0)","v":"Efektywność energetyczna – ZIT na terenie obszaru metropolitalnego"},"ZIT","\"Termomodernizacja budynku Zespołu Szkół Ogólnokształcących nr 2 w Kartuzach\"\n\nWnioskodawca: \nGmina Kartuzy","A. Poprawa efektywności energetycznej:\n1. Kompleksowe przedsięwzięcia termomodernizacyjne polegające m.in. na:\na. zmniejszeniu strat ciepła przez przenikanie w zewnętrznych przegrodach\nb. modernizacji źródła ciepła\nc. modernizacji systemów grzewczo–wentylacyjnych z zastosowaniem wysokosprawnej rekuperacji energii\nd. modernizacji instalacji wewnętrznej centralnego ogrzewania i ciepłej wody użytkowej\ne. wykorzystaniu OZE.\n2. W powiązaniu z typem 1. uzupełniająco możliwe będą działania funkcjonalnie powiązane z termomodernizowanym budynkiem dotyczące:\na. rozwoju systemów zarządzania energią lub wodą\nb. modernizacji oświetlenia wewnętrznego ograniczającego zużycie energii elektrycznej\nc. zastosowania błękitno-zielonej infrastruktury np. zielone dachy i ściany\nd. likwidacji barier architektonicznych z uwzględnieniem potrzeb osób z niepełnosprawnościami\ne. edukacji podnoszącej świadomość użytkowników dot. efektywności energetycznej\nf. innych prac budowlanych.","Administracja publiczna","Jednostki Samorządu Terytorialnego","III kwartał 2025",null,"IV kwartał 2025",null,2118286,0,"Obszar wskazany w Strategii ZIT dla Obszaru Metropolitalnego Gdańsk-Gdynia-Sopot.","Urząd Marszałkowski Województwa Pomorskiego\n(Departament Programów Regionalnych)","niekonkurencyjny","EFRR/FS.CP2.I",{"$f":"VLOOKUP(T22,Arkusz2!$G$2:$I$34,3,0)","v":"Wspieranie efektywności energetycznej i redukcji emisji gazów cieplarnianych"},{"$f":"VLOOKUP(D22,Arkusz2!O17:P1154,2,0)","v":"EFRR"},"Kwota przewidziana na dofinansowanie: z Kart projektów wynikających z przedsięwzięć wskazanych w Strategi ZIT stanowiących załącznik do Porozumienia z dnia 27.02.2024 r. (Aneks nr 2 z dnia 24 października 2024 r.)"]
["FEPM","02","02","FEPM.02.02",{"$f":"VLOOKUP(D23,Arkusz2!$D$2:$E$1137,2,0)","v":"Efektywność energetyczna – ZIT na terenie obszaru metropolitalnego"},"ZIT","\"Poprawa efektywności energetycznej budynków użyteczności publicznej w Gdyni\"\n\nWnioskodawca:\nGmina Miasta Gdyni","A. Poprawa efektywności energetycznej:\n1. Kompleksowe przedsięwzięcia termomodernizacyjne polegające m.in. na:\na. zmniejszeniu strat ciepła przez przenikanie w zewnętrznych przegrodach\nb. modernizacji źródła ciepła\nc. modernizacji systemów grzewczo–wentylacyjnych z zastosowaniem wysokosprawnej rekuperacji energii\nd. modernizacji instalacji wewnętrznej centralnego ogrzewania i ciepłej wody użytkowej\ne. wykorzystaniu OZE.\n2. W powiązaniu z typem 1. uzupełniająco możliwe będą działania funkcjonalnie powiązane z termomodernizowanym budynkiem dotyczące:\na. rozwoju systemów zarządzania energią lub wodą\nb. modernizacji oświetlenia wewnętrznego ograniczającego zużycie energii elektrycznej\nc. zastosowania błękitno-zielonej infrastruktury np. zielone dachy i ściany\nd. likwidacji barier architektonicznych z uwzględnieniem potrzeb osób z niepełnosprawnościami\ne. edukacji podnoszącej świadomość użytkowników dot. efektywności energetycznej\nf. innych prac budowlanych.","Administracja publiczna","Jednostki Samorządu Terytorialnego","III kwartał 2025",null,"IV kwartał 2025",null,38427901,0,"Obszar wskazany w Strategii ZIT dla Obszaru Metropolitalnego Gdańsk-Gdynia-Sopot.","Urząd Marszałkowski Województwa Pomorskiego\n(Departament Programów Regionalnych)","niekonkurencyjny","EFRR/FS.CP2.I",{"$f":"VLOOKUP(T23,Arkusz2!$G$2:$I$34,3,0)","v":"Wspieranie efektywności energetycznej i redukcji emisji gazów cieplarnianych"},{"$f":"VLOOKUP(D23,Arkusz2!O18:P1155,2,0)","v":"EFRR"},"Kwota przewidziana na dofinansowanie: z Kart projektów wynikających z przedsięwzięć wskazanych w Strategi ZIT stanowiących załącznik do Porozumienia z dnia 27.02.2024 r. (Aneks nr 3 z dnia 28 listopada 2024 r.)"]
["FEPM","02","02","FEPM.02.02",{"$f":"VLOOKUP(D24,Arkusz2!$D$2:$E$1137,2,0)","v":"Efektywność energetyczna – ZIT na terenie obszaru metropolitalnego"},"ZIT"," \"Termomodernizacja Zespołu Szkół Ponadpodstawowych w Gniewie\"\n\nWnioskodawca:\nPowiat Tczewski","A. Poprawa efektywności energetycznej:\n1. Kompleksowe przedsięwzięcia termomodernizacyjne polegające m.in. na:\na. zmniejszeniu strat ciepła przez przenikanie w zewnętrznych przegrodach\nb. modernizacji źródła ciepła\nc. modernizacji systemów grzewczo–wentylacyjnych z zastosowaniem wysokosprawnej rekuperacji energii\nd. modernizacji instalacji wewnętrznej centralnego ogrzewania i ciepłej wody użytkowej\ne. wykorzystaniu OZE.\n2. W powiązaniu z typem 1. uzupełniająco możliwe będą działania funkcjonalnie powiązane z termomodernizowanym budynkiem dotyczące:\na. rozwoju systemów zarządzania energią lub wodą\nb. modernizacji oświetlenia wewnętrznego ograniczającego zużycie energii elektrycznej\nc. zastosowania błękitno-zielonej infrastruktury np. zielone dachy i ściany\nd. likwidacji barier architektonicznych z uwzględnieniem potrzeb osób z niepełnosprawnościami\ne. edukacji podnoszącej świadomość użytkowników dot. efektywności energetycznej\nf. innych prac budowlanych.","Administracja publiczna","Jednostki Samorządu Terytorialnego","III kwartał 2025",null,"IV kwartał 2025",null,3053338,0,"Obszar wskazany w Strategii ZIT dla Obszaru Metropolitalnego Gdańsk-Gdynia-Sopot.","Urząd Marszałkowski Województwa Pomorskiego\n(Departament Programów Regionalnych)","niekonkurencyjny","EFRR/FS.CP2.I",{"$f":"VLOOKUP(T24,Arkusz2!$G$2:$I$34,3,0)","v":"Wspieranie efektywności energetycznej i redukcji emisji gazów cieplarnianych"},{"$f":"VLOOKUP(D24,Arkusz2!O13:P1150,2,0)","v":"EFRR"},"Kwota przewidziana na dofinansowanie: z Kart projektów wynikających z przedsięwzięć wskazanych w Strategi ZIT stanowiących załącznik do Porozumienia z dnia 27.02.2024 r. (Aneks nr 1 z dnia 31 lipca 2024 r.)"]
["FEPM","02","02","FEPM.02.02",{"$f":"VLOOKUP(D25,Arkusz2!$D$2:$E$1137,2,0)","v":"Efektywność energetyczna – ZIT na terenie obszaru metropolitalnego"},"ZIT","\"Kompleksowa termomodernizacja budynków użyteczności publicznej w miejscowościach Przodkowo, Czeczewo i Pomieczyno\"\n\nWnioskodawca: \nGmina Przodkowo","A. Poprawa efektywności energetycznej:\n1. Kompleksowe przedsięwzięcia termomodernizacyjne polegające m.in. na:\na. zmniejszeniu strat ciepła przez przenikanie w zewnętrznych przegrodach\nb. modernizacji źródła ciepła\nc. modernizacji systemów grzewczo–wentylacyjnych z zastosowaniem wysokosprawnej rekuperacji energii\nd. modernizacji instalacji wewnętrznej centralnego ogrzewania i ciepłej wody użytkowej\ne. wykorzystaniu OZE.\n2. W powiązaniu z typem 1. uzupełniająco możliwe będą działania funkcjonalnie powiązane z termomodernizowanym budynkiem dotyczące:\na. rozwoju systemów zarządzania energią lub wodą\nb. modernizacji oświetlenia wewnętrznego ograniczającego zużycie energii elektrycznej\nc. zastosowania błękitno-zielonej infrastruktury np. zielone dachy i ściany\nd. likwidacji barier architektonicznych z uwzględnieniem potrzeb osób z niepełnosprawnościami\ne. edukacji podnoszącej świadomość użytkowników dot. efektywności energetycznej\nf. innych prac budowlanych.","Administracja publiczna","Jednostki Samorządu Terytorialnego","III kwartał 2025",null,"IV kwartał 2025",null,5000000,0,"Obszar wskazany w Strategii ZIT dla Obszaru Metropolitalnego Gdańsk-Gdynia-Sopot.","Urząd Marszałkowski Województwa Pomorskiego\n(Departament Programów Regionalnych)","niekonkurencyjny","EFRR/FS.CP2.I",{"$f":"VLOOKUP(T25,Arkusz2!$G$2:$I$34,3,0)","v":"Wspieranie efektywności energetycznej i redukcji emisji gazów cieplarnianych"},{"$f":"VLOOKUP(D25,Arkusz2!O19:P1156,2,0)","v":"EFRR"},"Kwota przewidziana na dofinansowanie: z Kart projektów wynikających z przedsięwzięć wskazanych w Strategi ZIT stanowiących załącznik do Porozumienia z dnia 27.02.2024 r. (Aneks nr 4 z dnia 21 stycznia 2025 r.)"]
["FEPM","02","02","FEPM.02.02",{"$f":"VLOOKUP(D26,Arkusz2!$D$2:$E$1137,2,0)","v":"Efektywność energetyczna – ZIT na terenie obszaru metropolitalnego"},"ZIT","\"Termomodernizacja budynków użyteczności publicznej w Gminie Nowy Dwór Gdański\"\n\nWnioskodawca:\nGmina \nNowy Dwór Gdański","A. Poprawa efektywności energetycznej:\n1. Kompleksowe przedsięwzięcia termomodernizacyjne polegające m.in. na:\na. zmniejszeniu strat ciepła przez przenikanie w zewnętrznych przegrodach\nb. modernizacji źródła ciepła\nc. modernizacji systemów grzewczo–wentylacyjnych z zastosowaniem wysokosprawnej rekuperacji energii\nd. modernizacji instalacji wewnętrznej centralnego ogrzewania i ciepłej wody użytkowej\ne. wykorzystaniu OZE.\n2. W powiązaniu z typem 1. uzupełniająco możliwe będą działania funkcjonalnie powiązane z termomodernizowanym budynkiem dotyczące:\na. rozwoju systemów zarządzania energią lub wodą\nb. modernizacji oświetlenia wewnętrznego ograniczającego zużycie energii elektrycznej\nc. zastosowania błękitno-zielonej infrastruktury np. zielone dachy i ściany\nd. likwidacji barier architektonicznych z uwzględnieniem potrzeb osób z niepełnosprawnościami\ne. edukacji podnoszącej świadomość użytkowników dot. efektywności energetycznej\nf. innych prac budowlanych.","Administracja publiczna","Jednostki Samorządu Terytorialnego","III kwartał 2025",null,"IV kwartał 2025",null,7584256,0,"Obszar wskazany w Strategii ZIT dla Obszaru Metropolitalnego Gdańsk-Gdynia-Sopot.","Urząd Marszałkowski Województwa Pomorskiego\n(Departament Programów Regionalnych)","niekonkurencyjny","EFRR/FS.CP2.I",{"$f":"VLOOKUP(T26,Arkusz2!$G$2:$I$34,3,0)","v":"Wspieranie efektywności energetycznej i redukcji emisji gazów cieplarnianych"},{"$f":"VLOOKUP(D26,Arkusz2!O20:P1157,2,0)","v":"EFRR"},"Kwota przewidziana na dofinansowanie: z Kart projektów wynikających z przedsięwzięć wskazanych w Strategi ZIT stanowiących załącznik do Porozumienia z dnia 27.02.2024 r. (Aneks nr 4 z dnia 21 stycznia 2025 r.)"]
["FEPM","02","02","FEPM.02.02",{"$f":"VLOOKUP(D27,Arkusz2!$D$2:$E$1137,2,0)","v":"Efektywność energetyczna – ZIT na terenie obszaru metropolitalnego"},"ZIT","\"Kompleksowa termomodernizacja energetyczna budynków użyteczności publicznej na terenie Gminy Puck\"\n\nWnioskodawca:\nGmina Puck","A. Poprawa efektywności energetycznej:\n1. Kompleksowe przedsięwzięcia termomodernizacyjne polegające m.in. na:\na. zmniejszeniu strat ciepła przez przenikanie w zewnętrznych przegrodach\nb. modernizacji źródła ciepła\nc. modernizacji systemów grzewczo–wentylacyjnych z zastosowaniem wysokosprawnej rekuperacji energii\nd. modernizacji instalacji wewnętrznej centralnego ogrzewania i ciepłej wody użytkowej\ne. wykorzystaniu OZE.\n2. W powiązaniu z typem 1. uzupełniająco możliwe będą działania funkcjonalnie powiązane z termomodernizowanym budynkiem dotyczące:\na. rozwoju systemów zarządzania energią lub wodą\nb. modernizacji oświetlenia wewnętrznego ograniczającego zużycie energii elektrycznej\nc. zastosowania błękitno-zielonej infrastruktury np. zielone dachy i ściany\nd. likwidacji barier architektonicznych z uwzględnieniem potrzeb osób z niepełnosprawnościami\ne. edukacji podnoszącej świadomość użytkowników dot. efektywności energetycznej\nf. innych prac budowlanych.","Administracja publiczna","Jednostki Samorządu Terytorialnego","III kwartał 2025",null,"IV kwartał 2025",null,16715410,0,"Obszar wskazany w Strategii ZIT dla Obszaru Metropolitalnego Gdańsk-Gdynia-Sopot.","Urząd Marszałkowski Województwa Pomorskiego\n(Departament Programów Regionalnych)","niekonkurencyjny","EFRR/FS.CP2.I",{"$f":"VLOOKUP(T27,Arkusz2!$G$2:$I$34,3,0)","v":"Wspieranie efektywności energetycznej i redukcji emisji gazów cieplarnianych"},{"$f":"VLOOKUP(D27,Arkusz2!O21:P1158,2,0)","v":"EFRR"},"Kwota przewidziana na dofinansowanie: z Kart projektów wynikających z przedsięwzięć wskazanych w Strategi ZIT stanowiących załącznik do Porozumienia z dnia 27.02.2024 r. (Aneks nr 6 z dnia 20 marca 2025 r.)"]
["FEPM","02","02","FEPM.02.02",{"$f":"VLOOKUP(D28,Arkusz2!$D$2:$E$1137,2,0)","v":"Efektywność energetyczna – ZIT na terenie obszaru metropolitalnego"},"ZIT","\"Poprawa efektywności energetycznej Szkoły Podstawowej nr 2 w Bolszewie oraz Szkoły Podstawowej w Nowym Dworze Wejherowskim\"\n\nWnioskodawca:\nGmina Wejherowo","A. Poprawa efektywności energetycznej:\n1. Kompleksowe przedsięwzięcia termomodernizacyjne polegające m.in. na:\na. zmniejszeniu strat ciepła przez przenikanie w zewnętrznych przegrodach\nb. modernizacji źródła ciepła\nc. modernizacji systemów grzewczo–wentylacyjnych z zastosowaniem wysokosprawnej rekuperacji energii\nd. modernizacji instalacji wewnętrznej centralnego ogrzewania i ciepłej wody użytkowej\ne. wykorzystaniu OZE.\n2. W powiązaniu z typem 1. uzupełniająco możliwe będą działania funkcjonalnie powiązane z termomodernizowanym budynkiem dotyczące:\na. rozwoju systemów zarządzania energią lub wodą\nb. modernizacji oświetlenia wewnętrznego ograniczającego zużycie energii elektrycznej\nc. zastosowania błękitno-zielonej infrastruktury np. zielone dachy i ściany\nd. likwidacji barier architektonicznych z uwzględnieniem potrzeb osób z niepełnosprawnościami\ne. edukacji podnoszącej świadomość użytkowników dot. efektywności energetycznej\nf. innych prac budowlanych.","Administracja publiczna","Jednostki Samorządu Terytorialnego","I kwartał 2027",null,"I kwartał 2027",null,14035405,0,"Obszar wskazany w Strategii ZIT dla Obszaru Metropolitalnego Gdańsk-Gdynia-Sopot.","Urząd Marszałkowski Województwa Pomorskiego\n(Departament Programów Regionalnych)","niekonkurencyjny","EFRR/FS.CP2.I",{"$f":"VLOOKUP(T28,Arkusz2!$G$2:$I$34,3,0)","v":"Wspieranie efektywności energetycznej i redukcji emisji gazów cieplarnianych"},{"$f":"VLOOKUP(D28,Arkusz2!O21:P1158,2,0)","v":"EFRR"},"Kwota przewidziana na dofinansowanie: z Kart projektów wynikających z przedsięwzięć wskazanych w Strategi ZIT stanowiących załącznik do Porozumienia z dnia 27.02.2024 r. (Aneks nr 1 z dnia 31 lipca 2024 r.)"]
["FEPM","02","03","FEPM.02.03",{"$f":"VLOOKUP(D29,Arkusz2!$D$2:$E$1137,2,0)","v":"Efektywność energetyczna – ZIT poza terenem obszaru metropolitalnego"},"ZIT","\"Kompleksowa termomodernizacja wielorodzinnych budynków komunalnych na terenie Miasta Słupska - ETAP I\"\n\nWnioskodawca: \nMiasto Słupsk","A. Poprawa efektywności energetycznej:\n1. Kompleksowe przedsięwzięcia termomodernizacyjne polegające m.in. na:\na. zmniejszeniu strat ciepła przez przenikanie w zewnętrznych przegrodach\nb. modernizacji źródła ciepła\nc. modernizacji systemów grzewczo–wentylacyjnych z zastosowaniem wysokosprawnej rekuperacji energii\nd. modernizacji instalacji wewnętrznej centralnego ogrzewania i ciepłej wody użytkowej\ne. wykorzystaniu OZE.\n2. W powiązaniu z typem 1. uzupełniająco możliwe będą działania funkcjonalnie powiązane z termomodernizowanym budynkiem dotyczące:\na. rozwoju systemów zarządzania energią lub wodą\nb. modernizacji oświetlenia wewnętrznego ograniczającego zużycie energii elektrycznej\nc. zastosowania błękitno-zielonej infrastruktury np. zielone dachy i ściany\nd. likwidacji barier architektonicznych z uwzględnieniem potrzeb osób z niepełnosprawnościami\ne. edukacji podnoszącej świadomość użytkowników dot. efektywności energetycznej\nf. innych prac budowlanych.","Administracja publiczna","Jednostki Samorządu Terytorialnego","I kwartał 2025","2025-01-29","II kwartał 2025","2025-04-30",16744308.24,0,"Obszary wskazane w Strategiach ZIT dla Miejskich Obszarów Funkcjonalnych: Bytowa, Chojnic-Człuchowa, Kościerzyny, Kwidzyna, Lęborka, Malborka-Sztumu, Słupska-Ustki i Starogardu Gdańskiego","Urząd Marszałkowski Województwa Pomorskiego\n(Departament Programów Regionalnych)","niekonkurencyjny","EFRR/FS.CP2.I",{"$f":"VLOOKUP(T29,Arkusz2!$G$2:$I$34,3,0)","v":"Wspieranie efektywności energetycznej i redukcji emisji gazów cieplarnianych"},{"$f":"VLOOKUP(D29,Arkusz2!O22:P1159,2,0)","v":"EFRR"},"Kwota przewidziana na dofinansowanie wynika z przeliczenia kwoty z Porozumienia wg kursu Europejskiego Banku Centralnego z przedostatniego dnia kwotowania Komisji Europejskiej w miesiącu poprzedzającym miesiąc, w którym dokonuje się wyliczenia wartości alokacji zgodnie z Kontraktem Programowym (4,3100 z 28 listopada 2024 r.)."]
["FEPM","02","03",{"$f":"_xlfn.CONCAT(A30,\".\",B30,\".\",C30)","v":"FEPM.02.03"},{"$f":"VLOOKUP(D30,Arkusz2!$D$2:$E$1137,2,0)","v":"Efektywność energetyczna – ZIT poza terenem obszaru metropolitalnego"},"ZIT","\"Kompleksowa termomodernizacja oraz wymiana źródeł ciepła na OZE w obiektach użyteczności publicznej na terenie Gminy Ustka\"\n\nWnioskodawca:\nGmina Ustka","A. Poprawa efektywności energetycznej:\n1. Kompleksowe przedsięwzięcia termomodernizacyjne polegające m.in. na:\na. zmniejszeniu strat ciepła przez przenikanie w zewnętrznych przegrodach\nb. modernizacji źródła ciepła\nc. modernizacji systemów grzewczo–wentylacyjnych z zastosowaniem wysokosprawnej rekuperacji energii\nd. modernizacji instalacji wewnętrznej centralnego ogrzewania i ciepłej wody użytkowej\ne. wykorzystaniu OZE.\n2. W powiązaniu z typem 1. uzupełniająco możliwe będą działania funkcjonalnie powiązane z termomodernizowanym budynkiem dotyczące:\na. rozwoju systemów zarządzania energią lub wodą\nb. modernizacji oświetlenia wewnętrznego ograniczającego zużycie energii elektrycznej\nc. zastosowania błękitno-zielonej infrastruktury np. zielone dachy i ściany\nd. likwidacji barier architektonicznych z uwzględnieniem potrzeb osób z niepełnosprawnościami\ne. edukacji podnoszącej świadomość użytkowników dot. efektywności energetycznej\nf. innych prac budowlanych.","Administracja publiczna","Jednostki Samorządu Terytorialnego","I kwartał 2025","2025-01-29","II kwartał 2025","2025-04-30",3084666.14,0,"Obszary wskazane w Strategiach ZIT dla Miejskich Obszarów Funkcjonalnych: Bytowa, Chojnic-Człuchowa, Kościerzyny, Kwidzyna, Lęborka, Malborka-Sztumu, Słupska-Ustki i Starogardu Gdańskiego","Urząd Marszałkowski Województwa Pomorskiego\n(Departament Programów Regionalnych)","niekonkurencyjny","EFRR/FS.CP2.I",{"$f":"VLOOKUP(T30,Arkusz2!$G$2:$I$34,3,0)","v":"Wspieranie efektywności energetycznej i redukcji emisji gazów cieplarnianych"},{"$f":"VLOOKUP(D30,Arkusz2!O23:P1160,2,0)","v":"EFRR"},"Kwota przewidziana na dofinansowanie wynika z przeliczenia kwoty z Porozumienia wg kursu Europejskiego Banku Centralnego z przedostatniego dnia kwotowania Komisji Europejskiej w miesiącu poprzedzającym miesiąc, w którym dokonuje się wyliczenia wartości alokacji zgodnie z Kontraktem Programowym (4,3100 z 28 listopada 2024 r.)."]
["FEPM","02","03","FEPM.02.03",{"$f":"VLOOKUP(D31,Arkusz2!$D$2:$E$1137,2,0)","v":"Efektywność energetyczna – ZIT poza terenem obszaru metropolitalnego"},"ZIT","\"Modernizacja energetyczna zabytkowych budynków użyteczności publicznej w mieście Malbork\"\n\nWnioskodawca:\nMiasto Malbork","A. Poprawa efektywności energetycznej:\n1. Kompleksowe przedsięwzięcia termomodernizacyjne polegające m.in. na:\na. zmniejszeniu strat ciepła przez przenikanie w zewnętrznych przegrodach\nb. modernizacji źródła ciepła\nc. modernizacji systemów grzewczo–wentylacyjnych z zastosowaniem wysokosprawnej rekuperacji energii\nd. modernizacji instalacji wewnętrznej centralnego ogrzewania i ciepłej wody użytkowej\ne. wykorzystaniu OZE.\n2. W powiązaniu z typem 1. uzupełniająco możliwe będą działania funkcjonalnie powiązane z termomodernizowanym budynkiem dotyczące:\na. rozwoju systemów zarządzania energią lub wodą\nb. modernizacji oświetlenia wewnętrznego ograniczającego zużycie energii elektrycznej\nc. zastosowania błękitno-zielonej infrastruktury np. zielone dachy i ściany\nd. likwidacji barier architektonicznych z uwzględnieniem potrzeb osób z niepełnosprawnościami\ne. edukacji podnoszącej świadomość użytkowników dot. efektywności energetycznej\nf. innych prac budowlanych.","Administracja publiczna","Jednostki Samorządu Terytorialnego","I kwartał 2025","2025-01-29","II kwartał 2025","2025-04-30",7367443.79,0,"Obszary wskazane w Strategiach ZIT dla Miejskich Obszarów Funkcjonalnych: Bytowa, Chojnic-Człuchowa, Kościerzyny, Kwidzyna, Lęborka, Malborka-Sztumu, Słupska-Ustki i Starogardu Gdańskiego","Urząd Marszałkowski Województwa Pomorskiego\n(Departament Programów Regionalnych)","niekonkurencyjny","EFRR/FS.CP2.I",{"$f":"VLOOKUP(T31,Arkusz2!$G$2:$I$34,3,0)","v":"Wspieranie efektywności energetycznej i redukcji emisji gazów cieplarnianych"},{"$f":"VLOOKUP(D31,Arkusz2!O24:P1161,2,0)","v":"EFRR"},"Kwota przewidziana na dofinansowanie wynika z przeliczenia kwoty z Porozumienia wg kursu Europejskiego Banku Centralnego z przedostatniego dnia kwotowania Komisji Europejskiej w miesiącu poprzedzającym miesiąc, w którym dokonuje się wyliczenia wartości alokacji zgodnie z Kontraktem Programowym (4,3100 z 28 listopada 2024 r.)."]
["FEPM","02","03","FEPM.02.03",{"$f":"VLOOKUP(D32,Arkusz2!$D$2:$E$1137,2,0)","v":"Efektywność energetyczna – ZIT poza terenem obszaru metropolitalnego"},"ZIT","\"Modernizacja energetyczna wielorodzinnych komunalnych budynków mieszkalnych w mieście Malbork\"\n\nWnioskodawca:\nZakład Gospodarki Komunalnej i Mieszkaniowej w Malborku Sp. z o.o.","A. Poprawa efektywności energetycznej:\n1. Kompleksowe przedsięwzięcia termomodernizacyjne polegające m.in. na:\na. zmniejszeniu strat ciepła przez przenikanie w zewnętrznych przegrodach\nb. modernizacji źródła ciepła\nc. modernizacji systemów grzewczo–wentylacyjnych z zastosowaniem wysokosprawnej rekuperacji energii\nd. modernizacji instalacji wewnętrznej centralnego ogrzewania i ciepłej wody użytkowej\ne. wykorzystaniu OZE.\n2. W powiązaniu z typem 1. uzupełniająco możliwe będą działania funkcjonalnie powiązane z termomodernizowanym budynkiem dotyczące:\na. rozwoju systemów zarządzania energią lub wodą\nb. modernizacji oświetlenia wewnętrznego ograniczającego zużycie energii elektrycznej\nc. zastosowania błękitno-zielonej infrastruktury np. zielone dachy i ściany\nd. likwidacji barier architektonicznych z uwzględnieniem potrzeb osób z niepełnosprawnościami\ne. edukacji podnoszącej świadomość użytkowników dot. efektywności energetycznej\nf. innych prac budowlanych.","Służby publiczne","Podmioty świadczące usługi publiczne w ramach realizacji obowiązków własnych jednostek samorządu terytorialnego","I kwartał 2025","2025-01-29","II kwartał 2025","2025-04-30",513797.08,0,"Obszary wskazane w Strategiach ZIT dla Miejskich Obszarów Funkcjonalnych: Bytowa, Chojnic-Człuchowa, Kościerzyny, Kwidzyna, Lęborka, Malborka-Sztumu, Słupska-Ustki i Starogardu Gdańskiego","Urząd Marszałkowski Województwa Pomorskiego\n(Departament Programów Regionalnych)","niekonkurencyjny","EFRR/FS.CP2.I",{"$f":"VLOOKUP(T32,Arkusz2!$G$2:$I$34,3,0)","v":"Wspieranie efektywności energetycznej i redukcji emisji gazów cieplarnianych"},{"$f":"VLOOKUP(D32,Arkusz2!O25:P1162,2,0)","v":"EFRR"},"Kwota przewidziana na dofinansowanie wynika z przeliczenia kwoty z Porozumienia wg kursu Europejskiego Banku Centralnego z przedostatniego dnia kwotowania Komisji Europejskiej w miesiącu poprzedzającym miesiąc, w którym dokonuje się wyliczenia wartości alokacji zgodnie z Kontraktem Programowym (4,3100 z 28 listopada 2024 r.)."]
["FEPM","02","03",{"$f":"_xlfn.CONCAT(A33,\".\",B33,\".\",C33)","v":"FEPM.02.03"},{"$f":"VLOOKUP(D33,Arkusz2!$D$2:$E$1137,2,0)","v":"Efektywność energetyczna – ZIT poza terenem obszaru metropolitalnego"},"ZIT","\"Poprawa efektywności energetycznej poprzez termomodernizację budynku świetlicy wiejskiej w Lasowicach Wielkich i budynku remizy strażackiej w Lasowicach Wielkich\"\n\nWnioskodawca:\nGmina Malbork","A. Poprawa efektywności energetycznej:\n1. Kompleksowe przedsięwzięcia termomodernizacyjne polegające m.in. na:\na. zmniejszeniu strat ciepła przez przenikanie w zewnętrznych przegrodach\nb. modernizacji źródła ciepła\nc. modernizacji systemów grzewczo–wentylacyjnych z zastosowaniem wysokosprawnej rekuperacji energii\nd. modernizacji instalacji wewnętrznej centralnego ogrzewania i ciepłej wody użytkowej\ne. wykorzystaniu OZE.\n2. W powiązaniu z typem 1. uzupełniająco możliwe będą działania funkcjonalnie powiązane z termomodernizowanym budynkiem dotyczące:\na. rozwoju systemów zarządzania energią lub wodą\nb. modernizacji oświetlenia wewnętrznego ograniczającego zużycie energii elektrycznej\nc. zastosowania błękitno-zielonej infrastruktury np. zielone dachy i ściany\nd. likwidacji barier architektonicznych z uwzględnieniem potrzeb osób z niepełnosprawnościami\ne. edukacji podnoszącej świadomość użytkowników dot. efektywności energetycznej\nf. innych prac budowlanych.","Administracja publiczna","Jednostki Samorządu Terytorialnego","I kwartał 2025","2025-01-29","II kwartał 2025","2025-04-30",827337.39,0,"Obszary wskazane w Strategiach ZIT dla Miejskich Obszarów Funkcjonalnych: Bytowa, Chojnic-Człuchowa, Kościerzyny, Kwidzyna, Lęborka, Malborka-Sztumu, Słupska-Ustki i Starogardu Gdańskiego","Urząd Marszałkowski Województwa Pomorskiego\n(Departament Programów Regionalnych)","niekonkurencyjny","EFRR/FS.CP2.I",{"$f":"VLOOKUP(T33,Arkusz2!$G$2:$I$34,3,0)","v":"Wspieranie efektywności energetycznej i redukcji emisji gazów cieplarnianych"},{"$f":"VLOOKUP(D33,Arkusz2!O26:P1163,2,0)","v":"EFRR"},"Kwota przewidziana na dofinansowanie wynika z przeliczenia kwoty z Porozumienia wg kursu Europejskiego Banku Centralnego z przedostatniego dnia kwotowania Komisji Europejskiej w miesiącu poprzedzającym miesiąc, w którym dokonuje się wyliczenia wartości alokacji zgodnie z Kontraktem Programowym (4,3100 z 28 listopada 2024 r.)."]
["FEPM","02","03","FEPM.02.03",{"$f":"VLOOKUP(D34,Arkusz2!$D$2:$E$1137,2,0)","v":"Efektywność energetyczna – ZIT poza terenem obszaru metropolitalnego"},"ZIT","\"Modernizacja energetyczna budynku użyteczności publicznej w mieście Malbork\"\n\nWnioskodawca:\nMiejski Zakład Komunikacji w Malborku Sp. z o.o.","A. Poprawa efektywności energetycznej:\n1. Kompleksowe przedsięwzięcia termomodernizacyjne polegające m.in. na:\na. zmniejszeniu strat ciepła przez przenikanie w zewnętrznych przegrodach\nb. modernizacji źródła ciepła\nc. modernizacji systemów grzewczo–wentylacyjnych z zastosowaniem wysokosprawnej rekuperacji energii\nd. modernizacji instalacji wewnętrznej centralnego ogrzewania i ciepłej wody użytkowej\ne. wykorzystaniu OZE.\n2. W powiązaniu z typem 1. uzupełniająco możliwe będą działania funkcjonalnie powiązane z termomodernizowanym budynkiem dotyczące:\na. rozwoju systemów zarządzania energią lub wodą\nb. modernizacji oświetlenia wewnętrznego ograniczającego zużycie energii elektrycznej\nc. zastosowania błękitno-zielonej infrastruktury np. zielone dachy i ściany\nd. likwidacji barier architektonicznych z uwzględnieniem potrzeb osób z niepełnosprawnościami\ne. edukacji podnoszącej świadomość użytkowników dot. efektywności energetycznej\nf. innych prac budowlanych.","Służby publiczne","Podmioty świadczące usługi publiczne w ramach realizacji obowiązków własnych jednostek samorządu terytorialnego","I kwartał 2025","2025-01-29","II kwartał 2025","2025-04-30",1841861.2,0,"Obszary wskazane w Strategiach ZIT dla Miejskich Obszarów Funkcjonalnych: Bytowa, Chojnic-Człuchowa, Kościerzyny, Kwidzyna, Lęborka, Malborka-Sztumu, Słupska-Ustki i Starogardu Gdańskiego","Urząd Marszałkowski Województwa Pomorskiego\n(Departament Programów Regionalnych)","niekonkurencyjny","EFRR/FS.CP2.I",{"$f":"VLOOKUP(T34,Arkusz2!$G$2:$I$34,3,0)","v":"Wspieranie efektywności energetycznej i redukcji emisji gazów cieplarnianych"},{"$f":"VLOOKUP(D34,Arkusz2!O27:P1164,2,0)","v":"EFRR"},"Kwota przewidziana na dofinansowanie wynika z przeliczenia kwoty z Porozumienia wg kursu Europejskiego Banku Centralnego z przedostatniego dnia kwotowania Komisji Europejskiej w miesiącu poprzedzającym miesiąc, w którym dokonuje się wyliczenia wartości alokacji zgodnie z Kontraktem Programowym (4,3100 z 28 listopada 2024 r.)."]
["FEPM","02","03","FEPM.02.03",{"$f":"VLOOKUP(D35,Arkusz2!$D$2:$E$1137,2,0)","v":"Efektywność energetyczna – ZIT poza terenem obszaru metropolitalnego"},"ZIT"," \"Termomodernizacja budynków użyteczności publicznej w Gminie Bobowo\"\n\nWnioskodawca: \nGmina Bobowo","A. Poprawa efektywności energetycznej:\n1. Kompleksowe przedsięwzięcia termomodernizacyjne polegające m.in. na:\na. zmniejszeniu strat ciepła przez przenikanie w zewnętrznych przegrodach\nb. modernizacji źródła ciepła\nc. modernizacji systemów grzewczo–wentylacyjnych z zastosowaniem wysokosprawnej rekuperacji energii\nd. modernizacji instalacji wewnętrznej centralnego ogrzewania i ciepłej wody użytkowej\ne. wykorzystaniu OZE.\n2. W powiązaniu z typem 1. uzupełniająco możliwe będą działania funkcjonalnie powiązane z termomodernizowanym budynkiem dotyczące:\na. rozwoju systemów zarządzania energią lub wodą\nb. modernizacji oświetlenia wewnętrznego ograniczającego zużycie energii elektrycznej\nc. zastosowania błękitno-zielonej infrastruktury np. zielone dachy i ściany\nd. likwidacji barier architektonicznych z uwzględnieniem potrzeb osób z niepełnosprawnościami\ne. edukacji podnoszącej świadomość użytkowników dot. efektywności energetycznej\nf. innych prac budowlanych.","Administracja publiczna","Jednostki Samorządu Terytorialnego","III kwartał 2025",null,"IV kwartał 2025",null,2972590.59,0,"Obszary wskazane w Strategiach ZIT dla Miejskich Obszarów Funkcjonalnych: Bytowa, Chojnic-Człuchowa, Kościerzyny, Kwidzyna, Lęborka, Malborka-Sztumu, Słupska-Ustki i Starogardu Gdańskiego","Urząd Marszałkowski Województwa Pomorskiego\n(Departament Programów Regionalnych)","niekonkurencyjny","EFRR/FS.CP2.I",{"$f":"VLOOKUP(T35,Arkusz2!$G$2:$I$34,3,0)","v":"Wspieranie efektywności energetycznej i redukcji emisji gazów cieplarnianych"},{"$f":"VLOOKUP(D35,Arkusz2!O28:P1165,2,0)","v":"EFRR"},"Kwota przewidziana na dofinansowanie wynika z przeliczenia kwoty z Porozumienia wg kursu Europejskiego Banku Centralnego z przedostatniego dnia kwotowania Komisji Europejskiej w miesiącu poprzedzającym miesiąc, w którym dokonuje się wyliczenia wartości alokacji zgodnie z Kontraktem Programowym (4,1308 z 27 lutego 2025 r.).\n\nKwota przewidziana na dofinansowanie będzie każdorazowo aktualizowana przy zmianie Harmonogramu w oparciu o bieżący kurs."]
["FEPM","02","03","FEPM.02.03",{"$f":"VLOOKUP(D36,Arkusz2!$D$2:$E$1137,2,0)","v":"Efektywność energetyczna – ZIT poza terenem obszaru metropolitalnego"},"ZIT","\"Termomodernizacja I Liceum Ogólnokształcącego oraz budynku dydaktycznego w II Liceum Ogólnokształcącym w Starogardzie Gdańskim\"\n\nWnioskodawca:\nPowiat Starogardzki","A. Poprawa efektywności energetycznej:\n1. Kompleksowe przedsięwzięcia termomodernizacyjne polegające m.in. na:\na. zmniejszeniu strat ciepła przez przenikanie w zewnętrznych przegrodach\nb. modernizacji źródła ciepła\nc. modernizacji systemów grzewczo–wentylacyjnych z zastosowaniem wysokosprawnej rekuperacji energii\nd. modernizacji instalacji wewnętrznej centralnego ogrzewania i ciepłej wody użytkowej\ne. wykorzystaniu OZE.\n2. W powiązaniu z typem 1. uzupełniająco możliwe będą działania funkcjonalnie powiązane z termomodernizowanym budynkiem dotyczące:\na. rozwoju systemów zarządzania energią lub wodą\nb. modernizacji oświetlenia wewnętrznego ograniczającego zużycie energii elektrycznej\nc. zastosowania błękitno-zielonej infrastruktury np. zielone dachy i ściany\nd. likwidacji barier architektonicznych z uwzględnieniem potrzeb osób z niepełnosprawnościami\ne. edukacji podnoszącej świadomość użytkowników dot. efektywności energetycznej\nf. innych prac budowlanych.","Administracja publiczna","Jednostki Samorządu Terytorialnego","III kwartał 2025",null,"IV kwartał 2025",null,5383635.21,0,"Obszary wskazane w Strategiach ZIT dla Miejskich Obszarów Funkcjonalnych: Bytowa, Chojnic-Człuchowa, Kościerzyny, Kwidzyna, Lęborka, Malborka-Sztumu, Słupska-Ustki i Starogardu Gdańskiego","Urząd Marszałkowski Województwa Pomorskiego\n(Departament Programów Regionalnych)","niekonkurencyjny","EFRR/FS.CP2.I",{"$f":"VLOOKUP(T36,Arkusz2!$G$2:$I$34,3,0)","v":"Wspieranie efektywności energetycznej i redukcji emisji gazów cieplarnianych"},{"$f":"VLOOKUP(D36,Arkusz2!O29:P1166,2,0)","v":"EFRR"},"Kwota przewidziana na dofinansowanie wynika z przeliczenia kwoty z Porozumienia wg kursu Europejskiego Banku Centralnego z przedostatniego dnia kwotowania Komisji Europejskiej w miesiącu poprzedzającym miesiąc, w którym dokonuje się wyliczenia wartości alokacji zgodnie z Kontraktem Programowym (4,1308 z 27 lutego 2025 r.).\n\nKwota przewidziana na dofinansowanie będzie każdorazowo aktualizowana przy zmianie Harmonogramu w oparciu o bieżący kurs."]
["FEPM","02","03","FEPM.02.03",{"$f":"VLOOKUP(D37,Arkusz2!$D$2:$E$1137,2,0)","v":"Efektywność energetyczna – ZIT poza terenem obszaru metropolitalnego"},"ZIT","\"Wymiana źródła ciepła wraz z montażem paneli fotowoltaicznych w szkole podstawowej w Damnicy\"\n\nWnioskodawca:\nGmina Damnica","A. Poprawa efektywności energetycznej:\n1. Kompleksowe przedsięwzięcia termomodernizacyjne polegające m.in. na:\na. zmniejszeniu strat ciepła przez przenikanie w zewnętrznych przegrodach\nb. modernizacji źródła ciepła\nc. modernizacji systemów grzewczo–wentylacyjnych z zastosowaniem wysokosprawnej rekuperacji energii\nd. modernizacji instalacji wewnętrznej centralnego ogrzewania i ciepłej wody użytkowej\ne. wykorzystaniu OZE.\n2. W powiązaniu z typem 1. uzupełniająco możliwe będą działania funkcjonalnie powiązane z termomodernizowanym budynkiem dotyczące:\na. rozwoju systemów zarządzania energią lub wodą\nb. modernizacji oświetlenia wewnętrznego ograniczającego zużycie energii elektrycznej\nc. zastosowania błękitno-zielonej infrastruktury np. zielone dachy i ściany\nd. likwidacji barier architektonicznych z uwzględnieniem potrzeb osób z niepełnosprawnościami\ne. edukacji podnoszącej świadomość użytkowników dot. efektywności energetycznej\nf. innych prac budowlanych.","Administracja publiczna","Jednostki Samorządu Terytorialnego","III kwartał 2025",null,"IV kwartał 2025",null,2166884.59,0,"Obszary wskazane w Strategiach ZIT dla Miejskich Obszarów Funkcjonalnych: Bytowa, Chojnic-Człuchowa, Kościerzyny, Kwidzyna, Lęborka, Malborka-Sztumu, Słupska-Ustki i Starogardu Gdańskiego","Urząd Marszałkowski Województwa Pomorskiego\n(Departament Programów Regionalnych)","niekonkurencyjny","EFRR/FS.CP2.I",{"$f":"VLOOKUP(T37,Arkusz2!$G$2:$I$34,3,0)","v":"Wspieranie efektywności energetycznej i redukcji emisji gazów cieplarnianych"},{"$f":"VLOOKUP(D37,Arkusz2!O30:P1167,2,0)","v":"EFRR"},"Kwota przewidziana na dofinansowanie wynika z przeliczenia kwoty z Porozumienia wg kursu Europejskiego Banku Centralnego z przedostatniego dnia kwotowania Komisji Europejskiej w miesiącu poprzedzającym miesiąc, w którym dokonuje się wyliczenia wartości alokacji zgodnie z Kontraktem Programowym (4,1308 z 27 lutego 2025 r.).\n\nKwota przewidziana na dofinansowanie będzie każdorazowo aktualizowana przy zmianie Harmonogramu w oparciu o bieżący kurs."]
["FEPM","02","07","FEPM.02.07",{"$f":"VLOOKUP(D38,Arkusz2!$D$2:$E$1137,2,0)","v":"Odnawialne źródła energii – RLKS"},"RKLS","Nabór wniosków o dofinansowanie projektów dla Działania 2.7. Odnawialne źródła energii - RLKS FEP 2021-2027 - w zakresie projektów grantowych\n\nWnioskodawca:\nStowarzyszenie \"Bursztynowy Pasaż\"","Budowa lub rozbudowa lub zakup wraz z montażem magazynów energii wyłącznie na potrzeby źródeł OZE wraz z przyłączeniem do sieci.  ","Organizacje społeczne i związki wyznaniowe","Lokalne Grupy Działania","II kwartał 2025","2025-04-28","II kwartał 2025","2025-06-30",3027545.53,275231.40999999997,"obszar LGD","Urząd Marszałkowski Województwa Pomorskiego (Departament Programów Rozwoju Obszarów Wiejskich)","niekonkurencyjny","EFRR/FS.CP2.II",{"$f":"VLOOKUP(T38,Arkusz2!$G$2:$I$34,3,0)","v":"Wspieranie energii odnawialnej zgodnie z dyrektywą (UE) 2018/2001, w tym określonymi w niej kryteriami zrównoważonego rozwoju"},{"$f":"VLOOKUP(D38,Arkusz2!O31:P1168,2,0)","v":"EFRR"},"Wskazana kwota przewidywana na dofinansowanie stanowi całą alokację przewidzianą w ramach Działania dla wskazanej LGD.\n https://dprow.pomorskie.eu/harmonogram-naborow/nabory-oglaszane-przez-lgd-2021-2027/ "]
["FEPM","02","07","FEPM.02.07",{"$f":"VLOOKUP(D39,Arkusz2!$D$2:$E$1137,2,0)","v":"Odnawialne źródła energii – RLKS"},"RKLS","Nabór wniosków o dofinansowanie projektów dla Działania 2.7. Odnawialne źródła energii - RLKS FEP 2021-2027 - w zakresie projektów grantowych\n\nWnioskodawca:\nLokalna Grupa Działania \"Kaszubska Droga\"","Budowa lub rozbudowa lub zakup wraz z montażem magazynów energii wyłącznie na potrzeby źródeł OZE wraz z przyłączeniem do sieci.  ","Organizacje społeczne i związki wyznaniowe","Lokalne Grupy Działania","II kwartał 2025","2025-04-28","II kwartał 2025","2025-06-30",2357116.98,214283.36,"obszar LGD","Urząd Marszałkowski Województwa Pomorskiego (Departament Programów Rozwoju Obszarów Wiejskich)","niekonkurencyjny","EFRR/FS.CP2.II",{"$f":"VLOOKUP(T39,Arkusz2!$G$2:$I$34,3,0)","v":"Wspieranie energii odnawialnej zgodnie z dyrektywą (UE) 2018/2001, w tym określonymi w niej kryteriami zrównoważonego rozwoju"},{"$f":"VLOOKUP(D39,Arkusz2!O32:P1169,2,0)","v":"EFRR"},"Wskazana kwota przewidywana na dofinansowanie stanowi całą alokację przewidzianą w ramach Działania dla wskazanej LGD.\n https://dprow.pomorskie.eu/harmonogram-naborow/nabory-oglaszane-przez-lgd-2021-2027/ "]
["FEPM","02","07","FEPM.02.07",{"$f":"VLOOKUP(D40,Arkusz2!$D$2:$E$1137,2,0)","v":"Odnawialne źródła energii – RLKS"},"RKLS","Nabór wniosków o dofinansowanie projektów dla Działania 2.7. Odnawialne źródła energii - RLKS FEP 2021-2027 - w zakresie projektów grantowych\n\nWnioskodawca:\nLokalna Grupa Działania Partnerstwo Dorzecze Słupi","Budowa lub rozbudowa lub zakup wraz z montażem magazynów energii wyłącznie na potrzeby źródeł OZE wraz z przyłączeniem do sieci.  ","Organizacje społeczne i związki wyznaniowe","Lokalne Grupy Działania","II kwartał 2025","2025-04-28","II kwartał 2025","2025-06-30",4363381.32,396671.03,"obszar LGD","Urząd Marszałkowski Województwa Pomorskiego (Departament Programów Rozwoju Obszarów Wiejskich)","niekonkurencyjny","EFRR/FS.CP2.II",{"$f":"VLOOKUP(T40,Arkusz2!$G$2:$I$34,3,0)","v":"Wspieranie energii odnawialnej zgodnie z dyrektywą (UE) 2018/2001, w tym określonymi w niej kryteriami zrównoważonego rozwoju"},{"$f":"VLOOKUP(D40,Arkusz2!O33:P1170,2,0)","v":"EFRR"},"Wskazana kwota przewidywana na dofinansowanie stanowi całą alokację przewidzianą w ramach Działania dla wskazanej LGD.\n https://dprow.pomorskie.eu/harmonogram-naborow/nabory-oglaszane-przez-lgd-2021-2027/ "]
["FEPM","02","11","FEPM.02.11","Przystosowanie do zmian klimatu – ZIT poza terenem obszaru metropolitalnego ","ZIT"," \"Zagospodarowanie w błękitno zieloną infrastrukturę terenu przy Placu Wolności w Sztumie\"\n\nWnioskodawca:\nMiasto i Gmina Sztum","1. Budowa, rozbudowa błękitno-zielonej infrastruktury bazującej przede wszystkim na rozwiązaniach opartych na naturze (np. niecek bioretencyjnych, rowów bioretencyjnych i infiltracyjnych, ogrodów deszczowych, pasów zieleni połączonych z infiltracją, stawów retencyjnych, muld chłonnych).\n2. Budowa, rozbudowa różnego rodzaju form mikroretencji, zbiorników retencyjnych, systemów infiltracyjnych, systemów sedymentacyjno-biofiltracyjnych, powierzchni przepuszczalnych oraz przebudowa powierzchni nieprzepuszczalnych na przepuszczalne na dużych powierzchniach (np. na boiskach, parkingach, placach, podwórzach), których celem jest przede wszystkim zatrzymanie wód opadowych w miejscu opadu. \n3. Działania dotyczące zwiększania powierzchni zieleni na terenach miast i wsi (np. parków, zieleńców, zieleni ulicznej, zieleni osiedlowej, zielonych podwórek, zielonych dachów i ścian budynków, ogrodów deszczowych, zielonych przystanków komunikacji miejskiej, łąk kwietnych, lasów kieszonkowych Miyawakiego).\n4. Budowa, rozbudowa indywidualnych i zbiorczych systemów zatrzymywania, zagospodarowania i wykorzystania wód opadowych i roztopowych w miejscu ich powstawania tworzących element systemu retencji.\n5. Działania dotyczące renaturyzacji obszarów od wód zależnych, utrzymania i rozwijania naturalnej retencji poprzez m.in. zachowanie i odtwarzanie lokalnych mokradeł, torfowisk, śródpolnych oczek wodnych.\n6. Budowa, rozbudowa, przebudowa, odbudowa budowli przeciwpowodziowych - tylko na obszarach wyznaczonych na mapach zagrożenia powodziowego (MZP) i mapach ryzyka powodziowego (MRP): https://www.isok.gov.pl/hydroportal.html (wyłącznie przedsięwzięcia o lokalnej skali oddziaływania, wynikające z potrzeb jednostek samorządu terytorialnego).\n7. Budowa, rozbudowa systemów monitorowania, wczesnego ostrzegania i prognozowania wystąpienia zagrożeń naturalnych, a także szybkiego reagowania. \n8. Zakup specjalistycznego wyposażenia oraz budowa, rozbudowa infrastruktury, niezbędnych w celu prowadzenia akcji ratowniczych oraz usuwania skutków katastrof naturalnych lub awarii chemiczno-ekologicznych dla jednostek ochotniczych straży pożarnych włączonych do Krajowego Systemu Ratowniczo-Gaśniczego.\nUzupełniająco, jako element projektu możliwe będą również:\n1. w ramach pierwszego, drugiego, trzeciego, czwartego, piątego i szóstego typu projektu:\na. budowa, rozbudowa systemów monitorowania, wczesnego ostrzegania i prognozowania wystąpienia zagrożeń naturalnych, a także szybkiego reagowania. \nb. zakup specjalistycznego wyposażenia oraz budowa, rozbudowa infrastruktury, niezbędnych w celu prowadzenia akcji ratowniczych oraz usuwania skutków katastrof naturalnych lub awarii chemiczno-ekologicznych dla jednostek ochotniczych straży pożarnych włączonych do Krajowego Systemu Ratowniczo-Gaśniczego.\n2. w ramach pierwszego, drugiego, trzeciego, czwartego (wyłącznie w przypadku indywidualnych rozwiązań) i piątego typu projektu - działania edukacyjne stanowiące element większego projektu, które muszą być bezpośrednio powiązane z celami tego projektu i mogą stanowić nie więcej niż 10% jego kosztów kwalifikowalnych.","Administracja publiczna","Jednostki Samorządu Terytorialnego","I kwartał 2025","2025-01-29","II kwartał 2025","2025-04-30",852817.33,0,"Obszary wskazane w Strategiach ZIT dla Miejskich Obszarów Funkcjonalnych: Bytowa, Chojnic-Człuchowa, Kościerzyny, Kwidzyna, Lęborka, Malborka-Sztumu, Słupska-Ustki i Starogardu Gdańskiego.","Urząd Marszałkowski Województwa Pomorskiego\n(Departament Programów Regionalnych)","niekonkurencyjny","EFRR/FS.CP2.IV","Wspieranie przystosowania się do zmian klimatu i zapobiegania ryzyku związanemu z klęskami żywiołowymi i katastrofami, a także odporności, z uwzględnieniem podejścia ekosystemowego","EFRR","Kwota przewidziana na dofinansowanie wynika z przeliczenia kwoty z Porozumienia wg kursu Europejskiego Banku Centralnego z przedostatniego dnia kwotowania Komisji Europejskiej w miesiącu poprzedzającym miesiąc, w którym dokonuje się wyliczenia wartości alokacji zgodnie z Kontraktem Programowym (4,3100 z 28 listopada 2024 r.)."]
["FEPM","02","11",{"$f":"_xlfn.CONCAT(A42,\".\",B42,\".\",C42)","v":"FEPM.02.11"},{"$f":"VLOOKUP(D42,Arkusz2!$D$2:$E$1137,2,0)","v":"Przystosowanie do zmian klimatu – ZIT poza terenem obszaru metropolitalnego"},"ZIT","\"Adaptacja  do zmian klimatu poprzez rozwój zielonej i błękitnej infrastruktury w otoczeniu szpitala\"\n\nWnioskodawca:\nPowiat Sztumski","1. Budowa, rozbudowa błękitno-zielonej infrastruktury bazującej przede wszystkim na rozwiązaniach opartych na naturze (np. niecek bioretencyjnych, rowów bioretencyjnych i infiltracyjnych, ogrodów deszczowych, pasów zieleni połączonych z infiltracją, stawów retencyjnych, muld chłonnych).\n2. Budowa, rozbudowa różnego rodzaju form mikroretencji, zbiorników retencyjnych, systemów infiltracyjnych, systemów sedymentacyjno-biofiltracyjnych, powierzchni przepuszczalnych oraz przebudowa powierzchni nieprzepuszczalnych na przepuszczalne na dużych powierzchniach (np. na boiskach, parkingach, placach, podwórzach), których celem jest przede wszystkim zatrzymanie wód opadowych w miejscu opadu. \n3. Działania dotyczące zwiększania powierzchni zieleni na terenach miast i wsi (np. parków, zieleńców, zieleni ulicznej, zieleni osiedlowej, zielonych podwórek, zielonych dachów i ścian budynków, ogrodów deszczowych, zielonych przystanków komunikacji miejskiej, łąk kwietnych, lasów kieszonkowych Miyawakiego).\n4. Budowa, rozbudowa indywidualnych i zbiorczych systemów zatrzymywania, zagospodarowania i wykorzystania wód opadowych i roztopowych w miejscu ich powstawania tworzących element systemu retencji.\n5. Działania dotyczące renaturyzacji obszarów od wód zależnych, utrzymania i rozwijania naturalnej retencji poprzez m.in. zachowanie i odtwarzanie lokalnych mokradeł, torfowisk, śródpolnych oczek wodnych.\n6. Budowa, rozbudowa, przebudowa, odbudowa budowli przeciwpowodziowych - tylko na obszarach wyznaczonych na mapach zagrożenia powodziowego (MZP) i mapach ryzyka powodziowego (MRP): https://www.isok.gov.pl/hydroportal.html (wyłącznie przedsięwzięcia o lokalnej skali oddziaływania, wynikające z potrzeb jednostek samorządu terytorialnego).\n7. Budowa, rozbudowa systemów monitorowania, wczesnego ostrzegania i prognozowania wystąpienia zagrożeń naturalnych, a także szybkiego reagowania. \n8. Zakup specjalistycznego wyposażenia oraz budowa, rozbudowa infrastruktury, niezbędnych w celu prowadzenia akcji ratowniczych oraz usuwania skutków katastrof naturalnych lub awarii chemiczno-ekologicznych dla jednostek ochotniczych straży pożarnych włączonych do Krajowego Systemu Ratowniczo-Gaśniczego.\nUzupełniająco, jako element projektu możliwe będą również:\n1. w ramach pierwszego, drugiego, trzeciego, czwartego, piątego i szóstego typu projektu:\na. budowa, rozbudowa systemów monitorowania, wczesnego ostrzegania i prognozowania wystąpienia zagrożeń naturalnych, a także szybkiego reagowania. \nb. zakup specjalistycznego wyposażenia oraz budowa, rozbudowa infrastruktury, niezbędnych w celu prowadzenia akcji ratowniczych oraz usuwania skutków katastrof naturalnych lub awarii chemiczno-ekologicznych dla jednostek ochotniczych straży pożarnych włączonych do Krajowego Systemu Ratowniczo-Gaśniczego.\n2. w ramach pierwszego, drugiego, trzeciego, czwartego (wyłącznie w przypadku indywidualnych rozwiązań) i piątego typu projektu - działania edukacyjne stanowiące element większego projektu, które muszą być bezpośrednio powiązane z celami tego projektu i mogą stanowić nie więcej niż 10% jego kosztów kwalifikowalnych.","Administracja publiczna","Jednostki Samorządu Terytorialnego","I kwartał 2025","2025-01-29","II kwartał 2025","2025-04-30",1249288.67,0,"Obszary wskazane w Strategiach ZIT dla Miejskich Obszarów Funkcjonalnych: Bytowa, Chojnic-Człuchowa, Kościerzyny, Kwidzyna, Lęborka, Malborka-Sztumu, Słupska-Ustki i Starogardu Gdańskiego.","Urząd Marszałkowski Województwa Pomorskiego\n(Departament Programów Regionalnych)","niekonkurencyjny","EFRR/FS.CP2.IV",{"$f":"VLOOKUP(T42,Arkusz2!$G$2:$I$34,3,0)","v":"Wspieranie przystosowania się do zmian klimatu i zapobiegania ryzyku związanemu z klęskami żywiołowymi i katastrofami, a także odporności, z uwzględnieniem podejścia ekosystemowego"},{"$f":"VLOOKUP(D42,Arkusz2!O33:P1170,2,0)","v":"EFRR"},"Kwota przewidziana na dofinansowanie wynika z przeliczenia kwoty z Porozumienia wg kursu Europejskiego Banku Centralnego z przedostatniego dnia kwotowania Komisji Europejskiej w miesiącu poprzedzającym miesiąc, w którym dokonuje się wyliczenia wartości alokacji zgodnie z Kontraktem Programowym (4,3100 z 28 listopada 2024 r.)."]
["FEPM","02","11",{"$f":"_xlfn.CONCAT(A43,\".\",B43,\".\",C43)","v":"FEPM.02.11"},{"$f":"VLOOKUP(D43,Arkusz2!$D$2:$E$1137,2,0)","v":"Przystosowanie do zmian klimatu – ZIT poza terenem obszaru metropolitalnego"},"ZIT","\"Zakup wozu bojowego na potrzeby jednostki straży pożarnej w Gminie Dębnica Kaszubska wraz z zakupem sprzętu na potrzeby jednostki straży pożarnej OSP Damnica\"\n\nWnioskodawca:\nGmina Dębnica Kaszubska","1. Budowa, rozbudowa błękitno-zielonej infrastruktury bazującej przede wszystkim na rozwiązaniach opartych na naturze (np. niecek bioretencyjnych, rowów bioretencyjnych i infiltracyjnych, ogrodów deszczowych, pasów zieleni połączonych z infiltracją, stawów retencyjnych, muld chłonnych).\n2. Budowa, rozbudowa różnego rodzaju form mikroretencji, zbiorników retencyjnych, systemów infiltracyjnych, systemów sedymentacyjno-biofiltracyjnych, powierzchni przepuszczalnych oraz przebudowa powierzchni nieprzepuszczalnych na przepuszczalne na dużych powierzchniach (np. na boiskach, parkingach, placach, podwórzach), których celem jest przede wszystkim zatrzymanie wód opadowych w miejscu opadu. \n3. Działania dotyczące zwiększania powierzchni zieleni na terenach miast i wsi (np. parków, zieleńców, zieleni ulicznej, zieleni osiedlowej, zielonych podwórek, zielonych dachów i ścian budynków, ogrodów deszczowych, zielonych przystanków komunikacji miejskiej, łąk kwietnych, lasów kieszonkowych Miyawakiego).\n4. Budowa, rozbudowa indywidualnych i zbiorczych systemów zatrzymywania, zagospodarowania i wykorzystania wód opadowych i roztopowych w miejscu ich powstawania tworzących element systemu retencji.\n5. Działania dotyczące renaturyzacji obszarów od wód zależnych, utrzymania i rozwijania naturalnej retencji poprzez m.in. zachowanie i odtwarzanie lokalnych mokradeł, torfowisk, śródpolnych oczek wodnych.\n6. Budowa, rozbudowa, przebudowa, odbudowa budowli przeciwpowodziowych - tylko na obszarach wyznaczonych na mapach zagrożenia powodziowego (MZP) i mapach ryzyka powodziowego (MRP): https://www.isok.gov.pl/hydroportal.html (wyłącznie przedsięwzięcia o lokalnej skali oddziaływania, wynikające z potrzeb jednostek samorządu terytorialnego).\n7. Budowa, rozbudowa systemów monitorowania, wczesnego ostrzegania i prognozowania wystąpienia zagrożeń naturalnych, a także szybkiego reagowania. \n8. Zakup specjalistycznego wyposażenia oraz budowa, rozbudowa infrastruktury, niezbędnych w celu prowadzenia akcji ratowniczych oraz usuwania skutków katastrof naturalnych lub awarii chemiczno-ekologicznych dla jednostek ochotniczych straży pożarnych włączonych do Krajowego Systemu Ratowniczo-Gaśniczego.\nUzupełniająco, jako element projektu możliwe będą również:\n1. w ramach pierwszego, drugiego, trzeciego, czwartego, piątego i szóstego typu projektu:\na. budowa, rozbudowa systemów monitorowania, wczesnego ostrzegania i prognozowania wystąpienia zagrożeń naturalnych, a także szybkiego reagowania. \nb. zakup specjalistycznego wyposażenia oraz budowa, rozbudowa infrastruktury, niezbędnych w celu prowadzenia akcji ratowniczych oraz usuwania skutków katastrof naturalnych lub awarii chemiczno-ekologicznych dla jednostek ochotniczych straży pożarnych włączonych do Krajowego Systemu Ratowniczo-Gaśniczego.\n2. w ramach pierwszego, drugiego, trzeciego, czwartego (wyłącznie w przypadku indywidualnych rozwiązań) i piątego typu projektu - działania edukacyjne stanowiące element większego projektu, które muszą być bezpośrednio powiązane z celami tego projektu i mogą stanowić nie więcej niż 10% jego kosztów kwalifikowalnych.","Administracja publiczna","Jednostki Samorządu Terytorialnego","I kwartał 2025","2025-01-29","II kwartał 2025","2025-04-30",1013960.3,0,"Obszary wskazane w Strategiach ZIT dla Miejskich Obszarów Funkcjonalnych: Bytowa, Chojnic-Człuchowa, Kościerzyny, Kwidzyna, Lęborka, Malborka-Sztumu, Słupska-Ustki i Starogardu Gdańskiego.","Urząd Marszałkowski Województwa Pomorskiego\n(Departament Programów Regionalnych)","niekonkurencyjny","EFRR/FS.CP2.IV",{"$f":"VLOOKUP(T43,Arkusz2!$G$2:$I$34,3,0)","v":"Wspieranie przystosowania się do zmian klimatu i zapobiegania ryzyku związanemu z klęskami żywiołowymi i katastrofami, a także odporności, z uwzględnieniem podejścia ekosystemowego"},{"$f":"VLOOKUP(D43,Arkusz2!O34:P1171,2,0)","v":"EFRR"},"Kwota przewidziana na dofinansowanie wynika z przeliczenia kwoty z Porozumienia wg kursu Europejskiego Banku Centralnego z przedostatniego dnia kwotowania Komisji Europejskiej w miesiącu poprzedzającym miesiąc, w którym dokonuje się wyliczenia wartości alokacji zgodnie z Kontraktem Programowym (4,3100 z 28 listopada 2024 r.)."]
["FEPM","02","11","FEPM.02.11",{"$f":"VLOOKUP(D44,Arkusz2!$D$2:$E$1137,2,0)","v":"Przystosowanie do zmian klimatu – ZIT poza terenem obszaru metropolitalnego"},"ZIT","\"Budowa lokalnych zbiorników retencyjnych\"\n\nWnioskodawca:\nGmina Ustka","1. Budowa, rozbudowa błękitno-zielonej infrastruktury bazującej przede wszystkim na rozwiązaniach opartych na naturze (np. niecek bioretencyjnych, rowów bioretencyjnych i infiltracyjnych, ogrodów deszczowych, pasów zieleni połączonych z infiltracją, stawów retencyjnych, muld chłonnych).\n2. Budowa, rozbudowa różnego rodzaju form mikroretencji, zbiorników retencyjnych, systemów infiltracyjnych, systemów sedymentacyjno-biofiltracyjnych, powierzchni przepuszczalnych oraz przebudowa powierzchni nieprzepuszczalnych na przepuszczalne na dużych powierzchniach (np. na boiskach, parkingach, placach, podwórzach), których celem jest przede wszystkim zatrzymanie wód opadowych w miejscu opadu. \n3. Działania dotyczące zwiększania powierzchni zieleni na terenach miast i wsi (np. parków, zieleńców, zieleni ulicznej, zieleni osiedlowej, zielonych podwórek, zielonych dachów i ścian budynków, ogrodów deszczowych, zielonych przystanków komunikacji miejskiej, łąk kwietnych, lasów kieszonkowych Miyawakiego).\n4. Budowa, rozbudowa indywidualnych i zbiorczych systemów zatrzymywania, zagospodarowania i wykorzystania wód opadowych i roztopowych w miejscu ich powstawania tworzących element systemu retencji.\n5. Działania dotyczące renaturyzacji obszarów od wód zależnych, utrzymania i rozwijania naturalnej retencji poprzez m.in. zachowanie i odtwarzanie lokalnych mokradeł, torfowisk, śródpolnych oczek wodnych.\n6. Budowa, rozbudowa, przebudowa, odbudowa budowli przeciwpowodziowych - tylko na obszarach wyznaczonych na mapach zagrożenia powodziowego (MZP) i mapach ryzyka powodziowego (MRP): https://www.isok.gov.pl/hydroportal.html (wyłącznie przedsięwzięcia o lokalnej skali oddziaływania, wynikające z potrzeb jednostek samorządu terytorialnego).\n7. Budowa, rozbudowa systemów monitorowania, wczesnego ostrzegania i prognozowania wystąpienia zagrożeń naturalnych, a także szybkiego reagowania. \n8. Zakup specjalistycznego wyposażenia oraz budowa, rozbudowa infrastruktury, niezbędnych w celu prowadzenia akcji ratowniczych oraz usuwania skutków katastrof naturalnych lub awarii chemiczno-ekologicznych dla jednostek ochotniczych straży pożarnych włączonych do Krajowego Systemu Ratowniczo-Gaśniczego.\nUzupełniająco, jako element projektu możliwe będą również:\n1. w ramach pierwszego, drugiego, trzeciego, czwartego, piątego i szóstego typu projektu:\na. budowa, rozbudowa systemów monitorowania, wczesnego ostrzegania i prognozowania wystąpienia zagrożeń naturalnych, a także szybkiego reagowania. \nb. zakup specjalistycznego wyposażenia oraz budowa, rozbudowa infrastruktury, niezbędnych w celu prowadzenia akcji ratowniczych oraz usuwania skutków katastrof naturalnych lub awarii chemiczno-ekologicznych dla jednostek ochotniczych straży pożarnych włączonych do Krajowego Systemu Ratowniczo-Gaśniczego.\n2. w ramach pierwszego, drugiego, trzeciego, czwartego (wyłącznie w przypadku indywidualnych rozwiązań) i piątego typu projektu - działania edukacyjne stanowiące element większego projektu, które muszą być bezpośrednio powiązane z celami tego projektu i mogą stanowić nie więcej niż 10% jego kosztów kwalifikowalnych.","Administracja publiczna","Jednostki Samorządu Terytorialnego","II kwartał 2026",null,"II kwartał 2026",null,1072046.53,0,"Obszary wskazane w Strategiach ZIT dla Miejskich Obszarów Funkcjonalnych: Bytowa, Chojnic-Człuchowa, Kościerzyny, Kwidzyna, Lęborka, Malborka-Sztumu, Słupska-Ustki i Starogardu Gdańskiego.","Urząd Marszałkowski Województwa Pomorskiego\n(Departament Programów Regionalnych)","niekonkurencyjny","EFRR/FS.CP2.IV",{"$f":"VLOOKUP(T44,Arkusz2!$G$2:$I$34,3,0)","v":"Wspieranie przystosowania się do zmian klimatu i zapobiegania ryzyku związanemu z klęskami żywiołowymi i katastrofami, a także odporności, z uwzględnieniem podejścia ekosystemowego"},{"$f":"VLOOKUP(D44,Arkusz2!O35:P1172,2,0)","v":"EFRR"},"Kwota przewidziana na dofinansowanie wynika z przeliczenia kwoty z Porozumienia wg kursu Europejskiego Banku Centralnego z przedostatniego dnia kwotowania Komisji Europejskiej w miesiącu poprzedzającym miesiąc, w którym dokonuje się wyliczenia wartości alokacji zgodnie z Kontraktem Programowym  (4,1308 z 27 lutego 2025 r.).\n\nKwota przewidziana na dofinansowanie będzie każdorazowo aktualizowana przy zmianie Harmonogramu w oparciu o bieżący kurs."]
["FEPM","02","11","FEPM.02.11",{"$f":"VLOOKUP(D45,Arkusz2!$D$2:$E$1137,2,0)","v":"Przystosowanie do zmian klimatu – ZIT poza terenem obszaru metropolitalnego"},"ZIT","\"Adaptacja do zmian klimatu i zapobieganie ryzyku związanemu z klęskami żywiołowymi i katastrofami na terenie MOF Słupsk – Ustka\"\n\nWnioskodawca:\nGmina Miasto Ustka","1. Budowa, rozbudowa błękitno-zielonej infrastruktury bazującej przede wszystkim na rozwiązaniach opartych na naturze (np. niecek bioretencyjnych, rowów bioretencyjnych i infiltracyjnych, ogrodów deszczowych, pasów zieleni połączonych z infiltracją, stawów retencyjnych, muld chłonnych).\n2. Budowa, rozbudowa różnego rodzaju form mikroretencji, zbiorników retencyjnych, systemów infiltracyjnych, systemów sedymentacyjno-biofiltracyjnych, powierzchni przepuszczalnych oraz przebudowa powierzchni nieprzepuszczalnych na przepuszczalne na dużych powierzchniach (np. na boiskach, parkingach, placach, podwórzach), których celem jest przede wszystkim zatrzymanie wód opadowych w miejscu opadu. \n3. Działania dotyczące zwiększania powierzchni zieleni na terenach miast i wsi (np. parków, zieleńców, zieleni ulicznej, zieleni osiedlowej, zielonych podwórek, zielonych dachów i ścian budynków, ogrodów deszczowych, zielonych przystanków komunikacji miejskiej, łąk kwietnych, lasów kieszonkowych Miyawakiego).\n4. Budowa, rozbudowa indywidualnych i zbiorczych systemów zatrzymywania, zagospodarowania i wykorzystania wód opadowych i roztopowych w miejscu ich powstawania tworzących element systemu retencji.\n5. Działania dotyczące renaturyzacji obszarów od wód zależnych, utrzymania i rozwijania naturalnej retencji poprzez m.in. zachowanie i odtwarzanie lokalnych mokradeł, torfowisk, śródpolnych oczek wodnych.\n6. Budowa, rozbudowa, przebudowa, odbudowa budowli przeciwpowodziowych - tylko na obszarach wyznaczonych na mapach zagrożenia powodziowego (MZP) i mapach ryzyka powodziowego (MRP): https://www.isok.gov.pl/hydroportal.html (wyłącznie przedsięwzięcia o lokalnej skali oddziaływania, wynikające z potrzeb jednostek samorządu terytorialnego).\n7. Budowa, rozbudowa systemów monitorowania, wczesnego ostrzegania i prognozowania wystąpienia zagrożeń naturalnych, a także szybkiego reagowania. \n8. Zakup specjalistycznego wyposażenia oraz budowa, rozbudowa infrastruktury, niezbędnych w celu prowadzenia akcji ratowniczych oraz usuwania skutków katastrof naturalnych lub awarii chemiczno-ekologicznych dla jednostek ochotniczych straży pożarnych włączonych do Krajowego Systemu Ratowniczo-Gaśniczego.\nUzupełniająco, jako element projektu możliwe będą również:\n1. w ramach pierwszego, drugiego, trzeciego, czwartego, piątego i szóstego typu projektu:\na. budowa, rozbudowa systemów monitorowania, wczesnego ostrzegania i prognozowania wystąpienia zagrożeń naturalnych, a także szybkiego reagowania. \nb. zakup specjalistycznego wyposażenia oraz budowa, rozbudowa infrastruktury, niezbędnych w celu prowadzenia akcji ratowniczych oraz usuwania skutków katastrof naturalnych lub awarii chemiczno-ekologicznych dla jednostek ochotniczych straży pożarnych włączonych do Krajowego Systemu Ratowniczo-Gaśniczego.\n2. w ramach pierwszego, drugiego, trzeciego, czwartego (wyłącznie w przypadku indywidualnych rozwiązań) i piątego typu projektu - działania edukacyjne stanowiące element większego projektu, które muszą być bezpośrednio powiązane z celami tego projektu i mogą stanowić nie więcej niż 10% jego kosztów kwalifikowalnych.","Administracja publiczna","Jednostki Samorządu Terytorialnego","II kwartał 2026",null,"II kwartał 2026",null,1964320.11,0,"Obszary wskazane w Strategiach ZIT dla Miejskich Obszarów Funkcjonalnych: Bytowa, Chojnic-Człuchowa, Kościerzyny, Kwidzyna, Lęborka, Malborka-Sztumu, Słupska-Ustki i Starogardu Gdańskiego.","Urząd Marszałkowski Województwa Pomorskiego\n(Departament Programów Regionalnych)","niekonkurencyjny","EFRR/FS.CP2.IV",{"$f":"VLOOKUP(T45,Arkusz2!$G$2:$I$34,3,0)","v":"Wspieranie przystosowania się do zmian klimatu i zapobiegania ryzyku związanemu z klęskami żywiołowymi i katastrofami, a także odporności, z uwzględnieniem podejścia ekosystemowego"},{"$f":"VLOOKUP(D45,Arkusz2!O36:P1173,2,0)","v":"EFRR"},"Kwota przewidziana na dofinansowanie wynika z przeliczenia kwoty z Porozumienia wg kursu Europejskiego Banku Centralnego z przedostatniego dnia kwotowania Komisji Europejskiej w miesiącu poprzedzającym miesiąc, w którym dokonuje się wyliczenia wartości alokacji zgodnie z Kontraktem Programowym (4,1308 z 27 lutego 2025 r.).\n\nKwota przewidziana na dofinansowanie będzie każdorazowo aktualizowana przy zmianie Harmonogramu w oparciu o bieżący kurs."]
["FEPM","02","11","FEPM.02.11",{"$f":"VLOOKUP(D46,Arkusz2!$D$2:$E$1137,2,0)","v":"Przystosowanie do zmian klimatu – ZIT poza terenem obszaru metropolitalnego"},"ZIT","\"Uporządkowanie gospodarki wodami opadowymi i roztopowymi na terenach zalewowych w Zblewie\"\n\nWnioskodawca:\nGmina Zblewo","1. Budowa, rozbudowa błękitno-zielonej infrastruktury bazującej przede wszystkim na rozwiązaniach opartych na naturze (np. niecek bioretencyjnych, rowów bioretencyjnych i infiltracyjnych, ogrodów deszczowych, pasów zieleni połączonych z infiltracją, stawów retencyjnych, muld chłonnych).\n2. Budowa, rozbudowa różnego rodzaju form mikroretencji, zbiorników retencyjnych, systemów infiltracyjnych, systemów sedymentacyjno-biofiltracyjnych, powierzchni przepuszczalnych oraz przebudowa powierzchni nieprzepuszczalnych na przepuszczalne na dużych powierzchniach (np. na boiskach, parkingach, placach, podwórzach), których celem jest przede wszystkim zatrzymanie wód opadowych w miejscu opadu. \n3. Działania dotyczące zwiększania powierzchni zieleni na terenach miast i wsi (np. parków, zieleńców, zieleni ulicznej, zieleni osiedlowej, zielonych podwórek, zielonych dachów i ścian budynków, ogrodów deszczowych, zielonych przystanków komunikacji miejskiej, łąk kwietnych, lasów kieszonkowych Miyawakiego).\n4. Budowa, rozbudowa indywidualnych i zbiorczych systemów zatrzymywania, zagospodarowania i wykorzystania wód opadowych i roztopowych w miejscu ich powstawania tworzących element systemu retencji.\n5. Działania dotyczące renaturyzacji obszarów od wód zależnych, utrzymania i rozwijania naturalnej retencji poprzez m.in. zachowanie i odtwarzanie lokalnych mokradeł, torfowisk, śródpolnych oczek wodnych.\n6. Budowa, rozbudowa, przebudowa, odbudowa budowli przeciwpowodziowych - tylko na obszarach wyznaczonych na mapach zagrożenia powodziowego (MZP) i mapach ryzyka powodziowego (MRP): https://www.isok.gov.pl/hydroportal.html (wyłącznie przedsięwzięcia o lokalnej skali oddziaływania, wynikające z potrzeb jednostek samorządu terytorialnego).\n7. Budowa, rozbudowa systemów monitorowania, wczesnego ostrzegania i prognozowania wystąpienia zagrożeń naturalnych, a także szybkiego reagowania. \n8. Zakup specjalistycznego wyposażenia oraz budowa, rozbudowa infrastruktury, niezbędnych w celu prowadzenia akcji ratowniczych oraz usuwania skutków katastrof naturalnych lub awarii chemiczno-ekologicznych dla jednostek ochotniczych straży pożarnych włączonych do Krajowego Systemu Ratowniczo-Gaśniczego.\nUzupełniająco, jako element projektu możliwe będą również:\n1. w ramach pierwszego, drugiego, trzeciego, czwartego, piątego i szóstego typu projektu:\na. budowa, rozbudowa systemów monitorowania, wczesnego ostrzegania i prognozowania wystąpienia zagrożeń naturalnych, a także szybkiego reagowania. \nb. zakup specjalistycznego wyposażenia oraz budowa, rozbudowa infrastruktury, niezbędnych w celu prowadzenia akcji ratowniczych oraz usuwania skutków katastrof naturalnych lub awarii chemiczno-ekologicznych dla jednostek ochotniczych straży pożarnych włączonych do Krajowego Systemu Ratowniczo-Gaśniczego.\n2. w ramach pierwszego, drugiego, trzeciego, czwartego (wyłącznie w przypadku indywidualnych rozwiązań) i piątego typu projektu - działania edukacyjne stanowiące element większego projektu, które muszą być bezpośrednio powiązane z celami tego projektu i mogą stanowić nie więcej niż 10% jego kosztów kwalifikowalnych.","Administracja publiczna","Jednostki Samorządu Terytorialnego","II kwartał 2026",null,"II kwartał 2026",null,1321151.3700000001,0,"Obszary wskazane w Strategiach ZIT dla Miejskich Obszarów Funkcjonalnych: Bytowa, Chojnic-Człuchowa, Kościerzyny, Kwidzyna, Lęborka, Malborka-Sztumu, Słupska-Ustki i Starogardu Gdańskiego.","Urząd Marszałkowski Województwa Pomorskiego\n(Departament Programów Regionalnych)","niekonkurencyjny","EFRR/FS.CP2.IV",{"$f":"VLOOKUP(T46,Arkusz2!$G$2:$I$34,3,0)","v":"Wspieranie przystosowania się do zmian klimatu i zapobiegania ryzyku związanemu z klęskami żywiołowymi i katastrofami, a także odporności, z uwzględnieniem podejścia ekosystemowego"},{"$f":"VLOOKUP(D46,Arkusz2!O37:P1174,2,0)","v":"EFRR"},"Kwota przewidziana na dofinansowanie wynika z przeliczenia kwoty z Porozumienia wg kursu Europejskiego Banku Centralnego z przedostatniego dnia kwotowania Komisji Europejskiej w miesiącu poprzedzającym miesiąc, w którym dokonuje się wyliczenia wartości alokacji zgodnie z Kontraktem Programowym (4,1308 z 27 lutego 2025 r.).\n\nKwota przewidziana na dofinansowanie będzie każdorazowo aktualizowana przy zmianie Harmonogramu w oparciu o bieżący kurs."]
["FEPM","02","12","FEPM.02.12",{"$f":"VLOOKUP(D47,Arkusz2!$D$2:$E$1137,2,0)","v":"Zrównoważona gospodarka wodna"},"Nie dotyczy","FEPM.02.12-IZ.00-002/25","Projekty dotyczące zaopatrzenia w wodę pitną:\n1. Budowa, rozbudowa lub przebudowa systemów poboru, uzdatniania i magazynowania wody mających na celu ograniczanie strat wody oraz rozwój technologii wodo oszczędnych.\n2. Tworzenie i rozbudowa systemów monitoringu i oceny jakości wód powierzchniowych i podziemnych przeznaczonych do spożycia oraz prognozowania zagrożeń w wodach podziemnych przeznaczonych do spożycia.\n3. Budowa sieci wodociągowych.\n\nUzupełniająco, jako element projektu możliwe będą również:\na. wdrażanie rozwiązań z zakresu gospodarki o obiegu zamkniętym;\nb. działania sprzyjające adaptacji do zmian klimatu, w szczególności poprzez zastosowanie błękitno-zielonej infrastruktury.","Administracja publiczna, Instytucje nauki i edukacji, Przedsiębiorstwa realizujące cele publiczne, Służby publiczne","Administracja rządowa, Instytucje odpowiedzialne za gospodarkę wodną, Jednostki naukowe, Jednostki organizacyjne działające w imieniu jednostek samorządu terytorialnego, Jednostki Samorządu Terytorialnego, Podmioty świadczące usługi publiczne w ramach realizacji obowiązków własnych jednostek samorządu terytorialnego, Przedsiębiorstwa wodociągowo-kanalizacyjne, Spółki wodne, Uczelnie","IV kwartał 2025","2025-10-22","IV kwartał 2025","2025-12-17",30972668.260000002,3260281.33,"Dla projektów z zakresu zaopatrzenia w wodę pitną uprawnione do wsparcia będą:\n1. W ramach pierwszego i trzeciego typu projektu - realizowane w gminach do 15 tys. mieszkańców, których zakres wskazany jest w załączniku 1 lub załączniku 2 do Programu Inwestycyjnego w zakresie poprawy jakości i ograniczenia strat wody przeznaczonej do spożycia przez ludzi. https://www.gov.pl/web/infrastruktura/przyjeto-program-inwestycyjny-w-zakresie-poprawy-jakosci-i-ograniczenia-strat-wody-przeznaczonej-do-spozycia-przez-ludzi.\n2. W ramach drugiego typu projektu wspierane będą projekty realizowane na obszarze całego województwa.","Urząd Marszałkowski Województwa Pomorskiego\n(Departament Programów Regionalnych)","konkurencyjny","EFRR/FS.CP2.V",{"$f":"VLOOKUP(T47,Arkusz2!$G$2:$I$34,3,0)","v":"Wspieranie dostępu do wody oraz zrównoważonej gospodarki wodnej"},{"$f":"VLOOKUP(D47,Arkusz2!O39:P1176,2,0)","v":"EFRR"},"Nabor ogłoszony 14 listopada 2024 r.\n\nKwota alokacji w PLN przeliczona wg kursu Europejskiego Banku Centralnego z przedostatniego dnia kwotowania Komisji Europejskiej w miesiącu poprzedzającym miesiąc, w którym dokonuje się wyliczenia wartości alokacji zgodnie z Kontraktem Programowym (4,3463 z 30 października 2024 r.) - środki EFRR i budżetu państwa."]
["FEPM","02","15","FEPM.02.15",{"$f":"VLOOKUP(D48,Arkusz2!$D$2:$E$1137,2,0)","v":"Różnorodność biologiczna i krajobrazu"},"Nie dotyczy",null,"1. Opracowanie dokumentów stanowiących aktualizację planów ochrony dla parków krajobrazowych przyjętych przez Sejmik Woj. Pomorskiego.\n2. Czynna ochrona i przywracanie walorów przyrodniczo-krajobrazowych na obszarach:\n- parków krajobrazowych, rezerwatów przyrody pokrywających się z obszarami parków krajobrazowych (na zasadach komplementarności z programem krajowym), Natura 2000 (w tym na obszarach pokrywających się z obszarami parków krajobrazowych) oraz obszarach chronionego krajobrazu–wg danych z centralnego rejestru form ochrony przyrody https://crfop.gdos.gov.pl/CRFOP/;\n- użytków ekologicznych–wg danych z dotyczącej ich uchwały Rady Gminy;\n- korytarzy ekologicznych–wg danych Pomorskiego Biura Planowania Regionalnego;\n- w strefie przybrzeżnej Morza Bałtyckiego–wg danych z Planu Zagospodarowania Przestrzennego Województwa Pomorskiego (PZPWP) https://pbpr.pomorskie.pl/plan-zagospodarowania-wojewodztwa/;\nw postaci wsparcia na realizację zadań dotyczących w szczególności:\na. ochrony i restytucji cennych, zagrożonych, gatunków, siedlisk przyrodniczych i ekotonów,\nb. opracowania i wdrażania programów odtwarzania i renaturalizacji ekosystemów,\nc. przywracania właściwego składu gatunkowego siedlisk przyrodniczych leśnych (odnawianie siedlisk), udrażnianie ciągłości korytarzy ekologicznych,\nd. eliminacji obcych gatunków inwazyjnych,\ne. budowie lub przebudowie przepustów i przejść dla zwierząt.\n3. Ochrona wód i ekosystemów od wód zależnych, w szczególności jezior, poprzez:\na. zadania mające na celu ochronę cennych siedlisk wodnych, w tym jezior wrażliwych na eutrofizację (zwłaszcza lobeliowych), związanych z potwierdzoną koniecznością redukcji bezpośredniego, znaczącego negatywnego wpływu ścieków bytowych na jakość wód w jeziorach;\nb. działania służące poprawie jakości wód jezior stanowiących jednolite części wód powierzchniowych (JCWP) zagrożone nieosiągnięciem celów środowiskowych, ze względu na zanieczyszczenia komunalne;\nc. rekultywację jezior;\nd. urządzenie i zagospodarowanie terenów wokół rzek, jezior i zbiorników wodnych w celu ograniczenia spływu zanieczyszczeń powierzchniowych i antropopresji oraz działania w zlewni bezpośredniej jeziora, służące ochronie jego ekosystemu;\ne. zadania mające na celu ochronę obszarów podmokłych (zwłaszcza torfowisk), działania renaturalizacyjne, rozwój małej infrastruktury chroniącej obszary podmokłe (np. kładki nad torfowiskami, odtwarzanie małych urządzeń wodnych zatrzymujących wodę na torfowisku), a także działania wpływające na, ograniczenie dopływu zanieczyszczeń, np. poprzez tworzenie stref buforowych;\nPonadto, jako element projektu dot. działań a)-c) możliwa będzie budowa lub rozbudowa systemów odprowadzania i oczyszczania ścieków poza obszarami aglomeracji wyznaczonymi w KPOŚK-tylko w uzasadnionych przypadkach, np. na podstawie planów/projektów rekultywacji jeziora.","Administracja publiczna, Instytucje nauki i edukacji, Organizacje społeczne i związki wyznaniowe, Partnerstwa, Służby publiczne","Inne podmioty systemu szkolnictwa wyższego i nauki, Jednostki naukowe, Jednostki organizacyjne działające w imieniu jednostek samorządu terytorialnego, Jednostki rządowe i samorządowe ochrony środowiska, Jednostki Samorządu Terytorialnego, Kościoły i związki wyznaniowe, Lasy Państwowe, parki narodowe i krajobrazowe, Organizacje pozarządowe, Partnerstwa Publiczno-Prywatne, Podmioty świadczące usługi publiczne w ramach realizacji obowiązków własnych jednostek samorządu terytorialnego, Uczelnie","III kwartał 2025",null,"IV kwartał 2025",null,32402408.280000001,2478480,"Całe województwo, z wyłączeniem obszarów uprawnionych do wsparcia w ramach Dz. 2.16. Różnorodność biologiczna i krajobrazu – ZIT poza terenem obszaru metropolitalnego.","Urząd Marszałkowski Województwa Pomorskiego\n(Departament Programów Regionalnych)","konkurencyjny","EFRR/FS.CP2.VII",{"$f":"VLOOKUP(T48,Arkusz2!$G$2:$I$34,3,0)","v":"Wzmacnianie ochrony i zachowania przyrody, różnorodności biologicznej oraz zielonej infrastruktury, w tym na obszarach miejskich, oraz ograniczanie wszelkich rodzajów zanieczyszczenia"},{"$f":"VLOOKUP(D48,Arkusz2!O40:P1177,2,0)","v":"EFRR"},"Kwota przewidziana na dofinansowanie wynika z przeliczenia kwoty z Porozumienia wg kursu Europejskiego Banku Centralnego z przedostatniego dnia kwotowania Komisji Europejskiej w miesiącu poprzedzającym miesiąc, w którym dokonuje się wyliczenia wartości alokacji zgodnie z Kontraktem Programowym (4,1308 z 27 lutego 2025 r.)."]
["FEPM","02","17","FEPM.02.17",{"$f":"VLOOKUP(D49,Arkusz2!$D$2:$E$1137,2,0)","v":"Różnorodność biologiczna i krajobrazu – RLKS"},"RKLS",null,null,null,null,null,null,null,null,null,null,null,null,"konkurencyjny","EFRR/FS.CP2.VII",{"$f":"VLOOKUP(T49,Arkusz2!$G$2:$I$34,3,0)","v":"Wzmacnianie ochrony i zachowania przyrody, różnorodności biologicznej oraz zielonej infrastruktury, w tym na obszarach miejskich, oraz ograniczanie wszelkich rodzajów zanieczyszczenia"},{"$f":"VLOOKUP(D49,Arkusz2!O41:P1178,2,0)","v":"EFRR"},"https://dprow.pomorskie.eu/harmonogram-naborow/nabory-oglaszane-przez-lgd-2021-2027/"]
["FEPM","03","01","FEPM.03.01",{"$f":"VLOOKUP(D50,Arkusz2!$D$2:$E$1137,2,0)","v":"Mobilność miejska"},"Nie dotyczy",null,"1. Budowa, rozbudowa i przebudowa infrastruktury składającej się na węzeł integracyjny lub przystanek zintegrowany takiej jak:\na. punktowa infrastruktura transportu zbiorowego służąca powiązaniu jego różnych form: m.in. pętle autobusowe;\nb. systemy parkingowe typu „parkuj i jedź” („park&ride”), „parkuj rower i jedź” („bike&ride”) oraz „podwieź i jedź” (kiss&ride”) wraz z towarzyszącą im infrastrukturą służącą obsłudze pasażerów;\nc. dworce kolejowe, autobusowe lub inne obiekty obsługi podróżnych; \nd. infrastruktura drogowa (wraz z narzędziami cyfrowymi) wykorzystywana w transporcie publicznym, do obsługi obiektów „parkuj i jedź” lub jej elementy ukierunkowane na bezpieczeństwo niechronionych użytkowników dróg (w tym pieszych i rowerzystów).\n2. Budowa, rozbudowa i przebudowa liniowej infrastruktury transportu autobusowego, w tym pętli, wydzielonych pasów ruchu (buspasów), zatok przystankowych;\n3. Budowa, rozbudowa i przebudowa infrastruktury transportu rowerowego, pieszego i pieszo-rowerowego, a także rozwój systemów bike-sharingowych;\n4. Zakup zero i niskoemisyjnego taboru publicznego transportu zbiorowego np. autobusów;\n5. Rozwój infrastruktury ładowania i tankowania pojazdów zeroemisyjnych; \n6. Przedsięwzięcia służące cyfryzacji transportu miejskiego, poprawiające funkcjonowanie, konkurencyjność i bezpieczeństwo publicznego transportu zbiorowego, w szczególności utworzenie lub rozwój:\na. systemów zarządzania transportem zbiorowym (w tym systemów sterowania ruchem pojazdów transportu zbiorowego); \nb. systemów monitoringu transportu zbiorowego i przystanków (m.in. systemów monitorowania bezpieczeństwa pasażerów); \nc. systemów informacji dla pasażerów transportu zbiorowego; \nd. systemów organizacji przewozów, w tym elektronicznych systemów pobierania opłat (bilet elektroniczny); \ne. aplikacji do planowania podróży. \nUzupełniająco, w ramach typów projektów 1. – 3. możliwe będą również:\n- działania służące likwidacji barier architektonicznych, w szczególności w oparciu o projektowanie uniwersalne lub zastosowanie racjonalnego usprawnienia oraz uwzględniające potrzeby osób z niepełnosprawnościami;\n- działania sprzyjające adaptacji do zmian klimatu, w szczególności poprzez zastosowanie błękitno-zielonej infrastruktury.\nPonadto, w ramach typów projektów 1. – 6. możliwe będą działania edukacyjne dotyczące zrównoważonej mobilności miejskiej - do 10% jego kosztów kwalifikowalnych.","Administracja publiczna, Przedsiębiorstwa, Przedsiębiorstwa realizujące cele publiczne, Służby publiczne","Jednostki organizacyjne działające w imieniu jednostek samorządu terytorialnego, Jednostki Samorządu Terytorialnego, MŚP, Zarządcy dróg publicznych, Organizatorzy i operatorzy publicznego transportu zbiorowego, Zarządcy infrastruktury dworcowej, Zarządcy infrastruktury kolejowej, Duże przedsiębiorstwa","II kwartał 2025","2025-06-04","II kwartał 2025","2025-06-25",34452608.509999998,0,"1. gminy: Czersk, Łeba, Miastko, Pelplin (o ile nie są uprawnione do wsparcia w Działaniach 3.2. i 3.3.) – wszystkie typy projektów.\n2. gminy: Brusy i Kępice (o ile nie są uprawnione do wsparcia w Działaniach 3.2. i 3.3.) – pierwszy, drugi, czwarty, piąty, szósty i siódmy z typów projektów.\n3. gminy: Nowy Dwór Gdański i Prabuty (o ile nie są uprawnione do wsparcia w Działaniach 3.2. i 3.3.) – trzeci, czwarty, szósty i siódmy z typów projektów.\n4. gminy: Czarna Woda, Czarne, Debrzno, Dzierzgoń, Gniew, Krynica Morska, Skarszewy, Skórcz (o ile nie są uprawnione do wsparcia w Działaniach 3.2 i 3.3.) – czwarty, szósty i siódmy z typów projektów.\n5. w przypadku czwartego typu projektu realizowanego na terenie wskazanej powyżej gminy lub gmin, zakupiony tabor publicznego transportu zbiorowego może w uzasadnionych przypadkach obsługiwać również obszar wykraczający poza jej/ich granice.","Urząd Marszałkowski Województwa Pomorskiego\n(Departament Programów Regionalnych)","konkurencyjny","EFRR/FS.CP2.VIII",{"$f":"VLOOKUP(T50,Arkusz2!$G$2:$I$34,3,0)","v":"Wspieranie zrównoważonej multimodalnej mobilności miejskiej jako elementu transformacji w kierunku gospodarki zeroemisyjnej"},{"$f":"VLOOKUP(D50,Arkusz2!O42:P1179,2,0)","v":"EFRR"},"Ogłoszenie naboru - maj 2025 r.\nKwota alokacji w PLN przeliczona wg kursu Europejskiego Banku Centralnego z przedostatniego dnia kwotowania Komisji Europejskiej w miesiącu poprzedzającym miesiąc, w którym dokonuje się wyliczenia wartości alokacji zgodnie z Kontraktem Programowym (4,1308 z 27 lutego 2025 r.)"]
["FEPM","03","02","FEPM.03.02",{"$f":"VLOOKUP(D51,Arkusz2!$D$2:$E$1137,2,0)","v":"Mobilność miejska – ZIT na terenie obszaru metropolitalnego"},"ZIT","\"Budowa stacji ładowania dla autobusów elektrycznych i cyfryzacja transportu miejskiego w Tczewie\"\n\nWnioskodawca:\nGmina Miejska Tczew","1. Budowa, rozbudowa i przebudowa infrastruktury składającej się na węzeł integracyjny lub przystanek zintegrowany takiej jak:\na. punktowa infrastruktura transportu zbiorowego służąca powiązaniu jego różnych form: m.in. pętle autobusowe, tramwajowe, trolejbusowe;\nb. systemy parkingowe typu „parkuj i jedź” („park&ride”), „parkuj rower i jedź” („bike&ride”) oraz „podwieź i jedź” (kiss&ride”) wraz z towarzyszącą im infrastrukturą służącą obsłudze pasażerów;\nc. dworce kolejowe, autobusowe lub inne obiekty obsługi podróżnych; \nd. infrastruktura drogowa (wraz z narzędziami cyfrowymi) wykorzystywana w transporcie publicznym, do obsługi obiektów „parkuj i jedź” lub jej elementy ukierunkowane na bezpieczeństwo niechronionych użytkowników dróg (w tym pieszych i rowerzystów).\n2. Budowa, rozbudowa i przebudowa liniowej infrastruktury transportu tramwajowego, trolejbusowego i autobusowego, w tym układów torowych na trasach, pętlach i bocznicach, trakcji i podstacji trakcyjnych tramwajowych i trolejbusowych, pętli autobusowych, wydzielonych pasów ruchu (buspasów), zatok przystankowych;\n3. Budowa, rozbudowa i przebudowa infrastruktury transportu rowerowego, pieszego i pieszo-rowerowego, a także rozwój systemów bike-sharingowych;\n4. Zakup zero i niskoemisyjnego taboru publicznego transportu zbiorowego, np. autobusów, tramwajów, trolejbusów oraz innych środków komunikacji; \n5. Rozwój infrastruktury ładowania i tankowania pojazdów zeroemisyjnych; \n6. Przedsięwzięcia służące cyfryzacji transportu miejskiego, poprawiające funkcjonowanie, konkurencyjność i bezpieczeństwo publicznego transportu zbiorowego, w szczególności utworzenie lub rozwój:\na. systemów zarządzania transportem zbiorowym (w tym systemów sterowania ruchem pojazdów transportu zbiorowego); \nb. systemów monitoringu transportu zbiorowego i przystanków (m.in. systemów monitorowania bezpieczeństwa pasażerów); \nc. systemów informacji dla pasażerów transportu zbiorowego; \nd. systemów organizacji przewozów, w tym elektronicznych systemów pobierania opłat (bilet elektroniczny); \ne. aplikacji do planowania podróży. \nUzupełniająco, w ramach typów projektów 1. – 3. możliwe będą również:\n- działania służące likwidacji barier architektonicznych, w szczególności w oparciu o projektowanie uniwersalne lub zastosowanie racjonalnego usprawnienia oraz uwzględniające potrzeby osób z niepełnosprawnościami;\n- działania sprzyjające adaptacji do zmian klimatu, w szczególności poprzez zastosowanie błękitno-zielonej infrastruktury.\nPonadto, w ramach typów projektów 1. – 6. możliwe będą działania edukacyjne dotyczące zrównoważonej mobilności miejskiej - do 10% jego kosztów kwalifikowalnych.","Administracja publiczna","Jednostki Samorządu Terytorialnego","I kwartał 2025","2025-01-29","II kwartał 2025","2025-04-30",4250000,0,"Obszar wskazany w Strategii ZIT dla Obszaru Metropolitalnego Gdańsk-Gdynia-Sopot.  ","Urząd Marszałkowski Województwa Pomorskiego\n(Departament Programów Regionalnych)","niekonkurencyjny","EFRR/FS.CP2.VIII",{"$f":"VLOOKUP(T51,Arkusz2!$G$2:$I$34,3,0)","v":"Wspieranie zrównoważonej multimodalnej mobilności miejskiej jako elementu transformacji w kierunku gospodarki zeroemisyjnej"},{"$f":"VLOOKUP(D51,Arkusz2!O43:P1180,2,0)","v":"EFRR"},"Kwota przewidziana do dofinanowania z Kart projektów wynikających z przedsięwzięć wskazanych w Strategi ZIT stanowiących załącznik do Porozumienia z dnia 27.02.2024 r. (Aneks nr 2 z dnia 24 października 2024 r.)"]
["FEPM","03","02","FEPM.03.02",{"$f":"VLOOKUP(D52,Arkusz2!$D$2:$E$1137,2,0)","v":"Mobilność miejska – ZIT na terenie obszaru metropolitalnego"},"ZIT"," \"Rozwój infrastruktury zrównoważonego transportu w Gdyni\"\n\nWnioskodawca:\nGmina Miasta Gdyni","1. Budowa, rozbudowa i przebudowa infrastruktury składającej się na węzeł integracyjny lub przystanek zintegrowany takiej jak:\na. punktowa infrastruktura transportu zbiorowego służąca powiązaniu jego różnych form: m.in. pętle autobusowe, tramwajowe, trolejbusowe;\nb. systemy parkingowe typu „parkuj i jedź” („park&ride”), „parkuj rower i jedź” („bike&ride”) oraz „podwieź i jedź” (kiss&ride”) wraz z towarzyszącą im infrastrukturą służącą obsłudze pasażerów;\nc. dworce kolejowe, autobusowe lub inne obiekty obsługi podróżnych; \nd. infrastruktura drogowa (wraz z narzędziami cyfrowymi) wykorzystywana w transporcie publicznym, do obsługi obiektów „parkuj i jedź” lub jej elementy ukierunkowane na bezpieczeństwo niechronionych użytkowników dróg (w tym pieszych i rowerzystów).\n2. Budowa, rozbudowa i przebudowa liniowej infrastruktury transportu tramwajowego, trolejbusowego i autobusowego, w tym układów torowych na trasach, pętlach i bocznicach, trakcji i podstacji trakcyjnych tramwajowych i trolejbusowych, pętli autobusowych, wydzielonych pasów ruchu (buspasów), zatok przystankowych;\n3. Budowa, rozbudowa i przebudowa infrastruktury transportu rowerowego, pieszego i pieszo-rowerowego, a także rozwój systemów bike-sharingowych;\n4. Zakup zero i niskoemisyjnego taboru publicznego transportu zbiorowego, np. autobusów, tramwajów, trolejbusów oraz innych środków komunikacji; \n5. Rozwój infrastruktury ładowania i tankowania pojazdów zeroemisyjnych; \n6. Przedsięwzięcia służące cyfryzacji transportu miejskiego, poprawiające funkcjonowanie, konkurencyjność i bezpieczeństwo publicznego transportu zbiorowego, w szczególności utworzenie lub rozwój:\na. systemów zarządzania transportem zbiorowym (w tym systemów sterowania ruchem pojazdów transportu zbiorowego); \nb. systemów monitoringu transportu zbiorowego i przystanków (m.in. systemów monitorowania bezpieczeństwa pasażerów); \nc. systemów informacji dla pasażerów transportu zbiorowego; \nd. systemów organizacji przewozów, w tym elektronicznych systemów pobierania opłat (bilet elektroniczny); \ne. aplikacji do planowania podróży. \nUzupełniająco, w ramach typów projektów 1. – 3. możliwe będą również:\n- działania służące likwidacji barier architektonicznych, w szczególności w oparciu o projektowanie uniwersalne lub zastosowanie racjonalnego usprawnienia oraz uwzględniające potrzeby osób z niepełnosprawnościami;\n- działania sprzyjające adaptacji do zmian klimatu, w szczególności poprzez zastosowanie błękitno-zielonej infrastruktury.\nPonadto, w ramach typów projektów 1. – 6. możliwe będą działania edukacyjne dotyczące zrównoważonej mobilności miejskiej - do 10% jego kosztów kwalifikowalnych.","Administracja publiczna","Jednostki Samorządu Terytorialnego","I kwartał 2025","2025-01-29","II kwartał 2025","2025-04-30",34999961,0,"Obszar wskazany w Strategii ZIT dla Obszaru Metropolitalnego Gdańsk-Gdynia-Sopot.  ","Urząd Marszałkowski Województwa Pomorskiego\n(Departament Programów Regionalnych)","niekonkurencyjny","EFRR/FS.CP2.VIII",{"$f":"VLOOKUP(T52,Arkusz2!$G$2:$I$34,3,0)","v":"Wspieranie zrównoważonej multimodalnej mobilności miejskiej jako elementu transformacji w kierunku gospodarki zeroemisyjnej"},{"$f":"VLOOKUP(D52,Arkusz2!O44:P1181,2,0)","v":"EFRR"},"Kwota przewidziana do dofinanowania z Kart projektów wynikających z przedsięwzięć wskazanych w Strategi ZIT stanowiących załącznik do Porozumienia z dnia 27.02.2024 r. (Aneks nr 2 z dnia 24 października 2024 r.)"]
["FEPM","03","02","FEPM.03.02",{"$f":"VLOOKUP(D53,Arkusz2!$D$2:$E$1137,2,0)","v":"Mobilność miejska – ZIT na terenie obszaru metropolitalnego"},"ZIT","\"Budowa węzła integracyjnego w rejonie przystanku SKM Wejherowo Śmiechowo w ramach przedsięwzięcia pn. Węzeł „Zryw” wraz z połączeniem DK6 z ul. Sikorskiego\"\n\nWnioskodawca:\nGmina Miasta Wejherowa","1. Budowa, rozbudowa i przebudowa infrastruktury składającej się na węzeł integracyjny lub przystanek zintegrowany takiej jak:\na. punktowa infrastruktura transportu zbiorowego służąca powiązaniu jego różnych form: m.in. pętle autobusowe, tramwajowe, trolejbusowe;\nb. systemy parkingowe typu „parkuj i jedź” („park&ride”), „parkuj rower i jedź” („bike&ride”) oraz „podwieź i jedź” (kiss&ride”) wraz z towarzyszącą im infrastrukturą służącą obsłudze pasażerów;\nc. dworce kolejowe, autobusowe lub inne obiekty obsługi podróżnych; \nd. infrastruktura drogowa (wraz z narzędziami cyfrowymi) wykorzystywana w transporcie publicznym, do obsługi obiektów „parkuj i jedź” lub jej elementy ukierunkowane na bezpieczeństwo niechronionych użytkowników dróg (w tym pieszych i rowerzystów).\n2. Budowa, rozbudowa i przebudowa liniowej infrastruktury transportu tramwajowego, trolejbusowego i autobusowego, w tym układów torowych na trasach, pętlach i bocznicach, trakcji i podstacji trakcyjnych tramwajowych i trolejbusowych, pętli autobusowych, wydzielonych pasów ruchu (buspasów), zatok przystankowych;\n3. Budowa, rozbudowa i przebudowa infrastruktury transportu rowerowego, pieszego i pieszo-rowerowego, a także rozwój systemów bike-sharingowych;\n4. Zakup zero i niskoemisyjnego taboru publicznego transportu zbiorowego, np. autobusów, tramwajów, trolejbusów oraz innych środków komunikacji; \n5. Rozwój infrastruktury ładowania i tankowania pojazdów zeroemisyjnych; \n6. Przedsięwzięcia służące cyfryzacji transportu miejskiego, poprawiające funkcjonowanie, konkurencyjność i bezpieczeństwo publicznego transportu zbiorowego, w szczególności utworzenie lub rozwój:\na. systemów zarządzania transportem zbiorowym (w tym systemów sterowania ruchem pojazdów transportu zbiorowego); \nb. systemów monitoringu transportu zbiorowego i przystanków (m.in. systemów monitorowania bezpieczeństwa pasażerów); \nc. systemów informacji dla pasażerów transportu zbiorowego; \nd. systemów organizacji przewozów, w tym elektronicznych systemów pobierania opłat (bilet elektroniczny); \ne. aplikacji do planowania podróży. \nUzupełniająco, w ramach typów projektów 1. – 3. możliwe będą również:\n- działania służące likwidacji barier architektonicznych, w szczególności w oparciu o projektowanie uniwersalne lub zastosowanie racjonalnego usprawnienia oraz uwzględniające potrzeby osób z niepełnosprawnościami;\n- działania sprzyjające adaptacji do zmian klimatu, w szczególności poprzez zastosowanie błękitno-zielonej infrastruktury.\nPonadto, w ramach typów projektów 1. – 6. możliwe będą działania edukacyjne dotyczące zrównoważonej mobilności miejskiej - do 10% jego kosztów kwalifikowalnych.","Administracja publiczna","Jednostki Samorządu Terytorialnego","I kwartał 2025","2025-01-29","II kwartał 2025","2025-04-30",7650000,0,"Obszar wskazany w Strategii ZIT dla Obszaru Metropolitalnego Gdańsk-Gdynia-Sopot.  ","Urząd Marszałkowski Województwa Pomorskiego\n(Departament Programów Regionalnych)","niekonkurencyjny","EFRR/FS.CP2.VIII",{"$f":"VLOOKUP(T53,Arkusz2!$G$2:$I$34,3,0)","v":"Wspieranie zrównoważonej multimodalnej mobilności miejskiej jako elementu transformacji w kierunku gospodarki zeroemisyjnej"},{"$f":"VLOOKUP(D53,Arkusz2!O45:P1182,2,0)","v":"EFRR"},"Kwota przewidziana do dofinanowania z Kart projektów wynikających z przedsięwzięć wskazanych w Strategi ZIT stanowiących załącznik do Porozumienia z dnia 27.02.2024 r. (Aneks nr 3 z dnia 28 listopada 2024 r.)"]
["FEPM","03","02","FEPM.03.02",{"$f":"VLOOKUP(D54,Arkusz2!$D$2:$E$1137,2,0)","v":"Mobilność miejska – ZIT na terenie obszaru metropolitalnego"},"ZIT","\"Rozbudowa węzła integracyjnego w Pruszczu Gdańskim - Etap 1\"\n\nWnioskodawca: \nGmina Miejska Pruszcz Gdański","1. Budowa, rozbudowa i przebudowa infrastruktury składającej się na węzeł integracyjny lub przystanek zintegrowany takiej jak:\na. punktowa infrastruktura transportu zbiorowego służąca powiązaniu jego różnych form: m.in. pętle autobusowe, tramwajowe, trolejbusowe;\nb. systemy parkingowe typu „parkuj i jedź” („park&ride”), „parkuj rower i jedź” („bike&ride”) oraz „podwieź i jedź” (kiss&ride”) wraz z towarzyszącą im infrastrukturą służącą obsłudze pasażerów;\nc. dworce kolejowe, autobusowe lub inne obiekty obsługi podróżnych; \nd. infrastruktura drogowa (wraz z narzędziami cyfrowymi) wykorzystywana w transporcie publicznym, do obsługi obiektów „parkuj i jedź” lub jej elementy ukierunkowane na bezpieczeństwo niechronionych użytkowników dróg (w tym pieszych i rowerzystów).\n2. Budowa, rozbudowa i przebudowa liniowej infrastruktury transportu tramwajowego, trolejbusowego i autobusowego, w tym układów torowych na trasach, pętlach i bocznicach, trakcji i podstacji trakcyjnych tramwajowych i trolejbusowych, pętli autobusowych, wydzielonych pasów ruchu (buspasów), zatok przystankowych;\n3. Budowa, rozbudowa i przebudowa infrastruktury transportu rowerowego, pieszego i pieszo-rowerowego, a także rozwój systemów bike-sharingowych;\n4. Zakup zero i niskoemisyjnego taboru publicznego transportu zbiorowego, np. autobusów, tramwajów, trolejbusów oraz innych środków komunikacji; \n5. Rozwój infrastruktury ładowania i tankowania pojazdów zeroemisyjnych; \n6. Przedsięwzięcia służące cyfryzacji transportu miejskiego, poprawiające funkcjonowanie, konkurencyjność i bezpieczeństwo publicznego transportu zbiorowego, w szczególności utworzenie lub rozwój:\na. systemów zarządzania transportem zbiorowym (w tym systemów sterowania ruchem pojazdów transportu zbiorowego); \nb. systemów monitoringu transportu zbiorowego i przystanków (m.in. systemów monitorowania bezpieczeństwa pasażerów); \nc. systemów informacji dla pasażerów transportu zbiorowego; \nd. systemów organizacji przewozów, w tym elektronicznych systemów pobierania opłat (bilet elektroniczny); \ne. aplikacji do planowania podróży. \nUzupełniająco, w ramach typów projektów 1. – 3. możliwe będą również:\n- działania służące likwidacji barier architektonicznych, w szczególności w oparciu o projektowanie uniwersalne lub zastosowanie racjonalnego usprawnienia oraz uwzględniające potrzeby osób z niepełnosprawnościami;\n- działania sprzyjające adaptacji do zmian klimatu, w szczególności poprzez zastosowanie błękitno-zielonej infrastruktury.\nPonadto, w ramach typów projektów 1. – 6. możliwe będą działania edukacyjne dotyczące zrównoważonej mobilności miejskiej - do 10% jego kosztów kwalifikowalnych.","Administracja publiczna","Jednostki Samorządu Terytorialnego","I kwartał 2025","2025-01-29","II kwartał 2025","2025-04-30",4493942.1399999997,0,"Obszar wskazany w Strategii ZIT dla Obszaru Metropolitalnego Gdańsk-Gdynia-Sopot.  ","Urząd Marszałkowski Województwa Pomorskiego\n(Departament Programów Regionalnych)","niekonkurencyjny","EFRR/FS.CP2.VIII",{"$f":"VLOOKUP(T54,Arkusz2!$G$2:$I$34,3,0)","v":"Wspieranie zrównoważonej multimodalnej mobilności miejskiej jako elementu transformacji w kierunku gospodarki zeroemisyjnej"},{"$f":"VLOOKUP(D54,Arkusz2!O46:P1183,2,0)","v":"EFRR"},"Kwota przewidziana do dofinanowania z Kart projektów wynikających z przedsięwzięć wskazanych w Strategi ZIT stanowiących załącznik do Porozumienia z dnia 27.02.2024 r. (Aneks nr 3 z dnia 28 listopada 2024 r.)"]
["FEPM","03","02","FEPM.03.02",{"$f":"VLOOKUP(D55,Arkusz2!$D$2:$E$1137,2,0)","v":"Mobilność miejska – ZIT na terenie obszaru metropolitalnego"},"ZIT","\"Poprawa mobilności miejskiej poprzez budowę dróg rowerowych w Rumi oraz budowę systemu monitorowania zajętości miejsc postojowych w obrębie węzła Integracyjnego Rumia Janowo\"\n\nWnioskodawca:\nGmina Miejska Rumia","1. Budowa, rozbudowa i przebudowa infrastruktury składającej się na węzeł integracyjny lub przystanek zintegrowany takiej jak:\na. punktowa infrastruktura transportu zbiorowego służąca powiązaniu jego różnych form: m.in. pętle autobusowe, tramwajowe, trolejbusowe;\nb. systemy parkingowe typu „parkuj i jedź” („park&ride”), „parkuj rower i jedź” („bike&ride”) oraz „podwieź i jedź” (kiss&ride”) wraz z towarzyszącą im infrastrukturą służącą obsłudze pasażerów;\nc. dworce kolejowe, autobusowe lub inne obiekty obsługi podróżnych; \nd. infrastruktura drogowa (wraz z narzędziami cyfrowymi) wykorzystywana w transporcie publicznym, do obsługi obiektów „parkuj i jedź” lub jej elementy ukierunkowane na bezpieczeństwo niechronionych użytkowników dróg (w tym pieszych i rowerzystów).\n2. Budowa, rozbudowa i przebudowa liniowej infrastruktury transportu tramwajowego, trolejbusowego i autobusowego, w tym układów torowych na trasach, pętlach i bocznicach, trakcji i podstacji trakcyjnych tramwajowych i trolejbusowych, pętli autobusowych, wydzielonych pasów ruchu (buspasów), zatok przystankowych;\n3. Budowa, rozbudowa i przebudowa infrastruktury transportu rowerowego, pieszego i pieszo-rowerowego, a także rozwój systemów bike-sharingowych;\n4. Zakup zero i niskoemisyjnego taboru publicznego transportu zbiorowego, np. autobusów, tramwajów, trolejbusów oraz innych środków komunikacji; \n5. Rozwój infrastruktury ładowania i tankowania pojazdów zeroemisyjnych; \n6. Przedsięwzięcia służące cyfryzacji transportu miejskiego, poprawiające funkcjonowanie, konkurencyjność i bezpieczeństwo publicznego transportu zbiorowego, w szczególności utworzenie lub rozwój:\na. systemów zarządzania transportem zbiorowym (w tym systemów sterowania ruchem pojazdów transportu zbiorowego); \nb. systemów monitoringu transportu zbiorowego i przystanków (m.in. systemów monitorowania bezpieczeństwa pasażerów); \nc. systemów informacji dla pasażerów transportu zbiorowego; \nd. systemów organizacji przewozów, w tym elektronicznych systemów pobierania opłat (bilet elektroniczny); \ne. aplikacji do planowania podróży. \nUzupełniająco, w ramach typów projektów 1. – 3. możliwe będą również:\n- działania służące likwidacji barier architektonicznych, w szczególności w oparciu o projektowanie uniwersalne lub zastosowanie racjonalnego usprawnienia oraz uwzględniające potrzeby osób z niepełnosprawnościami;\n- działania sprzyjające adaptacji do zmian klimatu, w szczególności poprzez zastosowanie błękitno-zielonej infrastruktury.\nPonadto, w ramach typów projektów 1. – 6. możliwe będą działania edukacyjne dotyczące zrównoważonej mobilności miejskiej - do 10% jego kosztów kwalifikowalnych.","Administracja publiczna","Jednostki Samorządu Terytorialnego","I kwartał 2026",null,"I kwartał 2026",null,1500000,0,"Obszar wskazany w Strategii ZIT dla Obszaru Metropolitalnego Gdańsk-Gdynia-Sopot.  ","Urząd Marszałkowski Województwa Pomorskiego\n(Departament Programów Regionalnych)","niekonkurencyjny","EFRR/FS.CP2.VIII",{"$f":"VLOOKUP(T55,Arkusz2!$G$2:$I$34,3,0)","v":"Wspieranie zrównoważonej multimodalnej mobilności miejskiej jako elementu transformacji w kierunku gospodarki zeroemisyjnej"},{"$f":"VLOOKUP(D55,Arkusz2!O47:P1184,2,0)","v":"EFRR"},"Kwota przewidziana do dofinanowania z Kart projektów wynikających z przedsięwzięć wskazanych w Strategi ZIT stanowiących załącznik do Porozumienia z dnia 27.02.2024 r. (Aneks nr 3 z dnia 28 listopada 2024 r.)"]
["FEPM","03","02","FEPM.03.02",{"$f":"VLOOKUP(D56,Arkusz2!$D$2:$E$1137,2,0)","v":"Mobilność miejska – ZIT na terenie obszaru metropolitalnego"},"ZIT"," \"Budowa węzła integracyjnego w Luzinie wraz z niezbędną infrastrukturą dla transportu zbiorowego, samochodowego, rowerowego i UTO\"\n\nWnioskodawca:\nGmina Luzino","1. Budowa, rozbudowa i przebudowa infrastruktury składającej się na węzeł integracyjny lub przystanek zintegrowany takiej jak:\na. punktowa infrastruktura transportu zbiorowego służąca powiązaniu jego różnych form: m.in. pętle autobusowe, tramwajowe, trolejbusowe;\nb. systemy parkingowe typu „parkuj i jedź” („park&ride”), „parkuj rower i jedź” („bike&ride”) oraz „podwieź i jedź” (kiss&ride”) wraz z towarzyszącą im infrastrukturą służącą obsłudze pasażerów;\nc. dworce kolejowe, autobusowe lub inne obiekty obsługi podróżnych; \nd. infrastruktura drogowa (wraz z narzędziami cyfrowymi) wykorzystywana w transporcie publicznym, do obsługi obiektów „parkuj i jedź” lub jej elementy ukierunkowane na bezpieczeństwo niechronionych użytkowników dróg (w tym pieszych i rowerzystów).\n2. Budowa, rozbudowa i przebudowa liniowej infrastruktury transportu tramwajowego, trolejbusowego i autobusowego, w tym układów torowych na trasach, pętlach i bocznicach, trakcji i podstacji trakcyjnych tramwajowych i trolejbusowych, pętli autobusowych, wydzielonych pasów ruchu (buspasów), zatok przystankowych;\n3. Budowa, rozbudowa i przebudowa infrastruktury transportu rowerowego, pieszego i pieszo-rowerowego, a także rozwój systemów bike-sharingowych;\n4. Zakup zero i niskoemisyjnego taboru publicznego transportu zbiorowego, np. autobusów, tramwajów, trolejbusów oraz innych środków komunikacji; \n5. Rozwój infrastruktury ładowania i tankowania pojazdów zeroemisyjnych; \n6. Przedsięwzięcia służące cyfryzacji transportu miejskiego, poprawiające funkcjonowanie, konkurencyjność i bezpieczeństwo publicznego transportu zbiorowego, w szczególności utworzenie lub rozwój:\na. systemów zarządzania transportem zbiorowym (w tym systemów sterowania ruchem pojazdów transportu zbiorowego); \nb. systemów monitoringu transportu zbiorowego i przystanków (m.in. systemów monitorowania bezpieczeństwa pasażerów); \nc. systemów informacji dla pasażerów transportu zbiorowego; \nd. systemów organizacji przewozów, w tym elektronicznych systemów pobierania opłat (bilet elektroniczny); \ne. aplikacji do planowania podróży. \nUzupełniająco, w ramach typów projektów 1. – 3. możliwe będą również:\n- działania służące likwidacji barier architektonicznych, w szczególności w oparciu o projektowanie uniwersalne lub zastosowanie racjonalnego usprawnienia oraz uwzględniające potrzeby osób z niepełnosprawnościami;\n- działania sprzyjające adaptacji do zmian klimatu, w szczególności poprzez zastosowanie błękitno-zielonej infrastruktury.\nPonadto, w ramach typów projektów 1. – 6. możliwe będą działania edukacyjne dotyczące zrównoważonej mobilności miejskiej - do 10% jego kosztów kwalifikowalnych.","Administracja publiczna","Jednostki Samorządu Terytorialnego","I kwartał 2026",null,"I kwartał 2026",null,10423535,0,"Obszar wskazany w Strategii ZIT dla Obszaru Metropolitalnego Gdańsk-Gdynia-Sopot.  ","Urząd Marszałkowski Województwa Pomorskiego\n(Departament Programów Regionalnych)","niekonkurencyjny","EFRR/FS.CP2.VIII",{"$f":"VLOOKUP(T56,Arkusz2!$G$2:$I$34,3,0)","v":"Wspieranie zrównoważonej multimodalnej mobilności miejskiej jako elementu transformacji w kierunku gospodarki zeroemisyjnej"},{"$f":"VLOOKUP(D56,Arkusz2!O48:P1185,2,0)","v":"EFRR"},"Kwota przewidziana do dofinanowania z Kart projektów wynikających z przedsięwzięć wskazanych w Strategi ZIT stanowiących załącznik do Porozumienia z dnia 27.02.2024 r. (Aneks nr 3 z dnia 28 listopada 2024 r.)"]
["FEPM","03","02","FEPM.03.02",{"$f":"VLOOKUP(D57,Arkusz2!$D$2:$E$1137,2,0)","v":"Mobilność miejska – ZIT na terenie obszaru metropolitalnego"},"ZIT","\"Budowa przystanku zintegrowanego SKM Wejherowo Nanice\"\n\nWnioskodawca:\nGmina Miasta Wejherowa","1. Budowa, rozbudowa i przebudowa infrastruktury składającej się na węzeł integracyjny lub przystanek zintegrowany takiej jak:\na. punktowa infrastruktura transportu zbiorowego służąca powiązaniu jego różnych form: m.in. pętle autobusowe, tramwajowe, trolejbusowe;\nb. systemy parkingowe typu „parkuj i jedź” („park&ride”), „parkuj rower i jedź” („bike&ride”) oraz „podwieź i jedź” (kiss&ride”) wraz z towarzyszącą im infrastrukturą służącą obsłudze pasażerów;\nc. dworce kolejowe, autobusowe lub inne obiekty obsługi podróżnych; \nd. infrastruktura drogowa (wraz z narzędziami cyfrowymi) wykorzystywana w transporcie publicznym, do obsługi obiektów „parkuj i jedź” lub jej elementy ukierunkowane na bezpieczeństwo niechronionych użytkowników dróg (w tym pieszych i rowerzystów).\n2. Budowa, rozbudowa i przebudowa liniowej infrastruktury transportu tramwajowego, trolejbusowego i autobusowego, w tym układów torowych na trasach, pętlach i bocznicach, trakcji i podstacji trakcyjnych tramwajowych i trolejbusowych, pętli autobusowych, wydzielonych pasów ruchu (buspasów), zatok przystankowych;\n3. Budowa, rozbudowa i przebudowa infrastruktury transportu rowerowego, pieszego i pieszo-rowerowego, a także rozwój systemów bike-sharingowych;\n4. Zakup zero i niskoemisyjnego taboru publicznego transportu zbiorowego, np. autobusów, tramwajów, trolejbusów oraz innych środków komunikacji; \n5. Rozwój infrastruktury ładowania i tankowania pojazdów zeroemisyjnych; \n6. Przedsięwzięcia służące cyfryzacji transportu miejskiego, poprawiające funkcjonowanie, konkurencyjność i bezpieczeństwo publicznego transportu zbiorowego, w szczególności utworzenie lub rozwój:\na. systemów zarządzania transportem zbiorowym (w tym systemów sterowania ruchem pojazdów transportu zbiorowego); \nb. systemów monitoringu transportu zbiorowego i przystanków (m.in. systemów monitorowania bezpieczeństwa pasażerów); \nc. systemów informacji dla pasażerów transportu zbiorowego; \nd. systemów organizacji przewozów, w tym elektronicznych systemów pobierania opłat (bilet elektroniczny); \ne. aplikacji do planowania podróży. \nUzupełniająco, w ramach typów projektów 1. – 3. możliwe będą również:\n- działania służące likwidacji barier architektonicznych, w szczególności w oparciu o projektowanie uniwersalne lub zastosowanie racjonalnego usprawnienia oraz uwzględniające potrzeby osób z niepełnosprawnościami;\n- działania sprzyjające adaptacji do zmian klimatu, w szczególności poprzez zastosowanie błękitno-zielonej infrastruktury.\nPonadto, w ramach typów projektów 1. – 6. możliwe będą działania edukacyjne dotyczące zrównoważonej mobilności miejskiej - do 10% jego kosztów kwalifikowalnych.","Administracja publiczna","Jednostki Samorządu Terytorialnego","III kwartał 2026",null,"III kwartał 2026",null,4288459,0,"Obszar wskazany w Strategii ZIT dla Obszaru Metropolitalnego Gdańsk-Gdynia-Sopot.  ","Urząd Marszałkowski Województwa Pomorskiego\n(Departament Programów Regionalnych)","niekonkurencyjny","EFRR/FS.CP2.VIII",{"$f":"VLOOKUP(T57,Arkusz2!$G$2:$I$34,3,0)","v":"Wspieranie zrównoważonej multimodalnej mobilności miejskiej jako elementu transformacji w kierunku gospodarki zeroemisyjnej"},{"$f":"VLOOKUP(D57,Arkusz2!O49:P1186,2,0)","v":"EFRR"},"Kwota przewidziana do dofinanowania z Kart projektów wynikających z przedsięwzięć wskazanych w Strategi ZIT stanowiących załącznik do Porozumienia z dnia 27.02.2024 r. (Aneks nr 3 z dnia 28 listopada 2024 r.)"]
["FEPM","03","02","FEPM.03.02",{"$f":"VLOOKUP(D58,Arkusz2!$D$2:$E$1137,2,0)","v":"Mobilność miejska – ZIT na terenie obszaru metropolitalnego"},"ZIT","\"Rozbudowa regionalnego węzła integracyjnego Gdańsk Wrzeszcz\"\n\nWnioskodawca:\nGmina Miasta Gdańska","1. Budowa, rozbudowa i przebudowa infrastruktury składającej się na węzeł integracyjny lub przystanek zintegrowany takiej jak:\na. punktowa infrastruktura transportu zbiorowego służąca powiązaniu jego różnych form: m.in. pętle autobusowe, tramwajowe, trolejbusowe;\nb. systemy parkingowe typu „parkuj i jedź” („park&ride”), „parkuj rower i jedź” („bike&ride”) oraz „podwieź i jedź” (kiss&ride”) wraz z towarzyszącą im infrastrukturą służącą obsłudze pasażerów;\nc. dworce kolejowe, autobusowe lub inne obiekty obsługi podróżnych; \nd. infrastruktura drogowa (wraz z narzędziami cyfrowymi) wykorzystywana w transporcie publicznym, do obsługi obiektów „parkuj i jedź” lub jej elementy ukierunkowane na bezpieczeństwo niechronionych użytkowników dróg (w tym pieszych i rowerzystów).\n2. Budowa, rozbudowa i przebudowa liniowej infrastruktury transportu tramwajowego, trolejbusowego i autobusowego, w tym układów torowych na trasach, pętlach i bocznicach, trakcji i podstacji trakcyjnych tramwajowych i trolejbusowych, pętli autobusowych, wydzielonych pasów ruchu (buspasów), zatok przystankowych;\n3. Budowa, rozbudowa i przebudowa infrastruktury transportu rowerowego, pieszego i pieszo-rowerowego, a także rozwój systemów bike-sharingowych;\n4. Zakup zero i niskoemisyjnego taboru publicznego transportu zbiorowego, np. autobusów, tramwajów, trolejbusów oraz innych środków komunikacji; \n5. Rozwój infrastruktury ładowania i tankowania pojazdów zeroemisyjnych; \n6. Przedsięwzięcia służące cyfryzacji transportu miejskiego, poprawiające funkcjonowanie, konkurencyjność i bezpieczeństwo publicznego transportu zbiorowego, w szczególności utworzenie lub rozwój:\na. systemów zarządzania transportem zbiorowym (w tym systemów sterowania ruchem pojazdów transportu zbiorowego); \nb. systemów monitoringu transportu zbiorowego i przystanków (m.in. systemów monitorowania bezpieczeństwa pasażerów); \nc. systemów informacji dla pasażerów transportu zbiorowego; \nd. systemów organizacji przewozów, w tym elektronicznych systemów pobierania opłat (bilet elektroniczny); \ne. aplikacji do planowania podróży. \nUzupełniająco, w ramach typów projektów 1. – 3. możliwe będą również:\n- działania służące likwidacji barier architektonicznych, w szczególności w oparciu o projektowanie uniwersalne lub zastosowanie racjonalnego usprawnienia oraz uwzględniające potrzeby osób z niepełnosprawnościami;\n- działania sprzyjające adaptacji do zmian klimatu, w szczególności poprzez zastosowanie błękitno-zielonej infrastruktury.\nPonadto, w ramach typów projektów 1. – 6. możliwe będą działania edukacyjne dotyczące zrównoważonej mobilności miejskiej - do 10% jego kosztów kwalifikowalnych.","Administracja publiczna","Jednostki Samorządu Terytorialnego","III kwartał 2026",null,"III kwartał 2026",null,35508627,0,"Obszar wskazany w Strategii ZIT dla Obszaru Metropolitalnego Gdańsk-Gdynia-Sopot.  ","Urząd Marszałkowski Województwa Pomorskiego\n(Departament Programów Regionalnych)","niekonkurencyjny","EFRR/FS.CP2.VIII",{"$f":"VLOOKUP(T58,Arkusz2!$G$2:$I$34,3,0)","v":"Wspieranie zrównoważonej multimodalnej mobilności miejskiej jako elementu transformacji w kierunku gospodarki zeroemisyjnej"},{"$f":"VLOOKUP(D58,Arkusz2!O50:P1187,2,0)","v":"EFRR"},"Kwota przewidziana do dofinanowania z Kart projektów wynikających z przedsięwzięć wskazanych w Strategi ZIT stanowiących załącznik do Porozumienia z dnia 27.02.2024 r. (Aneks nr 4 z dnia 21 stycznia 2025 r.)"]
["FEPM","03","03","FEPM.03.03",{"$f":"VLOOKUP(D59,Arkusz2!$D$2:$E$1137,2,0)","v":"Mobilność miejska – ZIT poza terenem obszaru metropolitalnego"},"ZIT","\"Promowanie zrównoważonej indywidualnej mobilności miejskiej poprzez rozwój sieci dróg rowerowych w Mieście Słupsku\"\n\nWnioskodawca:\nMiasto Słupsk","1. Budowa, rozbudowa i przebudowa infrastruktury składającej się na węzeł integracyjny lub przystanek zintegrowany takiej jak:\na. punktowa infrastruktura transportu zbiorowego służąca powiązaniu jego różnych form: m.in. pętle autobusowe;\nb. systemy parkingowe typu „parkuj i jedź” („park&ride”), „parkuj rower i jedź” („bike&ride”) oraz „podwieź i jedź” (kiss&ride”) wraz z towarzyszącą im infrastrukturą służącą obsłudze pasażerów;\nc. dworce kolejowe, autobusowe lub inne obiekty obsługi podróżnych; \nd. infrastruktura drogowa (wraz z narzędziami cyfrowymi) wykorzystywana w transporcie publicznym, do obsługi obiektów „parkuj i jedź” lub jej elementy ukierunkowane na bezpieczeństwo niechronionych użytkowników dróg (w tym pieszych i rowerzystów);\n2. Budowa, rozbudowa i przebudowa liniowej infrastruktury transportu autobusowego, w tym pętli, wydzielonych pasów ruchu (buspasów), zatok przystankowych;\n3. Budowa, rozbudowa i przebudowa infrastruktury transportu rowerowego, pieszego i pieszo-rowerowego, a także rozwój systemów bike-sharingowych;\n4. Zakup zero i niskoemisyjnego taboru publicznego transportu zbiorowego np. autobusów; \n5. Rozwój infrastruktury ładowania i tankowania pojazdów zeroemisyjnych; \n6. Przedsięwzięcia służące cyfryzacji transportu miejskiego, poprawiające funkcjonowanie, konkurencyjność i bezpieczeństwo publicznego transportu zbiorowego, w szczególności utworzenie lub rozwój:\na. systemów zarządzania transportem zbiorowym (w tym systemów sterowania ruchem pojazdów transportu zbiorowego); \nb. systemów monitoringu transportu zbiorowego i przystanków (m.in. systemów monitorowania bezpieczeństwa pasażerów); \nc. systemów informacji dla pasażerów transportu zbiorowego; \nd. systemów organizacji przewozów, w tym elektronicznych systemów pobierania opłat (bilet elektroniczny); \ne. aplikacji do planowania podróży. \nUzupełniająco, w ramach typów projektów 1. – 3. możliwe będą również:\n- działania służące likwidacji barier architektonicznych, w szczególności w oparciu o projektowanie uniwersalne lub zastosowanie racjonalnego usprawnienia oraz uwzględniające potrzeby osób z niepełnosprawnościami;\n- działania sprzyjające adaptacji do zmian klimatu, w szczególności poprzez zastosowanie błękitno-zielonej infrastruktury.\nPonadto, w ramach typów projektów 1. – 6. możliwe będą działania edukacyjne dotyczące zrównoważonej mobilności miejskiej - do 10% jego kosztów kwalifikowalnych.","Administracja publiczna","Jednostki Samorządu Terytorialnego","I kwartał 2025","2025-01-29","II kwartał 2025","2025-04-30",3185652.15,0,"Obszary wskazane w Strategiach ZIT dla Miejskich Obszarów Funkcjonalnych: Bytowa, Chojnic-Człuchowa, Kościerzyny, Kwidzyna, Lęborka, Malborka-Sztumu, Słupska-Ustki i Starogardu Gdańskiego.","Urząd Marszałkowski Województwa Pomorskiego\n(Departament Programów Regionalnych)","niekonkurencyjny","EFRR/FS.CP2.VIII",{"$f":"VLOOKUP(T59,Arkusz2!$G$2:$I$34,3,0)","v":"Wspieranie zrównoważonej multimodalnej mobilności miejskiej jako elementu transformacji w kierunku gospodarki zeroemisyjnej"},{"$f":"VLOOKUP(D59,Arkusz2!O51:P1188,2,0)","v":"EFRR"},"Kwota przewidziana na dofinansowanie wynika z przeliczenia kwoty z Porozumienia wg kursu Europejskiego Banku Centralnego z przedostatniego dnia kwotowania Komisji Europejskiej w miesiącu poprzedzającym miesiąc, w którym dokonuje się wyliczenia wartości alokacji zgodnie z Kontraktem Programowym (4,3100 z 28 listopada 2024 r.)."]
["FEPM","03","03","FEPM.03.03",{"$f":"VLOOKUP(D60,Arkusz2!$D$2:$E$1137,2,0)","v":"Mobilność miejska – ZIT poza terenem obszaru metropolitalnego"},"ZIT","\"Wzrost atrakcyjności komunikacji zbiorowej na terenie M. Słupska poprzez poprawę infrastruktury  przystankowej i zapewnienie priorytetów dla transportu zbiorowego\"\n\nWnioskodawca:\nMiasto Słupsk","1. Budowa, rozbudowa i przebudowa infrastruktury składającej się na węzeł integracyjny lub przystanek zintegrowany takiej jak:\na. punktowa infrastruktura transportu zbiorowego służąca powiązaniu jego różnych form: m.in. pętle autobusowe;\nb. systemy parkingowe typu „parkuj i jedź” („park&ride”), „parkuj rower i jedź” („bike&ride”) oraz „podwieź i jedź” (kiss&ride”) wraz z towarzyszącą im infrastrukturą służącą obsłudze pasażerów;\nc. dworce kolejowe, autobusowe lub inne obiekty obsługi podróżnych; \nd. infrastruktura drogowa (wraz z narzędziami cyfrowymi) wykorzystywana w transporcie publicznym, do obsługi obiektów „parkuj i jedź” lub jej elementy ukierunkowane na bezpieczeństwo niechronionych użytkowników dróg (w tym pieszych i rowerzystów);\n2. Budowa, rozbudowa i przebudowa liniowej infrastruktury transportu autobusowego, w tym pętli, wydzielonych pasów ruchu (buspasów), zatok przystankowych;\n3. Budowa, rozbudowa i przebudowa infrastruktury transportu rowerowego, pieszego i pieszo-rowerowego, a także rozwój systemów bike-sharingowych;\n4. Zakup zero i niskoemisyjnego taboru publicznego transportu zbiorowego np. autobusów; \n5. Rozwój infrastruktury ładowania i tankowania pojazdów zeroemisyjnych; \n6. Przedsięwzięcia służące cyfryzacji transportu miejskiego, poprawiające funkcjonowanie, konkurencyjność i bezpieczeństwo publicznego transportu zbiorowego, w szczególności utworzenie lub rozwój:\na. systemów zarządzania transportem zbiorowym (w tym systemów sterowania ruchem pojazdów transportu zbiorowego); \nb. systemów monitoringu transportu zbiorowego i przystanków (m.in. systemów monitorowania bezpieczeństwa pasażerów); \nc. systemów informacji dla pasażerów transportu zbiorowego; \nd. systemów organizacji przewozów, w tym elektronicznych systemów pobierania opłat (bilet elektroniczny); \ne. aplikacji do planowania podróży. \nUzupełniająco, w ramach typów projektów 1. – 3. możliwe będą również:\n- działania służące likwidacji barier architektonicznych, w szczególności w oparciu o projektowanie uniwersalne lub zastosowanie racjonalnego usprawnienia oraz uwzględniające potrzeby osób z niepełnosprawnościami;\n- działania sprzyjające adaptacji do zmian klimatu, w szczególności poprzez zastosowanie błękitno-zielonej infrastruktury.\nPonadto, w ramach typów projektów 1. – 6. możliwe będą działania edukacyjne dotyczące zrównoważonej mobilności miejskiej - do 10% jego kosztów kwalifikowalnych.","Administracja publiczna","Jednostki Samorządu Terytorialnego","I kwartał 2025","2025-01-29","II kwartał 2025","2025-04-30",4825939.33,0,"Obszary wskazane w Strategiach ZIT dla Miejskich Obszarów Funkcjonalnych: Bytowa, Chojnic-Człuchowa, Kościerzyny, Kwidzyna, Lęborka, Malborka-Sztumu, Słupska-Ustki i Starogardu Gdańskiego.","Urząd Marszałkowski Województwa Pomorskiego\n(Departament Programów Regionalnych)","niekonkurencyjny","EFRR/FS.CP2.VIII",{"$f":"VLOOKUP(T60,Arkusz2!$G$2:$I$34,3,0)","v":"Wspieranie zrównoważonej multimodalnej mobilności miejskiej jako elementu transformacji w kierunku gospodarki zeroemisyjnej"},{"$f":"VLOOKUP(D60,Arkusz2!O52:P1189,2,0)","v":"EFRR"},"Kwota przewidziana na dofinansowanie wynika z przeliczenia kwoty z Porozumienia wg kursu Europejskiego Banku Centralnego z przedostatniego dnia kwotowania Komisji Europejskiej w miesiącu poprzedzającym miesiąc, w którym dokonuje się wyliczenia wartości alokacji zgodnie z Kontraktem Programowym (4,3100 z 28 listopada 2024 r.)."]
["FEPM","03","03",{"$f":"_xlfn.CONCAT(A61,\".\",B61,\".\",C61)","v":"FEPM.03.03"},{"$f":"VLOOKUP(D61,Arkusz2!$D$2:$E$1137,2,0)","v":"Mobilność miejska – ZIT poza terenem obszaru metropolitalnego"},"ZIT"," \"Wzrost atrakcyjności komunikacji zbiorowej na terenie M. Słupska poprzez zakup autobusów zeroemisyjnych wraz z infrastrukturą towarzyszącą\"\n\nWnioskodawca:\nMZK Sp. z o.o. w Słupsku","1. Budowa, rozbudowa i przebudowa infrastruktury składającej się na węzeł integracyjny lub przystanek zintegrowany takiej jak:\na. punktowa infrastruktura transportu zbiorowego służąca powiązaniu jego różnych form: m.in. pętle autobusowe;\nb. systemy parkingowe typu „parkuj i jedź” („park&ride”), „parkuj rower i jedź” („bike&ride”) oraz „podwieź i jedź” (kiss&ride”) wraz z towarzyszącą im infrastrukturą służącą obsłudze pasażerów;\nc. dworce kolejowe, autobusowe lub inne obiekty obsługi podróżnych; \nd. infrastruktura drogowa (wraz z narzędziami cyfrowymi) wykorzystywana w transporcie publicznym, do obsługi obiektów „parkuj i jedź” lub jej elementy ukierunkowane na bezpieczeństwo niechronionych użytkowników dróg (w tym pieszych i rowerzystów);\n2. Budowa, rozbudowa i przebudowa liniowej infrastruktury transportu autobusowego, w tym pętli, wydzielonych pasów ruchu (buspasów), zatok przystankowych;\n3. Budowa, rozbudowa i przebudowa infrastruktury transportu rowerowego, pieszego i pieszo-rowerowego, a także rozwój systemów bike-sharingowych;\n4. Zakup zero i niskoemisyjnego taboru publicznego transportu zbiorowego np. autobusów; \n5. Rozwój infrastruktury ładowania i tankowania pojazdów zeroemisyjnych; \n6. Przedsięwzięcia służące cyfryzacji transportu miejskiego, poprawiające funkcjonowanie, konkurencyjność i bezpieczeństwo publicznego transportu zbiorowego, w szczególności utworzenie lub rozwój:\na. systemów zarządzania transportem zbiorowym (w tym systemów sterowania ruchem pojazdów transportu zbiorowego); \nb. systemów monitoringu transportu zbiorowego i przystanków (m.in. systemów monitorowania bezpieczeństwa pasażerów); \nc. systemów informacji dla pasażerów transportu zbiorowego; \nd. systemów organizacji przewozów, w tym elektronicznych systemów pobierania opłat (bilet elektroniczny); \ne. aplikacji do planowania podróży. \nUzupełniająco, w ramach typów projektów 1. – 3. możliwe będą również:\n- działania służące likwidacji barier architektonicznych, w szczególności w oparciu o projektowanie uniwersalne lub zastosowanie racjonalnego usprawnienia oraz uwzględniające potrzeby osób z niepełnosprawnościami;\n- działania sprzyjające adaptacji do zmian klimatu, w szczególności poprzez zastosowanie błękitno-zielonej infrastruktury.\nPonadto, w ramach typów projektów 1. – 6. możliwe będą działania edukacyjne dotyczące zrównoważonej mobilności miejskiej - do 10% jego kosztów kwalifikowalnych.","Przedsiębiorstwa realizujące cele publiczne","Organizatorzy i operatorzy publicznego transportu zbiorowego","I kwartał 2025","2025-01-29","II kwartał 2025","2025-04-30",31458315.199999999,0,"Obszary wskazane w Strategiach ZIT dla Miejskich Obszarów Funkcjonalnych: Bytowa, Chojnic-Człuchowa, Kościerzyny, Kwidzyna, Lęborka, Malborka-Sztumu, Słupska-Ustki i Starogardu Gdańskiego.","Urząd Marszałkowski Województwa Pomorskiego\n(Departament Programów Regionalnych)","niekonkurencyjny","EFRR/FS.CP2.VIII",{"$f":"VLOOKUP(T61,Arkusz2!$G$2:$I$34,3,0)","v":"Wspieranie zrównoważonej multimodalnej mobilności miejskiej jako elementu transformacji w kierunku gospodarki zeroemisyjnej"},{"$f":"VLOOKUP(D61,Arkusz2!O53:P1190,2,0)","v":"EFRR"},"Kwota przewidziana na dofinansowanie wynika z przeliczenia kwoty z Porozumienia wg kursu Europejskiego Banku Centralnego z przedostatniego dnia kwotowania Komisji Europejskiej w miesiącu poprzedzającym miesiąc, w którym dokonuje się wyliczenia wartości alokacji zgodnie z Kontraktem Programowym (4,3100 z 28 listopada 2024 r.)."]
["FEPM","03","03","FEPM.03.03",{"$f":"VLOOKUP(D62,Arkusz2!$D$2:$E$1137,2,0)","v":"Mobilność miejska – ZIT poza terenem obszaru metropolitalnego"},"ZIT","\"Budowa dróg pieszo-rowerowych na odcinkach Kokoszkowy-Siwiałka oraz Jabłowo-Dąbrówka\"\n\nWnioskodawca:\nGmina Starogard Gdański","1. Budowa, rozbudowa i przebudowa infrastruktury składającej się na węzeł integracyjny lub przystanek zintegrowany takiej jak:\na. punktowa infrastruktura transportu zbiorowego służąca powiązaniu jego różnych form: m.in. pętle autobusowe;\nb. systemy parkingowe typu „parkuj i jedź” („park&ride”), „parkuj rower i jedź” („bike&ride”) oraz „podwieź i jedź” (kiss&ride”) wraz z towarzyszącą im infrastrukturą służącą obsłudze pasażerów;\nc. dworce kolejowe, autobusowe lub inne obiekty obsługi podróżnych; \nd. infrastruktura drogowa (wraz z narzędziami cyfrowymi) wykorzystywana w transporcie publicznym, do obsługi obiektów „parkuj i jedź” lub jej elementy ukierunkowane na bezpieczeństwo niechronionych użytkowników dróg (w tym pieszych i rowerzystów);\n2. Budowa, rozbudowa i przebudowa liniowej infrastruktury transportu autobusowego, w tym pętli, wydzielonych pasów ruchu (buspasów), zatok przystankowych;\n3. Budowa, rozbudowa i przebudowa infrastruktury transportu rowerowego, pieszego i pieszo-rowerowego, a także rozwój systemów bike-sharingowych;\n4. Zakup zero i niskoemisyjnego taboru publicznego transportu zbiorowego np. autobusów; \n5. Rozwój infrastruktury ładowania i tankowania pojazdów zeroemisyjnych; \n6. Przedsięwzięcia służące cyfryzacji transportu miejskiego, poprawiające funkcjonowanie, konkurencyjność i bezpieczeństwo publicznego transportu zbiorowego, w szczególności utworzenie lub rozwój:\na. systemów zarządzania transportem zbiorowym (w tym systemów sterowania ruchem pojazdów transportu zbiorowego); \nb. systemów monitoringu transportu zbiorowego i przystanków (m.in. systemów monitorowania bezpieczeństwa pasażerów); \nc. systemów informacji dla pasażerów transportu zbiorowego; \nd. systemów organizacji przewozów, w tym elektronicznych systemów pobierania opłat (bilet elektroniczny); \ne. aplikacji do planowania podróży. \nUzupełniająco, w ramach typów projektów 1. – 3. możliwe będą również:\n- działania służące likwidacji barier architektonicznych, w szczególności w oparciu o projektowanie uniwersalne lub zastosowanie racjonalnego usprawnienia oraz uwzględniające potrzeby osób z niepełnosprawnościami;\n- działania sprzyjające adaptacji do zmian klimatu, w szczególności poprzez zastosowanie błękitno-zielonej infrastruktury.\nPonadto, w ramach typów projektów 1. – 6. możliwe będą działania edukacyjne dotyczące zrównoważonej mobilności miejskiej - do 10% jego kosztów kwalifikowalnych.","Administracja publiczna","Jednostki Samorządu Terytorialnego","I kwartał 2025","2025-01-30","II kwartał 2025","2025-04-30",12862097.85,0,"Obszary wskazane w Strategiach ZIT dla Miejskich Obszarów Funkcjonalnych: Bytowa, Chojnic-Człuchowa, Kościerzyny, Kwidzyna, Lęborka, Malborka-Sztumu, Słupska-Ustki i Starogardu Gdańskiego.","Urząd Marszałkowski Województwa Pomorskiego\n(Departament Programów Regionalnych)","niekonkurencyjny","EFRR/FS.CP2.VIII",{"$f":"VLOOKUP(T62,Arkusz2!$G$2:$I$34,3,0)","v":"Wspieranie zrównoważonej multimodalnej mobilności miejskiej jako elementu transformacji w kierunku gospodarki zeroemisyjnej"},{"$f":"VLOOKUP(D62,Arkusz2!O54:P1191,2,0)","v":"EFRR"},"Kwota przewidziana na dofinansowanie wynika z przeliczenia kwoty z Porozumienia wg kursu Europejskiego Banku Centralnego z przedostatniego dnia kwotowania Komisji Europejskiej w miesiącu poprzedzającym miesiąc, w którym dokonuje się wyliczenia wartości alokacji zgodnie z Kontraktem Programowym (4,3100 z 28 listopada 2024 r.)."]
["FEPM","03","03","FEPM.03.03",{"$f":"VLOOKUP(D63,Arkusz2!$D$2:$E$1137,2,0)","v":"Mobilność miejska – ZIT poza terenem obszaru metropolitalnego"},"ZIT","\"Utworzenie węzła integracyjnego przy zmodernizowanej stacji kolejowej PKP w Sztumie\"\n\nWnioskodawca:\nMiasto i Gmina Sztum","1. Budowa, rozbudowa i przebudowa infrastruktury składającej się na węzeł integracyjny lub przystanek zintegrowany takiej jak:\na. punktowa infrastruktura transportu zbiorowego służąca powiązaniu jego różnych form: m.in. pętle autobusowe;\nb. systemy parkingowe typu „parkuj i jedź” („park&ride”), „parkuj rower i jedź” („bike&ride”) oraz „podwieź i jedź” (kiss&ride”) wraz z towarzyszącą im infrastrukturą służącą obsłudze pasażerów;\nc. dworce kolejowe, autobusowe lub inne obiekty obsługi podróżnych; \nd. infrastruktura drogowa (wraz z narzędziami cyfrowymi) wykorzystywana w transporcie publicznym, do obsługi obiektów „parkuj i jedź” lub jej elementy ukierunkowane na bezpieczeństwo niechronionych użytkowników dróg (w tym pieszych i rowerzystów);\n2. Budowa, rozbudowa i przebudowa liniowej infrastruktury transportu autobusowego, w tym pętli, wydzielonych pasów ruchu (buspasów), zatok przystankowych;\n3. Budowa, rozbudowa i przebudowa infrastruktury transportu rowerowego, pieszego i pieszo-rowerowego, a także rozwój systemów bike-sharingowych;\n4. Zakup zero i niskoemisyjnego taboru publicznego transportu zbiorowego np. autobusów; \n5. Rozwój infrastruktury ładowania i tankowania pojazdów zeroemisyjnych; \n6. Przedsięwzięcia służące cyfryzacji transportu miejskiego, poprawiające funkcjonowanie, konkurencyjność i bezpieczeństwo publicznego transportu zbiorowego, w szczególności utworzenie lub rozwój:\na. systemów zarządzania transportem zbiorowym (w tym systemów sterowania ruchem pojazdów transportu zbiorowego); \nb. systemów monitoringu transportu zbiorowego i przystanków (m.in. systemów monitorowania bezpieczeństwa pasażerów); \nc. systemów informacji dla pasażerów transportu zbiorowego; \nd. systemów organizacji przewozów, w tym elektronicznych systemów pobierania opłat (bilet elektroniczny); \ne. aplikacji do planowania podróży. \nUzupełniająco, w ramach typów projektów 1. – 3. możliwe będą również:\n- działania służące likwidacji barier architektonicznych, w szczególności w oparciu o projektowanie uniwersalne lub zastosowanie racjonalnego usprawnienia oraz uwzględniające potrzeby osób z niepełnosprawnościami;\n- działania sprzyjające adaptacji do zmian klimatu, w szczególności poprzez zastosowanie błękitno-zielonej infrastruktury.\nPonadto, w ramach typów projektów 1. – 6. możliwe będą działania edukacyjne dotyczące zrównoważonej mobilności miejskiej - do 10% jego kosztów kwalifikowalnych.","Administracja publiczna","Jednostki Samorządu Terytorialnego","I kwartał 2025","2025-01-29","II kwartał 2025","2025-04-30",10441024.65,0,"Obszary wskazane w Strategiach ZIT dla Miejskich Obszarów Funkcjonalnych: Bytowa, Chojnic-Człuchowa, Kościerzyny, Kwidzyna, Lęborka, Malborka-Sztumu, Słupska-Ustki i Starogardu Gdańskiego.","Urząd Marszałkowski Województwa Pomorskiego\n(Departament Programów Regionalnych)","niekonkurencyjny","EFRR/FS.CP2.VIII",{"$f":"VLOOKUP(T63,Arkusz2!$G$2:$I$34,3,0)","v":"Wspieranie zrównoważonej multimodalnej mobilności miejskiej jako elementu transformacji w kierunku gospodarki zeroemisyjnej"},{"$f":"VLOOKUP(D63,Arkusz2!O55:P1192,2,0)","v":"EFRR"},"Kwota przewidziana na dofinansowanie wynika z przeliczenia kwoty z Porozumienia wg kursu Europejskiego Banku Centralnego z przedostatniego dnia kwotowania Komisji Europejskiej w miesiącu poprzedzającym miesiąc, w którym dokonuje się wyliczenia wartości alokacji zgodnie z Kontraktem Programowym (4,3100 z 28 listopada 2024 r.)."]
["FEPM","03","03","FEPM.03.03",{"$f":"VLOOKUP(D64,Arkusz2!$D$2:$E$1137,2,0)","v":"Mobilność miejska – ZIT poza terenem obszaru metropolitalnego"},"ZIT","\"Elektryfikacja komunikacji miejskiej w Malborku\"\n\nWnioskodawca:\nMiejski Zakład Komunikacji w Malborku sp. z o.o.","1. Budowa, rozbudowa i przebudowa infrastruktury składającej się na węzeł integracyjny lub przystanek zintegrowany takiej jak:\na. punktowa infrastruktura transportu zbiorowego służąca powiązaniu jego różnych form: m.in. pętle autobusowe;\nb. systemy parkingowe typu „parkuj i jedź” („park&ride”), „parkuj rower i jedź” („bike&ride”) oraz „podwieź i jedź” (kiss&ride”) wraz z towarzyszącą im infrastrukturą służącą obsłudze pasażerów;\nc. dworce kolejowe, autobusowe lub inne obiekty obsługi podróżnych; \nd. infrastruktura drogowa (wraz z narzędziami cyfrowymi) wykorzystywana w transporcie publicznym, do obsługi obiektów „parkuj i jedź” lub jej elementy ukierunkowane na bezpieczeństwo niechronionych użytkowników dróg (w tym pieszych i rowerzystów);\n2. Budowa, rozbudowa i przebudowa liniowej infrastruktury transportu autobusowego, w tym pętli, wydzielonych pasów ruchu (buspasów), zatok przystankowych;\n3. Budowa, rozbudowa i przebudowa infrastruktury transportu rowerowego, pieszego i pieszo-rowerowego, a także rozwój systemów bike-sharingowych;\n4. Zakup zero i niskoemisyjnego taboru publicznego transportu zbiorowego np. autobusów; \n5. Rozwój infrastruktury ładowania i tankowania pojazdów zeroemisyjnych; \n6. Przedsięwzięcia służące cyfryzacji transportu miejskiego, poprawiające funkcjonowanie, konkurencyjność i bezpieczeństwo publicznego transportu zbiorowego, w szczególności utworzenie lub rozwój:\na. systemów zarządzania transportem zbiorowym (w tym systemów sterowania ruchem pojazdów transportu zbiorowego); \nb. systemów monitoringu transportu zbiorowego i przystanków (m.in. systemów monitorowania bezpieczeństwa pasażerów); \nc. systemów informacji dla pasażerów transportu zbiorowego; \nd. systemów organizacji przewozów, w tym elektronicznych systemów pobierania opłat (bilet elektroniczny); \ne. aplikacji do planowania podróży. \nUzupełniająco, w ramach typów projektów 1. – 3. możliwe będą również:\n- działania służące likwidacji barier architektonicznych, w szczególności w oparciu o projektowanie uniwersalne lub zastosowanie racjonalnego usprawnienia oraz uwzględniające potrzeby osób z niepełnosprawnościami;\n- działania sprzyjające adaptacji do zmian klimatu, w szczególności poprzez zastosowanie błękitno-zielonej infrastruktury.\nPonadto, w ramach typów projektów 1. – 6. możliwe będą działania edukacyjne dotyczące zrównoważonej mobilności miejskiej - do 10% jego kosztów kwalifikowalnych.","Przedsiębiorstwa realizujące cele publiczne","Organizatorzy i operatorzy publicznego transportu zbiorowego","I kwartał 2025","2025-01-29","II kwartał 2025","2025-04-30",8730441.7200000007,0,"Obszary wskazane w Strategiach ZIT dla Miejskich Obszarów Funkcjonalnych: Bytowa, Chojnic-Człuchowa, Kościerzyny, Kwidzyna, Lęborka, Malborka-Sztumu, Słupska-Ustki i Starogardu Gdańskiego.","Urząd Marszałkowski Województwa Pomorskiego\n(Departament Programów Regionalnych)","niekonkurencyjny","EFRR/FS.CP2.VIII",{"$f":"VLOOKUP(T64,Arkusz2!$G$2:$I$34,3,0)","v":"Wspieranie zrównoważonej multimodalnej mobilności miejskiej jako elementu transformacji w kierunku gospodarki zeroemisyjnej"},{"$f":"VLOOKUP(D64,Arkusz2!O56:P1193,2,0)","v":"EFRR"},"Kwota przewidziana na dofinansowanie wynika z przeliczenia kwoty z Porozumienia wg kursu Europejskiego Banku Centralnego z przedostatniego dnia kwotowania Komisji Europejskiej w miesiącu poprzedzającym miesiąc, w którym dokonuje się wyliczenia wartości alokacji zgodnie z Kontraktem Programowym (4,3100 z 28 listopada 2024 r.)."]
["FEPM","03","03","FEPM.03.03",{"$f":"VLOOKUP(D65,Arkusz2!$D$2:$E$1137,2,0)","v":"Mobilność miejska – ZIT poza terenem obszaru metropolitalnego"},"ZIT","\"Budowa dróg dla pieszych i rowerów na terenie miasta Malborka\"\n\nWnioskodawca:\nMiasto Malbork","1. Budowa, rozbudowa i przebudowa infrastruktury składającej się na węzeł integracyjny lub przystanek zintegrowany takiej jak:\na. punktowa infrastruktura transportu zbiorowego służąca powiązaniu jego różnych form: m.in. pętle autobusowe;\nb. systemy parkingowe typu „parkuj i jedź” („park&ride”), „parkuj rower i jedź” („bike&ride”) oraz „podwieź i jedź” (kiss&ride”) wraz z towarzyszącą im infrastrukturą służącą obsłudze pasażerów;\nc. dworce kolejowe, autobusowe lub inne obiekty obsługi podróżnych; \nd. infrastruktura drogowa (wraz z narzędziami cyfrowymi) wykorzystywana w transporcie publicznym, do obsługi obiektów „parkuj i jedź” lub jej elementy ukierunkowane na bezpieczeństwo niechronionych użytkowników dróg (w tym pieszych i rowerzystów);\n2. Budowa, rozbudowa i przebudowa liniowej infrastruktury transportu autobusowego, w tym pętli, wydzielonych pasów ruchu (buspasów), zatok przystankowych;\n3. Budowa, rozbudowa i przebudowa infrastruktury transportu rowerowego, pieszego i pieszo-rowerowego, a także rozwój systemów bike-sharingowych;\n4. Zakup zero i niskoemisyjnego taboru publicznego transportu zbiorowego np. autobusów; \n5. Rozwój infrastruktury ładowania i tankowania pojazdów zeroemisyjnych; \n6. Przedsięwzięcia służące cyfryzacji transportu miejskiego, poprawiające funkcjonowanie, konkurencyjność i bezpieczeństwo publicznego transportu zbiorowego, w szczególności utworzenie lub rozwój:\na. systemów zarządzania transportem zbiorowym (w tym systemów sterowania ruchem pojazdów transportu zbiorowego); \nb. systemów monitoringu transportu zbiorowego i przystanków (m.in. systemów monitorowania bezpieczeństwa pasażerów); \nc. systemów informacji dla pasażerów transportu zbiorowego; \nd. systemów organizacji przewozów, w tym elektronicznych systemów pobierania opłat (bilet elektroniczny); \ne. aplikacji do planowania podróży. \nUzupełniająco, w ramach typów projektów 1. – 3. możliwe będą również:\n- działania służące likwidacji barier architektonicznych, w szczególności w oparciu o projektowanie uniwersalne lub zastosowanie racjonalnego usprawnienia oraz uwzględniające potrzeby osób z niepełnosprawnościami;\n- działania sprzyjające adaptacji do zmian klimatu, w szczególności poprzez zastosowanie błękitno-zielonej infrastruktury.\nPonadto, w ramach typów projektów 1. – 6. możliwe będą działania edukacyjne dotyczące zrównoważonej mobilności miejskiej - do 10% jego kosztów kwalifikowalnych.","Administracja publiczna","Jednostki Samorządu Terytorialnego","I kwartał 2025","2025-01-29","II kwartał 2025","2025-04-30",2891149.94,0,"Obszary wskazane w Strategiach ZIT dla Miejskich Obszarów Funkcjonalnych: Bytowa, Chojnic-Człuchowa, Kościerzyny, Kwidzyna, Lęborka, Malborka-Sztumu, Słupska-Ustki i Starogardu Gdańskiego.","Urząd Marszałkowski Województwa Pomorskiego\n(Departament Programów Regionalnych)","niekonkurencyjny","EFRR/FS.CP2.VIII",{"$f":"VLOOKUP(T65,Arkusz2!$G$2:$I$34,3,0)","v":"Wspieranie zrównoważonej multimodalnej mobilności miejskiej jako elementu transformacji w kierunku gospodarki zeroemisyjnej"},{"$f":"VLOOKUP(D65,Arkusz2!O57:P1194,2,0)","v":"EFRR"},"Kwota przewidziana na dofinansowanie wynika z przeliczenia kwoty z Porozumienia wg kursu Europejskiego Banku Centralnego z przedostatniego dnia kwotowania Komisji Europejskiej w miesiącu poprzedzającym miesiąc, w którym dokonuje się wyliczenia wartości alokacji zgodnie z Kontraktem Programowym (4,3100 z 28 listopada 2024 r.)."]
["FEPM","03","03","FEPM.03.03",{"$f":"VLOOKUP(D66,Arkusz2!$D$2:$E$1137,2,0)","v":"Mobilność miejska – ZIT poza terenem obszaru metropolitalnego"},"ZIT","\"Budowa ciągu pieszo-rowerowego w miejscowości Grobelno\"\n\nWnioskodawca:\nGmina Malbork","1. Budowa, rozbudowa i przebudowa infrastruktury składającej się na węzeł integracyjny lub przystanek zintegrowany takiej jak:\na. punktowa infrastruktura transportu zbiorowego służąca powiązaniu jego różnych form: m.in. pętle autobusowe;\nb. systemy parkingowe typu „parkuj i jedź” („park&ride”), „parkuj rower i jedź” („bike&ride”) oraz „podwieź i jedź” (kiss&ride”) wraz z towarzyszącą im infrastrukturą służącą obsłudze pasażerów;\nc. dworce kolejowe, autobusowe lub inne obiekty obsługi podróżnych; \nd. infrastruktura drogowa (wraz z narzędziami cyfrowymi) wykorzystywana w transporcie publicznym, do obsługi obiektów „parkuj i jedź” lub jej elementy ukierunkowane na bezpieczeństwo niechronionych użytkowników dróg (w tym pieszych i rowerzystów);\n2. Budowa, rozbudowa i przebudowa liniowej infrastruktury transportu autobusowego, w tym pętli, wydzielonych pasów ruchu (buspasów), zatok przystankowych;\n3. Budowa, rozbudowa i przebudowa infrastruktury transportu rowerowego, pieszego i pieszo-rowerowego, a także rozwój systemów bike-sharingowych;\n4. Zakup zero i niskoemisyjnego taboru publicznego transportu zbiorowego np. autobusów; \n5. Rozwój infrastruktury ładowania i tankowania pojazdów zeroemisyjnych; \n6. Przedsięwzięcia służące cyfryzacji transportu miejskiego, poprawiające funkcjonowanie, konkurencyjność i bezpieczeństwo publicznego transportu zbiorowego, w szczególności utworzenie lub rozwój:\na. systemów zarządzania transportem zbiorowym (w tym systemów sterowania ruchem pojazdów transportu zbiorowego); \nb. systemów monitoringu transportu zbiorowego i przystanków (m.in. systemów monitorowania bezpieczeństwa pasażerów); \nc. systemów informacji dla pasażerów transportu zbiorowego; \nd. systemów organizacji przewozów, w tym elektronicznych systemów pobierania opłat (bilet elektroniczny); \ne. aplikacji do planowania podróży. \nUzupełniająco, w ramach typów projektów 1. – 3. możliwe będą również:\n- działania służące likwidacji barier architektonicznych, w szczególności w oparciu o projektowanie uniwersalne lub zastosowanie racjonalnego usprawnienia oraz uwzględniające potrzeby osób z niepełnosprawnościami;\n- działania sprzyjające adaptacji do zmian klimatu, w szczególności poprzez zastosowanie błękitno-zielonej infrastruktury.\nPonadto, w ramach typów projektów 1. – 6. możliwe będą działania edukacyjne dotyczące zrównoważonej mobilności miejskiej - do 10% jego kosztów kwalifikowalnych.","Administracja publiczna","Jednostki Samorządu Terytorialnego","I kwartał 2025","2025-01-29","II kwartał 2025","2025-04-30",2563121.31,0,"Obszary wskazane w Strategiach ZIT dla Miejskich Obszarów Funkcjonalnych: Bytowa, Chojnic-Człuchowa, Kościerzyny, Kwidzyna, Lęborka, Malborka-Sztumu, Słupska-Ustki i Starogardu Gdańskiego.","Urząd Marszałkowski Województwa Pomorskiego\n(Departament Programów Regionalnych)","niekonkurencyjny","EFRR/FS.CP2.VIII",{"$f":"VLOOKUP(T66,Arkusz2!$G$2:$I$34,3,0)","v":"Wspieranie zrównoważonej multimodalnej mobilności miejskiej jako elementu transformacji w kierunku gospodarki zeroemisyjnej"},{"$f":"VLOOKUP(D66,Arkusz2!O58:P1195,2,0)","v":"EFRR"},"Kwota przewidziana na dofinansowanie wynika z przeliczenia kwoty z Porozumienia wg kursu Europejskiego Banku Centralnego z przedostatniego dnia kwotowania Komisji Europejskiej w miesiącu poprzedzającym miesiąc, w którym dokonuje się wyliczenia wartości alokacji zgodnie z Kontraktem Programowym (4,3100 z 28 listopada 2024 r.)."]
["FEPM","03","03","FEPM.03.03",{"$f":"VLOOKUP(D67,Arkusz2!$D$2:$E$1137,2,0)","v":"Mobilność miejska – ZIT poza terenem obszaru metropolitalnego"},"ZIT","\"Budowa drogi rowerowej na odcinku od DK22 wzdłuż DW214 do Dworca PKP w Zblewie\"\n\nWnioskodawca:\nGmina Zblewo","1. Budowa, rozbudowa i przebudowa infrastruktury składającej się na węzeł integracyjny lub przystanek zintegrowany takiej jak:\na. punktowa infrastruktura transportu zbiorowego służąca powiązaniu jego różnych form: m.in. pętle autobusowe;\nb. systemy parkingowe typu „parkuj i jedź” („park&ride”), „parkuj rower i jedź” („bike&ride”) oraz „podwieź i jedź” (kiss&ride”) wraz z towarzyszącą im infrastrukturą służącą obsłudze pasażerów;\nc. dworce kolejowe, autobusowe lub inne obiekty obsługi podróżnych; \nd. infrastruktura drogowa (wraz z narzędziami cyfrowymi) wykorzystywana w transporcie publicznym, do obsługi obiektów „parkuj i jedź” lub jej elementy ukierunkowane na bezpieczeństwo niechronionych użytkowników dróg (w tym pieszych i rowerzystów);\n2. Budowa, rozbudowa i przebudowa liniowej infrastruktury transportu autobusowego, w tym pętli, wydzielonych pasów ruchu (buspasów), zatok przystankowych;\n3. Budowa, rozbudowa i przebudowa infrastruktury transportu rowerowego, pieszego i pieszo-rowerowego, a także rozwój systemów bike-sharingowych;\n4. Zakup zero i niskoemisyjnego taboru publicznego transportu zbiorowego np. autobusów; \n5. Rozwój infrastruktury ładowania i tankowania pojazdów zeroemisyjnych; \n6. Przedsięwzięcia służące cyfryzacji transportu miejskiego, poprawiające funkcjonowanie, konkurencyjność i bezpieczeństwo publicznego transportu zbiorowego, w szczególności utworzenie lub rozwój:\na. systemów zarządzania transportem zbiorowym (w tym systemów sterowania ruchem pojazdów transportu zbiorowego); \nb. systemów monitoringu transportu zbiorowego i przystanków (m.in. systemów monitorowania bezpieczeństwa pasażerów); \nc. systemów informacji dla pasażerów transportu zbiorowego; \nd. systemów organizacji przewozów, w tym elektronicznych systemów pobierania opłat (bilet elektroniczny); \ne. aplikacji do planowania podróży. \nUzupełniająco, w ramach typów projektów 1. – 3. możliwe będą również:\n- działania służące likwidacji barier architektonicznych, w szczególności w oparciu o projektowanie uniwersalne lub zastosowanie racjonalnego usprawnienia oraz uwzględniające potrzeby osób z niepełnosprawnościami;\n- działania sprzyjające adaptacji do zmian klimatu, w szczególności poprzez zastosowanie błękitno-zielonej infrastruktury.\nPonadto, w ramach typów projektów 1. – 6. możliwe będą działania edukacyjne dotyczące zrównoważonej mobilności miejskiej - do 10% jego kosztów kwalifikowalnych.","Administracja publiczna","Jednostki Samorządu Terytorialnego","I kwartał 2026",null,"I kwartał 2026",null,5724990.3099999996,0,"Obszary wskazane w Strategiach ZIT dla Miejskich Obszarów Funkcjonalnych: Bytowa, Chojnic-Człuchowa, Kościerzyny, Kwidzyna, Lęborka, Malborka-Sztumu, Słupska-Ustki i Starogardu Gdańskiego.","Urząd Marszałkowski Województwa Pomorskiego\n(Departament Programów Regionalnych)","niekonkurencyjny","EFRR/FS.CP2.VIII",{"$f":"VLOOKUP(T67,Arkusz2!$G$2:$I$34,3,0)","v":"Wspieranie zrównoważonej multimodalnej mobilności miejskiej jako elementu transformacji w kierunku gospodarki zeroemisyjnej"},{"$f":"VLOOKUP(D67,Arkusz2!O59:P1196,2,0)","v":"EFRR"},"Kwota przewidziana na dofinansowanie wynika z przeliczenia kwoty z Porozumienia wg kursu Europejskiego Banku Centralnego z przedostatniego dnia kwotowania Komisji Europejskiej w miesiącu poprzedzającym miesiąc, w którym dokonuje się wyliczenia wartości alokacji zgodnie z Kontraktem Programowym (4,1308 z 27 lutego 2025 r.).\n\nKwota przewidziana na dofinansowanie będzie każdorazowo aktualizowana przy zmianie Harmonogramu w oparciu o bieżący kurs."]
["FEPM","03","03","FEPM.03.03",{"$f":"VLOOKUP(D68,Arkusz2!$D$2:$E$1137,2,0)","v":"Mobilność miejska – ZIT poza terenem obszaru metropolitalnego"},"ZIT"," \"Poprawa dostępu do transportowego węzła integracyjnego w Ustce\"\n\nWnioskodawca:\nGmina Miasto Ustka","1. Budowa, rozbudowa i przebudowa infrastruktury składającej się na węzeł integracyjny lub przystanek zintegrowany takiej jak:\na. punktowa infrastruktura transportu zbiorowego służąca powiązaniu jego różnych form: m.in. pętle autobusowe;\nb. systemy parkingowe typu „parkuj i jedź” („park&ride”), „parkuj rower i jedź” („bike&ride”) oraz „podwieź i jedź” (kiss&ride”) wraz z towarzyszącą im infrastrukturą służącą obsłudze pasażerów;\nc. dworce kolejowe, autobusowe lub inne obiekty obsługi podróżnych; \nd. infrastruktura drogowa (wraz z narzędziami cyfrowymi) wykorzystywana w transporcie publicznym, do obsługi obiektów „parkuj i jedź” lub jej elementy ukierunkowane na bezpieczeństwo niechronionych użytkowników dróg (w tym pieszych i rowerzystów);\n2. Budowa, rozbudowa i przebudowa liniowej infrastruktury transportu autobusowego, w tym pętli, wydzielonych pasów ruchu (buspasów), zatok przystankowych;\n3. Budowa, rozbudowa i przebudowa infrastruktury transportu rowerowego, pieszego i pieszo-rowerowego, a także rozwój systemów bike-sharingowych;\n4. Zakup zero i niskoemisyjnego taboru publicznego transportu zbiorowego np. autobusów; \n5. Rozwój infrastruktury ładowania i tankowania pojazdów zeroemisyjnych; \n6. Przedsięwzięcia służące cyfryzacji transportu miejskiego, poprawiające funkcjonowanie, konkurencyjność i bezpieczeństwo publicznego transportu zbiorowego, w szczególności utworzenie lub rozwój:\na. systemów zarządzania transportem zbiorowym (w tym systemów sterowania ruchem pojazdów transportu zbiorowego); \nb. systemów monitoringu transportu zbiorowego i przystanków (m.in. systemów monitorowania bezpieczeństwa pasażerów); \nc. systemów informacji dla pasażerów transportu zbiorowego; \nd. systemów organizacji przewozów, w tym elektronicznych systemów pobierania opłat (bilet elektroniczny); \ne. aplikacji do planowania podróży. \nUzupełniająco, w ramach typów projektów 1. – 3. możliwe będą również:\n- działania służące likwidacji barier architektonicznych, w szczególności w oparciu o projektowanie uniwersalne lub zastosowanie racjonalnego usprawnienia oraz uwzględniające potrzeby osób z niepełnosprawnościami;\n- działania sprzyjające adaptacji do zmian klimatu, w szczególności poprzez zastosowanie błękitno-zielonej infrastruktury.\nPonadto, w ramach typów projektów 1. – 6. możliwe będą działania edukacyjne dotyczące zrównoważonej mobilności miejskiej - do 10% jego kosztów kwalifikowalnych.","Administracja publiczna","Jednostki Samorządu Terytorialnego","III kwartał 2026",null,"III kwartał 2026",null,4884122.22,0,"Obszary wskazane w Strategiach ZIT dla Miejskich Obszarów Funkcjonalnych: Bytowa, Chojnic-Człuchowa, Kościerzyny, Kwidzyna, Lęborka, Malborka-Sztumu, Słupska-Ustki i Starogardu Gdańskiego.","Urząd Marszałkowski Województwa Pomorskiego\n(Departament Programów Regionalnych)","niekonkurencyjny","EFRR/FS.CP2.VIII",{"$f":"VLOOKUP(T68,Arkusz2!$G$2:$I$34,3,0)","v":"Wspieranie zrównoważonej multimodalnej mobilności miejskiej jako elementu transformacji w kierunku gospodarki zeroemisyjnej"},{"$f":"VLOOKUP(D68,Arkusz2!O60:P1197,2,0)","v":"EFRR"},"Kwota przewidziana na dofinansowanie wynika z przeliczenia kwoty z Porozumienia wg kursu Europejskiego Banku Centralnego z przedostatniego dnia kwotowania Komisji Europejskiej w miesiącu poprzedzającym miesiąc, w którym dokonuje się wyliczenia wartości alokacji zgodnie z Kontraktem Programowym (4,1308 z 27 lutego 2025 r.).\n\nKwota przewidziana na dofinansowanie będzie każdorazowo aktualizowana przy zmianie Harmonogramu w oparciu o bieżący kurs."]
["FEPM","05","05","FEPM.05.05",{"$f":"VLOOKUP(D69,[1]Arkusz2!$D$2:$E$1137,2,0)","v":"Aktywne i zdrowe starzenie się"},"Nie dotyczy",null,"Działania z zakresu kompleksowej rehabilitacji leczniczej, ułatwiającej powroty do pracy lub utrzymanie zatrudnienia, dedykowane zarówno osobom bezrobotnym, jak i aktywnym zawodowo.","Administracja publiczna, Instytucje nauki i edukacji, Instytucje ochrony zdrowia, Instytucje wspierające biznes, Organizacje społeczne i związki wyznaniowe, Partnerzy społeczni, Przedsiębiorstwa, Przedsiębiorstwa realizujące cele publiczne, Służby publiczne",null,"I kwartał 2025","2025-03-21","II kwartał 2025","2025-05-06",17495152.940000001,971952.94,"całe województwo","Urząd Marszałkowski Województwa Pomorskiego (Departament Europejskiego Funduszu Społecznego)","konkurencyjny","EFS+.CP4.D",{"$f":"VLOOKUP(T69,[1]Arkusz2!$G$2:$I$34,3,0)","v":"Wspieranie dostosowania pracowników, przedsiębiorstw i przedsiębiorców do zmian, wspieranie aktywnego i zdrowego starzenia się oraz zdrowego i dobrze dostosowanego środowiska pracy, które uwzględnia zagrożenia dla zdrowia"},{"$f":"VLOOKUP(D69,[1]Arkusz2!O65:P1202,2,0)","v":"EFS+"},"Ogłoszenie naboru - 20.03.2025 r.\n\nKwota alokacji w PLN przeliczona wg kursu Europejskiego Banku Centralnego z przedostatniego dnia kwotowania Komisji Europejskiej w miesiącu poprzedzającym miesiąc, w którym dokonuje się wyliczenia wartości alokacji zgodnie z Kontraktem Programowym (4,1308 z 27 lutego 2025 r.)"]
["FEPM","05","06","FEPM.05.06",{"$f":"VLOOKUP(D70,Arkusz2!$D$2:$E$1137,2,0)","v":"Adaptacyjność pracowników i pracodawców"},"Nie dotyczy",null,"Wspieranie procesów dostosowania organizacji pracy do potrzeb pracodawców i ich pracowników, a także do nowych wyzwań rozwojowych i cywilizacyjnych, w tym związanych z obszarem zielonej gospodarki oraz gospodarki o obiegu zamkniętym m.in. poprzez:\na. wprowadzanie elastycznych form zatrudnienia; \nb. wprowadzanie pracy zdalnej; \nc. dostosowanie środowiska pracy do potrzeb kobiet, osób starszych, osób z problemami zdrowotnymi, osób z niepełnosprawnościami, służące ich aktywizacji oraz wydłużeniu aktywności zawodowej.","Administracja publiczna, Instytucje nauki i edukacji, Administracja publiczna, Instytucje nauki i edukacji, Instytucje ochrony zdrowia, Instytucje wspierające biznes, Organizacje społeczne i związki wyznaniowe, Partnerzy społeczni, Przedsiębiorstwa, Przedsiębiorstwa realizujące cele publiczne, Służby publiczne, Administracja publiczna, Instytucje nauki i edukacji, Administracja publiczna, Instytucje nauki i edukacji, Instytucje ochrony zdrowia, Instytucje wspierające biznes, Organizacje społeczne i związki wyznaniowe, Partnerzy społeczni, Przedsiębiorstwa, Przedsiębiorstwa realizujące cele publiczne, Służby publiczne",null,"II kwartał 2025","2025-05-16","II kwartał 2025","2025-06-27",13150782.550000001,0,"całe województwo","Urząd Marszałkowski Województwa Pomorskiego (Departament Europejskiego Funduszu Społecznego)","konkurencyjny","EFS+.CP4.D","Wspieranie dostosowania pracowników, przedsiębiorstw i przedsiębiorców do zmian, wspieranie aktywnego i zdrowego starzenia się oraz zdrowego i dobrze dostosowanego środowiska pracy, które uwzględnia zagrożenia dla zdrowia","EFS+","Ogłoszenie naboru - 15.05.2025 r.\n\nKwota alokacji w PLN przeliczona wg kursu Europejskiego Banku Centralnego z przedostatniego dnia kwotowania Komisji Europejskiej w miesiącu poprzedzającym miesiąc, w którym dokonuje się wyliczenia wartości alokacji zgodnie z Kontraktem Programowym (4,1308 z 27 lutego 2025 r.)"]
["FEPM","05","07","FEPM.05.07",{"$f":"VLOOKUP(D71,Arkusz2!$D$2:$E$1137,2,0)","v":"Edukacja przedszkolna"},"Nie dotyczy",null,"1. Zajęcia wspierające rozwój kompetencji kluczowych dzieci (w tym dzieci z doświadczeniem migracji), jak np. zajęcia prowadzone przez specjalistów (psychologia, logopedia, diagnozowanie, integracja sensoryczna itp.).\n2. Podniesienie kompetencji nauczycieli w ramach doskonalenia zawodowego w zakresie kształtowania kompetencji kluczowych dzieci, przygotowania ich do samodzielnego uczenia się, realizacji zindywidualizowanego wsparcia dziecka, a także prowadzenia zajęć stymulujących rozwój psychiczny i fizyczny dzieci.\n3. Wspieranie tworzenia nowych miejsc wychowania przedszkolnego.\nUzupełniająco realizowane będą również:\n4. Działania ukierunkowane na wprowadzanie rozwiązań organizacyjnych i metodycznych wpływających na efektywność kształtowania kompetencji kluczowych.\n5. Budowanie tożsamości regionalnej.\n6. Podnoszenie kompetencji w zakresie świadomości i ekspresji kulturalnej.","Osoby fizyczne, Przedsiębiorstwa, Przedsiębiorstwa realizujące cele publiczne, Instytucje wspierające biznes, Instytucje ochrony zdrowia, Administracja publiczna, Służby publiczne, Organizacje społeczne i związki wyznaniowe, Partnerzy społeczni, Instytucje nauki i edukacji",null,"IV kwartał 2025",null,"IV kwartał 2025",null,56859247.060000002,3158847.06,"całe województwo","Urząd Marszałkowski Województwa Pomorskiego (Departament Europejskiego Funduszu Społecznego)","konkurencyjny","EFS+.CP4.F",{"$f":"VLOOKUP(T71,[1]Arkusz2!$G$2:$I$34,3,0)","v":"Wspieranie równego dostępu do dobrej jakości, włączającego kształcenia i szkolenia oraz możliwości ich ukończenia, w szczególności w odniesieniu do grup w niekorzystnej sytuacji, od wczesnej edukacji i opieki nad dzieckiem przez ogólne i zawodowe kształcenie i szkolenie, po szkolnictwo wyższe, a także kształcenie i uczenie się dorosłych, w tym ułatwianie mobilności edukacyjnej dla wszystkich i dostępności dla osób z niepełnosprawnościami"},{"$f":"VLOOKUP(D71,[1]Arkusz2!O66:P1203,2,0)","v":"EFS+"},"Ogłoszenie naboru - IV kwartał 2025 r. pod warunkiem zatwierdzenia zmian Kryteriów wybory projektów dla Działania 5.7. Edukacja przedszkolna w ramach FEP 2021-2027 w zakresie projektów dotyczących edukacji przedszkolnej.\n\nKwota alokacji w PLN przeliczona wg kursu Europejskiego Banku Centralnego z przedostatniego dnia kwotowania Komisji Europejskiej w miesiącu poprzedzającym miesiąc, w którym dokonuje się wyliczenia wartości alokacji zgodnie z Kontraktem Programowym (4,1308 z 27 lutego 2025 r.)."]
["FEPM","05","09","FEPM.05.09",{"$f":"VLOOKUP(D72,[1]Arkusz2!$D$2:$E$1137,2,0)","v":"Kształcenie ustawiczne"},"Nie dotyczy","Nabór wniosków o dofinansowanie projektów dla Działania 5.9. FEP 2021-2027 - w zakresie podnoszenia kompetencji kadr kultury.","Podnoszenie kompetencji kadr kultury i turystyki w zakresie prowadzenia działalności kulturalnej i turystycznej, nawiązywania współpracy i partnerstw ponadinstytucjonalnych, efektywnego udostępniania potencjalnym odbiorcom produktów kultury adekwatnych do ich potrzeb oraz rozwoju społecznych funkcji kultury i turystyki wpływających na wzrost wiedzy oraz zmianę zachowań i postaw w obszarze kultury i tożsamości regionalnej.","Administracja publiczna, Instytucje nauki i edukacji, Instytucje ochrony zdrowia, Instytucje wspierające biznes, Organizacje społeczne i związki wyznaniowe, Partnerzy społeczni, Przedsiębiorstwa, Przedsiębiorstwa realizujące cele publiczne, Służby publiczne",null,"II kwartał 2025","2025-05-23","III kwartał 2025","2025-07-16",18467105.879999999,1943905.88,"całe województwo","Urząd Marszałkowski Województwa Pomorskiego (Departament Europejskiego Funduszu Społecznego)","konkurencyjny","EFS+.CP4.G",{"$f":"VLOOKUP(T72,[1]Arkusz2!$G$2:$I$34,3,0)","v":"Wspieranie uczenia się przez całe życie, w szczególności elastycznych możliwości podnoszenia i zmiany kwalifikacji dla wszystkich, z uwzględnieniem umiejętności w zakresie przedsiębiorczości i kompetencji cyfrowych, lepsze przewidywanie zmian i zapotrzebowania na nowe umiejętności na podstawie potrzeb rynku pracy, ułatwianie zmian ścieżki kariery zawodowej i wspieranie mobilności zawodowej"},{"$f":"VLOOKUP(D72,[1]Arkusz2!O68:P1205,2,0)","v":"EFS+"},"Ogłoszenie naboru - 22.05.2025 r.\n\nKwota alokacji w PLN przeliczona wg kursu Europejskiego Banku Centralnego z przedostatniego dnia kwotowania Komisji Europejskiej w miesiącu poprzedzającym miesiąc, w którym dokonuje się wyliczenia wartości alokacji zgodnie z Kontraktem Programowym (4,1308 z 27 lutego 2025 r.)."]
["FEPM","05","09","FEPM.05.09",{"$f":"VLOOKUP(D73,[1]Arkusz2!$D$2:$E$1137,2,0)","v":"Kształcenie ustawiczne"},"Nie dotyczy","Nabór wniosków o dofinansowanie projektów dla Działania 5.9. FEP 2021-2027 - w zakresie podnoszenia kompetencji kadr turystyki.","Podnoszenie kompetencji kadr kultury i turystyki w zakresie prowadzenia działalności kulturalnej i turystycznej, nawiązywania współpracy i partnerstw ponadinstytucjonalnych, efektywnego udostępniania potencjalnym odbiorcom produktów kultury adekwatnych do ich potrzeb oraz rozwoju społecznych funkcji kultury i turystyki wpływających na wzrost wiedzy oraz zmianę zachowań i postaw w obszarze kultury i tożsamości regionalnej.","Administracja publiczna, Instytucje nauki i edukacji, Instytucje ochrony zdrowia, Instytucje wspierające biznes, Organizacje społeczne i związki wyznaniowe, Partnerzy społeczni, Przedsiębiorstwa, Przedsiębiorstwa realizujące cele publiczne, Służby publiczne",null,"II kwartał 2025","2025-05-23","III kwartał 2025","2025-07-16",18467105.879999999,1943905.88,"całe województwo","Urząd Marszałkowski Województwa Pomorskiego (Departament Europejskiego Funduszu Społecznego)","konkurencyjny","EFS+.CP4.G",{"$f":"VLOOKUP(T73,[1]Arkusz2!$G$2:$I$34,3,0)","v":"Wspieranie uczenia się przez całe życie, w szczególności elastycznych możliwości podnoszenia i zmiany kwalifikacji dla wszystkich, z uwzględnieniem umiejętności w zakresie przedsiębiorczości i kompetencji cyfrowych, lepsze przewidywanie zmian i zapotrzebowania na nowe umiejętności na podstawie potrzeb rynku pracy, ułatwianie zmian ścieżki kariery zawodowej i wspieranie mobilności zawodowej"},{"$f":"VLOOKUP(D73,[1]Arkusz2!O69:P1206,2,0)","v":"EFS+"},"Ogłoszenie naboru - 22.05.2025 r.\n\nKwota alokacji w PLN przeliczona wg kursu Europejskiego Banku Centralnego z przedostatniego dnia kwotowania Komisji Europejskiej w miesiącu poprzedzającym miesiąc, w którym dokonuje się wyliczenia wartości alokacji zgodnie z Kontraktem Programowym (4,1308 z 27 lutego 2025 r.)."]
["FEPM","05","14","FEPM.05.14",{"$f":"VLOOKUP(D74,Arkusz2!$D$2:$E$1137,2,0)","v":"Integracja migrantów"},"Nie dotyczy",null,"Kompleksowe działania na rzecz integracji społecznej i zawodowej oraz wykształcenia obywateli państw trzecich, w tym migrantów, realizowane przez JST na podstawie diagnozy potrzeb, wykorzystujące w pierwszej kolejności ogólnie dostępne instrumenty włączenia i aktywizacji społecznej, zawodowej, edukacyjnej, kulturalnej i zdrowotnej, w szczególności:\na. wspieranie migrantów oraz pracodawców w procesie integracji cudzoziemców na rynku pracy;\nb. integracja społeczna i kulturalna migrantów; \nc. działania wspomagające edukację dzieci i młodzieży z doświadczeniem migracyjnym;\nd. pomoc psychologiczna, prawna, bytowa, zdrowotna i tłumaczeniowa dla migrantów doświadczających wykluczenia;\ne. usługi dla cudzoziemców, które pozwolą im na lepsze funkcjonowanie w polskim społeczeństwie, m.in. kursy języka polskiego, szkolenia z zakresu wartości i kultury polskiej, szkolenia zawodowe, dostarczanie praktycznych informacji dotyczących różnych aspektów życia w Polsce.","Administracja publiczna",null,"I kwartał 2025","2025-02-14","I kwartał 2025","2025-03-27",26298818.379999999,2768296.67,"całe województwo","Urząd Marszałkowski Województwa Pomorskiego (Departament Europejskiego Funduszu Społecznego)","konkurencyjny","EFS+.CP4.I",{"$f":"VLOOKUP(T74,[1]Arkusz2!$G$2:$I$34,3,0)","v":"Wspieranie integracji społeczno-gospodarczej obywateli państw trzecich, w tym migrantów"},{"$f":"VLOOKUP(D74,[1]Arkusz2!O70:P1207,2,0)","v":"EFS+"},"Ogłoszenie naboru - 13.02.2025 r.\n\nKwota alokacji w PLN przeliczona wg kursu Europejskiego Banku Centralnego obowiązującego w dniu ogłoszenia naboru (4,2063 z 30 stycznia 2025 r.).\n\nJednostki samorządu terytorialnego tworzące Związki ZIT, oraz ich jednostki organizacyjne oraz jednostki samorządu terytorialnego mające status Obserwatora, które są uprawnione na mocy odpowiednich porozumień w sprawie realizacji instrumentu Zintegrowane Inwestycje Terytorialne w ramach programu Fundusze Europejskie dla Pomorza 2021-2027, do realizacji projektów w ramach Działania 5.15. Integracja migrantów – ZIT na terenie obszaru metropolitalnego oraz Działania 5.16. Integracja migrantów – ZIT poza terenem obszaru metropolitalnego, są wykluczone z ubiegania się o wsparcie w ramach Działania 5.14. Integracja migrantów."]
["FEPM","05","17",{"$f":"_xlfn.CONCAT(A75,\".\",B75,\".\",C75)","v":"FEPM.05.17"},{"$f":"VLOOKUP(D75,[1]Arkusz2!$D$2:$E$1137,2,0)","v":"Usługi społeczne i zdrowotne"},"Nie dotyczy","Nabór wniosków o dofinansowanie projektów zintegrowanych - wynikających z przedsięwzięcia strategicznego pn. Zintegrowany rozwój infrastruktury i usług społecznych w województwie pomorskim – mających bezpośrednie powiązanie i nadrzędny charakter w stosunku do interwencji prowadzonej w ramach Działania 6.3. Infrastruktura społeczna.","Realizacja kompleksowych usług społecznych w nowo utworzonych mieszkaniach treningowych i wspomaganych.","Administracja publiczna, Instytucje nauki i edukacji, Instytucje ochrony zdrowia, Instytucje wspierające biznes, Organizacje społeczne i związki wyznaniowe, Partnerzy społeczni, Przedsiębiorstwa, Przedsiębiorstwa realizujące cele publiczne, Służby publiczne",null,"II kwartał 2025","2025-04-30","II kwartał 2025","2025-06-04",23083882.350000001,2429882.35,"województwo pomorskie z wyłączeniem obszarów uprawnionych do wsparcia w ramach Działania 5.18. Usługi społeczne i zdrowotne – ZIT na terenie obszaru metropolitalnego","Urząd Marszałkowski Województwa Pomorskiego (Departament Europejskiego Funduszu Społecznego)","konkurencyjny","EFS+.CP4.K",{"$f":"VLOOKUP(T75,[1]Arkusz2!$G$2:$I$34,3,0)","v":"Zwiększanie równego i szybkiego dostępu do dobrej jakości, trwałych i przystępnych cenowo usług, w tym usług, które wspierają dostęp do mieszkań oraz opieki skoncentrowanej na osobie, w tym opieki zdrowotnej; modernizacja systemów ochrony socjalnej, w tym wspieranie dostępu do ochrony socjalnej, ze szczególnym uwzględnieniem dzieci i grup w niekorzystnej sytuacji; poprawa dostępności, w tym dla osób z niepełnosprawnościami, skuteczności i odporności systemów ochrony zdrowia i usług opieki długoterminowej"},{"$f":"VLOOKUP(D75,[1]Arkusz2!O73:P1210,2,0)","v":"EFS+"},"Ogłoszenie naboru - 24.04.2025 r.\n\nKwota alokacji w PLN przeliczona wg kursu Europejskiego Banku Centralnego z przedostatniego dnia kwotowania Komisji Europejskiej w miesiącu poprzedzającym miesiąc, w którym dokonuje się wyliczenia wartości alokacji zgodnie z Kontraktem Programowym (4,1308 z 27 lutego 2025 r.).\n\nZe wsparcia wykluczone są projekty dla których Wnioskodawcą/Partnerem są jednostki samorządu terytorialnego (jst) które mają status Obserwatora w ZIT lub ich jednostki organizacyjne, jeżeli podmioty te wskazane zostały w „Porozumieniu w sprawie realizacji instrumentu Zintegrowane Inwestycje Terytorialne” jako uprawnione do wsparcia w Działaniu 5.18. Usługi społeczne i zdrowotne – ZIT na terenie obszaru metropolitalnego.\n"]
["FEPM","05","18","FEPM.05.18",{"$f":"VLOOKUP(D76,[1]Arkusz2!$D$2:$E$1137,2,0)","v":"Usługi społeczne i zdrowotne – ZIT na terenie obszaru metropolitalnego"},"ZIT","Nabór wniosku o dofinansowanie projektu  dla Działania 5.18. Usługi społeczne i zdrowotne -ZIT na terenie obszaru metropolitalnego.\n\nWnioskodawca: \nGmina Sztutowo\n\n\nProjekt  pt.: \"Rozwój usług społecznych w Gminie Sztutowo\"","1. Zwiększenie dostępu do zdeinstytucjonalizowanych, zindywidualizowanych i zintegrowanych usług społecznych, świadczonych w lokalnej społeczności, w oparciu o diagnozę sytuacji problemowej.\n2. Zwiększenie dostępu do zdeinstytucjonalizowanych i zintegrowanych usług społecznych w zakresie wsparcia rodziny (w tym wsparcia preadopcyjnego i postadopcyjnego) i pieczy zastępczej, w szczególności świadczonych w lokalnej społeczności, w oparciu o diagnozę sytuacji problemowej, zasobów, potencjału, potrzeb.\n3. Rozwój usług wspierających osoby objęte pieczą zastępczą, w tym osoby usamodzielniane z uwzględnieniem diagnozy sytuacji problemowej, zasobów, potencjału, predyspozycji, potrzeb, z wykorzystaniem usług aktywnej integracji.\n4. Rozwój usług opieki długoterminowej świadczonej w formie zdeinstytucjonalizowanej jako działania medyczne lub społeczne polegające na świadczeniu długotrwałej opieki pielęgniarskiej, rozwoju hospicjów w formule domowej, rehabilitacji, świadczeń terapeutycznych i usług pielęgnacyjno–opiekuńczych osobom przewlekle chorym i potrzebującym wparcia w codziennym funkcjonowaniu, które nie wymagają hospitalizacji w warunkach oddziału szpitalnego oraz kontynuacji leczenia farmakologicznego i dietetycznego.\n5. Zwiększenie dostępu do zdeinstytucjonalizowanych i zintegrowanych usług zdrowotnych, w oparciu o diagnozę sytuacji problemowej.\n","Administracja publiczna, Instytucje ochrony zdrowia, Organizacje społeczne i związki wyznaniowe, Partnerstwa, Przedsiębiorstwa, Służby publiczne",null,"II kwartał 2025","2025-06-04","II kwartał 2025","2025-06-25",887841.61,93457.01,"Obszar wskazany w Strategii ZIT dla Obszaru Metropolitalnego Gdańsk-Gdynia-Sopot.  ","Urząd Marszałkowski Województwa Pomorskiego (Departament Europejskiego Funduszu Społecznego)","niekonkurencyjny","EFS+.CP4.K",{"$f":"VLOOKUP(T76,[1]Arkusz2!$G$2:$I$34,3,0)","v":"Zwiększanie równego i szybkiego dostępu do dobrej jakości, trwałych i przystępnych cenowo usług, w tym usług, które wspierają dostęp do mieszkań oraz opieki skoncentrowanej na osobie, w tym opieki zdrowotnej; modernizacja systemów ochrony socjalnej, w tym wspieranie dostępu do ochrony socjalnej, ze szczególnym uwzględnieniem dzieci i grup w niekorzystnej sytuacji; poprawa dostępności, w tym dla osób z niepełnosprawnościami, skuteczności i odporności systemów ochrony zdrowia i usług opieki długoterminowej"},{"$f":"VLOOKUP(D76,[1]Arkusz2!O76:P1213,2,0)","v":"EFS+"},"Udostępnienie regulaminu wyboru projektów - 30.05.2025 r.  \n\nKwota przewidziana na dofinansowanie projektu, wyrażona w PLN, wynika z kwoty środków UE w EUR wskazanej w Aneksie nr 5 zawartym w dniu 10.02.2025 r. do Porozumienia z dnia 27.02.2024 r. w sprawie realizacji Instrumentu Zintegrowane Inwestycje Terytorialne oraz powierzenia zadań Instytucji Pośredniczącej w ramach programu regionalnego \"Fundusze Europejskie dla Pomorza 2021-2027\" oraz środków budżetu państwa, przeliczona wg kursu Europejskiego Banku Centralnego obowiązującego w dniu aktualizacji harmonogramu (4,1308 z 27 lutego 2025 r.)."]
["FEPM","05","18",{"$f":"_xlfn.CONCAT(A77,\".\",B77,\".\",C77)","v":"FEPM.05.18"},{"$f":"VLOOKUP(D77,[1]Arkusz2!$D$2:$E$1137,2,0)","v":"Usługi społeczne i zdrowotne – ZIT na terenie obszaru metropolitalnego"},"ZIT","Nabór wniosku o dofinansowanie projektu dla Działania 5.18. Usługi społeczne i zdrowotne -ZIT na terenie obszaru metropolitalnego.\n\nWnioskodawca: \nGmina Miasta Puck\n\nProjekt  pt.: \"System usług społecznych w mieście Puck\"","2. Zwiększenie dostępu do zdeinstytucjonalizowanych, zindywidualizowanych i zintegrowanych usług społecznych, świadczonych w lokalnej społeczności, w oparciu o diagnozę sytuacji problemowej.\n2. Zwiększenie dostępu do zdeinstytucjonalizowanych i zintegrowanych usług społecznych w zakresie wsparcia rodziny (w tym wsparcia preadopcyjnego i postadopcyjnego) i pieczy zastępczej, w szczególności świadczonych w lokalnej społeczności, w oparciu o diagnozę sytuacji problemowej, zasobów, potencjału, potrzeb.\n3. Rozwój usług wspierających osoby objęte pieczą zastępczą, w tym osoby usamodzielniane z uwzględnieniem diagnozy sytuacji problemowej, zasobów, potencjału, predyspozycji, potrzeb, z wykorzystaniem usług aktywnej integracji.\n4. Rozwój usług opieki długoterminowej świadczonej w formie zdeinstytucjonalizowanej jako działania medyczne lub społeczne polegające na świadczeniu długotrwałej opieki pielęgniarskiej, rozwoju hospicjów w formule domowej, rehabilitacji, świadczeń terapeutycznych i usług pielęgnacyjno–opiekuńczych osobom przewlekle chorym i potrzebującym wparcia w codziennym funkcjonowaniu, które nie wymagają hospitalizacji w warunkach oddziału szpitalnego oraz kontynuacji leczenia farmakologicznego i dietetycznego.\n5. Zwiększenie dostępu do zdeinstytucjonalizowanych i zintegrowanych usług zdrowotnych, w oparciu o diagnozę sytuacji problemowej.\n\n","Administracja publiczna, Instytucje ochrony zdrowia, Organizacje społeczne i związki wyznaniowe, Partnerstwa, Przedsiębiorstwa, Służby publiczne",null,"II kwartał 2025","2025-06-04","II kwartał 2025","2025-06-25",1548750.52,163026.37,"Obszar wskazany w Strategii ZIT dla Obszaru Metropolitalnego Gdańsk-Gdynia-Sopot.  ","Urząd Marszałkowski Województwa Pomorskiego (Departament Europejskiego Funduszu Społecznego)","niekonkurencyjny","EFS+.CP4.K",{"$f":"VLOOKUP(T77,[1]Arkusz2!$G$2:$I$34,3,0)","v":"Zwiększanie równego i szybkiego dostępu do dobrej jakości, trwałych i przystępnych cenowo usług, w tym usług, które wspierają dostęp do mieszkań oraz opieki skoncentrowanej na osobie, w tym opieki zdrowotnej; modernizacja systemów ochrony socjalnej, w tym wspieranie dostępu do ochrony socjalnej, ze szczególnym uwzględnieniem dzieci i grup w niekorzystnej sytuacji; poprawa dostępności, w tym dla osób z niepełnosprawnościami, skuteczności i odporności systemów ochrony zdrowia i usług opieki długoterminowej"},{"$f":"VLOOKUP(D77,[1]Arkusz2!O69:P1206,2,0)","v":"EFS+"},"Udostępnienie regulaminu wyboru projektów - 30.05.2025 r.\n\nKwota przewidziana na dofinansowanie projektu, wyrażona w PLN, wynika z kwoty środków UE w EUR wskazanej w Aneksie nr 6 zawartym w dniu 20.03.2025 r. do Porozumienia z dnia 27.02.2024 r. w sprawie realizacji Instrumentu Zintegrowane Inwestycje Terytorialne oraz powierzenia zadań Instytucji Pośredniczącej w ramach programu regionalnego \"Fundusze Europejskie dla Pomorza 2021-2027\" oraz środków budżetu państwa, przeliczona wg kursu Europejskiego Banku Centralnego obowiązującego w dniu aktualizacji harmonogramu (4,1308 z 27 lutego 2025 r.)."]
["FEPM","05","18","FEPM.05.18",{"$f":"VLOOKUP(D78,[1]Arkusz2!$D$2:$E$1137,2,0)","v":"Usługi społeczne i zdrowotne – ZIT na terenie obszaru metropolitalnego"},"ZIT","Nabór wniosku o dofinansowanie projektu dla Działania 5.18. Usługi społeczne i zdrowotne -ZIT na terenie obszaru metropolitalnego.\n\nWnioskodawca: \nGmina Sierakowice\n\nProjekt  pt.:\"Reintegracja społeczna osób z niepełnosprawnościami i seniorów poprzez zwiększenie dostępności usług opiekuńczych, asystenckich oraz specjalistycznych w Domu Dziennego Pobytu w Sierakowicach\" ","3. Zwiększenie dostępu do zdeinstytucjonalizowanych, zindywidualizowanych i zintegrowanych usług społecznych, świadczonych w lokalnej społeczności, w oparciu o diagnozę sytuacji problemowej.\n2. Zwiększenie dostępu do zdeinstytucjonalizowanych i zintegrowanych usług społecznych w zakresie wsparcia rodziny (w tym wsparcia preadopcyjnego i postadopcyjnego) i pieczy zastępczej, w szczególności świadczonych w lokalnej społeczności, w oparciu o diagnozę sytuacji problemowej, zasobów, potencjału, potrzeb.\n3. Rozwój usług wspierających osoby objęte pieczą zastępczą, w tym osoby usamodzielniane z uwzględnieniem diagnozy sytuacji problemowej, zasobów, potencjału, predyspozycji, potrzeb, z wykorzystaniem usług aktywnej integracji.\n4. Rozwój usług opieki długoterminowej świadczonej w formie zdeinstytucjonalizowanej jako działania medyczne lub społeczne polegające na świadczeniu długotrwałej opieki pielęgniarskiej, rozwoju hospicjów w formule domowej, rehabilitacji, świadczeń terapeutycznych i usług pielęgnacyjno–opiekuńczych osobom przewlekle chorym i potrzebującym wparcia w codziennym funkcjonowaniu, które nie wymagają hospitalizacji w warunkach oddziału szpitalnego oraz kontynuacji leczenia farmakologicznego i dietetycznego.\n5. Zwiększenie dostępu do zdeinstytucjonalizowanych i zintegrowanych usług zdrowotnych, w oparciu o diagnozę sytuacji problemowej.\n\n","Administracja publiczna, Instytucje ochrony zdrowia, Organizacje społeczne i związki wyznaniowe, Partnerstwa, Przedsiębiorstwa, Służby publiczne",null,"II kwartał 2025","2025-06-04","II kwartał 2025","2025-06-25",2032217.28,213917.61,"Obszar wskazany w Strategii ZIT dla Obszaru Metropolitalnego Gdańsk-Gdynia-Sopot.  ","Urząd Marszałkowski Województwa Pomorskiego (Departament Europejskiego Funduszu Społecznego)","niekonkurencyjny","EFS+.CP4.K",{"$f":"VLOOKUP(T78,[1]Arkusz2!$G$2:$I$34,3,0)","v":"Zwiększanie równego i szybkiego dostępu do dobrej jakości, trwałych i przystępnych cenowo usług, w tym usług, które wspierają dostęp do mieszkań oraz opieki skoncentrowanej na osobie, w tym opieki zdrowotnej; modernizacja systemów ochrony socjalnej, w tym wspieranie dostępu do ochrony socjalnej, ze szczególnym uwzględnieniem dzieci i grup w niekorzystnej sytuacji; poprawa dostępności, w tym dla osób z niepełnosprawnościami, skuteczności i odporności systemów ochrony zdrowia i usług opieki długoterminowej"},{"$f":"VLOOKUP(D78,[1]Arkusz2!O70:P1207,2,0)","v":"EFS+"},"Udostępnienie regulaminu wyboru projektów -  30.05.2025 r. \n\nKwota przewidziana na dofinansowanie projektu, wyrażona w PLN, wynika z kwoty środków UE w EUR wskazanej w Aneksie nr 6 zawartym w dniu 20.03.2025 r. do Porozumienia z dnia 27.02.2024 r. w sprawie realizacji Instrumentu Zintegrowane Inwestycje Terytorialne oraz powierzenia zadań Instytucji Pośredniczącej w ramach programu regionalnego \"Fundusze Europejskie dla Pomorza 2021-2027\" oraz środków budżetu państwa, przeliczona wg kursu Europejskiego Banku Centralnego obowiązującego w dniu aktualizacji harmonogramu (4,1308 z 27 lutego 2025 r.)."]
["FEPM","05","18","FEPM.05.18",{"$f":"VLOOKUP(D79,[1]Arkusz2!$D$2:$E$1137,2,0)","v":"Usługi społeczne i zdrowotne – ZIT na terenie obszaru metropolitalnego"},"ZIT","Nabór wniosku o dofinansowanie projektu dla Działania 5.18. Usługi społeczne i zdrowotne -ZIT na terenie obszaru metropolitalnego.\n\nWnioskodawca: \nGmina Gniew\n\nProjekt  pt.: \"Usługi opiekuńcze w Gminie Gniew\"","4. Zwiększenie dostępu do zdeinstytucjonalizowanych, zindywidualizowanych i zintegrowanych usług społecznych, świadczonych w lokalnej społeczności, w oparciu o diagnozę sytuacji problemowej.\n2. Zwiększenie dostępu do zdeinstytucjonalizowanych i zintegrowanych usług społecznych w zakresie wsparcia rodziny (w tym wsparcia preadopcyjnego i postadopcyjnego) i pieczy zastępczej, w szczególności świadczonych w lokalnej społeczności, w oparciu o diagnozę sytuacji problemowej, zasobów, potencjału, potrzeb.\n3. Rozwój usług wspierających osoby objęte pieczą zastępczą, w tym osoby usamodzielniane z uwzględnieniem diagnozy sytuacji problemowej, zasobów, potencjału, predyspozycji, potrzeb, z wykorzystaniem usług aktywnej integracji.\n4. Rozwój usług opieki długoterminowej świadczonej w formie zdeinstytucjonalizowanej jako działania medyczne lub społeczne polegające na świadczeniu długotrwałej opieki pielęgniarskiej, rozwoju hospicjów w formule domowej, rehabilitacji, świadczeń terapeutycznych i usług pielęgnacyjno–opiekuńczych osobom przewlekle chorym i potrzebującym wparcia w codziennym funkcjonowaniu, które nie wymagają hospitalizacji w warunkach oddziału szpitalnego oraz kontynuacji leczenia farmakologicznego i dietetycznego.\n5. Zwiększenie dostępu do zdeinstytucjonalizowanych i zintegrowanych usług zdrowotnych, w oparciu o diagnozę sytuacji problemowej.\n\n","Administracja publiczna, Instytucje ochrony zdrowia, Organizacje społeczne i związki wyznaniowe, Partnerstwa, Przedsiębiorstwa, Służby publiczne",null,"II kwartał 2025","2025-06-04","II kwartał 2025","2025-06-25",1671231.29,175919.08,"Obszar wskazany w Strategii ZIT dla Obszaru Metropolitalnego Gdańsk-Gdynia-Sopot.  ","Urząd Marszałkowski Województwa Pomorskiego (Departament Europejskiego Funduszu Społecznego)","niekonkurencyjny","EFS+.CP4.K",{"$f":"VLOOKUP(T79,[1]Arkusz2!$G$2:$I$34,3,0)","v":"Zwiększanie równego i szybkiego dostępu do dobrej jakości, trwałych i przystępnych cenowo usług, w tym usług, które wspierają dostęp do mieszkań oraz opieki skoncentrowanej na osobie, w tym opieki zdrowotnej; modernizacja systemów ochrony socjalnej, w tym wspieranie dostępu do ochrony socjalnej, ze szczególnym uwzględnieniem dzieci i grup w niekorzystnej sytuacji; poprawa dostępności, w tym dla osób z niepełnosprawnościami, skuteczności i odporności systemów ochrony zdrowia i usług opieki długoterminowej"},{"$f":"VLOOKUP(D79,[1]Arkusz2!O71:P1208,2,0)","v":"EFS+"},"Udostępnienie regulaminu wyboru projektów -  30.05.2025 r.\n\nKwota przewidziana na dofinansowanie projektu, wyrażona w PLN, wynika z kwoty środków UE w EUR wskazanej w Aneksie nr 6 zawartym w dniu 20.03.2025 r. do Porozumienia z dnia 27.02.2024 r. w sprawie realizacji Instrumentu Zintegrowane Inwestycje Terytorialne oraz powierzenia zadań Instytucji Pośredniczącej w ramach programu regionalnego \"Fundusze Europejskie dla Pomorza 2021-2027\" oraz środków budżetu państwa, przeliczona wg kursu Europejskiego Banku Centralnego obowiązującego w dniu aktualizacji harmonogramu (4,1308 z 27 lutego 2025 r.)."]
["FEPM","05","18","FEPM.05.18",{"$f":"VLOOKUP(D80,[1]Arkusz2!$D$2:$E$1137,2,0)","v":"Usługi społeczne i zdrowotne – ZIT na terenie obszaru metropolitalnego"},"ZIT","Nabór wniosku o dofinansowanie projektu dla Działania 5.18. Usługi społeczne i zdrowotne -ZIT na terenie obszaru metropolitalnego.\n\nWnioskodawca: \nGmina Miejska Pruszcz Gdański\n\nProjekt  pt.: \"Usługi społeczne świadczone w lokalnej społeczności dla mieszkańców Gminy Miejskiej Pruszcz Gdański oraz Gminy Pruszcz Gdański\"","5. Zwiększenie dostępu do zdeinstytucjonalizowanych, zindywidualizowanych i zintegrowanych usług społecznych, świadczonych w lokalnej społeczności, w oparciu o diagnozę sytuacji problemowej.\n2. Zwiększenie dostępu do zdeinstytucjonalizowanych i zintegrowanych usług społecznych w zakresie wsparcia rodziny (w tym wsparcia preadopcyjnego i postadopcyjnego) i pieczy zastępczej, w szczególności świadczonych w lokalnej społeczności, w oparciu o diagnozę sytuacji problemowej, zasobów, potencjału, potrzeb.\n3. Rozwój usług wspierających osoby objęte pieczą zastępczą, w tym osoby usamodzielniane z uwzględnieniem diagnozy sytuacji problemowej, zasobów, potencjału, predyspozycji, potrzeb, z wykorzystaniem usług aktywnej integracji.\n4. Rozwój usług opieki długoterminowej świadczonej w formie zdeinstytucjonalizowanej jako działania medyczne lub społeczne polegające na świadczeniu długotrwałej opieki pielęgniarskiej, rozwoju hospicjów w formule domowej, rehabilitacji, świadczeń terapeutycznych i usług pielęgnacyjno–opiekuńczych osobom przewlekle chorym i potrzebującym wparcia w codziennym funkcjonowaniu, które nie wymagają hospitalizacji w warunkach oddziału szpitalnego oraz kontynuacji leczenia farmakologicznego i dietetycznego.\n5. Zwiększenie dostępu do zdeinstytucjonalizowanych i zintegrowanych usług zdrowotnych, w oparciu o diagnozę sytuacji problemowej.\n\n","Administracja publiczna, Instytucje ochrony zdrowia, Organizacje społeczne i związki wyznaniowe, Partnerstwa, Przedsiębiorstwa, Służby publiczne",null,"II kwartał 2025","2025-06-04","II kwartał 2025","2025-06-25",4107510.47,432369.52,"Obszar wskazany w Strategii ZIT dla Obszaru Metropolitalnego Gdańsk-Gdynia-Sopot.  ","Urząd Marszałkowski Województwa Pomorskiego (Departament Europejskiego Funduszu Społecznego)","niekonkurencyjny","EFS+.CP4.K",{"$f":"VLOOKUP(T80,[1]Arkusz2!$G$2:$I$34,3,0)","v":"Zwiększanie równego i szybkiego dostępu do dobrej jakości, trwałych i przystępnych cenowo usług, w tym usług, które wspierają dostęp do mieszkań oraz opieki skoncentrowanej na osobie, w tym opieki zdrowotnej; modernizacja systemów ochrony socjalnej, w tym wspieranie dostępu do ochrony socjalnej, ze szczególnym uwzględnieniem dzieci i grup w niekorzystnej sytuacji; poprawa dostępności, w tym dla osób z niepełnosprawnościami, skuteczności i odporności systemów ochrony zdrowia i usług opieki długoterminowej"},{"$f":"VLOOKUP(D80,[1]Arkusz2!O72:P1209,2,0)","v":"EFS+"},"Udostępnienie regulaminu wyboru projektów - 30.05.2025 r. \n\nKwota przewidziana na dofinansowanie projektu, wyrażona w PLN, wynika z kwoty środków UE w EUR wskazanej w Aneksie nr 6 zawartym w dniu 20.03.2025 r. do Porozumienia z dnia 27.02.2024 r. w sprawie realizacji Instrumentu Zintegrowane Inwestycje Terytorialne oraz powierzenia zadań Instytucji Pośredniczącej w ramach programu regionalnego \"Fundusze Europejskie dla Pomorza 2021-2027\" oraz środków budżetu państwa, przeliczona wg kursu Europejskiego Banku Centralnego obowiązującego w dniu aktualizacji harmonogramu (4,1308 z 27 lutego 2025 r.)."]
["FEPM","05","18",{"$f":"_xlfn.CONCAT(A81,\".\",B81,\".\",C81)","v":"FEPM.05.18"},{"$f":"VLOOKUP(D81,[1]Arkusz2!$D$2:$E$1137,2,0)","v":"Usługi społeczne i zdrowotne – ZIT na terenie obszaru metropolitalnego"},"ZIT","Nabór wniosku o dofinansowanie projektu dla Działania 5.18. Usługi społeczne i zdrowotne -ZIT na terenie obszaru metropolitalnego.\n\nWnioskodawca: \nGmina Miasta Wejherowa\n\nProjekt  pt.: \"Wejherowskie usługi społeczne\"","6. Zwiększenie dostępu do zdeinstytucjonalizowanych, zindywidualizowanych i zintegrowanych usług społecznych, świadczonych w lokalnej społeczności, w oparciu o diagnozę sytuacji problemowej.\n2. Zwiększenie dostępu do zdeinstytucjonalizowanych i zintegrowanych usług społecznych w zakresie wsparcia rodziny (w tym wsparcia preadopcyjnego i postadopcyjnego) i pieczy zastępczej, w szczególności świadczonych w lokalnej społeczności, w oparciu o diagnozę sytuacji problemowej, zasobów, potencjału, potrzeb.\n3. Rozwój usług wspierających osoby objęte pieczą zastępczą, w tym osoby usamodzielniane z uwzględnieniem diagnozy sytuacji problemowej, zasobów, potencjału, predyspozycji, potrzeb, z wykorzystaniem usług aktywnej integracji.\n4. Rozwój usług opieki długoterminowej świadczonej w formie zdeinstytucjonalizowanej jako działania medyczne lub społeczne polegające na świadczeniu długotrwałej opieki pielęgniarskiej, rozwoju hospicjów w formule domowej, rehabilitacji, świadczeń terapeutycznych i usług pielęgnacyjno–opiekuńczych osobom przewlekle chorym i potrzebującym wparcia w codziennym funkcjonowaniu, które nie wymagają hospitalizacji w warunkach oddziału szpitalnego oraz kontynuacji leczenia farmakologicznego i dietetycznego.\n5. Zwiększenie dostępu do zdeinstytucjonalizowanych i zintegrowanych usług zdrowotnych, w oparciu o diagnozę sytuacji problemowej.\n\n","Administracja publiczna, Instytucje ochrony zdrowia, Organizacje społeczne i związki wyznaniowe, Partnerstwa, Przedsiębiorstwa, Służby publiczne",null,"II kwartał 2025","2025-06-04","II kwartał 2025","2025-06-25",2929877.35,308408.14,"Obszar wskazany w Strategii ZIT dla Obszaru Metropolitalnego Gdańsk-Gdynia-Sopot.  ","Urząd Marszałkowski Województwa Pomorskiego (Departament Europejskiego Funduszu Społecznego)","niekonkurencyjny","EFS+.CP4.K",{"$f":"VLOOKUP(T81,[1]Arkusz2!$G$2:$I$34,3,0)","v":"Zwiększanie równego i szybkiego dostępu do dobrej jakości, trwałych i przystępnych cenowo usług, w tym usług, które wspierają dostęp do mieszkań oraz opieki skoncentrowanej na osobie, w tym opieki zdrowotnej; modernizacja systemów ochrony socjalnej, w tym wspieranie dostępu do ochrony socjalnej, ze szczególnym uwzględnieniem dzieci i grup w niekorzystnej sytuacji; poprawa dostępności, w tym dla osób z niepełnosprawnościami, skuteczności i odporności systemów ochrony zdrowia i usług opieki długoterminowej"},{"$f":"VLOOKUP(D81,[1]Arkusz2!O76:P1213,2,0)","v":"EFS+"},"Udostępnienie regulaminu wyboru projektów - 30.05.2025 r. \n\nKwota przewidziana na dofinansowanie projektu, wyrażona w PLN, wynika z kwoty środków UE w EUR wskazanej w Aneksie nr 6 zawartym w dniu 20.03.2025 r. do Porozumienia z dnia 27.02.2024 r. w sprawie realizacji Instrumentu Zintegrowane Inwestycje Terytorialne oraz powierzenia zadań Instytucji Pośredniczącej w ramach programu regionalnego \"Fundusze Europejskie dla Pomorza 2021-2027\" oraz środków budżetu państwa, przeliczona wg kursu Europejskiego Banku Centralnego obowiązującego w dniu aktualizacji harmonogramu (4,1308 z 27 lutego 2025 r.)."]
["FEPM","05","18","FEPM.05.18",{"$f":"VLOOKUP(D82,[1]Arkusz2!$D$2:$E$1137,2,0)","v":"Usługi społeczne i zdrowotne – ZIT na terenie obszaru metropolitalnego"},"ZIT","Nabór wniosku o dofinansowanie projektu dla Działania 5.18. Usługi społeczne i zdrowotne -ZIT na terenie obszaru metropolitalnego.\n\nWnioskodawca:\nGmina Miłoradz\n\nProjekt  pt.: \"Centrum Wsparcia Rodziny\" dla mieszkańców Gminy Miłoradz\" ","7. Zwiększenie dostępu do zdeinstytucjonalizowanych, zindywidualizowanych i zintegrowanych usług społecznych, świadczonych w lokalnej społeczności, w oparciu o diagnozę sytuacji problemowej.\n2. Zwiększenie dostępu do zdeinstytucjonalizowanych i zintegrowanych usług społecznych w zakresie wsparcia rodziny (w tym wsparcia preadopcyjnego i postadopcyjnego) i pieczy zastępczej, w szczególności świadczonych w lokalnej społeczności, w oparciu o diagnozę sytuacji problemowej, zasobów, potencjału, potrzeb.\n3. Rozwój usług wspierających osoby objęte pieczą zastępczą, w tym osoby usamodzielniane z uwzględnieniem diagnozy sytuacji problemowej, zasobów, potencjału, predyspozycji, potrzeb, z wykorzystaniem usług aktywnej integracji.\n4. Rozwój usług opieki długoterminowej świadczonej w formie zdeinstytucjonalizowanej jako działania medyczne lub społeczne polegające na świadczeniu długotrwałej opieki pielęgniarskiej, rozwoju hospicjów w formule domowej, rehabilitacji, świadczeń terapeutycznych i usług pielęgnacyjno–opiekuńczych osobom przewlekle chorym i potrzebującym wparcia w codziennym funkcjonowaniu, które nie wymagają hospitalizacji w warunkach oddziału szpitalnego oraz kontynuacji leczenia farmakologicznego i dietetycznego.\n5. Zwiększenie dostępu do zdeinstytucjonalizowanych i zintegrowanych usług zdrowotnych, w oparciu o diagnozę sytuacji problemowej.\n\n","Administracja publiczna, Instytucje ochrony zdrowia, Organizacje społeczne i związki wyznaniowe, Partnerstwa, Przedsiębiorstwa, Służby publiczne",null,"IV kwartał 2025",null,"IV kwartał 2025",null,1257318.5,132349.32,"Obszar wskazany w Strategii ZIT dla Obszaru Metropolitalnego Gdańsk-Gdynia-Sopot.  ","Urząd Marszałkowski Województwa Pomorskiego (Departament Europejskiego Funduszu Społecznego)","niekonkurencyjny","EFS+.CP4.K",{"$f":"VLOOKUP(T82,[1]Arkusz2!$G$2:$I$34,3,0)","v":"Zwiększanie równego i szybkiego dostępu do dobrej jakości, trwałych i przystępnych cenowo usług, w tym usług, które wspierają dostęp do mieszkań oraz opieki skoncentrowanej na osobie, w tym opieki zdrowotnej; modernizacja systemów ochrony socjalnej, w tym wspieranie dostępu do ochrony socjalnej, ze szczególnym uwzględnieniem dzieci i grup w niekorzystnej sytuacji; poprawa dostępności, w tym dla osób z niepełnosprawnościami, skuteczności i odporności systemów ochrony zdrowia i usług opieki długoterminowej"},{"$f":"VLOOKUP(D82,[1]Arkusz2!O75:P1212,2,0)","v":"EFS+"},"Udostępnienie regulaminu wyboru projektów -  IV kwartał 2025 r. \n\nKwota przewidziana na dofinansowanie projektu, wyrażona w PLN, wynika z kwoty środków UE w EUR wskazanej w Aneksie nr 6 zawartym w dniu 20.03.2025 r. do Porozumienia z dnia 27.02.2024 r. w sprawie realizacji Instrumentu Zintegrowane Inwestycje Terytorialne oraz powierzenia zadań Instytucji Pośredniczącej w ramach programu regionalnego \"Fundusze Europejskie dla Pomorza 2021-2027\" oraz środków budżetu państwa, przeliczona wg kursu Europejskiego Banku Centralnego obowiązującego w dniu aktualizacji harmonogramu (4,1308 z 27 lutego 2025 r.)."]
["FEPM","05","18","FEPM.05.18",{"$f":"VLOOKUP(D83,[1]Arkusz2!$D$2:$E$1137,2,0)","v":"Usługi społeczne i zdrowotne – ZIT na terenie obszaru metropolitalnego"},"ZIT","Nabór wniosku o dofinansowanie dla Działania 5.18. Usługi społeczne i zdrowotne -ZIT na terenie obszaru metropolitalnego. \n\nWnioskodawca: \nGmina Miejska Rumia \n\nProjekt pt.:  \"Osiedlowe centra świadczenia usług społecznych dla dzieci, modzieży i seniorów\"","1. Zwiększenie dostępu do zdeinstytucjonalizowanych, zindywidualizowanych i zintegrowanych usług społecznych, świadczonych w lokalnej społeczności, w oparciu o diagnozę sytuacji problemowej.\n2. Zwiększenie dostępu do zdeinstytucjonalizowanych i zintegrowanych usług społecznych w zakresie wsparcia rodziny (w tym wsparcia preadopcyjnego i postadopcyjnego) i pieczy zastępczej, w szczególności świadczonych w lokalnej społeczności, w oparciu o diagnozę sytuacji problemowej, zasobów, potencjału, potrzeb.\n3. Rozwój usług wspierających osoby objęte pieczą zastępczą, w tym osoby usamodzielniane z uwzględnieniem diagnozy sytuacji problemowej, zasobów, potencjału, predyspozycji, potrzeb, z wykorzystaniem usług aktywnej integracji.\n4. Rozwój usług opieki długoterminowej świadczonej w formie zdeinstytucjonalizowanej jako działania medyczne lub społeczne polegające na świadczeniu długotrwałej opieki pielęgniarskiej, rozwoju hospicjów w formule domowej, rehabilitacji, świadczeń terapeutycznych i usług pielęgnacyjno–opiekuńczych osobom przewlekle chorym i potrzebującym wparcia w codziennym funkcjonowaniu, które nie wymagają hospitalizacji w warunkach oddziału szpitalnego oraz kontynuacji leczenia farmakologicznego i dietetycznego.\n5. Zwiększenie dostępu do zdeinstytucjonalizowanych i zintegrowanych usług zdrowotnych, w oparciu o diagnozę sytuacji problemowej.\n\n","Administracja publiczna, Instytucje ochrony zdrowia, Organizacje społeczne i związki wyznaniowe, Partnerstwa, Przedsiębiorstwa, Służby publiczne",null,"IV kwartał 2025",null,"IV kwartał 2025",null,2130819.9,224296.83,"Obszar wskazany w Strategii ZIT dla Obszaru Metropolitalnego Gdańsk-Gdynia-Sopot.  ","Urząd Marszałkowski Województwa Pomorskiego (Departament Europejskiego Funduszu Społecznego)","niekonkurencyjny","EFS+.CP4.K",{"$f":"VLOOKUP(T83,[1]Arkusz2!$G$2:$I$34,3,0)","v":"Zwiększanie równego i szybkiego dostępu do dobrej jakości, trwałych i przystępnych cenowo usług, w tym usług, które wspierają dostęp do mieszkań oraz opieki skoncentrowanej na osobie, w tym opieki zdrowotnej; modernizacja systemów ochrony socjalnej, w tym wspieranie dostępu do ochrony socjalnej, ze szczególnym uwzględnieniem dzieci i grup w niekorzystnej sytuacji; poprawa dostępności, w tym dla osób z niepełnosprawnościami, skuteczności i odporności systemów ochrony zdrowia i usług opieki długoterminowej"},{"$f":"VLOOKUP(D83,[1]Arkusz2!O76:P1213,2,0)","v":"EFS+"},"Udostępnienie regulaminu wyboru projektów - IV kwartał 2025 r. \n\nKwota przewidziana na dofinansowanie projektu, wyrażona w PLN, wynika z kwoty środków UE w EUR wskazanej w Aneksie nr 5 zawartym w dniu 10.02.2025 r. do Porozumienia z dnia 27.02.2024 r. w sprawie realizacji Instrumentu Zintegrowane Inwestycje Terytorialne oraz powierzenia zadań Instytucji Pośredniczącej w ramach programu regionalnego \"Fundusze Europejskie dla Pomorza 2021-2027\" oraz środków budżetu państwa, przeliczona wg kursu Europejskiego Banku Centralnego obowiązującego w dniu aktualizacji harmonogramu (4,1308 z 27 lutego 2025 r.)."]
["FEPM","05","18","FEPM.05.18",{"$f":"VLOOKUP(D84,[1]Arkusz2!$D$2:$E$1137,2,0)","v":"Usługi społeczne i zdrowotne – ZIT na terenie obszaru metropolitalnego"},"ZIT","Nabór wniosku o dofinansowanie projektu dla Działania 5.18. Usługi społeczne i zdrowotne -ZIT na terenie obszaru metropolitalnego. \n\nWnioskodawca: \nGmina Nowy Dwór Gdański\n\nProjekt  pt.: \"Rozwój usług społecznych w Gminie Nowy Dwór Gdański\"","1. Zwiększenie dostępu do zdeinstytucjonalizowanych, zindywidualizowanych i zintegrowanych usług społecznych, świadczonych w lokalnej społeczności, w oparciu o diagnozę sytuacji problemowej.\n2. Zwiększenie dostępu do zdeinstytucjonalizowanych i zintegrowanych usług społecznych w zakresie wsparcia rodziny (w tym wsparcia preadopcyjnego i postadopcyjnego) i pieczy zastępczej, w szczególności świadczonych w lokalnej społeczności, w oparciu o diagnozę sytuacji problemowej, zasobów, potencjału, potrzeb.\n3. Rozwój usług wspierających osoby objęte pieczą zastępczą, w tym osoby usamodzielniane z uwzględnieniem diagnozy sytuacji problemowej, zasobów, potencjału, predyspozycji, potrzeb, z wykorzystaniem usług aktywnej integracji.\n4. Rozwój usług opieki długoterminowej świadczonej w formie zdeinstytucjonalizowanej jako działania medyczne lub społeczne polegające na świadczeniu długotrwałej opieki pielęgniarskiej, rozwoju hospicjów w formule domowej, rehabilitacji, świadczeń terapeutycznych i usług pielęgnacyjno–opiekuńczych osobom przewlekle chorym i potrzebującym wparcia w codziennym funkcjonowaniu, które nie wymagają hospitalizacji w warunkach oddziału szpitalnego oraz kontynuacji leczenia farmakologicznego i dietetycznego.\n5. Zwiększenie dostępu do zdeinstytucjonalizowanych i zintegrowanych usług zdrowotnych, w oparciu o diagnozę sytuacji problemowej.\n\n","Administracja publiczna, Instytucje ochrony zdrowia, Organizacje społeczne i związki wyznaniowe, Partnerstwa, Przedsiębiorstwa, Służby publiczne",null,"IV kwartał 2025",null,"IV kwartał 2025",null,887841.61,93457.01,"Obszar wskazany w Strategii ZIT dla Obszaru Metropolitalnego Gdańsk-Gdynia-Sopot.  ","Urząd Marszałkowski Województwa Pomorskiego (Departament Europejskiego Funduszu Społecznego)","niekonkurencyjny","EFS+.CP4.K",{"$f":"VLOOKUP(T84,[1]Arkusz2!$G$2:$I$34,3,0)","v":"Zwiększanie równego i szybkiego dostępu do dobrej jakości, trwałych i przystępnych cenowo usług, w tym usług, które wspierają dostęp do mieszkań oraz opieki skoncentrowanej na osobie, w tym opieki zdrowotnej; modernizacja systemów ochrony socjalnej, w tym wspieranie dostępu do ochrony socjalnej, ze szczególnym uwzględnieniem dzieci i grup w niekorzystnej sytuacji; poprawa dostępności, w tym dla osób z niepełnosprawnościami, skuteczności i odporności systemów ochrony zdrowia i usług opieki długoterminowej"},{"$f":"VLOOKUP(D84,[1]Arkusz2!O77:P1214,2,0)","v":"EFS+"},"Udostępnienie regulaminu wyboru projektów - IV kwartrał 2025 r. \n\nKwota przewidziana na dofinansowanie projektu, wyrażona w PLN, wynika z kwoty środków UE w EUR wskazanej w Aneksie nr 5 zawartym w dniu 10.02.2025 r. do Porozumienia z dnia 27.02.2024 r. w sprawie realizacji Instrumentu Zintegrowane Inwestycje Terytorialne oraz powierzenia zadań Instytucji Pośredniczącej w ramach programu regionalnego \"Fundusze Europejskie dla Pomorza 2021-2027\" oraz środków budżetu państwa, przeliczona wg kursu Europejskiego Banku Centralnego obowiązującego w dniu aktualizacji harmonogramu (4,1308 z 27 lutego 2025 r.)."]
["FEPM","05","18",{"$f":"_xlfn.CONCAT(A85,\".\",B85,\".\",C85)","v":"FEPM.05.18"},{"$f":"VLOOKUP(D85,[1]Arkusz2!$D$2:$E$1137,2,0)","v":"Usługi społeczne i zdrowotne – ZIT na terenie obszaru metropolitalnego"},"ZIT","Nabór wniosku o dofinansowanie projektu dla Działania 5.18. Usługi społeczne i zdrowotne -ZIT na terenie obszaru metropolitalnego.\n\nWnioskodawca: \nGmina Szemud\n\nProjekt  pt.: \"Zwiększenie dostępności do usług społecznych na terenie Gminy Szemud\"","8. Zwiększenie dostępu do zdeinstytucjonalizowanych, zindywidualizowanych i zintegrowanych usług społecznych, świadczonych w lokalnej społeczności, w oparciu o diagnozę sytuacji problemowej.\n2. Zwiększenie dostępu do zdeinstytucjonalizowanych i zintegrowanych usług społecznych w zakresie wsparcia rodziny (w tym wsparcia preadopcyjnego i postadopcyjnego) i pieczy zastępczej, w szczególności świadczonych w lokalnej społeczności, w oparciu o diagnozę sytuacji problemowej, zasobów, potencjału, potrzeb.\n3. Rozwój usług wspierających osoby objęte pieczą zastępczą, w tym osoby usamodzielniane z uwzględnieniem diagnozy sytuacji problemowej, zasobów, potencjału, predyspozycji, potrzeb, z wykorzystaniem usług aktywnej integracji.\n4. Rozwój usług opieki długoterminowej świadczonej w formie zdeinstytucjonalizowanej jako działania medyczne lub społeczne polegające na świadczeniu długotrwałej opieki pielęgniarskiej, rozwoju hospicjów w formule domowej, rehabilitacji, świadczeń terapeutycznych i usług pielęgnacyjno–opiekuńczych osobom przewlekle chorym i potrzebującym wparcia w codziennym funkcjonowaniu, które nie wymagają hospitalizacji w warunkach oddziału szpitalnego oraz kontynuacji leczenia farmakologicznego i dietetycznego.\n5. Zwiększenie dostępu do zdeinstytucjonalizowanych i zintegrowanych usług zdrowotnych, w oparciu o diagnozę sytuacji problemowej.\n\n","Administracja publiczna, Instytucje ochrony zdrowia, Organizacje społeczne i związki wyznaniowe, Partnerstwa, Przedsiębiorstwa, Służby publiczne",null,"IV kwartał 2025",null,"IV kwartał 2025",null,2663524.89,280371.03999999998,"Obszar wskazany w Strategii ZIT dla Obszaru Metropolitalnego Gdańsk-Gdynia-Sopot.  ","Urząd Marszałkowski Województwa Pomorskiego (Departament Europejskiego Funduszu Społecznego)","niekonkurencyjny","EFS+.CP4.K",{"$f":"VLOOKUP(T85,[1]Arkusz2!$G$2:$I$34,3,0)","v":"Zwiększanie równego i szybkiego dostępu do dobrej jakości, trwałych i przystępnych cenowo usług, w tym usług, które wspierają dostęp do mieszkań oraz opieki skoncentrowanej na osobie, w tym opieki zdrowotnej; modernizacja systemów ochrony socjalnej, w tym wspieranie dostępu do ochrony socjalnej, ze szczególnym uwzględnieniem dzieci i grup w niekorzystnej sytuacji; poprawa dostępności, w tym dla osób z niepełnosprawnościami, skuteczności i odporności systemów ochrony zdrowia i usług opieki długoterminowej"},{"$f":"VLOOKUP(D85,[1]Arkusz2!O80:P1217,2,0)","v":"EFS+"},"Udostępnienie regulaminu wyboru projektów -  IV kwartał 2025 r. \n\nKwota przewidziana na dofinansowanie projektu, wyrażona w PLN, wynika z kwoty środków UE w EUR wskazanej w Aneksie nr 6 zawartym w dniu 20.03.2025 r. do Porozumienia z dnia 27.02.2024 r. w sprawie realizacji Instrumentu Zintegrowane Inwestycje Terytorialne oraz powierzenia zadań Instytucji Pośredniczącej w ramach programu regionalnego \"Fundusze Europejskie dla Pomorza 2021-2027\" oraz środków budżetu państwa, przeliczona wg kursu Europejskiego Banku Centralnego obowiązującego w dniu aktualizacji harmonogramu (4,1308 z 27 lutego 2025 r.)."]
["FEPM","05","18","FEPM.05.18",{"$f":"VLOOKUP(D86,[1]Arkusz2!$D$2:$E$1137,2,0)","v":"Usługi społeczne i zdrowotne – ZIT na terenie obszaru metropolitalnego"},"ZIT","Nabór wniosku o dofinansowanie projektu dla Działania 5.18. Usługi społeczne i zdrowotne -ZIT na terenie obszaru metropolitalnego.\n\nWnioskodawca: \nGmina Żukowo\n\nProjekt  pt.: \"Zwiększenie równego i szybkiego dostępu do dobrej jakości usług społecznych na terenie Gminy Żukowo\"","10. Zwiększenie dostępu do zdeinstytucjonalizowanych, zindywidualizowanych i zintegrowanych usług społecznych, świadczonych w lokalnej społeczności, w oparciu o diagnozę sytuacji problemowej.\n2. Zwiększenie dostępu do zdeinstytucjonalizowanych i zintegrowanych usług społecznych w zakresie wsparcia rodziny (w tym wsparcia preadopcyjnego i postadopcyjnego) i pieczy zastępczej, w szczególności świadczonych w lokalnej społeczności, w oparciu o diagnozę sytuacji problemowej, zasobów, potencjału, potrzeb.\n3. Rozwój usług wspierających osoby objęte pieczą zastępczą, w tym osoby usamodzielniane z uwzględnieniem diagnozy sytuacji problemowej, zasobów, potencjału, predyspozycji, potrzeb, z wykorzystaniem usług aktywnej integracji.\n4. Rozwój usług opieki długoterminowej świadczonej w formie zdeinstytucjonalizowanej jako działania medyczne lub społeczne polegające na świadczeniu długotrwałej opieki pielęgniarskiej, rozwoju hospicjów w formule domowej, rehabilitacji, świadczeń terapeutycznych i usług pielęgnacyjno–opiekuńczych osobom przewlekle chorym i potrzebującym wparcia w codziennym funkcjonowaniu, które nie wymagają hospitalizacji w warunkach oddziału szpitalnego oraz kontynuacji leczenia farmakologicznego i dietetycznego.\n5. Zwiększenie dostępu do zdeinstytucjonalizowanych i zintegrowanych usług zdrowotnych, w oparciu o diagnozę sytuacji problemowej.\n\n","Administracja publiczna, Instytucje ochrony zdrowia, Organizacje społeczne i związki wyznaniowe, Partnerstwa, Przedsiębiorstwa, Służby publiczne",null,"IV kwartał 2025",null,"IV kwartał 2025",null,731163.69,76964.600000000006,"Obszar wskazany w Strategii ZIT dla Obszaru Metropolitalnego Gdańsk-Gdynia-Sopot.  ","Urząd Marszałkowski Województwa Pomorskiego (Departament Europejskiego Funduszu Społecznego)","niekonkurencyjny","EFS+.CP4.K",{"$f":"VLOOKUP(T86,[1]Arkusz2!$G$2:$I$34,3,0)","v":"Zwiększanie równego i szybkiego dostępu do dobrej jakości, trwałych i przystępnych cenowo usług, w tym usług, które wspierają dostęp do mieszkań oraz opieki skoncentrowanej na osobie, w tym opieki zdrowotnej; modernizacja systemów ochrony socjalnej, w tym wspieranie dostępu do ochrony socjalnej, ze szczególnym uwzględnieniem dzieci i grup w niekorzystnej sytuacji; poprawa dostępności, w tym dla osób z niepełnosprawnościami, skuteczności i odporności systemów ochrony zdrowia i usług opieki długoterminowej"},{"$f":"VLOOKUP(D86,[1]Arkusz2!O81:P1218,2,0)","v":"EFS+"},"Udostępnienie regulaminu wyboru projektów -IV kwartał 2025 r. \n\nKwota przewidziana na dofinansowanie projektu, wyrażona w PLN, wynika z kwoty środków UE w EUR wskazanej w Aneksie nr 6 zawartym w dniu 20.03.2025 r. do Porozumienia z dnia 27.02.2024 r. w sprawie realizacji Instrumentu Zintegrowane Inwestycje Terytorialne oraz powierzenia zadań Instytucji Pośredniczącej w ramach programu regionalnego \"Fundusze Europejskie dla Pomorza 2021-2027\" oraz środków budżetu państwa, przeliczona wg kursu Europejskiego Banku Centralnego obowiązującego w dniu aktualizacji harmonogramu (4,1308 z 27 lutego 2025 r.)."]
["FEPM","05","18","FEPM.05.18",{"$f":"VLOOKUP(D87,[1]Arkusz2!$D$2:$E$1137,2,0)","v":"Usługi społeczne i zdrowotne – ZIT na terenie obszaru metropolitalnego"},"ZIT","Nabór wniosku o dofinansowanie projektu dla Działania 5.18. Usługi społeczne i zdrowotne -ZIT na terenie obszaru metropolitalnego.\n\nWnioskodawca: \nGmina Kartuzy/Gminny Ośrodek Pomocy Społecznej w Kartuzach\n\nProjekt  pt.:  \"Wsparcie - perspektywy - przyszłość\" ","1. Zwiększenie dostępu do zdeinstytucjonalizowanych, zindywidualizowanych i zintegrowanych usług społecznych, świadczonych w lokalnej społeczności, w oparciu o diagnozę sytuacji problemowej.\n2. Zwiększenie dostępu do zdeinstytucjonalizowanych i zintegrowanych usług społecznych w zakresie wsparcia rodziny (w tym wsparcia preadopcyjnego i postadopcyjnego) i pieczy zastępczej, w szczególności świadczonych w lokalnej społeczności, w oparciu o diagnozę sytuacji problemowej, zasobów, potencjału, potrzeb.\n3. Rozwój usług wspierających osoby objęte pieczą zastępczą, w tym osoby usamodzielniane z uwzględnieniem diagnozy sytuacji problemowej, zasobów, potencjału, predyspozycji, potrzeb, z wykorzystaniem usług aktywnej integracji.\n4. Rozwój usług opieki długoterminowej świadczonej w formie zdeinstytucjonalizowanej jako działania medyczne lub społeczne polegające na świadczeniu długotrwałej opieki pielęgniarskiej, rozwoju hospicjów w formule domowej, rehabilitacji, świadczeń terapeutycznych i usług pielęgnacyjno–opiekuńczych osobom przewlekle chorym i potrzebującym wparcia w codziennym funkcjonowaniu, które nie wymagają hospitalizacji w warunkach oddziału szpitalnego oraz kontynuacji leczenia farmakologicznego i dietetycznego.\n5. Zwiększenie dostępu do zdeinstytucjonalizowanych i zintegrowanych usług zdrowotnych, w oparciu o diagnozę sytuacji problemowej.\n\n","Administracja publiczna, Instytucje ochrony zdrowia, Organizacje społeczne i związki wyznaniowe, Partnerstwa, Przedsiębiorstwa, Służby publiczne",null,"I kwartał 2026",null,"I kwartał 2026",null,2441564.4500000002,257006.79,"Obszar wskazany w Strategii ZIT dla Obszaru Metropolitalnego Gdańsk-Gdynia-Sopot.  ","Urząd Marszałkowski Województwa Pomorskiego (Departament Europejskiego Funduszu Społecznego)","niekonkurencyjny","EFS+.CP4.K",{"$f":"VLOOKUP(T87,[1]Arkusz2!$G$2:$I$34,3,0)","v":"Zwiększanie równego i szybkiego dostępu do dobrej jakości, trwałych i przystępnych cenowo usług, w tym usług, które wspierają dostęp do mieszkań oraz opieki skoncentrowanej na osobie, w tym opieki zdrowotnej; modernizacja systemów ochrony socjalnej, w tym wspieranie dostępu do ochrony socjalnej, ze szczególnym uwzględnieniem dzieci i grup w niekorzystnej sytuacji; poprawa dostępności, w tym dla osób z niepełnosprawnościami, skuteczności i odporności systemów ochrony zdrowia i usług opieki długoterminowej"},{"$f":"VLOOKUP(D87,[1]Arkusz2!O79:P1216,2,0)","v":"EFS+"},"Udostępnienie regulaminu wyboru projektów - I kwartał 2026 r. \n\nKwota przewidziana na dofinansowanie projektu, wyrażona w PLN, wynika z kwoty środków UE w EUR wskazanej w Aneksie nr 5 zawartym w dniu 10.02.2025 r. do Porozumienia z dnia 27.02.2024 r. w sprawie realizacji Instrumentu Zintegrowane Inwestycje Terytorialne oraz powierzenia zadań Instytucji Pośredniczącej w ramach programu regionalnego \"Fundusze Europejskie dla Pomorza 2021-2027\" oraz środków budżetu państwa, przeliczona wg kursu Europejskiego Banku Centralnego obowiązującego w dniu aktualizacji harmonogramu (4,1308 z 27 lutego 2025 r.)."]
["FEPM","05","18",{"$f":"_xlfn.CONCAT(A88,\".\",B88,\".\",C88)","v":"FEPM.05.18"},{"$f":"VLOOKUP(D88,[1]Arkusz2!$D$2:$E$1137,2,0)","v":"Usługi społeczne i zdrowotne – ZIT na terenie obszaru metropolitalnego"},"ZIT","Nabór wniosku o dofinansowanie projektu dla Działania 5.18. Usługi społeczne i zdrowotne -ZIT na terenie obszaru metropolitalnego.\n\nWnioskodawca: \nPowiat Wejherowski\n\nProjekt  pt.: \"Rozwój usług społecznych i zdrowotnych w powiecie wejherowskim\"","9. Zwiększenie dostępu do zdeinstytucjonalizowanych, zindywidualizowanych i zintegrowanych usług społecznych, świadczonych w lokalnej społeczności, w oparciu o diagnozę sytuacji problemowej.\n2. Zwiększenie dostępu do zdeinstytucjonalizowanych i zintegrowanych usług społecznych w zakresie wsparcia rodziny (w tym wsparcia preadopcyjnego i postadopcyjnego) i pieczy zastępczej, w szczególności świadczonych w lokalnej społeczności, w oparciu o diagnozę sytuacji problemowej, zasobów, potencjału, potrzeb.\n3. Rozwój usług wspierających osoby objęte pieczą zastępczą, w tym osoby usamodzielniane z uwzględnieniem diagnozy sytuacji problemowej, zasobów, potencjału, predyspozycji, potrzeb, z wykorzystaniem usług aktywnej integracji.\n4. Rozwój usług opieki długoterminowej świadczonej w formie zdeinstytucjonalizowanej jako działania medyczne lub społeczne polegające na świadczeniu długotrwałej opieki pielęgniarskiej, rozwoju hospicjów w formule domowej, rehabilitacji, świadczeń terapeutycznych i usług pielęgnacyjno–opiekuńczych osobom przewlekle chorym i potrzebującym wparcia w codziennym funkcjonowaniu, które nie wymagają hospitalizacji w warunkach oddziału szpitalnego oraz kontynuacji leczenia farmakologicznego i dietetycznego.\n5. Zwiększenie dostępu do zdeinstytucjonalizowanych i zintegrowanych usług zdrowotnych, w oparciu o diagnozę sytuacji problemowej.\n\n","Administracja publiczna, Instytucje ochrony zdrowia, Organizacje społeczne i związki wyznaniowe, Partnerstwa, Przedsiębiorstwa, Służby publiczne",null,"II kwartał 2026",null,"II kwartał 2026",null,2420206.14,254758.54,"Obszar wskazany w Strategii ZIT dla Obszaru Metropolitalnego Gdańsk-Gdynia-Sopot.  ","Urząd Marszałkowski Województwa Pomorskiego (Departament Europejskiego Funduszu Społecznego)","niekonkurencyjny","EFS+.CP4.K",{"$f":"VLOOKUP(T88,[1]Arkusz2!$G$2:$I$34,3,0)","v":"Zwiększanie równego i szybkiego dostępu do dobrej jakości, trwałych i przystępnych cenowo usług, w tym usług, które wspierają dostęp do mieszkań oraz opieki skoncentrowanej na osobie, w tym opieki zdrowotnej; modernizacja systemów ochrony socjalnej, w tym wspieranie dostępu do ochrony socjalnej, ze szczególnym uwzględnieniem dzieci i grup w niekorzystnej sytuacji; poprawa dostępności, w tym dla osób z niepełnosprawnościami, skuteczności i odporności systemów ochrony zdrowia i usług opieki długoterminowej"},{"$f":"VLOOKUP(D88,[1]Arkusz2!O88:P1225,2,0)","v":"EFS+"},"Udostępnienie regulaminu wyboru projektów - II kwartał 2026 r.\n\nKwota przewidziana na dofinansowanie projektu, wyrażona w PLN, wynika z kwoty środków UE w EUR wskazanej w Aneksie nr 6 zawartym w dniu 20.03.2025 r. do Porozumienia z dnia 27.02.2024 r. w sprawie realizacji Instrumentu Zintegrowane Inwestycje Terytorialne oraz powierzenia zadań Instytucji Pośredniczącej w ramach programu regionalnego \"Fundusze Europejskie dla Pomorza 2021-2027\" oraz środków budżetu państwa, przeliczona wg kursu Europejskiego Banku Centralnego obowiązującego w dniu aktualizacji harmonogramu (4,1308 z 27 lutego 2025 r.)."]
["FEPM","05","20",{"$f":"_xlfn.CONCAT(A89,\".\",B89,\".\",C89)","v":"FEPM.05.20"},{"$f":"VLOOKUP(D89,Arkusz2!$D$2:$E$1137,2,0)","v":"Usługi społeczne i zdrowotne – RLKS"},"RKLS","Nabór wniosków o dofinansowanie projektów dla Działania 5.20. Usługi społeczne i zdrowotne - RLKS FEP 2021-2027 - w zakresie projektów grantowych\n\nWnioskodawca:\nStowarzyszenie \"Bursztynowy Pasaż\"","1. Zwiększenie dostępu do zdeinstytucjonalizowanych, zindywidualizowanych i zintegrowanych usług społecznych, świadczonych w lokalnej społeczności, w oparciu o diagnozę sytuacji problemowej, m.in. poprzez:\na. rozwój usług opiekuńczych i specjalistycznych usług opiekuńczych oraz usług asystenckich dla osób z niepełnosprawnościami, w tym prowadzonych w miejscu zamieszkania;\nb. opieka wytchnieniowa oraz działania wspierające opiekunów faktycznych w opiece nad osobami potrzebującymi wsparcia w codziennym funkcjonowaniu;\nc. działania na rzecz rozwoju mieszkalnictwa treningowego i wspomaganego poprzez tworzenie miejsc pobytu okresowego i stałego w nowo tworzonych lub istniejących mieszkaniach treningowych lub mieszkaniach wspomaganych; \nd. usługi na rzecz specjalistycznego wsparcia dla osób doświadczających przemocy oraz osób uzależnionych od alkoholu lub innych substancji psychoaktywnych;\ne. usługi wsparcia dziennego osób wymagających intensywnego wsparcia po zakończeniu obowiązku szkolnego: osób z niepełnosprawnością intelektualną, zaburzeniami psychicznymi oraz ze spektrum autyzmu.\n2. Zwiększenie dostępu do zdeinstytucjonalizowanych i zintegrowanych usług społecznych w zakresie wsparcia rodziny (w tym wsparcia preadopcyjnego i postadopcyjnego) i pieczy zastępczej, w szczególności świadczonych w lokalnej społeczności, w oparciu o diagnozę sytuacji problemowej, zasobów, potencjału, potrzeb, m.in. poprzez:\na. rozwój usług wspierających rodzinę w prawidłowym pełnieniu jej funkcji, w tym działań profilaktycznych mających ograniczyć umieszczanie dzieci w pieczy zastępczej;\nb. wspieranie procesu deinstytucjonalizacji pieczy zastępczej obejmujące działania prowadzące do powstawania rodzinnych form pieczy zastępczej;\nc. usługi wsparcia dziennego dzieci i młodzieży doświadczającej problemów opiekuńczo wychowawczych poprzez takie usługi jak m.in. placówki wsparcia dziennego i streetworkingu.\n3. Rozwój usług wspierających osoby objęte pieczą zastępczą, w tym osoby usamodzielniane z uwzględnieniem diagnozy sytuacji problemowej, zasobów, potencjału, predyspozycji, potrzeb, z wykorzystaniem usług aktywnej integracji.\n4. Rozwój usług opieki długoterminowej świadczonej w formie zdeinstytucjonalizowanej, jako działania medyczne lub społeczne polegające na świadczeniu długotrwałej opieki pielęgniarskiej, rehabilitacji, świadczeń terapeutycznych i usług pielęgnacyjno - opiekuńczych osobom przewlekle chorym i potrzebującym wsparcia w codziennym funkcjonowaniu, które nie wymagają hospitalizacji w warunkach oddziału szpitalnego oraz kontynuacji leczenia farmakologicznego i dietetycznego.","Organizacje społeczne i związki wyznaniowe","Lokalne Grupy Działania","II kwartał 2025","2025-04-28","II kwartał 2025","2025-06-30",1509343.21,137213.01999999999,"obszar LGD","Urząd Marszałkowski Województwa Pomorskiego (Departament Programów Rozwoju Obszarów Wiejskich)","niekonkurencyjny","EFS+.CP4.K",{"$f":"VLOOKUP(T89,Arkusz2!$G$2:$I$34,3,0)","v":"Zwiększanie równego i szybkiego dostępu do dobrej jakości, trwałych i przystępnych cenowo usług, w tym usług, które wspierają dostęp do mieszkań oraz opieki skoncentrowanej na osobie, w tym opieki zdrowotnej; modernizacja systemów ochrony socjalnej, w tym wspieranie dostępu do ochrony socjalnej, ze szczególnym uwzględnieniem dzieci i grup w niekorzystnej sytuacji; poprawa dostępności, w tym dla osób z niepełnosprawnościami, skuteczności i odporności systemów ochrony zdrowia i usług opieki długoterminowej"},{"$f":"VLOOKUP(D89,Arkusz2!O69:P1206,2,0)","v":"EFS+"},"Wskazana kwota przewidywana na dofinansowanie stanowi całą alokację przewidzianą w ramach Działania dla wskazanej LGD.       \n https://dprow.pomorskie.eu/harmonogram-naborow/nabory-oglaszane-przez-lgd-2021-2027/"]
["FEPM","05","20",{"$f":"_xlfn.CONCAT(A90,\".\",B90,\".\",C90)","v":"FEPM.05.20"},{"$f":"VLOOKUP(D90,Arkusz2!$D$2:$E$1137,2,0)","v":"Usługi społeczne i zdrowotne – RLKS"},"RKLS","Nabór wniosków o dofinansowanie projektów dla Działania 5.20. Usługi społeczne i zdrowotne - RLKS FEP 2021-2027 - w zakresie projektów grantowych\n\nWnioskodawca:\nLokalna Grupa Działania \"Kaszubska Droga\"","1. Zwiększenie dostępu do zdeinstytucjonalizowanych, zindywidualizowanych i zintegrowanych usług społecznych, świadczonych w lokalnej społeczności, w oparciu o diagnozę sytuacji problemowej, m.in. poprzez:\na. rozwój usług opiekuńczych i specjalistycznych usług opiekuńczych oraz usług asystenckich dla osób z niepełnosprawnościami, w tym prowadzonych w miejscu zamieszkania;\nb. opieka wytchnieniowa oraz działania wspierające opiekunów faktycznych w opiece nad osobami potrzebującymi wsparcia w codziennym funkcjonowaniu;\nc. działania na rzecz rozwoju mieszkalnictwa treningowego i wspomaganego poprzez tworzenie miejsc pobytu okresowego i stałego w nowo tworzonych lub istniejących mieszkaniach treningowych lub mieszkaniach wspomaganych; \nd. usługi na rzecz specjalistycznego wsparcia dla osób doświadczających przemocy oraz osób uzależnionych od alkoholu lub innych substancji psychoaktywnych;\ne. usługi wsparcia dziennego osób wymagających intensywnego wsparcia po zakończeniu obowiązku szkolnego: osób z niepełnosprawnością intelektualną, zaburzeniami psychicznymi oraz ze spektrum autyzmu.\n2. Zwiększenie dostępu do zdeinstytucjonalizowanych i zintegrowanych usług społecznych w zakresie wsparcia rodziny (w tym wsparcia preadopcyjnego i postadopcyjnego) i pieczy zastępczej, w szczególności świadczonych w lokalnej społeczności, w oparciu o diagnozę sytuacji problemowej, zasobów, potencjału, potrzeb, m.in. poprzez:\na. rozwój usług wspierających rodzinę w prawidłowym pełnieniu jej funkcji, w tym działań profilaktycznych mających ograniczyć umieszczanie dzieci w pieczy zastępczej;\nb. wspieranie procesu deinstytucjonalizacji pieczy zastępczej obejmujące działania prowadzące do powstawania rodzinnych form pieczy zastępczej;\nc. usługi wsparcia dziennego dzieci i młodzieży doświadczającej problemów opiekuńczo wychowawczych poprzez takie usługi jak m.in. placówki wsparcia dziennego i streetworkingu.\n3. Rozwój usług wspierających osoby objęte pieczą zastępczą, w tym osoby usamodzielniane z uwzględnieniem diagnozy sytuacji problemowej, zasobów, potencjału, predyspozycji, potrzeb, z wykorzystaniem usług aktywnej integracji.\n4. Rozwój usług opieki długoterminowej świadczonej w formie zdeinstytucjonalizowanej, jako działania medyczne lub społeczne polegające na świadczeniu długotrwałej opieki pielęgniarskiej, rehabilitacji, świadczeń terapeutycznych i usług pielęgnacyjno - opiekuńczych osobom przewlekle chorym i potrzebującym wsparcia w codziennym funkcjonowaniu, które nie wymagają hospitalizacji w warunkach oddziału szpitalnego oraz kontynuacji leczenia farmakologicznego i dietetycznego.","Organizacje społeczne i związki wyznaniowe","Lokalne Grupy Działania","II kwartał 2025","2025-04-28","II kwartał 2025","2025-06-30",2698815.26,245346.84,"obszar LGD","Urząd Marszałkowski Województwa Pomorskiego (Departament Programów Rozwoju Obszarów Wiejskich)","niekonkurencyjny","EFS+.CP4.K",{"$f":"VLOOKUP(T90,Arkusz2!$G$2:$I$34,3,0)","v":"Zwiększanie równego i szybkiego dostępu do dobrej jakości, trwałych i przystępnych cenowo usług, w tym usług, które wspierają dostęp do mieszkań oraz opieki skoncentrowanej na osobie, w tym opieki zdrowotnej; modernizacja systemów ochrony socjalnej, w tym wspieranie dostępu do ochrony socjalnej, ze szczególnym uwzględnieniem dzieci i grup w niekorzystnej sytuacji; poprawa dostępności, w tym dla osób z niepełnosprawnościami, skuteczności i odporności systemów ochrony zdrowia i usług opieki długoterminowej"},{"$f":"VLOOKUP(D90,Arkusz2!O70:P1207,2,0)","v":"EFS+"},"Wskazana kwota przewidywana na dofinansowanie stanowi całą alokację przewidzianą w ramach Działania dla wskazanej LGD.       \n https://dprow.pomorskie.eu/harmonogram-naborow/nabory-oglaszane-przez-lgd-2021-2027/"]
["FEPM","05","20","FEPM.05.20",{"$f":"VLOOKUP(D91,Arkusz2!$D$2:$E$1137,2,0)","v":"Usługi społeczne i zdrowotne – RLKS"},"RKLS","Nabór wniosków o dofinansowanie projektów dla Działania 5.20. Usługi społeczne i zdrowotne - RLKS FEP 2021-2027 - w zakresie projektów grantowych\n\nWnioskodawca:\nLokalna Grupa Działania \"Chata Kociewia\"","1. Zwiększenie dostępu do zdeinstytucjonalizowanych, zindywidualizowanych i zintegrowanych usług społecznych, świadczonych w lokalnej społeczności, w oparciu o diagnozę sytuacji problemowej, m.in. poprzez:\na. rozwój usług opiekuńczych i specjalistycznych usług opiekuńczych oraz usług asystenckich dla osób z niepełnosprawnościami, w tym prowadzonych w miejscu zamieszkania;\nb. opieka wytchnieniowa oraz działania wspierające opiekunów faktycznych w opiece nad osobami potrzebującymi wsparcia w codziennym funkcjonowaniu;\nc. działania na rzecz rozwoju mieszkalnictwa treningowego i wspomaganego poprzez tworzenie miejsc pobytu okresowego i stałego w nowo tworzonych lub istniejących mieszkaniach treningowych lub mieszkaniach wspomaganych; \nd. usługi na rzecz specjalistycznego wsparcia dla osób doświadczających przemocy oraz osób uzależnionych od alkoholu lub innych substancji psychoaktywnych;\ne. usługi wsparcia dziennego osób wymagających intensywnego wsparcia po zakończeniu obowiązku szkolnego: osób z niepełnosprawnością intelektualną, zaburzeniami psychicznymi oraz ze spektrum autyzmu.\n2. Zwiększenie dostępu do zdeinstytucjonalizowanych i zintegrowanych usług społecznych w zakresie wsparcia rodziny (w tym wsparcia preadopcyjnego i postadopcyjnego) i pieczy zastępczej, w szczególności świadczonych w lokalnej społeczności, w oparciu o diagnozę sytuacji problemowej, zasobów, potencjału, potrzeb, m.in. poprzez:\na. rozwój usług wspierających rodzinę w prawidłowym pełnieniu jej funkcji, w tym działań profilaktycznych mających ograniczyć umieszczanie dzieci w pieczy zastępczej;\nb. wspieranie procesu deinstytucjonalizacji pieczy zastępczej obejmujące działania prowadzące do powstawania rodzinnych form pieczy zastępczej;\nc. usługi wsparcia dziennego dzieci i młodzieży doświadczającej problemów opiekuńczo wychowawczych poprzez takie usługi jak m.in. placówki wsparcia dziennego i streetworkingu.\n3. Rozwój usług wspierających osoby objęte pieczą zastępczą, w tym osoby usamodzielniane z uwzględnieniem diagnozy sytuacji problemowej, zasobów, potencjału, predyspozycji, potrzeb, z wykorzystaniem usług aktywnej integracji.\n4. Rozwój usług opieki długoterminowej świadczonej w formie zdeinstytucjonalizowanej, jako działania medyczne lub społeczne polegające na świadczeniu długotrwałej opieki pielęgniarskiej, rehabilitacji, świadczeń terapeutycznych i usług pielęgnacyjno - opiekuńczych osobom przewlekle chorym i potrzebującym wsparcia w codziennym funkcjonowaniu, które nie wymagają hospitalizacji w warunkach oddziału szpitalnego oraz kontynuacji leczenia farmakologicznego i dietetycznego.","Organizacje społeczne i związki wyznaniowe","Lokalne Grupy Działania","II kwartał 2025","2025-04-28","II kwartał 2025","2025-06-30",3444950.26,313177.3,"obszar LGD","Urząd Marszałkowski Województwa Pomorskiego (Departament Programów Rozwoju Obszarów Wiejskich)","niekonkurencyjny","EFS+.CP4.K",{"$f":"VLOOKUP(T91,Arkusz2!$G$2:$I$34,3,0)","v":"Zwiększanie równego i szybkiego dostępu do dobrej jakości, trwałych i przystępnych cenowo usług, w tym usług, które wspierają dostęp do mieszkań oraz opieki skoncentrowanej na osobie, w tym opieki zdrowotnej; modernizacja systemów ochrony socjalnej, w tym wspieranie dostępu do ochrony socjalnej, ze szczególnym uwzględnieniem dzieci i grup w niekorzystnej sytuacji; poprawa dostępności, w tym dla osób z niepełnosprawnościami, skuteczności i odporności systemów ochrony zdrowia i usług opieki długoterminowej"},{"$f":"VLOOKUP(D91,Arkusz2!O71:P1208,2,0)","v":"EFS+"},"Wskazana kwota przewidywana na dofinansowanie stanowi całą alokację przewidzianą w ramach Działania dla wskazanej LGD.       \n https://dprow.pomorskie.eu/harmonogram-naborow/nabory-oglaszane-przez-lgd-2021-2027/"]
["FEPM","05","20",{"$f":"_xlfn.CONCAT(A92,\".\",B92,\".\",C92)","v":"FEPM.05.20"},{"$f":"VLOOKUP(D92,Arkusz2!$D$2:$E$1137,2,0)","v":"Usługi społeczne i zdrowotne – RLKS"},"RKLS","Nabór wniosków o dofinansowanie projektów dla Działania 5.20. Usługi społeczne i zdrowotne - RLKS FEP 2021-2027 - w zakresie projektów grantowych\n\nWnioskodawca:\nStowarzyszenie Lokalna Grupa Działania Sandry Brdy","1. Zwiększenie dostępu do zdeinstytucjonalizowanych, zindywidualizowanych i zintegrowanych usług społecznych, świadczonych w lokalnej społeczności, w oparciu o diagnozę sytuacji problemowej, m.in. poprzez:\na. rozwój usług opiekuńczych i specjalistycznych usług opiekuńczych oraz usług asystenckich dla osób z niepełnosprawnościami, w tym prowadzonych w miejscu zamieszkania;\nb. opieka wytchnieniowa oraz działania wspierające opiekunów faktycznych w opiece nad osobami potrzebującymi wsparcia w codziennym funkcjonowaniu;\nc. działania na rzecz rozwoju mieszkalnictwa treningowego i wspomaganego poprzez tworzenie miejsc pobytu okresowego i stałego w nowo tworzonych lub istniejących mieszkaniach treningowych lub mieszkaniach wspomaganych; \nd. usługi na rzecz specjalistycznego wsparcia dla osób doświadczających przemocy oraz osób uzależnionych od alkoholu lub innych substancji psychoaktywnych;\ne. usługi wsparcia dziennego osób wymagających intensywnego wsparcia po zakończeniu obowiązku szkolnego: osób z niepełnosprawnością intelektualną, zaburzeniami psychicznymi oraz ze spektrum autyzmu.\n2. Zwiększenie dostępu do zdeinstytucjonalizowanych i zintegrowanych usług społecznych w zakresie wsparcia rodziny (w tym wsparcia preadopcyjnego i postadopcyjnego) i pieczy zastępczej, w szczególności świadczonych w lokalnej społeczności, w oparciu o diagnozę sytuacji problemowej, zasobów, potencjału, potrzeb, m.in. poprzez:\na. rozwój usług wspierających rodzinę w prawidłowym pełnieniu jej funkcji, w tym działań profilaktycznych mających ograniczyć umieszczanie dzieci w pieczy zastępczej;\nb. wspieranie procesu deinstytucjonalizacji pieczy zastępczej obejmujące działania prowadzące do powstawania rodzinnych form pieczy zastępczej;\nc. usługi wsparcia dziennego dzieci i młodzieży doświadczającej problemów opiekuńczo wychowawczych poprzez takie usługi jak m.in. placówki wsparcia dziennego i streetworkingu.\n3. Rozwój usług wspierających osoby objęte pieczą zastępczą, w tym osoby usamodzielniane z uwzględnieniem diagnozy sytuacji problemowej, zasobów, potencjału, predyspozycji, potrzeb, z wykorzystaniem usług aktywnej integracji.\n4. Rozwój usług opieki długoterminowej świadczonej w formie zdeinstytucjonalizowanej, jako działania medyczne lub społeczne polegające na świadczeniu długotrwałej opieki pielęgniarskiej, rehabilitacji, świadczeń terapeutycznych i usług pielęgnacyjno - opiekuńczych osobom przewlekle chorym i potrzebującym wsparcia w codziennym funkcjonowaniu, które nie wymagają hospitalizacji w warunkach oddziału szpitalnego oraz kontynuacji leczenia farmakologicznego i dietetycznego.","Organizacje społeczne i związki wyznaniowe","Lokalne Grupy Działania","II kwartał 2025","2025-04-28","II kwartał 2025","2025-06-30",1440676.53,130970.59,"obszar LGD","Urząd Marszałkowski Województwa Pomorskiego (Departament Programów Rozwoju Obszarów Wiejskich)","niekonkurencyjny","EFS+.CP4.K",{"$f":"VLOOKUP(T92,Arkusz2!$G$2:$I$34,3,0)","v":"Zwiększanie równego i szybkiego dostępu do dobrej jakości, trwałych i przystępnych cenowo usług, w tym usług, które wspierają dostęp do mieszkań oraz opieki skoncentrowanej na osobie, w tym opieki zdrowotnej; modernizacja systemów ochrony socjalnej, w tym wspieranie dostępu do ochrony socjalnej, ze szczególnym uwzględnieniem dzieci i grup w niekorzystnej sytuacji; poprawa dostępności, w tym dla osób z niepełnosprawnościami, skuteczności i odporności systemów ochrony zdrowia i usług opieki długoterminowej"},{"$f":"VLOOKUP(D92,Arkusz2!O71:P1208,2,0)","v":"EFS+"},"Wskazana kwota przewidywana na dofinansowanie stanowi całą alokację przewidzianą w ramach Działania dla wskazanej LGD.       \n https://dprow.pomorskie.eu/harmonogram-naborow/nabory-oglaszane-przez-lgd-2021-2027/"]
["FEPM","05","20","FEPM.05.20",{"$f":"VLOOKUP(D93,Arkusz2!$D$2:$E$1137,2,0)","v":"Usługi społeczne i zdrowotne – RLKS"},"RKLS","Nabór wniosków o dofinansowanie projektów dla Działania 5.20. Usługi społeczne i zdrowotne - RLKS FEP 2021-2027 - w zakresie projektów grantowych\n\nWnioskodawca:\nStowarzyszenie Turystyczne Kaszuby","1. Zwiększenie dostępu do zdeinstytucjonalizowanych, zindywidualizowanych i zintegrowanych usług społecznych, świadczonych w lokalnej społeczności, w oparciu o diagnozę sytuacji problemowej, m.in. poprzez:\na. rozwój usług opiekuńczych i specjalistycznych usług opiekuńczych oraz usług asystenckich dla osób z niepełnosprawnościami, w tym prowadzonych w miejscu zamieszkania;\nb. opieka wytchnieniowa oraz działania wspierające opiekunów faktycznych w opiece nad osobami potrzebującymi wsparcia w codziennym funkcjonowaniu;\nc. działania na rzecz rozwoju mieszkalnictwa treningowego i wspomaganego poprzez tworzenie miejsc pobytu okresowego i stałego w nowo tworzonych lub istniejących mieszkaniach treningowych lub mieszkaniach wspomaganych; \nd. usługi na rzecz specjalistycznego wsparcia dla osób doświadczających przemocy oraz osób uzależnionych od alkoholu lub innych substancji psychoaktywnych;\ne. usługi wsparcia dziennego osób wymagających intensywnego wsparcia po zakończeniu obowiązku szkolnego: osób z niepełnosprawnością intelektualną, zaburzeniami psychicznymi oraz ze spektrum autyzmu.\n2. Zwiększenie dostępu do zdeinstytucjonalizowanych i zintegrowanych usług społecznych w zakresie wsparcia rodziny (w tym wsparcia preadopcyjnego i postadopcyjnego) i pieczy zastępczej, w szczególności świadczonych w lokalnej społeczności, w oparciu o diagnozę sytuacji problemowej, zasobów, potencjału, potrzeb, m.in. poprzez:\na. rozwój usług wspierających rodzinę w prawidłowym pełnieniu jej funkcji, w tym działań profilaktycznych mających ograniczyć umieszczanie dzieci w pieczy zastępczej;\nb. wspieranie procesu deinstytucjonalizacji pieczy zastępczej obejmujące działania prowadzące do powstawania rodzinnych form pieczy zastępczej;\nc. usługi wsparcia dziennego dzieci i młodzieży doświadczającej problemów opiekuńczo wychowawczych poprzez takie usługi jak m.in. placówki wsparcia dziennego i streetworkingu.\n3. Rozwój usług wspierających osoby objęte pieczą zastępczą, w tym osoby usamodzielniane z uwzględnieniem diagnozy sytuacji problemowej, zasobów, potencjału, predyspozycji, potrzeb, z wykorzystaniem usług aktywnej integracji.\n4. Rozwój usług opieki długoterminowej świadczonej w formie zdeinstytucjonalizowanej, jako działania medyczne lub społeczne polegające na świadczeniu długotrwałej opieki pielęgniarskiej, rehabilitacji, świadczeń terapeutycznych i usług pielęgnacyjno - opiekuńczych osobom przewlekle chorym i potrzebującym wsparcia w codziennym funkcjonowaniu, które nie wymagają hospitalizacji w warunkach oddziału szpitalnego oraz kontynuacji leczenia farmakologicznego i dietetycznego.","Organizacje społeczne i związki wyznaniowe","Lokalne Grupy Działania","III kwartał 2025",null,"III kwartał 2025",null,4826442.95,438767.54,"obszar LGD","Urząd Marszałkowski Województwa Pomorskiego (Departament Programów Rozwoju Obszarów Wiejskich)","niekonkurencyjny","EFS+.CP4.K",{"$f":"VLOOKUP(T93,Arkusz2!$G$2:$I$34,3,0)","v":"Zwiększanie równego i szybkiego dostępu do dobrej jakości, trwałych i przystępnych cenowo usług, w tym usług, które wspierają dostęp do mieszkań oraz opieki skoncentrowanej na osobie, w tym opieki zdrowotnej; modernizacja systemów ochrony socjalnej, w tym wspieranie dostępu do ochrony socjalnej, ze szczególnym uwzględnieniem dzieci i grup w niekorzystnej sytuacji; poprawa dostępności, w tym dla osób z niepełnosprawnościami, skuteczności i odporności systemów ochrony zdrowia i usług opieki długoterminowej"},{"$f":"VLOOKUP(D93,Arkusz2!O72:P1209,2,0)","v":"EFS+"},"Wskazana kwota przewidywana na dofinansowanie stanowi całą alokację przewidzianą w ramach Działania dla wskazanej LGD.       \n https://dprow.pomorskie.eu/harmonogram-naborow/nabory-oglaszane-przez-lgd-2021-2027/"]
["FEPM","05","20","FEPM.05.20",{"$f":"VLOOKUP(D94,Arkusz2!$D$2:$E$1137,2,0)","v":"Usługi społeczne i zdrowotne – RLKS"},"RKLS","Nabór wniosków o dofinansowanie projektów dla Działania 5.20. Usługi społeczne i zdrowotne - RLKS FEP 2021-2027 - w zakresie projektów grantowych\n\nWnioskodawca:\nStowarzyszenie \"Bursztynowy Pasaż\"","1. Zwiększenie dostępu do zdeinstytucjonalizowanych, zindywidualizowanych i zintegrowanych usług społecznych, świadczonych w lokalnej społeczności, w oparciu o diagnozę sytuacji problemowej, m.in. poprzez:\na. rozwój usług opiekuńczych i specjalistycznych usług opiekuńczych oraz usług asystenckich dla osób z niepełnosprawnościami, w tym prowadzonych w miejscu zamieszkania;\nb. opieka wytchnieniowa oraz działania wspierające opiekunów faktycznych w opiece nad osobami potrzebującymi wsparcia w codziennym funkcjonowaniu;\nc. działania na rzecz rozwoju mieszkalnictwa treningowego i wspomaganego poprzez tworzenie miejsc pobytu okresowego i stałego w nowo tworzonych lub istniejących mieszkaniach treningowych lub mieszkaniach wspomaganych; \nd. usługi na rzecz specjalistycznego wsparcia dla osób doświadczających przemocy oraz osób uzależnionych od alkoholu lub innych substancji psychoaktywnych;\ne. usługi wsparcia dziennego osób wymagających intensywnego wsparcia po zakończeniu obowiązku szkolnego: osób z niepełnosprawnością intelektualną, zaburzeniami psychicznymi oraz ze spektrum autyzmu.\n2. Zwiększenie dostępu do zdeinstytucjonalizowanych i zintegrowanych usług społecznych w zakresie wsparcia rodziny (w tym wsparcia preadopcyjnego i postadopcyjnego) i pieczy zastępczej, w szczególności świadczonych w lokalnej społeczności, w oparciu o diagnozę sytuacji problemowej, zasobów, potencjału, potrzeb, m.in. poprzez:\na. rozwój usług wspierających rodzinę w prawidłowym pełnieniu jej funkcji, w tym działań profilaktycznych mających ograniczyć umieszczanie dzieci w pieczy zastępczej;\nb. wspieranie procesu deinstytucjonalizacji pieczy zastępczej obejmujące działania prowadzące do powstawania rodzinnych form pieczy zastępczej;\nc. usługi wsparcia dziennego dzieci i młodzieży doświadczającej problemów opiekuńczo wychowawczych poprzez takie usługi jak m.in. placówki wsparcia dziennego i streetworkingu.\n3. Rozwój usług wspierających osoby objęte pieczą zastępczą, w tym osoby usamodzielniane z uwzględnieniem diagnozy sytuacji problemowej, zasobów, potencjału, predyspozycji, potrzeb, z wykorzystaniem usług aktywnej integracji.\n4. Rozwój usług opieki długoterminowej świadczonej w formie zdeinstytucjonalizowanej, jako działania medyczne lub społeczne polegające na świadczeniu długotrwałej opieki pielęgniarskiej, rehabilitacji, świadczeń terapeutycznych i usług pielęgnacyjno - opiekuńczych osobom przewlekle chorym i potrzebującym wsparcia w codziennym funkcjonowaniu, które nie wymagają hospitalizacji w warunkach oddziału szpitalnego oraz kontynuacji leczenia farmakologicznego i dietetycznego.","Organizacje społeczne i związki wyznaniowe","Lokalne Grupy Działania","III kwartał 2025",null,"IV kwartał 2025",null,1509343.21,137213.01999999999,"obszar LGD","Urząd Marszałkowski Województwa Pomorskiego (Departament Programów Rozwoju Obszarów Wiejskich)","niekonkurencyjny","EFS+.CP4.K",{"$f":"VLOOKUP(T94,Arkusz2!$G$2:$I$34,3,0)","v":"Zwiększanie równego i szybkiego dostępu do dobrej jakości, trwałych i przystępnych cenowo usług, w tym usług, które wspierają dostęp do mieszkań oraz opieki skoncentrowanej na osobie, w tym opieki zdrowotnej; modernizacja systemów ochrony socjalnej, w tym wspieranie dostępu do ochrony socjalnej, ze szczególnym uwzględnieniem dzieci i grup w niekorzystnej sytuacji; poprawa dostępności, w tym dla osób z niepełnosprawnościami, skuteczności i odporności systemów ochrony zdrowia i usług opieki długoterminowej"},{"$f":"VLOOKUP(D94,Arkusz2!O74:P1211,2,0)","v":"EFS+"},"Wskazana kwota przewidywana na dofinansowanie stanowi całą alokację przewidzianą w ramach Działania dla wskazanej LGD.       \n https://dprow.pomorskie.eu/harmonogram-naborow/nabory-oglaszane-przez-lgd-2021-2027/"]
["FEPM","05","20","FEPM.05.20",{"$f":"VLOOKUP(D95,Arkusz2!$D$2:$E$1137,2,0)","v":"Usługi społeczne i zdrowotne – RLKS"},"RKLS","Nabór wniosków o dofinansowanie projektów dla Działania 5.20. Usługi społeczne i zdrowotne - RLKS FEP 2021-2027 - w zakresie projektów grantowych\n\nWnioskodawca:\nStowarzyszenie Północnokaszubska Lokalna Grupa Rybacka","2. Zwiększenie dostępu do zdeinstytucjonalizowanych, zindywidualizowanych i zintegrowanych usług społecznych, świadczonych w lokalnej społeczności, w oparciu o diagnozę sytuacji problemowej, m.in. poprzez:\na. rozwój usług opiekuńczych i specjalistycznych usług opiekuńczych oraz usług asystenckich dla osób z niepełnosprawnościami, w tym prowadzonych w miejscu zamieszkania;\nb. opieka wytchnieniowa oraz działania wspierające opiekunów faktycznych w opiece nad osobami potrzebującymi wsparcia w codziennym funkcjonowaniu;\nc. działania na rzecz rozwoju mieszkalnictwa treningowego i wspomaganego poprzez tworzenie miejsc pobytu okresowego i stałego w nowo tworzonych lub istniejących mieszkaniach treningowych lub mieszkaniach wspomaganych; \nd. usługi na rzecz specjalistycznego wsparcia dla osób doświadczających przemocy oraz osób uzależnionych od alkoholu lub innych substancji psychoaktywnych;\ne. usługi wsparcia dziennego osób wymagających intensywnego wsparcia po zakończeniu obowiązku szkolnego: osób z niepełnosprawnością intelektualną, zaburzeniami psychicznymi oraz ze spektrum autyzmu.\n2. Zwiększenie dostępu do zdeinstytucjonalizowanych i zintegrowanych usług społecznych w zakresie wsparcia rodziny (w tym wsparcia preadopcyjnego i postadopcyjnego) i pieczy zastępczej, w szczególności świadczonych w lokalnej społeczności, w oparciu o diagnozę sytuacji problemowej, zasobów, potencjału, potrzeb, m.in. poprzez:\na. rozwój usług wspierających rodzinę w prawidłowym pełnieniu jej funkcji, w tym działań profilaktycznych mających ograniczyć umieszczanie dzieci w pieczy zastępczej;\nb. wspieranie procesu deinstytucjonalizacji pieczy zastępczej obejmujące działania prowadzące do powstawania rodzinnych form pieczy zastępczej;\nc. usługi wsparcia dziennego dzieci i młodzieży doświadczającej problemów opiekuńczo wychowawczych poprzez takie usługi jak m.in. placówki wsparcia dziennego i streetworkingu.\n3. Rozwój usług wspierających osoby objęte pieczą zastępczą, w tym osoby usamodzielniane z uwzględnieniem diagnozy sytuacji problemowej, zasobów, potencjału, predyspozycji, potrzeb, z wykorzystaniem usług aktywnej integracji.\n4. Rozwój usług opieki długoterminowej świadczonej w formie zdeinstytucjonalizowanej, jako działania medyczne lub społeczne polegające na świadczeniu długotrwałej opieki pielęgniarskiej, rehabilitacji, świadczeń terapeutycznych i usług pielęgnacyjno - opiekuńczych osobom przewlekle chorym i potrzebującym wsparcia w codziennym funkcjonowaniu, które nie wymagają hospitalizacji w warunkach oddziału szpitalnego oraz kontynuacji leczenia farmakologicznego i dietetycznego.","Organizacje społeczne i związki wyznaniowe","Lokalne Grupy Działania","III kwartał 2025",null,"IV kwartał 2025",null,3384402.28,307672.93,"obszar LGD","Urząd Marszałkowski Województwa Pomorskiego (Departament Programów Rozwoju Obszarów Wiejskich)","niekonkurencyjny","EFS+.CP4.K",{"$f":"VLOOKUP(T95,Arkusz2!$G$2:$I$34,3,0)","v":"Zwiększanie równego i szybkiego dostępu do dobrej jakości, trwałych i przystępnych cenowo usług, w tym usług, które wspierają dostęp do mieszkań oraz opieki skoncentrowanej na osobie, w tym opieki zdrowotnej; modernizacja systemów ochrony socjalnej, w tym wspieranie dostępu do ochrony socjalnej, ze szczególnym uwzględnieniem dzieci i grup w niekorzystnej sytuacji; poprawa dostępności, w tym dla osób z niepełnosprawnościami, skuteczności i odporności systemów ochrony zdrowia i usług opieki długoterminowej"},{"$f":"VLOOKUP(D95,Arkusz2!O75:P1212,2,0)","v":"EFS+"},"Wskazana kwota przewidywana na dofinansowanie stanowi całą alokację przewidzianą w ramach Działania dla wskazanej LGD.       \n https://dprow.pomorskie.eu/harmonogram-naborow/nabory-oglaszane-przez-lgd-2021-2027/"]
["FEPM","05","20","FEPM.05.20",{"$f":"VLOOKUP(D96,Arkusz2!$D$2:$E$1137,2,0)","v":"Usługi społeczne i zdrowotne – RLKS"},"RKLS","Nabór wniosków o dofinansowanie projektów dla Działania 5.20. Usługi społeczne i zdrowotne - RLKS FEP 2021-2027 - w zakresie projektów grantowych\n\nWnioskodawca:\nStowarzyszenie Lokalna Grupa Działania Sandry Brdy","1. Zwiększenie dostępu do zdeinstytucjonalizowanych, zindywidualizowanych i zintegrowanych usług społecznych, świadczonych w lokalnej społeczności, w oparciu o diagnozę sytuacji problemowej, m.in. poprzez:\na. rozwój usług opiekuńczych i specjalistycznych usług opiekuńczych oraz usług asystenckich dla osób z niepełnosprawnościami, w tym prowadzonych w miejscu zamieszkania;\nb. opieka wytchnieniowa oraz działania wspierające opiekunów faktycznych w opiece nad osobami potrzebującymi wsparcia w codziennym funkcjonowaniu;\nc. działania na rzecz rozwoju mieszkalnictwa treningowego i wspomaganego poprzez tworzenie miejsc pobytu okresowego i stałego w nowo tworzonych lub istniejących mieszkaniach treningowych lub mieszkaniach wspomaganych; \nd. usługi na rzecz specjalistycznego wsparcia dla osób doświadczających przemocy oraz osób uzależnionych od alkoholu lub innych substancji psychoaktywnych;\ne. usługi wsparcia dziennego osób wymagających intensywnego wsparcia po zakończeniu obowiązku szkolnego: osób z niepełnosprawnością intelektualną, zaburzeniami psychicznymi oraz ze spektrum autyzmu.\n2. Zwiększenie dostępu do zdeinstytucjonalizowanych i zintegrowanych usług społecznych w zakresie wsparcia rodziny (w tym wsparcia preadopcyjnego i postadopcyjnego) i pieczy zastępczej, w szczególności świadczonych w lokalnej społeczności, w oparciu o diagnozę sytuacji problemowej, zasobów, potencjału, potrzeb, m.in. poprzez:\na. rozwój usług wspierających rodzinę w prawidłowym pełnieniu jej funkcji, w tym działań profilaktycznych mających ograniczyć umieszczanie dzieci w pieczy zastępczej;\nb. wspieranie procesu deinstytucjonalizacji pieczy zastępczej obejmujące działania prowadzące do powstawania rodzinnych form pieczy zastępczej;\nc. usługi wsparcia dziennego dzieci i młodzieży doświadczającej problemów opiekuńczo wychowawczych poprzez takie usługi jak m.in. placówki wsparcia dziennego i streetworkingu.\n3. Rozwój usług wspierających osoby objęte pieczą zastępczą, w tym osoby usamodzielniane z uwzględnieniem diagnozy sytuacji problemowej, zasobów, potencjału, predyspozycji, potrzeb, z wykorzystaniem usług aktywnej integracji.\n4. Rozwój usług opieki długoterminowej świadczonej w formie zdeinstytucjonalizowanej, jako działania medyczne lub społeczne polegające na świadczeniu długotrwałej opieki pielęgniarskiej, rehabilitacji, świadczeń terapeutycznych i usług pielęgnacyjno - opiekuńczych osobom przewlekle chorym i potrzebującym wsparcia w codziennym funkcjonowaniu, które nie wymagają hospitalizacji w warunkach oddziału szpitalnego oraz kontynuacji leczenia farmakologicznego i dietetycznego.","Organizacje społeczne i związki wyznaniowe","Lokalne Grupy Działania","III kwartał 2025",null,"IV kwartał 2025",null,1440676.53,130970.59,"obszar LGD","Urząd Marszałkowski Województwa Pomorskiego (Departament Programów Rozwoju Obszarów Wiejskich)","niekonkurencyjny","EFS+.CP4.K",{"$f":"VLOOKUP(T96,Arkusz2!$G$2:$I$34,3,0)","v":"Zwiększanie równego i szybkiego dostępu do dobrej jakości, trwałych i przystępnych cenowo usług, w tym usług, które wspierają dostęp do mieszkań oraz opieki skoncentrowanej na osobie, w tym opieki zdrowotnej; modernizacja systemów ochrony socjalnej, w tym wspieranie dostępu do ochrony socjalnej, ze szczególnym uwzględnieniem dzieci i grup w niekorzystnej sytuacji; poprawa dostępności, w tym dla osób z niepełnosprawnościami, skuteczności i odporności systemów ochrony zdrowia i usług opieki długoterminowej"},{"$f":"VLOOKUP(D96,Arkusz2!O75:P1212,2,0)","v":"EFS+"},"Wskazana kwota przewidywana na dofinansowanie stanowi całą alokację przewidzianą w ramach Działania dla wskazanej LGD.       \n https://dprow.pomorskie.eu/harmonogram-naborow/nabory-oglaszane-przez-lgd-2021-2027/"]
["FEPM","05","20","FEPM.05.20",{"$f":"VLOOKUP(D97,Arkusz2!$D$2:$E$1137,2,0)","v":"Usługi społeczne i zdrowotne – RLKS"},"RKLS","Nabór wniosków o dofinansowanie projektów dla Działania 5.20. Usługi społeczne i zdrowotne - RLKS FEP 2021-2027 - w zakresie projektów grantowych\n\nWnioskodawca:\nStowarzyszenie Loklana Grupa Działania Stolem","1. Zwiększenie dostępu do zdeinstytucjonalizowanych, zindywidualizowanych i zintegrowanych usług społecznych, świadczonych w lokalnej społeczności, w oparciu o diagnozę sytuacji problemowej, m.in. poprzez:\na. rozwój usług opiekuńczych i specjalistycznych usług opiekuńczych oraz usług asystenckich dla osób z niepełnosprawnościami, w tym prowadzonych w miejscu zamieszkania;\nb. opieka wytchnieniowa oraz działania wspierające opiekunów faktycznych w opiece nad osobami potrzebującymi wsparcia w codziennym funkcjonowaniu;\nc. działania na rzecz rozwoju mieszkalnictwa treningowego i wspomaganego poprzez tworzenie miejsc pobytu okresowego i stałego w nowo tworzonych lub istniejących mieszkaniach treningowych lub mieszkaniach wspomaganych; \nd. usługi na rzecz specjalistycznego wsparcia dla osób doświadczających przemocy oraz osób uzależnionych od alkoholu lub innych substancji psychoaktywnych;\ne. usługi wsparcia dziennego osób wymagających intensywnego wsparcia po zakończeniu obowiązku szkolnego: osób z niepełnosprawnością intelektualną, zaburzeniami psychicznymi oraz ze spektrum autyzmu.\n2. Zwiększenie dostępu do zdeinstytucjonalizowanych i zintegrowanych usług społecznych w zakresie wsparcia rodziny (w tym wsparcia preadopcyjnego i postadopcyjnego) i pieczy zastępczej, w szczególności świadczonych w lokalnej społeczności, w oparciu o diagnozę sytuacji problemowej, zasobów, potencjału, potrzeb, m.in. poprzez:\na. rozwój usług wspierających rodzinę w prawidłowym pełnieniu jej funkcji, w tym działań profilaktycznych mających ograniczyć umieszczanie dzieci w pieczy zastępczej;\nb. wspieranie procesu deinstytucjonalizacji pieczy zastępczej obejmujące działania prowadzące do powstawania rodzinnych form pieczy zastępczej;\nc. usługi wsparcia dziennego dzieci i młodzieży doświadczającej problemów opiekuńczo wychowawczych poprzez takie usługi jak m.in. placówki wsparcia dziennego i streetworkingu.\n3. Rozwój usług wspierających osoby objęte pieczą zastępczą, w tym osoby usamodzielniane z uwzględnieniem diagnozy sytuacji problemowej, zasobów, potencjału, predyspozycji, potrzeb, z wykorzystaniem usług aktywnej integracji.\n4. Rozwój usług opieki długoterminowej świadczonej w formie zdeinstytucjonalizowanej, jako działania medyczne lub społeczne polegające na świadczeniu długotrwałej opieki pielęgniarskiej, rehabilitacji, świadczeń terapeutycznych i usług pielęgnacyjno - opiekuńczych osobom przewlekle chorym i potrzebującym wsparcia w codziennym funkcjonowaniu, które nie wymagają hospitalizacji w warunkach oddziału szpitalnego oraz kontynuacji leczenia farmakologicznego i dietetycznego.","Organizacje społeczne i związki wyznaniowe","Lokalne Grupy Działania","III kwartał 2025",null,"IV kwartał 2025",null,2343961.09,213087.37,"obszar LGD","Urząd Marszałkowski Województwa Pomorskiego (Departament Programów Rozwoju Obszarów Wiejskich)","niekonkurencyjny","EFS+.CP4.K",{"$f":"VLOOKUP(T97,Arkusz2!$G$2:$I$34,3,0)","v":"Zwiększanie równego i szybkiego dostępu do dobrej jakości, trwałych i przystępnych cenowo usług, w tym usług, które wspierają dostęp do mieszkań oraz opieki skoncentrowanej na osobie, w tym opieki zdrowotnej; modernizacja systemów ochrony socjalnej, w tym wspieranie dostępu do ochrony socjalnej, ze szczególnym uwzględnieniem dzieci i grup w niekorzystnej sytuacji; poprawa dostępności, w tym dla osób z niepełnosprawnościami, skuteczności i odporności systemów ochrony zdrowia i usług opieki długoterminowej"},{"$f":"VLOOKUP(D97,Arkusz2!O76:P1213,2,0)","v":"EFS+"},"Wskazana kwota przewidywana na dofinansowanie stanowi całą alokację przewidzianą w ramach Działania dla wskazanej LGD.       \n https://dprow.pomorskie.eu/harmonogram-naborow/nabory-oglaszane-przez-lgd-2021-2027/"]
["FEPM","06","03","FEPM.06.03",{"$f":"VLOOKUP(D98,Arkusz2!$D$2:$E$1137,2,0)","v":"Infrastruktura społeczna"},"Nie dotyczy",null,"1. Budowa, rozbudowa, roboty budowlane (przebudowa i remont) obiektów infrastruktury społecznej na rzecz mieszkalnictwa treningowego i wspomaganego wraz z niezbędnym zagospodarowaniem otoczenia.\n2. Wyposażenie mieszkań treningowych i wspomaganych oraz ich doposażenie w niezbędny sprzęt i środki trwałe (z wyłączeniem wyrobów i produktów jednorazowego użytku). \n\nUzupełniająco w ramach ww. typów projektów, możliwe będą również działania:\na. służące poprawie dostępności cyfrowej i informacyjno – komunikacyjnej oraz likwidacji barier architektonicznych w szczególności w oparciu o projektowanie uniwersalne lub zastosowanie racjonalnego usprawnienia oraz uwzględniające potrzeby osób z niepełnosprawnościami;\nb. służące zmniejszeniu energochłonności infrastruktury i przyczyniające się do zmniejszenia kosztów jej utrzymania i osiągnięcia neutralności klimatycznej.","Administracja publiczna, Organizacje społeczne i związki wyznaniowe, Służby publiczne","Jednostki Samorządu Terytorialnego, Jednostki organizacyjne działające w imieniu jednostek samorządu terytorialnego, Kościoły i związki wyznaniowe, Organizacje pozarządowe","II kwartał 2025","2025-04-30","II kwartał 2025","2025-06-04",73868423.769999996,7775623.7724000001,"całe województwo, z wyłączeniem obszarów uprawnionych do wsparcia w ramach Działania 6.4. Infrastruktura społeczna – ZIT na terenie obszaru metropolitalnego","Urząd Marszałkowski Województwa Pomorskiego\n(Departament Programów Regionalnych)","konkurencyjny","EFRR.CP4.III",{"$f":"VLOOKUP(T98,Arkusz2!$G$2:$I$34,3,0)","v":"Wspieranie włączenia społeczno-gospodarczego społeczności marginalizowanych, gospodarstw domowych o niskich dochodach oraz grup w niekorzystnej sytuacji, w tym osób o szczególnych potrzebach, dzięki zintegrowanym działaniom obejmującym usługi mieszkaniowe i usługi społeczne"},{"$f":"VLOOKUP(D98,Arkusz2!O77:P1214,2,0)","v":"EFRR"},"Ogłoszenie naboru - 24.04.2025 r.\n\nKwota alokacji w PLN przeliczona wg kursu Europejskiego Banku Centralnego z przedostatniego dnia kwotowania Komisji Europejskiej w miesiącu poprzedzającym miesiąc, w którym dokonuje się wyliczenia wartości alokacji zgodnie z Kontraktem Programowym (4,1308 z 27 lutego 2025 r.)."]
["FEPM","06","04",{"$f":"_xlfn.CONCAT(A99,\".\",B99,\".\",C99)","v":"FEPM.06.04"},{"$f":"VLOOKUP(D99,Arkusz2!$D$2:$E$1137,2,0)","v":"Infrastruktura społeczna – ZIT na terenie obszaru metropolitalnego"},"ZIT","\"Remont i adaptacja pomieszczeń świetlicy w Sztutowie w celu utworzenia placówki wsparcia dziennego\"\n\nWnioskodawca:\nGmina Sztutowo","1. Budowa, rozbudowa, roboty budowlane (przebudowa i remont) obiektów infrastruktury społecznej na rzecz usług o których mowa wyżej w lit. a) - e) wraz z niezbędnym zagospodarowaniem otoczenia;\n2. Wyposażenie obiektów infrastruktury społecznej oraz doposażenie w niezbędny sprzęt i środki trwałe (z wyłączeniem wyrobów i produktów jednorazowego użytku).\n\nUzupełniająco, w ramach ww. typów projektów, możliwe będą również działania:\na. służące poprawie dostępności cyfrowej i informacyjno – komunikacyjnej oraz likwidacji barier architektonicznych w szczególności w oparciu o projektowanie uniwersalne lub zastosowanie racjonalnego usprawnienia oraz uwzględniające potrzeby osób z niepełnosprawnościami;\nb. służące zmniejszeniu energochłonności infrastruktury i przyczyniające się do zmniejszenia kosztów jej utrzymania i osiągnięcia neutralności klimatycznej.","Administracja publiczna","Jednostki Samorządu Terytorialnego","II kwartał 2025","2025-06-04","II kwartał 2025","2025-06-25",167647,17647,"Obszar wskazany w Strategii ZIT dla Obszaru Metropolitalnego Gdańsk-Gdynia-Sopot.","Urząd Marszałkowski Województwa Pomorskiego\n(Departament Programów Regionalnych)","niekonkurencyjny","EFRR.CP4.III",{"$f":"VLOOKUP(T99,Arkusz2!$G$2:$I$34,3,0)","v":"Wspieranie włączenia społeczno-gospodarczego społeczności marginalizowanych, gospodarstw domowych o niskich dochodach oraz grup w niekorzystnej sytuacji, w tym osób o szczególnych potrzebach, dzięki zintegrowanym działaniom obejmującym usługi mieszkaniowe i usługi społeczne"},{"$f":"VLOOKUP(D99,Arkusz2!O79:P1216,2,0)","v":"EFRR"},"Udostępnienie regulaminu wyboru projektów - maj 2025\n\nKwota przewidziana na dofinansowanie: z Kart projektów wynikających z przedsięwzięć wskazanych w Strategi ZIT stanowiących załącznik do Porozumienia z dnia 27.02.2024 r. (Aneks nr 5 z dnia 10 lutego 2025 r.)"]
["FEPM","06","04","FEPM.06.04",{"$f":"VLOOKUP(D100,Arkusz2!$D$2:$E$1137,2,0)","v":"Infrastruktura społeczna – ZIT na terenie obszaru metropolitalnego"},"ZIT","\"Zakup wyposażenia do sal terapeutycznych w celu zapewniania zaplecza dla rozwoju systemu usług społecznych w mieście Puck\"\n\nWnioskodawca:\nGmina Miasta Puck","1. Budowa, rozbudowa, roboty budowlane (przebudowa i remont) wraz z niezbędnym zagospodarowaniem otoczenia, obiektów infrastruktury społecznej:\na. służącej realizacji specjalistycznych usług opiekuńczych, opiekuńczo-wychowawczych, asystenckich, specjalistycznych i innych wynikających z diagnozy grupy docelowej, w szczególności skierowanych do osób z niepełnosprawnościami, długotrwale i ciężko chorych lub seniorów,\nb. mieszkalnictwa treningowego i wspomaganego powiązanego z działaniami m.in. z obszaru aktywizacji społecznej i usług zdrowotnych,\nc. służącej interwencji kryzysowej,\nd. na rzecz osób w kryzysie bezdomności i dotkniętych wykluczeniem z dostępu do mieszkań,\ne. służącej wsparciu dziennemu dzieci i młodzieży oraz seniorów.\n2. Wyposażenie obiektów infrastruktury społecznej oraz doposażenie w niezbędny sprzęt i środki trwałe (z wyłączeniem wyrobów i produktów jednorazowego użytku).\n\nUzupełniająco, w ramach ww. typów projektów, możliwe będą również działania:\na. służące poprawie dostępności cyfrowej i informacyjno – komunikacyjnej oraz likwidacji barier architektonicznych w szczególności w oparciu o projektowanie uniwersalne lub zastosowanie racjonalnego usprawnienia oraz uwzględniające potrzeby osób z niepełnosprawnościami;\nb. służące zmniejszeniu energochłonności infrastruktury i przyczyniające się do zmniejszenia kosztów jej utrzymania i osiągnięcia neutralności klimatycznej.","Administracja publiczna","Jednostki Samorządu Terytorialnego","II kwartał 2025","2025-06-04","II kwartał 2025","2025-06-25",113000,13000,"Obszar wskazany w Strategii ZIT dla Obszaru Metropolitalnego Gdańsk-Gdynia-Sopot.","Urząd Marszałkowski Województwa Pomorskiego\n(Departament Programów Regionalnych)","niekonkurencyjny","EFRR.CP4.III",{"$f":"VLOOKUP(T100,Arkusz2!$G$2:$I$34,3,0)","v":"Wspieranie włączenia społeczno-gospodarczego społeczności marginalizowanych, gospodarstw domowych o niskich dochodach oraz grup w niekorzystnej sytuacji, w tym osób o szczególnych potrzebach, dzięki zintegrowanym działaniom obejmującym usługi mieszkaniowe i usługi społeczne"},{"$f":"VLOOKUP(D100,Arkusz2!O80:P1217,2,0)","v":"EFRR"},"Udostępnienie regulaminu wyboru projektów - maj 2025\n\nKwota przewidziana na dofinansowanie: z Kart projektów wynikających z przedsięwzięć wskazanych w Strategi ZIT stanowiących załącznik do Porozumienia z dnia 27.02.2024 r. (Aneks nr 6 z dnia 20 marca 2025 r.)"]
["FEPM","06","04",{"$f":"_xlfn.CONCAT(A101,\".\",B101,\".\",C101)","v":"FEPM.06.04"},{"$f":"VLOOKUP(D101,Arkusz2!$D$2:$E$1137,2,0)","v":"Infrastruktura społeczna – ZIT na terenie obszaru metropolitalnego"},"ZIT","\"Budowa Domu Dziennego Pobytu dla osób starszych i z niepełnosprawnościami w Sierakowicach\"\n\nWnioskodawca:\nGmina Sierakowice","1. Budowa, rozbudowa, roboty budowlane (przebudowa i remont) wraz z niezbędnym zagospodarowaniem otoczenia, obiektów infrastruktury społecznej:\na. służącej realizacji specjalistycznych usług opiekuńczych, opiekuńczo-wychowawczych, asystenckich, specjalistycznych i innych wynikających z diagnozy grupy docelowej, w szczególności skierowanych do osób z niepełnosprawnościami, długotrwale i ciężko chorych lub seniorów,\nb. mieszkalnictwa treningowego i wspomaganego powiązanego z działaniami m.in. z obszaru aktywizacji społecznej i usług zdrowotnych,\nc. służącej interwencji kryzysowej,\nd. na rzecz osób w kryzysie bezdomności i dotkniętych wykluczeniem z dostępu do mieszkań,\ne. służącej wsparciu dziennemu dzieci i młodzieży oraz seniorów.\n2. Wyposażenie obiektów infrastruktury społecznej oraz doposażenie w niezbędny sprzęt i środki trwałe (z wyłączeniem wyrobów i produktów jednorazowego użytku).\n\nUzupełniająco, w ramach ww. typów projektów, możliwe będą również działania:\na. służące poprawie dostępności cyfrowej i informacyjno – komunikacyjnej oraz likwidacji barier architektonicznych w szczególności w oparciu o projektowanie uniwersalne lub zastosowanie racjonalnego usprawnienia oraz uwzględniające potrzeby osób z niepełnosprawnościami;\nb. służące zmniejszeniu energochłonności infrastruktury i przyczyniające się do zmniejszenia kosztów jej utrzymania i osiągnięcia neutralności klimatycznej.","Administracja publiczna","Jednostki Samorządu Terytorialnego","II kwartał 2025","2025-06-04","II kwartał 2025","2025-06-25",3875478.86,536408.85699999996,"Obszar wskazany w Strategii ZIT dla Obszaru Metropolitalnego Gdańsk-Gdynia-Sopot.","Urząd Marszałkowski Województwa Pomorskiego\n(Departament Programów Regionalnych)","niekonkurencyjny","EFRR.CP4.III",{"$f":"VLOOKUP(T101,Arkusz2!$G$2:$I$34,3,0)","v":"Wspieranie włączenia społeczno-gospodarczego społeczności marginalizowanych, gospodarstw domowych o niskich dochodach oraz grup w niekorzystnej sytuacji, w tym osób o szczególnych potrzebach, dzięki zintegrowanym działaniom obejmującym usługi mieszkaniowe i usługi społeczne"},{"$f":"VLOOKUP(D101,Arkusz2!O81:P1218,2,0)","v":"EFRR"},"Udostępnienie regulaminu wyboru projektów - maj 2025\n\nKwota przewidziana na dofinansowanie: z Kart projektów wynikających z przedsięwzięć wskazanych w Strategi ZIT stanowiących załącznik do Porozumienia z dnia 27.02.2024 r. (Aneks nr 6 z dnia 20 marca 2025 r.)"]
["FEPM","06","04",{"$f":"_xlfn.CONCAT(A102,\".\",B102,\".\",C102)","v":"FEPM.06.04"},{"$f":"VLOOKUP(D102,Arkusz2!$D$2:$E$1137,2,0)","v":"Infrastruktura społeczna – ZIT na terenie obszaru metropolitalnego"},"ZIT","\"Infrastruktura społeczna w Gminie Gniew\"\n\nWnioskodawca:\nGmina Gniew","1. Budowa, rozbudowa, roboty budowlane (przebudowa i remont) wraz z niezbędnym zagospodarowaniem otoczenia, obiektów infrastruktury społecznej:\na. służącej realizacji specjalistycznych usług opiekuńczych, opiekuńczo-wychowawczych, asystenckich, specjalistycznych i innych wynikających z diagnozy grupy docelowej, w szczególności skierowanych do osób z niepełnosprawnościami, długotrwale i ciężko chorych lub seniorów,\nb. mieszkalnictwa treningowego i wspomaganego powiązanego z działaniami m.in. z obszaru aktywizacji społecznej i usług zdrowotnych,\nc. służącej interwencji kryzysowej,\nd. na rzecz osób w kryzysie bezdomności i dotkniętych wykluczeniem z dostępu do mieszkań,\ne. służącej wsparciu dziennemu dzieci i młodzieży oraz seniorów.\n2. Wyposażenie obiektów infrastruktury społecznej oraz doposażenie w niezbędny sprzęt i środki trwałe (z wyłączeniem wyrobów i produktów jednorazowego użytku).\n\nUzupełniająco, w ramach ww. typów projektów, możliwe będą również działania:\na. służące poprawie dostępności cyfrowej i informacyjno – komunikacyjnej oraz likwidacji barier architektonicznych w szczególności w oparciu o projektowanie uniwersalne lub zastosowanie racjonalnego usprawnienia oraz uwzględniające potrzeby osób z niepełnosprawnościami;\nb. służące zmniejszeniu energochłonności infrastruktury i przyczyniające się do zmniejszenia kosztów jej utrzymania i osiągnięcia neutralności klimatycznej.","Administracja publiczna","Jednostki Samorządu Terytorialnego","II kwartał 2025","2025-06-04","II kwartał 2025","2025-06-25",282000,32000,"Obszar wskazany w Strategii ZIT dla Obszaru Metropolitalnego Gdańsk-Gdynia-Sopot.","Urząd Marszałkowski Województwa Pomorskiego\n(Departament Programów Regionalnych)","niekonkurencyjny","EFRR.CP4.III",{"$f":"VLOOKUP(T102,Arkusz2!$G$2:$I$34,3,0)","v":"Wspieranie włączenia społeczno-gospodarczego społeczności marginalizowanych, gospodarstw domowych o niskich dochodach oraz grup w niekorzystnej sytuacji, w tym osób o szczególnych potrzebach, dzięki zintegrowanym działaniom obejmującym usługi mieszkaniowe i usługi społeczne"},{"$f":"VLOOKUP(D102,Arkusz2!O82:P1219,2,0)","v":"EFRR"},"Udostępnienie regulaminu wyboru projektów - maj 2025\n\nKwota przewidziana na dofinansowanie: z Kart projektów wynikających z przedsięwzięć wskazanych w Strategi ZIT stanowiących załącznik do Porozumienia z dnia 27.02.2024 r. (Aneks nr 6 z dnia 20 marca 2025 r.)"]
["FEPM","06","04",{"$f":"_xlfn.CONCAT(A103,\".\",B103,\".\",C103)","v":"FEPM.06.04"},{"$f":"VLOOKUP(D103,Arkusz2!$D$2:$E$1137,2,0)","v":"Infrastruktura społeczna – ZIT na terenie obszaru metropolitalnego"},"ZIT","\"Budowa międzygminnego centrum wsparcia osób z niepełnosprawnościami oraz utworzenie nowych mieszkań wspomaganych/treningowych na terenie Gminy Miejskiej Pruszcz Gdański i Gminy Pruszcz Gdański\"\n\nWnioskodawca:\nGmina Miejska Pruszcz Gdański","1. Budowa, rozbudowa, roboty budowlane (przebudowa i remont) wraz z niezbędnym zagospodarowaniem otoczenia, obiektów infrastruktury społecznej:\na. służącej realizacji specjalistycznych usług opiekuńczych, opiekuńczo-wychowawczych, asystenckich, specjalistycznych i innych wynikających z diagnozy grupy docelowej, w szczególności skierowanych do osób z niepełnosprawnościami, długotrwale i ciężko chorych lub seniorów,\nb. mieszkalnictwa treningowego i wspomaganego powiązanego z działaniami m.in. z obszaru aktywizacji społecznej i usług zdrowotnych,\nc. służącej interwencji kryzysowej,\nd. na rzecz osób w kryzysie bezdomności i dotkniętych wykluczeniem z dostępu do mieszkań,\ne. służącej wsparciu dziennemu dzieci i młodzieży oraz seniorów.\n2. Wyposażenie obiektów infrastruktury społecznej oraz doposażenie w niezbędny sprzęt i środki trwałe (z wyłączeniem wyrobów i produktów jednorazowego użytku).\n\nUzupełniająco, w ramach ww. typów projektów, możliwe będą również działania:\na. służące poprawie dostępności cyfrowej i informacyjno – komunikacyjnej oraz likwidacji barier architektonicznych w szczególności w oparciu o projektowanie uniwersalne lub zastosowanie racjonalnego usprawnienia oraz uwzględniające potrzeby osób z niepełnosprawnościami;\nb. służące zmniejszeniu energochłonności infrastruktury i przyczyniające się do zmniejszenia kosztów jej utrzymania i osiągnięcia neutralności klimatycznej.","Administracja publiczna","Jednostki Samorządu Terytorialnego","II kwartał 2025","2025-06-04","II kwartał 2025","2025-06-25",13805213.300000001,1453180.3,"Obszar wskazany w Strategii ZIT dla Obszaru Metropolitalnego Gdańsk-Gdynia-Sopot.","Urząd Marszałkowski Województwa Pomorskiego\n(Departament Programów Regionalnych)","niekonkurencyjny","EFRR.CP4.III",{"$f":"VLOOKUP(T103,Arkusz2!$G$2:$I$34,3,0)","v":"Wspieranie włączenia społeczno-gospodarczego społeczności marginalizowanych, gospodarstw domowych o niskich dochodach oraz grup w niekorzystnej sytuacji, w tym osób o szczególnych potrzebach, dzięki zintegrowanym działaniom obejmującym usługi mieszkaniowe i usługi społeczne"},{"$f":"VLOOKUP(D103,Arkusz2!O83:P1220,2,0)","v":"EFRR"},"Udostępnienie regulaminu wyboru projektów - maj 2025\n\nKwota przewidziana na dofinansowanie: z Kart projektów wynikających z przedsięwzięć wskazanych w Strategi ZIT stanowiących załącznik do Porozumienia z dnia 27.02.2024 r. (Aneks nr 6 z dnia 20 marca 2025 r.)"]
["FEPM","06","04",{"$f":"_xlfn.CONCAT(A104,\".\",B104,\".\",C104)","v":"FEPM.06.04"},{"$f":"VLOOKUP(D104,Arkusz2!$D$2:$E$1137,2,0)","v":"Infrastruktura społeczna – ZIT na terenie obszaru metropolitalnego"},"ZIT","\"Wejherowska Infrastruktura Społeczna\"\n\nWnioskodawca:\nGmina Miasta Wejherowa","1. Budowa, rozbudowa, roboty budowlane (przebudowa i remont) wraz z niezbędnym zagospodarowaniem otoczenia, obiektów infrastruktury społecznej:\na. służącej realizacji specjalistycznych usług opiekuńczych, opiekuńczo-wychowawczych, asystenckich, specjalistycznych i innych wynikających z diagnozy grupy docelowej, w szczególności skierowanych do osób z niepełnosprawnościami, długotrwale i ciężko chorych lub seniorów,\nb. mieszkalnictwa treningowego i wspomaganego powiązanego z działaniami m.in. z obszaru aktywizacji społecznej i usług zdrowotnych,\nc. służącej interwencji kryzysowej,\nd. na rzecz osób w kryzysie bezdomności i dotkniętych wykluczeniem z dostępu do mieszkań,\ne. służącej wsparciu dziennemu dzieci i młodzieży oraz seniorów.\n2. Wyposażenie obiektów infrastruktury społecznej oraz doposażenie w niezbędny sprzęt i środki trwałe (z wyłączeniem wyrobów i produktów jednorazowego użytku).\n\nUzupełniająco, w ramach ww. typów projektów, możliwe będą również działania:\na. służące poprawie dostępności cyfrowej i informacyjno – komunikacyjnej oraz likwidacji barier architektonicznych w szczególności w oparciu o projektowanie uniwersalne lub zastosowanie racjonalnego usprawnienia oraz uwzględniające potrzeby osób z niepełnosprawnościami;\nb. służące zmniejszeniu energochłonności infrastruktury i przyczyniające się do zmniejszenia kosztów jej utrzymania i osiągnięcia neutralności klimatycznej.","Administracja publiczna","Jednostki Samorządu Terytorialnego","II kwartał 2025","2025-06-04","II kwartał 2025","2025-06-25",4750000,500000,"Obszar wskazany w Strategii ZIT dla Obszaru Metropolitalnego Gdańsk-Gdynia-Sopot.","Urząd Marszałkowski Województwa Pomorskiego\n(Departament Programów Regionalnych)","niekonkurencyjny","EFRR.CP4.III",{"$f":"VLOOKUP(T104,Arkusz2!$G$2:$I$34,3,0)","v":"Wspieranie włączenia społeczno-gospodarczego społeczności marginalizowanych, gospodarstw domowych o niskich dochodach oraz grup w niekorzystnej sytuacji, w tym osób o szczególnych potrzebach, dzięki zintegrowanym działaniom obejmującym usługi mieszkaniowe i usługi społeczne"},{"$f":"VLOOKUP(D104,Arkusz2!O84:P1221,2,0)","v":"EFRR"},"Udostępnienie regulaminu wyboru projektów - maj 2025\n\nKwota przewidziana na dofinansowanie: z Kart projektów wynikających z przedsięwzięć wskazanych w Strategi ZIT stanowiących załącznik do Porozumienia z dnia 27.02.2024 r. (Aneks nr 6 z dnia 20 marca 2025 r.)"]
["FEPM","06","04",{"$f":"_xlfn.CONCAT(A105,\".\",B105,\".\",C105)","v":"FEPM.06.04"},{"$f":"VLOOKUP(D105,Arkusz2!$D$2:$E$1137,2,0)","v":"Infrastruktura społeczna – ZIT na terenie obszaru metropolitalnego"},"ZIT","\"Dostosowanie pomieszczeń na potrzeby „Centrum Wsparcia Rodziny” dla mieszkańców Gminy Miłoradz\"\n\nWnioskodawca:\nGmina Miłoradz","1. Budowa, rozbudowa, roboty budowlane (przebudowa i remont) wraz z niezbędnym zagospodarowaniem otoczenia, obiektów infrastruktury społecznej:\na. służącej realizacji specjalistycznych usług opiekuńczych, opiekuńczo-wychowawczych, asystenckich, specjalistycznych i innych wynikających z diagnozy grupy docelowej, w szczególności skierowanych do osób z niepełnosprawnościami, długotrwale i ciężko chorych lub seniorów,\nb. mieszkalnictwa treningowego i wspomaganego powiązanego z działaniami m.in. z obszaru aktywizacji społecznej i usług zdrowotnych,\nc. służącej interwencji kryzysowej,\nd. na rzecz osób w kryzysie bezdomności i dotkniętych wykluczeniem z dostępu do mieszkań,\ne. służącej wsparciu dziennemu dzieci i młodzieży oraz seniorów.\n2. Wyposażenie obiektów infrastruktury społecznej oraz doposażenie w niezbędny sprzęt i środki trwałe (z wyłączeniem wyrobów i produktów jednorazowego użytku).\n\nUzupełniająco, w ramach ww. typów projektów, możliwe będą również działania:\na. służące poprawie dostępności cyfrowej i informacyjno – komunikacyjnej oraz likwidacji barier architektonicznych w szczególności w oparciu o projektowanie uniwersalne lub zastosowanie racjonalnego usprawnienia oraz uwzględniające potrzeby osób z niepełnosprawnościami;\nb. służące zmniejszeniu energochłonności infrastruktury i przyczyniające się do zmniejszenia kosztów jej utrzymania i osiągnięcia neutralności klimatycznej.","Administracja publiczna","Jednostki Samorządu Terytorialnego","IV kwartał 2025",null,"IV kwartał 2025",null,654941.17599999998,68941.176000000007,"Obszar wskazany w Strategii ZIT dla Obszaru Metropolitalnego Gdańsk-Gdynia-Sopot.","Urząd Marszałkowski Województwa Pomorskiego\n(Departament Programów Regionalnych)","niekonkurencyjny","EFRR.CP4.III",{"$f":"VLOOKUP(T105,Arkusz2!$G$2:$I$34,3,0)","v":"Wspieranie włączenia społeczno-gospodarczego społeczności marginalizowanych, gospodarstw domowych o niskich dochodach oraz grup w niekorzystnej sytuacji, w tym osób o szczególnych potrzebach, dzięki zintegrowanym działaniom obejmującym usługi mieszkaniowe i usługi społeczne"},{"$f":"VLOOKUP(D105,Arkusz2!O85:P1222,2,0)","v":"EFRR"},"Kwota przewidziana na dofinansowanie: z Kart projektów wynikających z przedsięwzięć wskazanych w Strategi ZIT stanowiących załącznik do Porozumienia z dnia 27.02.2024 r. (Aneks nr 6 z dnia 20 marca 2025 r.)"]
["FEPM","06","04","FEPM.06.04",{"$f":"VLOOKUP(D106,Arkusz2!$D$2:$E$1137,2,0)","v":"Infrastruktura społeczna – ZIT na terenie obszaru metropolitalnego"},"ZIT","\"Centrum sąsiedzkie – Stara Rumia\"\n\nWnioskodawca:\nGmina Miejska Rumia","1. Budowa, rozbudowa, roboty budowlane (przebudowa i remont) wraz z niezbędnym zagospodarowaniem otoczenia, obiektów infrastruktury społecznej:\na. służącej realizacji specjalistycznych usług opiekuńczych, opiekuńczo-wychowawczych, asystenckich, specjalistycznych i innych wynikających z diagnozy grupy docelowej, w szczególności skierowanych do osób z niepełnosprawnościami, długotrwale i ciężko chorych lub seniorów,\nb. mieszkalnictwa treningowego i wspomaganego powiązanego z działaniami m.in. z obszaru aktywizacji społecznej i usług zdrowotnych,\nc. służącej interwencji kryzysowej,\nd. na rzecz osób w kryzysie bezdomności i dotkniętych wykluczeniem z dostępu do mieszkań,\ne. służącej wsparciu dziennemu dzieci i młodzieży oraz seniorów.\n2. Wyposażenie obiektów infrastruktury społecznej oraz doposażenie w niezbędny sprzęt i środki trwałe (z wyłączeniem wyrobów i produktów jednorazowego użytku).\n\nUzupełniająco, w ramach ww. typów projektów, możliwe będą również działania:\na. służące poprawie dostępności cyfrowej i informacyjno – komunikacyjnej oraz likwidacji barier architektonicznych w szczególności w oparciu o projektowanie uniwersalne lub zastosowanie racjonalnego usprawnienia oraz uwzględniające potrzeby osób z niepełnosprawnościami;\nb. służące zmniejszeniu energochłonności infrastruktury i przyczyniające się do zmniejszenia kosztów jej utrzymania i osiągnięcia neutralności klimatycznej.","Administracja publiczna","Jednostki Samorządu Terytorialnego","IV kwartał 2025",null,"IV kwartał 2025",null,223529.41,23529.41,"Obszar wskazany w Strategii ZIT dla Obszaru Metropolitalnego Gdańsk-Gdynia-Sopot.","Urząd Marszałkowski Województwa Pomorskiego\n(Departament Programów Regionalnych)","niekonkurencyjny","EFRR.CP4.III",{"$f":"VLOOKUP(T106,Arkusz2!$G$2:$I$34,3,0)","v":"Wspieranie włączenia społeczno-gospodarczego społeczności marginalizowanych, gospodarstw domowych o niskich dochodach oraz grup w niekorzystnej sytuacji, w tym osób o szczególnych potrzebach, dzięki zintegrowanym działaniom obejmującym usługi mieszkaniowe i usługi społeczne"},{"$f":"VLOOKUP(D106,Arkusz2!O80:P1217,2,0)","v":"EFRR"},"Kwota przewidziana na dofinansowanie: z Kart projektów wynikających z przedsięwzięć wskazanych w Strategi ZIT stanowiących załącznik do Porozumienia z dnia 27.02.2024 r. (Aneks nr 5 z dnia 10 lutego 2025 r.)"]
["FEPM","06","04","FEPM.06.04",{"$f":"VLOOKUP(D107,Arkusz2!$D$2:$E$1137,2,0)","v":"Infrastruktura społeczna – ZIT na terenie obszaru metropolitalnego"},"ZIT","\"Infrastruktura społeczna w Gminie Nowy Dwór Gdański\"\n\nWnioskodawca:\nGmina Nowy Dwór Gdański","1. Budowa, rozbudowa, roboty budowlane (przebudowa i remont) wraz z niezbędnym zagospodarowaniem otoczenia, obiektów infrastruktury społecznej:\na. służącej realizacji specjalistycznych usług opiekuńczych, opiekuńczo-wychowawczych, asystenckich, specjalistycznych i innych wynikających z diagnozy grupy docelowej, w szczególności skierowanych do osób z niepełnosprawnościami, długotrwale i ciężko chorych lub seniorów,\nb. mieszkalnictwa treningowego i wspomaganego powiązanego z działaniami m.in. z obszaru aktywizacji społecznej i usług zdrowotnych,\nc. służącej interwencji kryzysowej,\nd. na rzecz osób w kryzysie bezdomności i dotkniętych wykluczeniem z dostępu do mieszkań,\ne. służącej wsparciu dziennemu dzieci i młodzieży oraz seniorów.\n2. Wyposażenie obiektów infrastruktury społecznej oraz doposażenie w niezbędny sprzęt i środki trwałe (z wyłączeniem wyrobów i produktów jednorazowego użytku).\n\nUzupełniająco, w ramach ww. typów projektów, możliwe będą również działania:\na. służące poprawie dostępności cyfrowej i informacyjno – komunikacyjnej oraz likwidacji barier architektonicznych w szczególności w oparciu o projektowanie uniwersalne lub zastosowanie racjonalnego usprawnienia oraz uwzględniające potrzeby osób z niepełnosprawnościami;\nb. służące zmniejszeniu energochłonności infrastruktury i przyczyniające się do zmniejszenia kosztów jej utrzymania i osiągnięcia neutralności klimatycznej.","Administracja publiczna","Jednostki Samorządu Terytorialnego","IV kwartał 2025",null,"IV kwartał 2025",null,1676470.5,176470.5,"Obszar wskazany w Strategii ZIT dla Obszaru Metropolitalnego Gdańsk-Gdynia-Sopot.","Urząd Marszałkowski Województwa Pomorskiego\n(Departament Programów Regionalnych)","niekonkurencyjny","EFRR.CP4.III",{"$f":"VLOOKUP(T107,Arkusz2!$G$2:$I$34,3,0)","v":"Wspieranie włączenia społeczno-gospodarczego społeczności marginalizowanych, gospodarstw domowych o niskich dochodach oraz grup w niekorzystnej sytuacji, w tym osób o szczególnych potrzebach, dzięki zintegrowanym działaniom obejmującym usługi mieszkaniowe i usługi społeczne"},{"$f":"VLOOKUP(D107,Arkusz2!O81:P1218,2,0)","v":"EFRR"},"Kwota przewidziana na dofinansowanie: z Kart projektów wynikających z przedsięwzięć wskazanych w Strategi ZIT stanowiących załącznik do Porozumienia z dnia 27.02.2024 r. (Aneks nr 5 z dnia 10 lutego 2025 r.)"]
["FEPM","06","04",{"$f":"_xlfn.CONCAT(A108,\".\",B108,\".\",C108)","v":"FEPM.06.04"},{"$f":"VLOOKUP(D108,Arkusz2!$D$2:$E$1137,2,0)","v":"Infrastruktura społeczna – ZIT na terenie obszaru metropolitalnego"},"ZIT","\"Infrastruktura społeczna w Gminie Szemud\"\n\nWnioskodawca:\nGmina Szemud","1. Budowa, rozbudowa, roboty budowlane (przebudowa i remont) wraz z niezbędnym zagospodarowaniem otoczenia, obiektów infrastruktury społecznej:\na. służącej realizacji specjalistycznych usług opiekuńczych, opiekuńczo-wychowawczych, asystenckich, specjalistycznych i innych wynikających z diagnozy grupy docelowej, w szczególności skierowanych do osób z niepełnosprawnościami, długotrwale i ciężko chorych lub seniorów,\nb. mieszkalnictwa treningowego i wspomaganego powiązanego z działaniami m.in. z obszaru aktywizacji społecznej i usług zdrowotnych,\nc. służącej interwencji kryzysowej,\nd. na rzecz osób w kryzysie bezdomności i dotkniętych wykluczeniem z dostępu do mieszkań,\ne. służącej wsparciu dziennemu dzieci i młodzieży oraz seniorów.\n2. Wyposażenie obiektów infrastruktury społecznej oraz doposażenie w niezbędny sprzęt i środki trwałe (z wyłączeniem wyrobów i produktów jednorazowego użytku).\n\nUzupełniająco, w ramach ww. typów projektów, możliwe będą również działania:\na. służące poprawie dostępności cyfrowej i informacyjno – komunikacyjnej oraz likwidacji barier architektonicznych w szczególności w oparciu o projektowanie uniwersalne lub zastosowanie racjonalnego usprawnienia oraz uwzględniające potrzeby osób z niepełnosprawnościami;\nb. służące zmniejszeniu energochłonności infrastruktury i przyczyniające się do zmniejszenia kosztów jej utrzymania i osiągnięcia neutralności klimatycznej.","Administracja publiczna","Jednostki Samorządu Terytorialnego","IV kwartał 2025",null,"IV kwartał 2025",null,8382400,882400,"Obszar wskazany w Strategii ZIT dla Obszaru Metropolitalnego Gdańsk-Gdynia-Sopot.","Urząd Marszałkowski Województwa Pomorskiego\n(Departament Programów Regionalnych)","niekonkurencyjny","EFRR.CP4.III",{"$f":"VLOOKUP(T108,Arkusz2!$G$2:$I$34,3,0)","v":"Wspieranie włączenia społeczno-gospodarczego społeczności marginalizowanych, gospodarstw domowych o niskich dochodach oraz grup w niekorzystnej sytuacji, w tym osób o szczególnych potrzebach, dzięki zintegrowanym działaniom obejmującym usługi mieszkaniowe i usługi społeczne"},{"$f":"VLOOKUP(D108,Arkusz2!O82:P1219,2,0)","v":"EFRR"},"Kwota przewidziana na dofinansowanie: z Kart projektów wynikających z przedsięwzięć wskazanych w Strategi ZIT stanowiących załącznik do Porozumienia z dnia 27.02.2024 r. (Aneks nr 6 z dnia 20 marca 2025 r.)"]
["FEPM","06","04",{"$f":"_xlfn.CONCAT(A109,\".\",B109,\".\",C109)","v":"FEPM.06.04"},{"$f":"VLOOKUP(D109,Arkusz2!$D$2:$E$1137,2,0)","v":"Infrastruktura społeczna – ZIT na terenie obszaru metropolitalnego"},"ZIT","\"Utworzenie Centrum Usług Społecznych na terenie gminy Żukowo.\"\n\nWnioskodawca:\nGmina Żukowo","1. Budowa, rozbudowa, roboty budowlane (przebudowa i remont) wraz z niezbędnym zagospodarowaniem otoczenia, obiektów infrastruktury społecznej:\na. służącej realizacji specjalistycznych usług opiekuńczych, opiekuńczo-wychowawczych, asystenckich, specjalistycznych i innych wynikających z diagnozy grupy docelowej, w szczególności skierowanych do osób z niepełnosprawnościami, długotrwale i ciężko chorych lub seniorów,\nb. mieszkalnictwa treningowego i wspomaganego powiązanego z działaniami m.in. z obszaru aktywizacji społecznej i usług zdrowotnych,\nc. służącej interwencji kryzysowej,\nd. na rzecz osób w kryzysie bezdomności i dotkniętych wykluczeniem z dostępu do mieszkań,\ne. służącej wsparciu dziennemu dzieci i młodzieży oraz seniorów.\n2. Wyposażenie obiektów infrastruktury społecznej oraz doposażenie w niezbędny sprzęt i środki trwałe (z wyłączeniem wyrobów i produktów jednorazowego użytku).\n\nUzupełniająco, w ramach ww. typów projektów, możliwe będą również działania:\na. służące poprawie dostępności cyfrowej i informacyjno – komunikacyjnej oraz likwidacji barier architektonicznych w szczególności w oparciu o projektowanie uniwersalne lub zastosowanie racjonalnego usprawnienia oraz uwzględniające potrzeby osób z niepełnosprawnościami;\nb. służące zmniejszeniu energochłonności infrastruktury i przyczyniające się do zmniejszenia kosztów jej utrzymania i osiągnięcia neutralności klimatycznej.","Administracja publiczna","Jednostki Samorządu Terytorialnego","IV kwartał 2025",null,"IV kwartał 2025",null,5923529.4000000004,623529.4,"Obszar wskazany w Strategii ZIT dla Obszaru Metropolitalnego Gdańsk-Gdynia-Sopot.","Urząd Marszałkowski Województwa Pomorskiego\n(Departament Programów Regionalnych)","niekonkurencyjny","EFRR.CP4.III",{"$f":"VLOOKUP(T109,Arkusz2!$G$2:$I$34,3,0)","v":"Wspieranie włączenia społeczno-gospodarczego społeczności marginalizowanych, gospodarstw domowych o niskich dochodach oraz grup w niekorzystnej sytuacji, w tym osób o szczególnych potrzebach, dzięki zintegrowanym działaniom obejmującym usługi mieszkaniowe i usługi społeczne"},{"$f":"VLOOKUP(D109,Arkusz2!O83:P1220,2,0)","v":"EFRR"},"Kwota przewidziana na dofinansowanie: z Kart projektów wynikających z przedsięwzięć wskazanych w Strategi ZIT stanowiących załącznik do Porozumienia z dnia 27.02.2024 r. (Aneks nr 6 z dnia 20 marca 2025 r.)"]
["FEPM","06","04",{"$f":"_xlfn.CONCAT(A110,\".\",B110,\".\",C110)","v":"FEPM.06.04"},{"$f":"VLOOKUP(D110,Arkusz2!$D$2:$E$1137,2,0)","v":"Infrastruktura społeczna – ZIT na terenie obszaru metropolitalnego"},"ZIT","\"Remont, przebudowa i wyposażenie budynku w Kartuzach przy ul. 3 maja 3, na potrzeby Klubu Seniora\"\n\nWnioskodawca:\nGmina Kartuzy","1. Budowa, rozbudowa, roboty budowlane (przebudowa i remont) wraz z niezbędnym zagospodarowaniem otoczenia, obiektów infrastruktury społecznej:\na. służącej realizacji specjalistycznych usług opiekuńczych, opiekuńczo-wychowawczych, asystenckich, specjalistycznych i innych wynikających z diagnozy grupy docelowej, w szczególności skierowanych do osób z niepełnosprawnościami, długotrwale i ciężko chorych lub seniorów,\nb. mieszkalnictwa treningowego i wspomaganego powiązanego z działaniami m.in. z obszaru aktywizacji społecznej i usług zdrowotnych,\nc. służącej interwencji kryzysowej,\nd. na rzecz osób w kryzysie bezdomności i dotkniętych wykluczeniem z dostępu do mieszkań,\ne. służącej wsparciu dziennemu dzieci i młodzieży oraz seniorów.\n2. Wyposażenie obiektów infrastruktury społecznej oraz doposażenie w niezbędny sprzęt i środki trwałe (z wyłączeniem wyrobów i produktów jednorazowego użytku).\n\nUzupełniająco, w ramach ww. typów projektów, możliwe będą również działania:\na. służące poprawie dostępności cyfrowej i informacyjno – komunikacyjnej oraz likwidacji barier architektonicznych w szczególności w oparciu o projektowanie uniwersalne lub zastosowanie racjonalnego usprawnienia oraz uwzględniające potrzeby osób z niepełnosprawnościami;\nb. służące zmniejszeniu energochłonności infrastruktury i przyczyniające się do zmniejszenia kosztów jej utrzymania i osiągnięcia neutralności klimatycznej.","Administracja publiczna","Jednostki Samorządu Terytorialnego","I kwartał 2026",null,"I kwartał 2026",null,2058879.41,279461.40999999997,"Obszar wskazany w Strategii ZIT dla Obszaru Metropolitalnego Gdańsk-Gdynia-Sopot.","Urząd Marszałkowski Województwa Pomorskiego\n(Departament Programów Regionalnych)","niekonkurencyjny","EFRR.CP4.III",{"$f":"VLOOKUP(T110,Arkusz2!$G$2:$I$34,3,0)","v":"Wspieranie włączenia społeczno-gospodarczego społeczności marginalizowanych, gospodarstw domowych o niskich dochodach oraz grup w niekorzystnej sytuacji, w tym osób o szczególnych potrzebach, dzięki zintegrowanym działaniom obejmującym usługi mieszkaniowe i usługi społeczne"},{"$f":"VLOOKUP(D110,Arkusz2!O82:P1219,2,0)","v":"EFRR"},"Kwota przewidziana na dofinansowanie: z Kart projektów wynikających z przedsięwzięć wskazanych w Strategi ZIT stanowiących załącznik do Porozumienia z dnia 27.02.2024 r. (Aneks nr 5 z dnia 10 lutego 2025 r.)"]
["FEPM","06","04",{"$f":"_xlfn.CONCAT(A111,\".\",B111,\".\",C111)","v":"FEPM.06.04"},{"$f":"VLOOKUP(D111,Arkusz2!$D$2:$E$1137,2,0)","v":"Infrastruktura społeczna – ZIT na terenie obszaru metropolitalnego"},"ZIT","\"Rozwój infrastruktury społecznej w powiecie wejherowskim na cele zdeinstytucjonalizowanych usług społecznych.\"\n\nWnioskodawca:\nPowiat Wejherowski","1. Budowa, rozbudowa, roboty budowlane (przebudowa i remont) wraz z niezbędnym zagospodarowaniem otoczenia, obiektów infrastruktury społecznej:\na. służącej realizacji specjalistycznych usług opiekuńczych, opiekuńczo-wychowawczych, asystenckich, specjalistycznych i innych wynikających z diagnozy grupy docelowej, w szczególności skierowanych do osób z niepełnosprawnościami, długotrwale i ciężko chorych lub seniorów,\nb. mieszkalnictwa treningowego i wspomaganego powiązanego z działaniami m.in. z obszaru aktywizacji społecznej i usług zdrowotnych,\nc. służącej interwencji kryzysowej,\nd. na rzecz osób w kryzysie bezdomności i dotkniętych wykluczeniem z dostępu do mieszkań,\ne. służącej wsparciu dziennemu dzieci i młodzieży oraz seniorów.\n2. Wyposażenie obiektów infrastruktury społecznej oraz doposażenie w niezbędny sprzęt i środki trwałe (z wyłączeniem wyrobów i produktów jednorazowego użytku).\n\nUzupełniająco, w ramach ww. typów projektów, możliwe będą również działania:\na. służące poprawie dostępności cyfrowej i informacyjno – komunikacyjnej oraz likwidacji barier architektonicznych w szczególności w oparciu o projektowanie uniwersalne lub zastosowanie racjonalnego usprawnienia oraz uwzględniające potrzeby osób z niepełnosprawnościami;\nb. służące zmniejszeniu energochłonności infrastruktury i przyczyniające się do zmniejszenia kosztów jej utrzymania i osiągnięcia neutralności klimatycznej.","Administracja publiczna","Jednostki Samorządu Terytorialnego","II kwartał 2026",null,"II kwartał 2026",null,6035294.2000000002,635294.19999999995,"Obszar wskazany w Strategii ZIT dla Obszaru Metropolitalnego Gdańsk-Gdynia-Sopot.","Urząd Marszałkowski Województwa Pomorskiego\n(Departament Programów Regionalnych)","niekonkurencyjny","EFRR.CP4.III",{"$f":"VLOOKUP(T111,Arkusz2!$G$2:$I$34,3,0)","v":"Wspieranie włączenia społeczno-gospodarczego społeczności marginalizowanych, gospodarstw domowych o niskich dochodach oraz grup w niekorzystnej sytuacji, w tym osób o szczególnych potrzebach, dzięki zintegrowanym działaniom obejmującym usługi mieszkaniowe i usługi społeczne"},{"$f":"VLOOKUP(D111,Arkusz2!O83:P1220,2,0)","v":"EFRR"},"Kwota przewidziana na dofinansowanie: z Kart projektów wynikających z przedsięwzięć wskazanych w Strategi ZIT stanowiących załącznik do Porozumienia z dnia 27.02.2024 r. (Aneks nr 6 z dnia 20 marca 2025 r.)"]
["FEPM","06","06","FEPM.06.06",{"$f":"VLOOKUP(D112,Arkusz2!$D$2:$E$1137,2,0)","v":"Infrastruktura społeczna – RLKS"},"RKLS",null,null,null,null,null,null,null,null,null,null,null,null,"konkurencyjny","EFRR.CP4.III",{"$f":"VLOOKUP(T112,Arkusz2!$G$2:$I$34,3,0)","v":"Wspieranie włączenia społeczno-gospodarczego społeczności marginalizowanych, gospodarstw domowych o niskich dochodach oraz grup w niekorzystnej sytuacji, w tym osób o szczególnych potrzebach, dzięki zintegrowanym działaniom obejmującym usługi mieszkaniowe i usługi społeczne"},{"$f":"VLOOKUP(D112,Arkusz2!O83:P1220,2,0)","v":"EFRR"},"https://dprow.pomorskie.eu/harmonogram-naborow/nabory-oglaszane-przez-lgd-2021-2027/"]
["FEPM","06","11","FEPM.06.11",{"$f":"VLOOKUP(D113,Arkusz2!$D$2:$E$1137,2,0)","v":"Infrastruktura turystyki"},"Nie dotyczy","turystyka żeglarska","Budowa, przebudowa, rozbudowa oraz w uzasadnionych przypadkach remont obiektów publicznej infrastruktury służącej turystyce wodnej a także roboty budowlane służące poprawie dostępności do portów i przystani.\n\nUzupełniająco możliwe będą również:\na. działania służące likwidacji barier architektonicznych umożliwiające dostęp osobom ze specjalnymi potrzebami oraz służące poprawie dostępności cyfrowej i informacyjno-komunikacyjnej, w szczególności w oparciu o projektowanie uniwersalne lub zastosowanie racjonalnego usprawnienia;\nb. zagospodarowanie terenu, w szczególności nasadzenia zieleni, elementy małej architektury;\nc. działania sprzyjające adaptacji do zmian klimatu poprzez zastosowanie błękitno-zielonej infrastruktury, np. zielone dachy, zielone ściany, ogrody deszczowe itp.;\nd. działania służące zmniejszeniu energochłonności infrastruktury i przyczyniające się do zmniejszenia kosztów jej utrzymania i osiągnięcia neutralności klimatycznej;\ne. zakup wyposażenia i sprzętu w tym m.in.:\n- służącego poprawie bezpieczeństwa w portach i na przystaniach;\n- stanowiącego wyposażenie obiektów służących kajakarzom i żeglarzom;\n- wykorzystywanego na potrzeby edukacji żeglarskiej;\n- składającego się na system zarządzania marinami.","Administracja publiczna, Organizacje społeczne i związki wyznaniowe, Przedsiębiorstwa, Przedsiębiorstwa realizujące cele publiczne, Służby publiczne","Duże przedsiębiorstwa, Instytucje odpowiedzialne za gospodarkę wodną, Jednostki organizacyjne działające w imieniu jednostek samorządu terytorialnego, Jednostki Samorządu Terytorialnego, Lasy Państwowe, parki narodowe i krajobrazowe, MŚP, Organizacje pozarządowe, Przedsiębiorstwa energetyczne","III kwartał 2025",null,"IV kwartał 2025",null,60516220,0,"całe województwo","Urząd Marszałkowski Województwa Pomorskiego\n(Departament Programów Regionalnych)","konkurencyjny","EFRR.CP4.VI","Wzmacnianie roli kultury i zrównoważonej turystyki w rozwoju gospodarczym, włączeniu społecznym i innowacjach społecznych",{"$f":"VLOOKUP(D113,Arkusz2!O84:P1221,2,0)","v":"EFRR"},"\n\nKwota alokacji w PLN przeliczona wg kursu Europejskiego Banku Centralnego z przedostatniego dnia kwotowania Komisji Europejskiej w miesiącu poprzedzającym miesiąc, w którym dokonuje się wyliczenia wartości alokacji zgodnie z Kontraktem Programowym (4,1308 z 27 lutego 2025 r.)"]
["FEPM","06","11",{"$f":"_xlfn.CONCAT(A114,\".\",B114,\".\",C114)","v":"FEPM.06.11"},{"$f":"VLOOKUP(D114,Arkusz2!$D$2:$E$1137,2,0)","v":"Infrastruktura turystyki"},"Nie dotyczy","turystyka uzdrowiskowa","Budowa, przebudowa i rozbudowa ogólnodostępnych urządzeń uzdrowiskowych (m.in. parki i urządzone ścieżki ruchowe, tężnie, pijalnie uzdrowiskowe, sauny).\n\nUzupełniająco możliwe będą również:\na. działania służące likwidacji barier architektonicznych umożliwiające dostęp osobom ze specjalnymi potrzebami oraz służące poprawie dostępności cyfrowej i informacyjno-komunikacyjnej, w szczególności w oparciu o projektowanie uniwersalne lub zastosowanie racjonalnego usprawnienia;\nb. zagospodarowanie terenu, w szczególności nasadzenia zieleni, elementy małej architektury;\nc. działania sprzyjające adaptacji do zmian klimatu poprzez zastosowanie błękitno-zielonej infrastruktury, np. zielone dachy, zielone ściany, ogrody deszczowe itp.;\nd. działania służące zmniejszeniu energochłonności infrastruktury i przyczyniające się do zmniejszenia kosztów jej utrzymania i osiągnięcia neutralności klimatycznej.","Administracja publiczna, Instytucje ochrony zdrowia, Organizacje społeczne i związki wyznaniowe, Przedsiębiorstwa, Przedsiębiorstwa realizujące cele publiczne, Służby publiczne","Duże przedsiębiorstwa, Jednostki Samorządu Terytorialnego, Jednostki organizacyjne działające w imieniu jednostek samorządu terytorialnego, Lasy Państwowe, parki narodowe i krajobrazowe, Niepubliczne zakłady opieki zdrowotnej, Publiczne zakłady opieki zdrowotnej","I kwartał 2026",null,"I kwartał 2026",null,20000000,0,"Zlokalizowane wyłącznie w Sopocie, Ustce oraz Jantarze (gm. Stegna), Jastarni, Juracie (m. Jastarnia), Jastrzębiej Górze (gm. Władysławowo), Kątach Rybackich (gm. Sztutowo), Kościerzynie, Krynicy Morskiej, Łebie, Mikoszewie (gm. Stegna).","Urząd Marszałkowski Województwa Pomorskiego\n(Departament Programów Regionalnych)","konkurencyjny","EFRR.CP4.VI","Wzmacnianie roli kultury i zrównoważonej turystyki w rozwoju gospodarczym, włączeniu społecznym i innowacjach społecznych",{"$f":"VLOOKUP(D114,Arkusz2!O85:P1222,2,0)","v":"EFRR"}]
["FEPM","06","11","FEPM.06.11",{"$f":"VLOOKUP(D115,Arkusz2!$D$2:$E$1137,2,0)","v":"Infrastruktura turystyki"},"Nie dotyczy","turystyka kajakowa","1. Budowa, przebudowa, rozbudowa oraz w uzasadnionych przypadkach remont obiektów publicznej infrastruktury służącej turystyce wodnej a także roboty budowlane służące poprawie dostępności do portów i przystani.\n2. Budowa, przebudowa i rozbudowa liniowej publicznej infrastruktury turystycznej o znaczeniu regionalnym lub ponadregionalnym służącej rozwojowi aktywnych form turystyki (m.in.: szlaki wodne wraz z oznakowaniem).\n\nUzupełniająco możliwe będą również:\na. działania służące likwidacji barier architektonicznych umożliwiające dostęp osobom ze specjalnymi potrzebami oraz służące poprawie dostępności cyfrowej i informacyjno-komunikacyjnej, w szczególności w oparciu o projektowanie uniwersalne lub zastosowanie racjonalnego usprawnienia;\nb. zagospodarowanie terenu, w szczególności nasadzenia zieleni, elementy małej architektury;\nc. działania sprzyjające adaptacji do zmian klimatu poprzez zastosowanie błękitno-zielonej infrastruktury, np. zielone dachy, zielone ściany, ogrody deszczowe itp.;\nd. działania służące zmniejszeniu energochłonności infrastruktury i przyczyniające się do zmniejszenia kosztów jej utrzymania i osiągnięcia neutralności klimatycznej;\ne. zakup wyposażenia i sprzętu w tym m.in.:\n- służącego poprawie bezpieczeństwa w portach i na przystaniach;\n- stanowiącego wyposażenie obiektów służących kajakarzom i żeglarzom;\n- wykorzystywanego na potrzeby edukacji żeglarskiej;\n- składającego się na system zarządzania marinami.","Administracja publiczna, Organizacje społeczne i związki wyznaniowe, Przedsiębiorstwa, Przedsiębiorstwa realizujące cele publiczne, Służby publiczne","Duże przedsiębiorstwa, Instytucje odpowiedzialne za gospodarkę wodną, Jednostki Samorządu Terytorialnego, Jednostki organizacyjne działające w imieniu jednostek samorządu terytorialnego, Lasy Państwowe, parki narodowe i krajobrazowe, MŚP, Organizacje pozarządowe, Przedsiębiorstwa energetyczne, Duże przedsiębiorstwa, Instytucje odpowiedzialne za gospodarkę wodną, Jednostki Samorządu Terytorialnego, Jednostki organizacyjne działające w imieniu jednostek samorządu terytorialnego, Lasy Państwowe, parki narodowe i krajobrazowe, MŚP, Organizacje pozarządowe, Przedsiębiorstwa energetyczne, Duże przedsiębiorstwa, Instytucje odpowiedzialne za gospodarkę wodną, Jednostki Samorządu Terytorialnego, Jednostki organizacyjne działające w imieniu jednostek samorządu terytorialnego, Lasy Państwowe, parki narodowe i krajobrazowe, MŚP, Organizacje pozarządowe, Przedsiębiorstwa energetyczne, Duże przedsiębiorstwa, Instytucje odpowiedzialne za gospodarkę wodną, Jednostki Samorządu Terytorialnego, Jednostki organizacyjne działające w imieniu jednostek samorządu terytorialnego, Lasy Państwowe, parki narodowe i krajobrazowe, MŚP, Organizacje pozarządowe, Przedsiębiorstwa energetyczne","III kwartał 2026",null,"IV kwartał 2026",null,28915600,0,"całe województwo","Urząd Marszałkowski Województwa Pomorskiego\n(Departament Programów Regionalnych)","konkurencyjny","EFRR.CP4.VI","Wzmacnianie roli kultury i zrównoważonej turystyki w rozwoju gospodarczym, włączeniu społecznym i innowacjach społecznych",{"$f":"VLOOKUP(D115,Arkusz2!O85:P1222,2,0)","v":"EFRR"},"\n\nKwota alokacji w PLN przeliczona wg kursu Europejskiego Banku Centralnego z przedostatniego dnia kwotowania Komisji Europejskiej w miesiącu poprzedzającym miesiąc, w którym dokonuje się wyliczenia wartości alokacji zgodnie z Kontraktem Programowym (4,1308 z 27 lutego 2025 r.)"]
["FEPM","06","12","FEPM.06.12",{"$f":"VLOOKUP(D116,Arkusz2!$D$2:$E$1137,2,0)","v":"Infrastruktura turystyki – RLKS"},"RKLS",null,null,null,null,null,null,null,null,null,null,null,null,"konkurencyjny","EFRR.CP4.VI",{"$f":"VLOOKUP(T116,Arkusz2!$G$2:$I$34,3,0)","v":"Wzmacnianie roli kultury i zrównoważonej turystyki w rozwoju gospodarczym, włączeniu społecznym i innowacjach społecznych"},{"$f":"VLOOKUP(D116,Arkusz2!O84:P1221,2,0)","v":"EFRR"},"https://dprow.pomorskie.eu/harmonogram-naborow/nabory-oglaszane-przez-lgd-2021-2027/"]
[null,null,null,"..",{"$f":"VLOOKUP(D117,Arkusz2!$D$2:$E$1137,2,0)","v":{"$error":"#N/A"}},null,null,null,null,null,null,null,null,null,null,null,null,null,null,null,{"$f":"VLOOKUP(T117,Arkusz2!$G$2:$I$34,3,0)","v":{"$error":"#N/A"}},{"$f":"VLOOKUP(D117,Arkusz2!O85:P1222,2,0)","v":{"$error":"#N/A"}}]
[null,null,null,"..",{"$f":"VLOOKUP(D118,Arkusz2!$D$2:$E$1137,2,0)","v":{"$error":"#N/A"}},null,null,null,null,null,null,null,null,null,null,null,null,null,null,null,{"$f":"VLOOKUP(T118,Arkusz2!$G$2:$I$34,3,0)","v":{"$error":"#N/A"}},{"$f":"VLOOKUP(D118,Arkusz2!O86:P1223,2,0)","v":{"$error":"#N/A"}}]
[null,null,null,"..",{"$f":"VLOOKUP(D119,Arkusz2!$D$2:$E$1137,2,0)","v":{"$error":"#N/A"}},null,null,null,null,null,null,null,null,null,null,null,null,null,null,null,{"$f":"VLOOKUP(T119,Arkusz2!$G$2:$I$34,3,0)","v":{"$error":"#N/A"}},{"$f":"VLOOKUP(D119,Arkusz2!O87:P1224,2,0)","v":{"$error":"#N/A"}}]
[null,null,null,"..",{"$f":"VLOOKUP(D120,Arkusz2!$D$2:$E$1137,2,0)","v":{"$error":"#N/A"}},null,null,null,null,null,null,null,null,null,null,null,null,null,null,null,{"$f":"VLOOKUP(T120,Arkusz2!$G$2:$I$34,3,0)","v":{"$error":"#N/A"}},{"$f":"VLOOKUP(D120,Arkusz2!O88:P1225,2,0)","v":{"$error":"#N/A"}}]
[null,null,null,"..",{"$f":"VLOOKUP(D121,Arkusz2!$D$2:$E$1137,2,0)","v":{"$error":"#N/A"}},null,null,null,null,null,null,null,null,null,null,null,null,null,null,null,{"$f":"VLOOKUP(T121,Arkusz2!$G$2:$I$34,3,0)","v":{"$error":"#N/A"}},{"$f":"VLOOKUP(D121,Arkusz2!O89:P1226,2,0)","v":{"$error":"#N/A"}}]
[null,null,null,"..",{"$f":"VLOOKUP(D122,Arkusz2!$D$2:$E$1137,2,0)","v":{"$error":"#N/A"}},null,null,null,null,null,null,null,null,null,null,null,null,null,null,null,{"$f":"VLOOKUP(T122,Arkusz2!$G$2:$I$34,3,0)","v":{"$error":"#N/A"}},{"$f":"VLOOKUP(D122,Arkusz2!O90:P1227,2,0)","v":{"$error":"#N/A"}}]
[null,null,null,"..",{"$f":"VLOOKUP(D123,Arkusz2!$D$2:$E$1137,2,0)","v":{"$error":"#N/A"}},null,null,null,null,null,null,null,null,null,null,null,null,null,null,null,{"$f":"VLOOKUP(T123,Arkusz2!$G$2:$I$34,3,0)","v":{"$error":"#N/A"}},{"$f":"VLOOKUP(D123,Arkusz2!O91:P1228,2,0)","v":{"$error":"#N/A"}}]
[null,null,null,"..",{"$f":"VLOOKUP(D124,Arkusz2!$D$2:$E$1137,2,0)","v":{"$error":"#N/A"}},null,null,null,null,null,null,null,null,null,null,null,null,null,null,null,{"$f":"VLOOKUP(T124,Arkusz2!$G$2:$I$34,3,0)","v":{"$error":"#N/A"}},{"$f":"VLOOKUP(D124,Arkusz2!O92:P1229,2,0)","v":{"$error":"#N/A"}}]
[null,null,null,"..",{"$f":"VLOOKUP(D125,Arkusz2!$D$2:$E$1137,2,0)","v":{"$error":"#N/A"}},null,null,null,null,null,null,null,null,null,null,null,null,null,null,null,{"$f":"VLOOKUP(T125,Arkusz2!$G$2:$I$34,3,0)","v":{"$error":"#N/A"}},{"$f":"VLOOKUP(D125,Arkusz2!O93:P1230,2,0)","v":{"$error":"#N/A"}}]
[null,null,null,"..",{"$f":"VLOOKUP(D126,Arkusz2!$D$2:$E$1137,2,0)","v":{"$error":"#N/A"}},null,null,null,null,null,null,null,null,null,null,null,null,null,null,null,{"$f":"VLOOKUP(T126,Arkusz2!$G$2:$I$34,3,0)","v":{"$error":"#N/A"}},{"$f":"VLOOKUP(D126,Arkusz2!O94:P1231,2,0)","v":{"$error":"#N/A"}}]
[null,null,null,"..",{"$f":"VLOOKUP(D127,Arkusz2!$D$2:$E$1137,2,0)","v":{"$error":"#N/A"}},null,null,null,null,null,null,null,null,null,null,null,null,null,null,null,{"$f":"VLOOKUP(T127,Arkusz2!$G$2:$I$34,3,0)","v":{"$error":"#N/A"}},{"$f":"VLOOKUP(D127,Arkusz2!O95:P1232,2,0)","v":{"$error":"#N/A"}}]
[null,null,null,"..",{"$f":"VLOOKUP(D128,Arkusz2!$D$2:$E$1137,2,0)","v":{"$error":"#N/A"}},null,null,null,null,null,null,null,null,null,null,null,null,null,null,null,{"$f":"VLOOKUP(T128,Arkusz2!$G$2:$I$34,3,0)","v":{"$error":"#N/A"}},{"$f":"VLOOKUP(D128,Arkusz2!O96:P1233,2,0)","v":{"$error":"#N/A"}}]
[null,null,null,"..",{"$f":"VLOOKUP(D129,Arkusz2!$D$2:$E$1137,2,0)","v":{"$error":"#N/A"}},null,null,null,null,null,null,null,null,null,null,null,null,null,null,null,{"$f":"VLOOKUP(T129,Arkusz2!$G$2:$I$34,3,0)","v":{"$error":"#N/A"}},{"$f":"VLOOKUP(D129,Arkusz2!O97:P1234,2,0)","v":{"$error":"#N/A"}}]
[null,null,null,"..",{"$f":"VLOOKUP(D130,Arkusz2!$D$2:$E$1137,2,0)","v":{"$error":"#N/A"}},null,null,null,null,null,null,null,null,null,null,null,null,null,null,null,{"$f":"VLOOKUP(T130,Arkusz2!$G$2:$I$34,3,0)","v":{"$error":"#N/A"}},{"$f":"VLOOKUP(D130,Arkusz2!O98:P1235,2,0)","v":{"$error":"#N/A"}}]
[null,null,null,"..",{"$f":"VLOOKUP(D131,Arkusz2!$D$2:$E$1137,2,0)","v":{"$error":"#N/A"}},null,null,null,null,null,null,null,null,null,null,null,null,null,null,null,{"$f":"VLOOKUP(T131,Arkusz2!$G$2:$I$34,3,0)","v":{"$error":"#N/A"}},{"$f":"VLOOKUP(D131,Arkusz2!O99:P1236,2,0)","v":{"$error":"#N/A"}}]
[null,null,null,"..",{"$f":"VLOOKUP(D132,Arkusz2!$D$2:$E$1137,2,0)","v":{"$error":"#N/A"}},null,null,null,null,null,null,null,null,null,null,null,null,null,null,null,{"$f":"VLOOKUP(T132,Arkusz2!$G$2:$I$34,3,0)","v":{"$error":"#N/A"}},{"$f":"VLOOKUP(D132,Arkusz2!O100:P1237,2,0)","v":{"$error":"#N/A"}}]
[null,null,null,"..",{"$f":"VLOOKUP(D133,Arkusz2!$D$2:$E$1137,2,0)","v":{"$error":"#N/A"}},null,null,null,null,null,null,null,null,null,null,null,null,null,null,null,{"$f":"VLOOKUP(T133,Arkusz2!$G$2:$I$34,3,0)","v":{"$error":"#N/A"}},{"$f":"VLOOKUP(D133,Arkusz2!O101:P1238,2,0)","v":{"$error":"#N/A"}}]
[null,null,null,"..",{"$f":"VLOOKUP(D134,Arkusz2!$D$2:$E$1137,2,0)","v":{"$error":"#N/A"}},null,null,null,null,null,null,null,null,null,null,null,null,null,null,null,{"$f":"VLOOKUP(T134,Arkusz2!$G$2:$I$34,3,0)","v":{"$error":"#N/A"}},{"$f":"VLOOKUP(D134,Arkusz2!O102:P1239,2,0)","v":{"$error":"#N/A"}}]
[null,null,null,"..",{"$f":"VLOOKUP(D135,Arkusz2!$D$2:$E$1137,2,0)","v":{"$error":"#N/A"}},null,null,null,null,null,null,null,null,null,null,null,null,null,null,null,{"$f":"VLOOKUP(T135,Arkusz2!$G$2:$I$34,3,0)","v":{"$error":"#N/A"}},{"$f":"VLOOKUP(D135,Arkusz2!O103:P1240,2,0)","v":{"$error":"#N/A"}}]
[null,null,null,"..",{"$f":"VLOOKUP(D136,Arkusz2!$D$2:$E$1137,2,0)","v":{"$error":"#N/A"}},null,null,null,null,null,null,null,null,null,null,null,null,null,null,null,{"$f":"VLOOKUP(T136,Arkusz2!$G$2:$I$34,3,0)","v":{"$error":"#N/A"}},{"$f":"VLOOKUP(D136,Arkusz2!O104:P1241,2,0)","v":{"$error":"#N/A"}}]
[null,null,null,"..",{"$f":"VLOOKUP(D137,Arkusz2!$D$2:$E$1137,2,0)","v":{"$error":"#N/A"}},null,null,null,null,null,null,null,null,null,null,null,null,null,null,null,{"$f":"VLOOKUP(T137,Arkusz2!$G$2:$I$34,3,0)","v":{"$error":"#N/A"}},{"$f":"VLOOKUP(D137,Arkusz2!O105:P1242,2,0)","v":{"$error":"#N/A"}}]
[null,null,null,"..",{"$f":"VLOOKUP(D138,Arkusz2!$D$2:$E$1137,2,0)","v":{"$error":"#N/A"}},null,null,null,null,null,null,null,null,null,null,null,null,null,null,null,{"$f":"VLOOKUP(T138,Arkusz2!$G$2:$I$34,3,0)","v":{"$error":"#N/A"}},{"$f":"VLOOKUP(D138,Arkusz2!O106:P1243,2,0)","v":{"$error":"#N/A"}}]
[null,null,null,"..",{"$f":"VLOOKUP(D139,Arkusz2!$D$2:$E$1137,2,0)","v":{"$error":"#N/A"}},null,null,null,null,null,null,null,null,null,null,null,null,null,null,null,{"$f":"VLOOKUP(T139,Arkusz2!$G$2:$I$34,3,0)","v":{"$error":"#N/A"}},{"$f":"VLOOKUP(D139,Arkusz2!O107:P1244,2,0)","v":{"$error":"#N/A"}}]
[null,null,null,"..",{"$f":"VLOOKUP(D140,Arkusz2!$D$2:$E$1137,2,0)","v":{"$error":"#N/A"}},null,null,null,null,null,null,null,null,null,null,null,null,null,null,null,{"$f":"VLOOKUP(T140,Arkusz2!$G$2:$I$34,3,0)","v":{"$error":"#N/A"}},{"$f":"VLOOKUP(D140,Arkusz2!O108:P1245,2,0)","v":{"$error":"#N/A"}}]
[null,null,null,"..",{"$f":"VLOOKUP(D141,Arkusz2!$D$2:$E$1137,2,0)","v":{"$error":"#N/A"}},null,null,null,null,null,null,null,null,null,null,null,null,null,null,null,{"$f":"VLOOKUP(T141,Arkusz2!$G$2:$I$34,3,0)","v":{"$error":"#N/A"}},{"$f":"VLOOKUP(D141,Arkusz2!O109:P1246,2,0)","v":{"$error":"#N/A"}}]
[null,null,null,"..",{"$f":"VLOOKUP(D142,Arkusz2!$D$2:$E$1137,2,0)","v":{"$error":"#N/A"}},null,null,null,null,null,null,null,null,null,null,null,null,null,null,null,{"$f":"VLOOKUP(T142,Arkusz2!$G$2:$I$34,3,0)","v":{"$error":"#N/A"}},{"$f":"VLOOKUP(D142,Arkusz2!O110:P1247,2,0)","v":{"$error":"#N/A"}}]
[null,null,null,"..",{"$f":"VLOOKUP(D143,Arkusz2!$D$2:$E$1137,2,0)","v":{"$error":"#N/A"}},null,null,null,null,null,null,null,null,null,null,null,null,null,null,null,{"$f":"VLOOKUP(T143,Arkusz2!$G$2:$I$34,3,0)","v":{"$error":"#N/A"}},{"$f":"VLOOKUP(D143,Arkusz2!O111:P1248,2,0)","v":{"$error":"#N/A"}}]
[null,null,null,"..",{"$f":"VLOOKUP(D144,Arkusz2!$D$2:$E$1137,2,0)","v":{"$error":"#N/A"}},null,null,null,null,null,null,null,null,null,null,null,null,null,null,null,{"$f":"VLOOKUP(T144,Arkusz2!$G$2:$I$34,3,0)","v":{"$error":"#N/A"}},{"$f":"VLOOKUP(D144,Arkusz2!O112:P1249,2,0)","v":{"$error":"#N/A"}}]
[null,null,null,"..",{"$f":"VLOOKUP(D145,Arkusz2!$D$2:$E$1137,2,0)","v":{"$error":"#N/A"}},null,null,null,null,null,null,null,null,null,null,null,null,null,null,null,{"$f":"VLOOKUP(T145,Arkusz2!$G$2:$I$34,3,0)","v":{"$error":"#N/A"}},{"$f":"VLOOKUP(D145,Arkusz2!O113:P1250,2,0)","v":{"$error":"#N/A"}}]
[null,null,null,"..",{"$f":"VLOOKUP(D146,Arkusz2!$D$2:$E$1137,2,0)","v":{"$error":"#N/A"}},null,null,null,null,null,null,null,null,null,null,null,null,null,null,null,{"$f":"VLOOKUP(T146,Arkusz2!$G$2:$I$34,3,0)","v":{"$error":"#N/A"}},{"$f":"VLOOKUP(D146,Arkusz2!O114:P1251,2,0)","v":{"$error":"#N/A"}}]
[null,null,null,"..",{"$f":"VLOOKUP(D147,Arkusz2!$D$2:$E$1137,2,0)","v":{"$error":"#N/A"}},null,null,null,null,null,null,null,null,null,null,null,null,null,null,null,{"$f":"VLOOKUP(T147,Arkusz2!$G$2:$I$34,3,0)","v":{"$error":"#N/A"}},{"$f":"VLOOKUP(D147,Arkusz2!O115:P1252,2,0)","v":{"$error":"#N/A"}}]
[null,null,null,"..",{"$f":"VLOOKUP(D148,Arkusz2!$D$2:$E$1137,2,0)","v":{"$error":"#N/A"}},null,null,null,null,null,null,null,null,null,null,null,null,null,null,null,{"$f":"VLOOKUP(T148,Arkusz2!$G$2:$I$34,3,0)","v":{"$error":"#N/A"}},{"$f":"VLOOKUP(D148,Arkusz2!O116:P1253,2,0)","v":{"$error":"#N/A"}}]
[null,null,null,"..",{"$f":"VLOOKUP(D149,Arkusz2!$D$2:$E$1137,2,0)","v":{"$error":"#N/A"}},null,null,null,null,null,null,null,null,null,null,null,null,null,null,null,{"$f":"VLOOKUP(T149,Arkusz2!$G$2:$I$34,3,0)","v":{"$error":"#N/A"}},{"$f":"VLOOKUP(D149,Arkusz2!O117:P1254,2,0)","v":{"$error":"#N/A"}}]
[null,null,null,"..",{"$f":"VLOOKUP(D150,Arkusz2!$D$2:$E$1137,2,0)","v":{"$error":"#N/A"}},null,null,null,null,null,null,null,null,null,null,null,null,null,null,null,{"$f":"VLOOKUP(T150,Arkusz2!$G$2:$I$34,3,0)","v":{"$error":"#N/A"}},{"$f":"VLOOKUP(D150,Arkusz2!O118:P1255,2,0)","v":{"$error":"#N/A"}}]
[null,null,null,"..",{"$f":"VLOOKUP(D151,Arkusz2!$D$2:$E$1137,2,0)","v":{"$error":"#N/A"}},null,null,null,null,null,null,null,null,null,null,null,null,null,null,null,{"$f":"VLOOKUP(T151,Arkusz2!$G$2:$I$34,3,0)","v":{"$error":"#N/A"}},{"$f":"VLOOKUP(D151,Arkusz2!O119:P1256,2,0)","v":{"$error":"#N/A"}}]
[null,null,null,"..",{"$f":"VLOOKUP(D152,Arkusz2!$D$2:$E$1137,2,0)","v":{"$error":"#N/A"}},null,null,null,null,null,null,null,null,null,null,null,null,null,null,null,{"$f":"VLOOKUP(T152,Arkusz2!$G$2:$I$34,3,0)","v":{"$error":"#N/A"}},{"$f":"VLOOKUP(D152,Arkusz2!O120:P1257,2,0)","v":{"$error":"#N/A"}}]
[null,null,null,"..",{"$f":"VLOOKUP(D153,Arkusz2!$D$2:$E$1137,2,0)","v":{"$error":"#N/A"}},null,null,null,null,null,null,null,null,null,null,null,null,null,null,null,{"$f":"VLOOKUP(T153,Arkusz2!$G$2:$I$34,3,0)","v":{"$error":"#N/A"}},{"$f":"VLOOKUP(D153,Arkusz2!O121:P1258,2,0)","v":{"$error":"#N/A"}}]
[null,null,null,"..",{"$f":"VLOOKUP(D154,Arkusz2!$D$2:$E$1137,2,0)","v":{"$error":"#N/A"}},null,null,null,null,null,null,null,null,null,null,null,null,null,null,null,{"$f":"VLOOKUP(T154,Arkusz2!$G$2:$I$34,3,0)","v":{"$error":"#N/A"}},{"$f":"VLOOKUP(D154,Arkusz2!O122:P1259,2,0)","v":{"$error":"#N/A"}}]
[null,null,null,"..",{"$f":"VLOOKUP(D155,Arkusz2!$D$2:$E$1137,2,0)","v":{"$error":"#N/A"}},null,null,null,null,null,null,null,null,null,null,null,null,null,null,null,{"$f":"VLOOKUP(T155,Arkusz2!$G$2:$I$34,3,0)","v":{"$error":"#N/A"}},{"$f":"VLOOKUP(D155,Arkusz2!O123:P1260,2,0)","v":{"$error":"#N/A"}}]
[null,null,null,"..",{"$f":"VLOOKUP(D156,Arkusz2!$D$2:$E$1137,2,0)","v":{"$error":"#N/A"}},null,null,null,null,null,null,null,null,null,null,null,null,null,null,null,{"$f":"VLOOKUP(T156,Arkusz2!$G$2:$I$34,3,0)","v":{"$error":"#N/A"}},{"$f":"VLOOKUP(D156,Arkusz2!O124:P1261,2,0)","v":{"$error":"#N/A"}}]
[null,null,null,"..",{"$f":"VLOOKUP(D157,Arkusz2!$D$2:$E$1137,2,0)","v":{"$error":"#N/A"}},null,null,null,null,null,null,null,null,null,null,null,null,null,null,null,{"$f":"VLOOKUP(T157,Arkusz2!$G$2:$I$34,3,0)","v":{"$error":"#N/A"}},{"$f":"VLOOKUP(D157,Arkusz2!O125:P1262,2,0)","v":{"$error":"#N/A"}}]
[null,null,null,"..",{"$f":"VLOOKUP(D158,Arkusz2!$D$2:$E$1137,2,0)","v":{"$error":"#N/A"}},null,null,null,null,null,null,null,null,null,null,null,null,null,null,null,{"$f":"VLOOKUP(T158,Arkusz2!$G$2:$I$34,3,0)","v":{"$error":"#N/A"}},{"$f":"VLOOKUP(D158,Arkusz2!O126:P1263,2,0)","v":{"$error":"#N/A"}}]
[null,null,null,"..",{"$f":"VLOOKUP(D159,Arkusz2!$D$2:$E$1137,2,0)","v":{"$error":"#N/A"}},null,null,null,null,null,null,null,null,null,null,null,null,null,null,null,{"$f":"VLOOKUP(T159,Arkusz2!$G$2:$I$34,3,0)","v":{"$error":"#N/A"}},{"$f":"VLOOKUP(D159,Arkusz2!O127:P1264,2,0)","v":{"$error":"#N/A"}}]
[null,null,null,"..",{"$f":"VLOOKUP(D160,Arkusz2!$D$2:$E$1137,2,0)","v":{"$error":"#N/A"}},null,null,null,null,null,null,null,null,null,null,null,null,null,null,null,{"$f":"VLOOKUP(T160,Arkusz2!$G$2:$I$34,3,0)","v":{"$error":"#N/A"}},{"$f":"VLOOKUP(D160,Arkusz2!O128:P1265,2,0)","v":{"$error":"#N/A"}}]
[null,null,null,"..",{"$f":"VLOOKUP(D161,Arkusz2!$D$2:$E$1137,2,0)","v":{"$error":"#N/A"}},null,null,null,null,null,null,null,null,null,null,null,null,null,null,null,{"$f":"VLOOKUP(T161,Arkusz2!$G$2:$I$34,3,0)","v":{"$error":"#N/A"}},{"$f":"VLOOKUP(D161,Arkusz2!O129:P1266,2,0)","v":{"$error":"#N/A"}}]
[null,null,null,"..",{"$f":"VLOOKUP(D162,Arkusz2!$D$2:$E$1137,2,0)","v":{"$error":"#N/A"}},null,null,null,null,null,null,null,null,null,null,null,null,null,null,null,{"$f":"VLOOKUP(T162,Arkusz2!$G$2:$I$34,3,0)","v":{"$error":"#N/A"}},{"$f":"VLOOKUP(D162,Arkusz2!O130:P1267,2,0)","v":{"$error":"#N/A"}}]
[null,null,null,{"$f":"_xlfn.CONCAT(A163,\".\",B163,\".\",C163)","v":".."},{"$f":"VLOOKUP(D163,Arkusz2!$D$2:$E$1137,2,0)","v":{"$error":"#N/A"}},null,null,null,null,null,null,null,null,null,null,null,null,null,null,null,{"$f":"VLOOKUP(T163,Arkusz2!$G$2:$I$34,3,0)","v":{"$error":"#N/A"}},{"$f":"VLOOKUP(D163,Arkusz2!O131:P1268,2,0)","v":{"$error":"#N/A"}}]
[null,null,null,"..",{"$f":"VLOOKUP(D164,Arkusz2!$D$2:$E$1137,2,0)","v":{"$error":"#N/A"}},null,null,null,null,null,null,null,null,null,null,null,null,null,null,null,{"$f":"VLOOKUP(T164,Arkusz2!$G$2:$I$34,3,0)","v":{"$error":"#N/A"}},{"$f":"VLOOKUP(D164,Arkusz2!O132:P1269,2,0)","v":{"$error":"#N/A"}}]
[null,null,null,"..",{"$f":"VLOOKUP(D165,Arkusz2!$D$2:$E$1137,2,0)","v":{"$error":"#N/A"}},null,null,null,null,null,null,null,null,null,null,null,null,null,null,null,{"$f":"VLOOKUP(T165,Arkusz2!$G$2:$I$34,3,0)","v":{"$error":"#N/A"}},{"$f":"VLOOKUP(D165,Arkusz2!O133:P1270,2,0)","v":{"$error":"#N/A"}}]
[null,null,null,"..",{"$f":"VLOOKUP(D166,Arkusz2!$D$2:$E$1137,2,0)","v":{"$error":"#N/A"}},null,null,null,null,null,null,null,null,null,null,null,null,null,null,null,{"$f":"VLOOKUP(T166,Arkusz2!$G$2:$I$34,3,0)","v":{"$error":"#N/A"}},{"$f":"VLOOKUP(D166,Arkusz2!O134:P1271,2,0)","v":{"$error":"#N/A"}}]
[null,null,null,"..",{"$f":"VLOOKUP(D167,Arkusz2!$D$2:$E$1137,2,0)","v":{"$error":"#N/A"}},null,null,null,null,null,null,null,null,null,null,null,null,null,null,null,{"$f":"VLOOKUP(T167,Arkusz2!$G$2:$I$34,3,0)","v":{"$error":"#N/A"}},{"$f":"VLOOKUP(D167,Arkusz2!O135:P1272,2,0)","v":{"$error":"#N/A"}}]
[null,null,null,"..",{"$f":"VLOOKUP(D168,Arkusz2!$D$2:$E$1137,2,0)","v":{"$error":"#N/A"}},null,null,null,null,null,null,null,null,null,null,null,null,null,null,null,{"$f":"VLOOKUP(T168,Arkusz2!$G$2:$I$34,3,0)","v":{"$error":"#N/A"}},{"$f":"VLOOKUP(D168,Arkusz2!O136:P1273,2,0)","v":{"$error":"#N/A"}}]
[null,null,null,"..",{"$f":"VLOOKUP(D169,Arkusz2!$D$2:$E$1137,2,0)","v":{"$error":"#N/A"}},null,null,null,null,null,null,null,null,null,null,null,null,null,null,null,{"$f":"VLOOKUP(T169,Arkusz2!$G$2:$I$34,3,0)","v":{"$error":"#N/A"}},{"$f":"VLOOKUP(D169,Arkusz2!O137:P1274,2,0)","v":{"$error":"#N/A"}}]
[null,null,null,"..",{"$f":"VLOOKUP(D170,Arkusz2!$D$2:$E$1137,2,0)","v":{"$error":"#N/A"}},null,null,null,null,null,null,null,null,null,null,null,null,null,null,null,{"$f":"VLOOKUP(T170,Arkusz2!$G$2:$I$34,3,0)","v":{"$error":"#N/A"}},{"$f":"VLOOKUP(D170,Arkusz2!O138:P1275,2,0)","v":{"$error":"#N/A"}}]
[null,null,null,"..",{"$f":"VLOOKUP(D171,Arkusz2!$D$2:$E$1137,2,0)","v":{"$error":"#N/A"}},null,null,null,null,null,null,null,null,null,null,null,null,null,null,null,{"$f":"VLOOKUP(T171,Arkusz2!$G$2:$I$34,3,0)","v":{"$error":"#N/A"}},{"$f":"VLOOKUP(D171,Arkusz2!O139:P1276,2,0)","v":{"$error":"#N/A"}}]
[null,null,null,"..",{"$f":"VLOOKUP(D172,Arkusz2!$D$2:$E$1137,2,0)","v":{"$error":"#N/A"}},null,null,null,null,null,null,null,null,null,null,null,null,null,null,null,{"$f":"VLOOKUP(T172,Arkusz2!$G$2:$I$34,3,0)","v":{"$error":"#N/A"}},{"$f":"VLOOKUP(D172,Arkusz2!O140:P1277,2,0)","v":{"$error":"#N/A"}}]
[null,null,null,"..",{"$f":"VLOOKUP(D173,Arkusz2!$D$2:$E$1137,2,0)","v":{"$error":"#N/A"}},null,null,null,null,null,null,null,null,null,null,null,null,null,null,null,{"$f":"VLOOKUP(T173,Arkusz2!$G$2:$I$34,3,0)","v":{"$error":"#N/A"}},{"$f":"VLOOKUP(D173,Arkusz2!O141:P1278,2,0)","v":{"$error":"#N/A"}}]
[null,null,null,"..",{"$f":"VLOOKUP(D174,Arkusz2!$D$2:$E$1137,2,0)","v":{"$error":"#N/A"}},null,null,null,null,null,null,null,null,null,null,null,null,null,null,null,{"$f":"VLOOKUP(T174,Arkusz2!$G$2:$I$34,3,0)","v":{"$error":"#N/A"}},{"$f":"VLOOKUP(D174,Arkusz2!O142:P1279,2,0)","v":{"$error":"#N/A"}}]
[null,null,null,"..",{"$f":"VLOOKUP(D175,Arkusz2!$D$2:$E$1137,2,0)","v":{"$error":"#N/A"}},null,null,null,null,null,null,null,null,null,null,null,null,null,null,null,{"$f":"VLOOKUP(T175,Arkusz2!$G$2:$I$34,3,0)","v":{"$error":"#N/A"}},{"$f":"VLOOKUP(D175,Arkusz2!O143:P1280,2,0)","v":{"$error":"#N/A"}}]
[null,null,null,"..",{"$f":"VLOOKUP(D176,Arkusz2!$D$2:$E$1137,2,0)","v":{"$error":"#N/A"}},null,null,null,null,null,null,null,null,null,null,null,null,null,null,null,{"$f":"VLOOKUP(T176,Arkusz2!$G$2:$I$34,3,0)","v":{"$error":"#N/A"}},{"$f":"VLOOKUP(D176,Arkusz2!O144:P1281,2,0)","v":{"$error":"#N/A"}}]
[null,null,null,"..",{"$f":"VLOOKUP(D177,Arkusz2!$D$2:$E$1137,2,0)","v":{"$error":"#N/A"}},null,null,null,null,null,null,null,null,null,null,null,null,null,null,null,{"$f":"VLOOKUP(T177,Arkusz2!$G$2:$I$34,3,0)","v":{"$error":"#N/A"}},{"$f":"VLOOKUP(D177,Arkusz2!O145:P1282,2,0)","v":{"$error":"#N/A"}}]
[null,null,null,"..",{"$f":"VLOOKUP(D178,Arkusz2!$D$2:$E$1137,2,0)","v":{"$error":"#N/A"}},null,null,null,null,null,null,null,null,null,null,null,null,null,null,null,{"$f":"VLOOKUP(T178,Arkusz2!$G$2:$I$34,3,0)","v":{"$error":"#N/A"}},{"$f":"VLOOKUP(D178,Arkusz2!O146:P1283,2,0)","v":{"$error":"#N/A"}}]
[null,null,null,"..",{"$f":"VLOOKUP(D179,Arkusz2!$D$2:$E$1137,2,0)","v":{"$error":"#N/A"}},null,null,null,null,null,null,null,null,null,null,null,null,null,null,null,{"$f":"VLOOKUP(T179,Arkusz2!$G$2:$I$34,3,0)","v":{"$error":"#N/A"}},{"$f":"VLOOKUP(D179,Arkusz2!O147:P1284,2,0)","v":{"$error":"#N/A"}}]
[null,null,null,"..",{"$f":"VLOOKUP(D180,Arkusz2!$D$2:$E$1137,2,0)","v":{"$error":"#N/A"}},null,null,null,null,null,null,null,null,null,null,null,null,null,null,null,{"$f":"VLOOKUP(T180,Arkusz2!$G$2:$I$34,3,0)","v":{"$error":"#N/A"}},{"$f":"VLOOKUP(D180,Arkusz2!O148:P1285,2,0)","v":{"$error":"#N/A"}}]
[null,null,null,"..",{"$f":"VLOOKUP(D181,Arkusz2!$D$2:$E$1137,2,0)","v":{"$error":"#N/A"}},null,null,null,null,null,null,null,null,null,null,null,null,null,null,null,{"$f":"VLOOKUP(T181,Arkusz2!$G$2:$I$34,3,0)","v":{"$error":"#N/A"}},{"$f":"VLOOKUP(D181,Arkusz2!O149:P1286,2,0)","v":{"$error":"#N/A"}}]
[null,null,null,"..",{"$f":"VLOOKUP(D182,Arkusz2!$D$2:$E$1137,2,0)","v":{"$error":"#N/A"}},null,null,null,null,null,null,null,null,null,null,null,null,null,null,null,{"$f":"VLOOKUP(T182,Arkusz2!$G$2:$I$34,3,0)","v":{"$error":"#N/A"}},{"$f":"VLOOKUP(D182,Arkusz2!O150:P1287,2,0)","v":{"$error":"#N/A"}}]
[null,null,null,"..",{"$f":"VLOOKUP(D183,Arkusz2!$D$2:$E$1137,2,0)","v":{"$error":"#N/A"}},null,null,null,null,null,null,null,null,null,null,null,null,null,null,null,{"$f":"VLOOKUP(T183,Arkusz2!$G$2:$I$34,3,0)","v":{"$error":"#N/A"}},{"$f":"VLOOKUP(D183,Arkusz2!O151:P1288,2,0)","v":{"$error":"#N/A"}}]
[null,null,null,"..",{"$f":"VLOOKUP(D184,Arkusz2!$D$2:$E$1137,2,0)","v":{"$error":"#N/A"}},null,null,null,null,null,null,null,null,null,null,null,null,null,null,null,{"$f":"VLOOKUP(T184,Arkusz2!$G$2:$I$34,3,0)","v":{"$error":"#N/A"}},{"$f":"VLOOKUP(D184,Arkusz2!O152:P1289,2,0)","v":{"$error":"#N/A"}}]
[null,null,null,"..",{"$f":"VLOOKUP(D185,Arkusz2!$D$2:$E$1137,2,0)","v":{"$error":"#N/A"}},null,null,null,null,null,null,null,null,null,null,null,null,null,null,null,{"$f":"VLOOKUP(T185,Arkusz2!$G$2:$I$34,3,0)","v":{"$error":"#N/A"}},{"$f":"VLOOKUP(D185,Arkusz2!O153:P1290,2,0)","v":{"$error":"#N/A"}}]
[null,null,null,"..",{"$f":"VLOOKUP(D186,Arkusz2!$D$2:$E$1137,2,0)","v":{"$error":"#N/A"}},null,null,null,null,null,null,null,null,null,null,null,null,null,null,null,{"$f":"VLOOKUP(T186,Arkusz2!$G$2:$I$34,3,0)","v":{"$error":"#N/A"}},{"$f":"VLOOKUP(D186,Arkusz2!O154:P1291,2,0)","v":{"$error":"#N/A"}}]
[null,null,null,"..",{"$f":"VLOOKUP(D187,Arkusz2!$D$2:$E$1137,2,0)","v":{"$error":"#N/A"}},null,null,null,null,null,null,null,null,null,null,null,null,null,null,null,{"$f":"VLOOKUP(T187,Arkusz2!$G$2:$I$34,3,0)","v":{"$error":"#N/A"}},{"$f":"VLOOKUP(D187,Arkusz2!O155:P1292,2,0)","v":{"$error":"#N/A"}}]
[null,null,null,"..",{"$f":"VLOOKUP(D188,Arkusz2!$D$2:$E$1137,2,0)","v":{"$error":"#N/A"}},null,null,null,null,null,null,null,null,null,null,null,null,null,null,null,{"$f":"VLOOKUP(T188,Arkusz2!$G$2:$I$34,3,0)","v":{"$error":"#N/A"}},{"$f":"VLOOKUP(D188,Arkusz2!O156:P1293,2,0)","v":{"$error":"#N/A"}}]
[null,null,null,"..",{"$f":"VLOOKUP(D189,Arkusz2!$D$2:$E$1137,2,0)","v":{"$error":"#N/A"}},null,null,null,null,null,null,null,null,null,null,null,null,null,null,null,{"$f":"VLOOKUP(T189,Arkusz2!$G$2:$I$34,3,0)","v":{"$error":"#N/A"}},{"$f":"VLOOKUP(D189,Arkusz2!O157:P1294,2,0)","v":{"$error":"#N/A"}}]
[null,null,null,"..",{"$f":"VLOOKUP(D190,Arkusz2!$D$2:$E$1137,2,0)","v":{"$error":"#N/A"}},null,null,null,null,null,null,null,null,null,null,null,null,null,null,null,{"$f":"VLOOKUP(T190,Arkusz2!$G$2:$I$34,3,0)","v":{"$error":"#N/A"}},{"$f":"VLOOKUP(D190,Arkusz2!O158:P1295,2,0)","v":{"$error":"#N/A"}}]
[null,null,null,"..",{"$f":"VLOOKUP(D191,Arkusz2!$D$2:$E$1137,2,0)","v":{"$error":"#N/A"}},null,null,null,null,null,null,null,null,null,null,null,null,null,null,null,{"$f":"VLOOKUP(T191,Arkusz2!$G$2:$I$34,3,0)","v":{"$error":"#N/A"}},{"$f":"VLOOKUP(D191,Arkusz2!O159:P1296,2,0)","v":{"$error":"#N/A"}}]
[null,null,null,"..",{"$f":"VLOOKUP(D192,Arkusz2!$D$2:$E$1137,2,0)","v":{"$error":"#N/A"}},null,null,null,null,null,null,null,null,null,null,null,null,null,null,null,{"$f":"VLOOKUP(T192,Arkusz2!$G$2:$I$34,3,0)","v":{"$error":"#N/A"}},{"$f":"VLOOKUP(D192,Arkusz2!O160:P1297,2,0)","v":{"$error":"#N/A"}}]
[null,null,null,"..",{"$f":"VLOOKUP(D193,Arkusz2!$D$2:$E$1137,2,0)","v":{"$error":"#N/A"}},null,null,null,null,null,null,null,null,null,null,null,null,null,null,null,{"$f":"VLOOKUP(T193,Arkusz2!$G$2:$I$34,3,0)","v":{"$error":"#N/A"}},{"$f":"VLOOKUP(D193,Arkusz2!O161:P1298,2,0)","v":{"$error":"#N/A"}}]
[null,null,null,"..",{"$f":"VLOOKUP(D194,Arkusz2!$D$2:$E$1137,2,0)","v":{"$error":"#N/A"}},null,null,null,null,null,null,null,null,null,null,null,null,null,null,null,{"$f":"VLOOKUP(T194,Arkusz2!$G$2:$I$34,3,0)","v":{"$error":"#N/A"}},{"$f":"VLOOKUP(D194,Arkusz2!O162:P1299,2,0)","v":{"$error":"#N/A"}}]
[null,null,null,"..",{"$f":"VLOOKUP(D195,Arkusz2!$D$2:$E$1137,2,0)","v":{"$error":"#N/A"}},null,null,null,null,null,null,null,null,null,null,null,null,null,null,null,{"$f":"VLOOKUP(T195,Arkusz2!$G$2:$I$34,3,0)","v":{"$error":"#N/A"}},{"$f":"VLOOKUP(D195,Arkusz2!O163:P1300,2,0)","v":{"$error":"#N/A"}}]
[null,null,null,"..",{"$f":"VLOOKUP(D196,Arkusz2!$D$2:$E$1137,2,0)","v":{"$error":"#N/A"}},null,null,null,null,null,null,null,null,null,null,null,null,null,null,null,{"$f":"VLOOKUP(T196,Arkusz2!$G$2:$I$34,3,0)","v":{"$error":"#N/A"}},{"$f":"VLOOKUP(D196,Arkusz2!O164:P1301,2,0)","v":{"$error":"#N/A"}}]
[null,null,null,"..",{"$f":"VLOOKUP(D197,Arkusz2!$D$2:$E$1137,2,0)","v":{"$error":"#N/A"}},null,null,null,null,null,null,null,null,null,null,null,null,null,null,null,{"$f":"VLOOKUP(T197,Arkusz2!$G$2:$I$34,3,0)","v":{"$error":"#N/A"}},{"$f":"VLOOKUP(D197,Arkusz2!O165:P1302,2,0)","v":{"$error":"#N/A"}}]
[null,null,null,"..",{"$f":"VLOOKUP(D198,Arkusz2!$D$2:$E$1137,2,0)","v":{"$error":"#N/A"}},null,null,null,null,null,null,null,null,null,null,null,null,null,null,null,{"$f":"VLOOKUP(T198,Arkusz2!$G$2:$I$34,3,0)","v":{"$error":"#N/A"}},{"$f":"VLOOKUP(D198,Arkusz2!O166:P1303,2,0)","v":{"$error":"#N/A"}}]
[null,null,null,"..",{"$f":"VLOOKUP(D199,Arkusz2!$D$2:$E$1137,2,0)","v":{"$error":"#N/A"}},null,null,null,null,null,null,null,null,null,null,null,null,null,null,null,{"$f":"VLOOKUP(T199,Arkusz2!$G$2:$I$34,3,0)","v":{"$error":"#N/A"}},{"$f":"VLOOKUP(D199,Arkusz2!O167:P1304,2,0)","v":{"$error":"#N/A"}}]
[null,null,null,"..",{"$f":"VLOOKUP(D200,Arkusz2!$D$2:$E$1137,2,0)","v":{"$error":"#N/A"}},null,null,null,null,null,null,null,null,null,null,null,null,null,null,null,{"$f":"VLOOKUP(T200,Arkusz2!$G$2:$I$34,3,0)","v":{"$error":"#N/A"}},{"$f":"VLOOKUP(D200,Arkusz2!O168:P1305,2,0)","v":{"$error":"#N/A"}}]
[null,null,null,"..",{"$f":"VLOOKUP(D201,Arkusz2!$D$2:$E$1137,2,0)","v":{"$error":"#N/A"}},null,null,null,null,null,null,null,null,null,null,null,null,null,null,null,{"$f":"VLOOKUP(T201,Arkusz2!$G$2:$I$34,3,0)","v":{"$error":"#N/A"}},{"$f":"VLOOKUP(D201,Arkusz2!O169:P1306,2,0)","v":{"$error":"#N/A"}}]
[null,null,null,"..",{"$f":"VLOOKUP(D202,Arkusz2!$D$2:$E$1137,2,0)","v":{"$error":"#N/A"}},null,null,null,null,null,null,null,null,null,null,null,null,null,null,null,{"$f":"VLOOKUP(T202,Arkusz2!$G$2:$I$34,3,0)","v":{"$error":"#N/A"}},{"$f":"VLOOKUP(D202,Arkusz2!O170:P1307,2,0)","v":{"$error":"#N/A"}}]
[null,null,null,"..",{"$f":"VLOOKUP(D203,Arkusz2!$D$2:$E$1137,2,0)","v":{"$error":"#N/A"}},null,null,null,null,null,null,null,null,null,null,null,null,null,null,null,{"$f":"VLOOKUP(T203,Arkusz2!$G$2:$I$34,3,0)","v":{"$error":"#N/A"}},{"$f":"VLOOKUP(D203,Arkusz2!O171:P1308,2,0)","v":{"$error":"#N/A"}}]
[null,null,null,"..",{"$f":"VLOOKUP(D204,Arkusz2!$D$2:$E$1137,2,0)","v":{"$error":"#N/A"}},null,null,null,null,null,null,null,null,null,null,null,null,null,null,null,{"$f":"VLOOKUP(T204,Arkusz2!$G$2:$I$34,3,0)","v":{"$error":"#N/A"}},{"$f":"VLOOKUP(D204,Arkusz2!O172:P1309,2,0)","v":{"$error":"#N/A"}}]
[null,null,null,"..",{"$f":"VLOOKUP(D205,Arkusz2!$D$2:$E$1137,2,0)","v":{"$error":"#N/A"}},null,null,null,null,null,null,null,null,null,null,null,null,null,null,null,{"$f":"VLOOKUP(T205,Arkusz2!$G$2:$I$34,3,0)","v":{"$error":"#N/A"}},{"$f":"VLOOKUP(D205,Arkusz2!O173:P1310,2,0)","v":{"$error":"#N/A"}}]
[null,null,null,"..",{"$f":"VLOOKUP(D206,Arkusz2!$D$2:$E$1137,2,0)","v":{"$error":"#N/A"}},null,null,null,null,null,null,null,null,null,null,null,null,null,null,null,{"$f":"VLOOKUP(T206,Arkusz2!$G$2:$I$34,3,0)","v":{"$error":"#N/A"}},{"$f":"VLOOKUP(D206,Arkusz2!O174:P1311,2,0)","v":{"$error":"#N/A"}}]
[null,null,null,"..",{"$f":"VLOOKUP(D207,Arkusz2!$D$2:$E$1137,2,0)","v":{"$error":"#N/A"}},null,null,null,null,null,null,null,null,null,null,null,null,null,null,null,{"$f":"VLOOKUP(T207,Arkusz2!$G$2:$I$34,3,0)","v":{"$error":"#N/A"}},{"$f":"VLOOKUP(D207,Arkusz2!O175:P1312,2,0)","v":{"$error":"#N/A"}}]
[null,null,null,"..",{"$f":"VLOOKUP(D208,Arkusz2!$D$2:$E$1137,2,0)","v":{"$error":"#N/A"}},null,null,null,null,null,null,null,null,null,null,null,null,null,null,null,{"$f":"VLOOKUP(T208,Arkusz2!$G$2:$I$34,3,0)","v":{"$error":"#N/A"}},{"$f":"VLOOKUP(D208,Arkusz2!O176:P1313,2,0)","v":{"$error":"#N/A"}}]
[null,null,null,"..",{"$f":"VLOOKUP(D209,Arkusz2!$D$2:$E$1137,2,0)","v":{"$error":"#N/A"}},null,null,null,null,null,null,null,null,null,null,null,null,null,null,null,{"$f":"VLOOKUP(T209,Arkusz2!$G$2:$I$34,3,0)","v":{"$error":"#N/A"}},{"$f":"VLOOKUP(D209,Arkusz2!O177:P1314,2,0)","v":{"$error":"#N/A"}}]
[null,null,null,"..",{"$f":"VLOOKUP(D210,Arkusz2!$D$2:$E$1137,2,0)","v":{"$error":"#N/A"}},null,null,null,null,null,null,null,null,null,null,null,null,null,null,null,{"$f":"VLOOKUP(T210,Arkusz2!$G$2:$I$34,3,0)","v":{"$error":"#N/A"}},{"$f":"VLOOKUP(D210,Arkusz2!O178:P1315,2,0)","v":{"$error":"#N/A"}}]
[null,null,null,"..",{"$f":"VLOOKUP(D211,Arkusz2!$D$2:$E$1137,2,0)","v":{"$error":"#N/A"}},null,null,null,null,null,null,null,null,null,null,null,null,null,null,null,{"$f":"VLOOKUP(T211,Arkusz2!$G$2:$I$34,3,0)","v":{"$error":"#N/A"}},{"$f":"VLOOKUP(D211,Arkusz2!O179:P1316,2,0)","v":{"$error":"#N/A"}}]
[null,null,null,"..",{"$f":"VLOOKUP(D212,Arkusz2!$D$2:$E$1137,2,0)","v":{"$error":"#N/A"}},null,null,null,null,null,null,null,null,null,null,null,null,null,null,null,{"$f":"VLOOKUP(T212,Arkusz2!$G$2:$I$34,3,0)","v":{"$error":"#N/A"}},{"$f":"VLOOKUP(D212,Arkusz2!O180:P1317,2,0)","v":{"$error":"#N/A"}}]
[null,null,null,"..",{"$f":"VLOOKUP(D213,Arkusz2!$D$2:$E$1137,2,0)","v":{"$error":"#N/A"}},null,null,null,null,null,null,null,null,null,null,null,null,null,null,null,{"$f":"VLOOKUP(T213,Arkusz2!$G$2:$I$34,3,0)","v":{"$error":"#N/A"}},{"$f":"VLOOKUP(D213,Arkusz2!O181:P1318,2,0)","v":{"$error":"#N/A"}}]
[null,null,null,"..",{"$f":"VLOOKUP(D214,Arkusz2!$D$2:$E$1137,2,0)","v":{"$error":"#N/A"}},null,null,null,null,null,null,null,null,null,null,null,null,null,null,null,{"$f":"VLOOKUP(T214,Arkusz2!$G$2:$I$34,3,0)","v":{"$error":"#N/A"}},{"$f":"VLOOKUP(D214,Arkusz2!O182:P1319,2,0)","v":{"$error":"#N/A"}}]
[null,null,null,"..",{"$f":"VLOOKUP(D215,Arkusz2!$D$2:$E$1137,2,0)","v":{"$error":"#N/A"}},null,null,null,null,null,null,null,null,null,null,null,null,null,null,null,{"$f":"VLOOKUP(T215,Arkusz2!$G$2:$I$34,3,0)","v":{"$error":"#N/A"}},{"$f":"VLOOKUP(D215,Arkusz2!O183:P1320,2,0)","v":{"$error":"#N/A"}}]
[null,null,null,"..",{"$f":"VLOOKUP(D216,Arkusz2!$D$2:$E$1137,2,0)","v":{"$error":"#N/A"}},null,null,null,null,null,null,null,null,null,null,null,null,null,null,null,{"$f":"VLOOKUP(T216,Arkusz2!$G$2:$I$34,3,0)","v":{"$error":"#N/A"}},{"$f":"VLOOKUP(D216,Arkusz2!O184:P1321,2,0)","v":{"$error":"#N/A"}}]
[null,null,null,"..",{"$f":"VLOOKUP(D217,Arkusz2!$D$2:$E$1137,2,0)","v":{"$error":"#N/A"}},null,null,null,null,null,null,null,null,null,null,null,null,null,null,null,{"$f":"VLOOKUP(T217,Arkusz2!$G$2:$I$34,3,0)","v":{"$error":"#N/A"}},{"$f":"VLOOKUP(D217,Arkusz2!O185:P1322,2,0)","v":{"$error":"#N/A"}}]
[null,null,null,"..",{"$f":"VLOOKUP(D218,Arkusz2!$D$2:$E$1137,2,0)","v":{"$error":"#N/A"}},null,null,null,null,null,null,null,null,null,null,null,null,null,null,null,{"$f":"VLOOKUP(T218,Arkusz2!$G$2:$I$34,3,0)","v":{"$error":"#N/A"}},{"$f":"VLOOKUP(D218,Arkusz2!O186:P1323,2,0)","v":{"$error":"#N/A"}}]
[null,null,null,"..",{"$f":"VLOOKUP(D219,Arkusz2!$D$2:$E$1137,2,0)","v":{"$error":"#N/A"}},null,null,null,null,null,null,null,null,null,null,null,null,null,null,null,{"$f":"VLOOKUP(T219,Arkusz2!$G$2:$I$34,3,0)","v":{"$error":"#N/A"}},{"$f":"VLOOKUP(D219,Arkusz2!O187:P1324,2,0)","v":{"$error":"#N/A"}}]
[null,null,null,"..",{"$f":"VLOOKUP(D220,Arkusz2!$D$2:$E$1137,2,0)","v":{"$error":"#N/A"}},null,null,null,null,null,null,null,null,null,null,null,null,null,null,null,{"$f":"VLOOKUP(T220,Arkusz2!$G$2:$I$34,3,0)","v":{"$error":"#N/A"}},{"$f":"VLOOKUP(D220,Arkusz2!O188:P1325,2,0)","v":{"$error":"#N/A"}}]
[null,null,null,"..",{"$f":"VLOOKUP(D221,Arkusz2!$D$2:$E$1137,2,0)","v":{"$error":"#N/A"}},null,null,null,null,null,null,null,null,null,null,null,null,null,null,null,{"$f":"VLOOKUP(T221,Arkusz2!$G$2:$I$34,3,0)","v":{"$error":"#N/A"}},{"$f":"VLOOKUP(D221,Arkusz2!O189:P1326,2,0)","v":{"$error":"#N/A"}}]
[null,null,null,"..",{"$f":"VLOOKUP(D222,Arkusz2!$D$2:$E$1137,2,0)","v":{"$error":"#N/A"}},null,null,null,null,null,null,null,null,null,null,null,null,null,null,null,{"$f":"VLOOKUP(T222,Arkusz2!$G$2:$I$34,3,0)","v":{"$error":"#N/A"}},{"$f":"VLOOKUP(D222,Arkusz2!O190:P1327,2,0)","v":{"$error":"#N/A"}}]
[null,null,null,"..",{"$f":"VLOOKUP(D223,Arkusz2!$D$2:$E$1137,2,0)","v":{"$error":"#N/A"}},null,null,null,null,null,null,null,null,null,null,null,null,null,null,null,{"$f":"VLOOKUP(T223,Arkusz2!$G$2:$I$34,3,0)","v":{"$error":"#N/A"}},{"$f":"VLOOKUP(D223,Arkusz2!O191:P1328,2,0)","v":{"$error":"#N/A"}}]
[null,null,null,"..",{"$f":"VLOOKUP(D224,Arkusz2!$D$2:$E$1137,2,0)","v":{"$error":"#N/A"}},null,null,null,null,null,null,null,null,null,null,null,null,null,null,null,{"$f":"VLOOKUP(T224,Arkusz2!$G$2:$I$34,3,0)","v":{"$error":"#N/A"}},{"$f":"VLOOKUP(D224,Arkusz2!O192:P1329,2,0)","v":{"$error":"#N/A"}}]
[null,null,null,"..",{"$f":"VLOOKUP(D225,Arkusz2!$D$2:$E$1137,2,0)","v":{"$error":"#N/A"}},null,null,null,null,null,null,null,null,null,null,null,null,null,null,null,{"$f":"VLOOKUP(T225,Arkusz2!$G$2:$I$34,3,0)","v":{"$error":"#N/A"}},{"$f":"VLOOKUP(D225,Arkusz2!O193:P1330,2,0)","v":{"$error":"#N/A"}}]
[null,null,null,"..",{"$f":"VLOOKUP(D226,Arkusz2!$D$2:$E$1137,2,0)","v":{"$error":"#N/A"}},null,null,null,null,null,null,null,null,null,null,null,null,null,null,null,{"$f":"VLOOKUP(T226,Arkusz2!$G$2:$I$34,3,0)","v":{"$error":"#N/A"}},{"$f":"VLOOKUP(D226,Arkusz2!O194:P1331,2,0)","v":{"$error":"#N/A"}}]
[null,null,null,{"$f":"_xlfn.CONCAT(A227,\".\",B227,\".\",C227)","v":".."},{"$f":"VLOOKUP(D227,Arkusz2!$D$2:$E$1137,2,0)","v":{"$error":"#N/A"}},null,null,null,null,null,null,null,null,null,null,null,null,null,null,null,{"$f":"VLOOKUP(T227,Arkusz2!$G$2:$I$34,3,0)","v":{"$error":"#N/A"}},{"$f":"VLOOKUP(D227,Arkusz2!O195:P1332,2,0)","v":{"$error":"#N/A"}}]
[null,null,null,"..",{"$f":"VLOOKUP(D228,Arkusz2!$D$2:$E$1137,2,0)","v":{"$error":"#N/A"}},null,null,null,null,null,null,null,null,null,null,null,null,null,null,null,{"$f":"VLOOKUP(T228,Arkusz2!$G$2:$I$34,3,0)","v":{"$error":"#N/A"}},{"$f":"VLOOKUP(D228,Arkusz2!O196:P1333,2,0)","v":{"$error":"#N/A"}}]
[null,null,null,"..",{"$f":"VLOOKUP(D229,Arkusz2!$D$2:$E$1137,2,0)","v":{"$error":"#N/A"}},null,null,null,null,null,null,null,null,null,null,null,null,null,null,null,{"$f":"VLOOKUP(T229,Arkusz2!$G$2:$I$34,3,0)","v":{"$error":"#N/A"}},{"$f":"VLOOKUP(D229,Arkusz2!O197:P1334,2,0)","v":{"$error":"#N/A"}}]
[null,null,null,"..",{"$f":"VLOOKUP(D230,Arkusz2!$D$2:$E$1137,2,0)","v":{"$error":"#N/A"}},null,null,null,null,null,null,null,null,null,null,null,null,null,null,null,{"$f":"VLOOKUP(T230,Arkusz2!$G$2:$I$34,3,0)","v":{"$error":"#N/A"}},{"$f":"VLOOKUP(D230,Arkusz2!O198:P1335,2,0)","v":{"$error":"#N/A"}}]
[null,null,null,"..",{"$f":"VLOOKUP(D231,Arkusz2!$D$2:$E$1137,2,0)","v":{"$error":"#N/A"}},null,null,null,null,null,null,null,null,null,null,null,null,null,null,null,{"$f":"VLOOKUP(T231,Arkusz2!$G$2:$I$34,3,0)","v":{"$error":"#N/A"}},{"$f":"VLOOKUP(D231,Arkusz2!O199:P1336,2,0)","v":{"$error":"#N/A"}}]
[null,null,null,"..",{"$f":"VLOOKUP(D232,Arkusz2!$D$2:$E$1137,2,0)","v":{"$error":"#N/A"}},null,null,null,null,null,null,null,null,null,null,null,null,null,null,null,{"$f":"VLOOKUP(T232,Arkusz2!$G$2:$I$34,3,0)","v":{"$error":"#N/A"}},{"$f":"VLOOKUP(D232,Arkusz2!O200:P1337,2,0)","v":{"$error":"#N/A"}}]
[null,null,null,"..",{"$f":"VLOOKUP(D233,Arkusz2!$D$2:$E$1137,2,0)","v":{"$error":"#N/A"}},null,null,null,null,null,null,null,null,null,null,null,null,null,null,null,{"$f":"VLOOKUP(T233,Arkusz2!$G$2:$I$34,3,0)","v":{"$error":"#N/A"}},{"$f":"VLOOKUP(D233,Arkusz2!O201:P1338,2,0)","v":{"$error":"#N/A"}}]
[null,null,null,"..",{"$f":"VLOOKUP(D234,Arkusz2!$D$2:$E$1137,2,0)","v":{"$error":"#N/A"}},null,null,null,null,null,null,null,null,null,null,null,null,null,null,null,{"$f":"VLOOKUP(T234,Arkusz2!$G$2:$I$34,3,0)","v":{"$error":"#N/A"}},{"$f":"VLOOKUP(D234,Arkusz2!O202:P1339,2,0)","v":{"$error":"#N/A"}}]
[null,null,null,"..",{"$f":"VLOOKUP(D235,Arkusz2!$D$2:$E$1137,2,0)","v":{"$error":"#N/A"}},null,null,null,null,null,null,null,null,null,null,null,null,null,null,null,{"$f":"VLOOKUP(T235,Arkusz2!$G$2:$I$34,3,0)","v":{"$error":"#N/A"}},{"$f":"VLOOKUP(D235,Arkusz2!O203:P1340,2,0)","v":{"$error":"#N/A"}}]
[null,null,null,"..",{"$f":"VLOOKUP(D236,Arkusz2!$D$2:$E$1137,2,0)","v":{"$error":"#N/A"}},null,null,null,null,null,null,null,null,null,null,null,null,null,null,null,{"$f":"VLOOKUP(T236,Arkusz2!$G$2:$I$34,3,0)","v":{"$error":"#N/A"}},{"$f":"VLOOKUP(D236,Arkusz2!O204:P1341,2,0)","v":{"$error":"#N/A"}}]
[null,null,null,"..",{"$f":"VLOOKUP(D237,Arkusz2!$D$2:$E$1137,2,0)","v":{"$error":"#N/A"}},null,null,null,null,null,null,null,null,null,null,null,null,null,null,null,{"$f":"VLOOKUP(T237,Arkusz2!$G$2:$I$34,3,0)","v":{"$error":"#N/A"}},{"$f":"VLOOKUP(D237,Arkusz2!O205:P1342,2,0)","v":{"$error":"#N/A"}}]
[null,null,null,"..",{"$f":"VLOOKUP(D238,Arkusz2!$D$2:$E$1137,2,0)","v":{"$error":"#N/A"}},null,null,null,null,null,null,null,null,null,null,null,null,null,null,null,{"$f":"VLOOKUP(T238,Arkusz2!$G$2:$I$34,3,0)","v":{"$error":"#N/A"}},{"$f":"VLOOKUP(D238,Arkusz2!O206:P1343,2,0)","v":{"$error":"#N/A"}}]
[null,null,null,"..",{"$f":"VLOOKUP(D239,Arkusz2!$D$2:$E$1137,2,0)","v":{"$error":"#N/A"}},null,null,null,null,null,null,null,null,null,null,null,null,null,null,null,{"$f":"VLOOKUP(T239,Arkusz2!$G$2:$I$34,3,0)","v":{"$error":"#N/A"}},{"$f":"VLOOKUP(D239,Arkusz2!O207:P1344,2,0)","v":{"$error":"#N/A"}}]
[null,null,null,"..",{"$f":"VLOOKUP(D240,Arkusz2!$D$2:$E$1137,2,0)","v":{"$error":"#N/A"}},null,null,null,null,null,null,null,null,null,null,null,null,null,null,null,{"$f":"VLOOKUP(T240,Arkusz2!$G$2:$I$34,3,0)","v":{"$error":"#N/A"}},{"$f":"VLOOKUP(D240,Arkusz2!O208:P1345,2,0)","v":{"$error":"#N/A"}}]
[null,null,null,"..",{"$f":"VLOOKUP(D241,Arkusz2!$D$2:$E$1137,2,0)","v":{"$error":"#N/A"}},null,null,null,null,null,null,null,null,null,null,null,null,null,null,null,{"$f":"VLOOKUP(T241,Arkusz2!$G$2:$I$34,3,0)","v":{"$error":"#N/A"}},{"$f":"VLOOKUP(D241,Arkusz2!O209:P1346,2,0)","v":{"$error":"#N/A"}}]
[null,null,null,"..",{"$f":"VLOOKUP(D242,Arkusz2!$D$2:$E$1137,2,0)","v":{"$error":"#N/A"}},null,null,null,null,null,null,null,null,null,null,null,null,null,null,null,{"$f":"VLOOKUP(T242,Arkusz2!$G$2:$I$34,3,0)","v":{"$error":"#N/A"}},{"$f":"VLOOKUP(D242,Arkusz2!O210:P1347,2,0)","v":{"$error":"#N/A"}}]
[null,null,null,"..",{"$f":"VLOOKUP(D243,Arkusz2!$D$2:$E$1137,2,0)","v":{"$error":"#N/A"}},null,null,null,null,null,null,null,null,null,null,null,null,null,null,null,{"$f":"VLOOKUP(T243,Arkusz2!$G$2:$I$34,3,0)","v":{"$error":"#N/A"}},{"$f":"VLOOKUP(D243,Arkusz2!O211:P1348,2,0)","v":{"$error":"#N/A"}}]
[null,null,null,"..",{"$f":"VLOOKUP(D244,Arkusz2!$D$2:$E$1137,2,0)","v":{"$error":"#N/A"}},null,null,null,null,null,null,null,null,null,null,null,null,null,null,null,{"$f":"VLOOKUP(T244,Arkusz2!$G$2:$I$34,3,0)","v":{"$error":"#N/A"}},{"$f":"VLOOKUP(D244,Arkusz2!O212:P1349,2,0)","v":{"$error":"#N/A"}}]
[null,null,null,"..",{"$f":"VLOOKUP(D245,Arkusz2!$D$2:$E$1137,2,0)","v":{"$error":"#N/A"}},null,null,null,null,null,null,null,null,null,null,null,null,null,null,null,{"$f":"VLOOKUP(T245,Arkusz2!$G$2:$I$34,3,0)","v":{"$error":"#N/A"}},{"$f":"VLOOKUP(D245,Arkusz2!O213:P1350,2,0)","v":{"$error":"#N/A"}}]
[null,null,null,"..",{"$f":"VLOOKUP(D246,Arkusz2!$D$2:$E$1137,2,0)","v":{"$error":"#N/A"}},null,null,null,null,null,null,null,null,null,null,null,null,null,null,null,{"$f":"VLOOKUP(T246,Arkusz2!$G$2:$I$34,3,0)","v":{"$error":"#N/A"}},{"$f":"VLOOKUP(D246,Arkusz2!O214:P1351,2,0)","v":{"$error":"#N/A"}}]
[null,null,null,"..",{"$f":"VLOOKUP(D247,Arkusz2!$D$2:$E$1137,2,0)","v":{"$error":"#N/A"}},null,null,null,null,null,null,null,null,null,null,null,null,null,null,null,{"$f":"VLOOKUP(T247,Arkusz2!$G$2:$I$34,3,0)","v":{"$error":"#N/A"}},{"$f":"VLOOKUP(D247,Arkusz2!O215:P1352,2,0)","v":{"$error":"#N/A"}}]
[null,null,null,"..",{"$f":"VLOOKUP(D248,Arkusz2!$D$2:$E$1137,2,0)","v":{"$error":"#N/A"}},null,null,null,null,null,null,null,null,null,null,null,null,null,null,null,{"$f":"VLOOKUP(T248,Arkusz2!$G$2:$I$34,3,0)","v":{"$error":"#N/A"}},{"$f":"VLOOKUP(D248,Arkusz2!O216:P1353,2,0)","v":{"$error":"#N/A"}}]
[null,null,null,"..",{"$f":"VLOOKUP(D249,Arkusz2!$D$2:$E$1137,2,0)","v":{"$error":"#N/A"}},null,null,null,null,null,null,null,null,null,null,null,null,null,null,null,{"$f":"VLOOKUP(T249,Arkusz2!$G$2:$I$34,3,0)","v":{"$error":"#N/A"}},{"$f":"VLOOKUP(D249,Arkusz2!O217:P1354,2,0)","v":{"$error":"#N/A"}}]
[null,null,null,"..",{"$f":"VLOOKUP(D250,Arkusz2!$D$2:$E$1137,2,0)","v":{"$error":"#N/A"}},null,null,null,null,null,null,null,null,null,null,null,null,null,null,null,{"$f":"VLOOKUP(T250,Arkusz2!$G$2:$I$34,3,0)","v":{"$error":"#N/A"}},{"$f":"VLOOKUP(D250,Arkusz2!O218:P1355,2,0)","v":{"$error":"#N/A"}}]
[null,null,null,"..",{"$f":"VLOOKUP(D251,Arkusz2!$D$2:$E$1137,2,0)","v":{"$error":"#N/A"}},null,null,null,null,null,null,null,null,null,null,null,null,null,null,null,{"$f":"VLOOKUP(T251,Arkusz2!$G$2:$I$34,3,0)","v":{"$error":"#N/A"}},{"$f":"VLOOKUP(D251,Arkusz2!O219:P1356,2,0)","v":{"$error":"#N/A"}}]
[null,null,null,"..",{"$f":"VLOOKUP(D252,Arkusz2!$D$2:$E$1137,2,0)","v":{"$error":"#N/A"}},null,null,null,null,null,null,null,null,null,null,null,null,null,null,null,{"$f":"VLOOKUP(T252,Arkusz2!$G$2:$I$34,3,0)","v":{"$error":"#N/A"}},{"$f":"VLOOKUP(D252,Arkusz2!O220:P1357,2,0)","v":{"$error":"#N/A"}}]
[null,null,null,"..",{"$f":"VLOOKUP(D253,Arkusz2!$D$2:$E$1137,2,0)","v":{"$error":"#N/A"}},null,null,null,null,null,null,null,null,null,null,null,null,null,null,null,{"$f":"VLOOKUP(T253,Arkusz2!$G$2:$I$34,3,0)","v":{"$error":"#N/A"}},{"$f":"VLOOKUP(D253,Arkusz2!O221:P1358,2,0)","v":{"$error":"#N/A"}}]
[null,null,null,"..",{"$f":"VLOOKUP(D254,Arkusz2!$D$2:$E$1137,2,0)","v":{"$error":"#N/A"}},null,null,null,null,null,null,null,null,null,null,null,null,null,null,null,{"$f":"VLOOKUP(T254,Arkusz2!$G$2:$I$34,3,0)","v":{"$error":"#N/A"}},{"$f":"VLOOKUP(D254,Arkusz2!O222:P1359,2,0)","v":{"$error":"#N/A"}}]
[null,null,null,"..",{"$f":"VLOOKUP(D255,Arkusz2!$D$2:$E$1137,2,0)","v":{"$error":"#N/A"}},null,null,null,null,null,null,null,null,null,null,null,null,null,null,null,{"$f":"VLOOKUP(T255,Arkusz2!$G$2:$I$34,3,0)","v":{"$error":"#N/A"}},{"$f":"VLOOKUP(D255,Arkusz2!O223:P1360,2,0)","v":{"$error":"#N/A"}}]
[null,null,null,"..",{"$f":"VLOOKUP(D256,Arkusz2!$D$2:$E$1137,2,0)","v":{"$error":"#N/A"}},null,null,null,null,null,null,null,null,null,null,null,null,null,null,null,{"$f":"VLOOKUP(T256,Arkusz2!$G$2:$I$34,3,0)","v":{"$error":"#N/A"}},{"$f":"VLOOKUP(D256,Arkusz2!O224:P1361,2,0)","v":{"$error":"#N/A"}}]
[null,null,null,"..",{"$f":"VLOOKUP(D257,Arkusz2!$D$2:$E$1137,2,0)","v":{"$error":"#N/A"}},null,null,null,null,null,null,null,null,null,null,null,null,null,null,null,{"$f":"VLOOKUP(T257,Arkusz2!$G$2:$I$34,3,0)","v":{"$error":"#N/A"}},{"$f":"VLOOKUP(D257,Arkusz2!O225:P1362,2,0)","v":{"$error":"#N/A"}}]
[null,null,null,"..",{"$f":"VLOOKUP(D258,Arkusz2!$D$2:$E$1137,2,0)","v":{"$error":"#N/A"}},null,null,null,null,null,null,null,null,null,null,null,null,null,null,null,{"$f":"VLOOKUP(T258,Arkusz2!$G$2:$I$34,3,0)","v":{"$error":"#N/A"}},{"$f":"VLOOKUP(D258,Arkusz2!O226:P1363,2,0)","v":{"$error":"#N/A"}}]
[null,null,null,"..",{"$f":"VLOOKUP(D259,Arkusz2!$D$2:$E$1137,2,0)","v":{"$error":"#N/A"}},null,null,null,null,null,null,null,null,null,null,null,null,null,null,null,{"$f":"VLOOKUP(T259,Arkusz2!$G$2:$I$34,3,0)","v":{"$error":"#N/A"}},{"$f":"VLOOKUP(D259,Arkusz2!O227:P1364,2,0)","v":{"$error":"#N/A"}}]
[null,null,null,"..",{"$f":"VLOOKUP(D260,Arkusz2!$D$2:$E$1137,2,0)","v":{"$error":"#N/A"}},null,null,null,null,null,null,null,null,null,null,null,null,null,null,null,{"$f":"VLOOKUP(T260,Arkusz2!$G$2:$I$34,3,0)","v":{"$error":"#N/A"}},{"$f":"VLOOKUP(D260,Arkusz2!O228:P1365,2,0)","v":{"$error":"#N/A"}}]
[null,null,null,"..",{"$f":"VLOOKUP(D261,Arkusz2!$D$2:$E$1137,2,0)","v":{"$error":"#N/A"}},null,null,null,null,null,null,null,null,null,null,null,null,null,null,null,{"$f":"VLOOKUP(T261,Arkusz2!$G$2:$I$34,3,0)","v":{"$error":"#N/A"}},{"$f":"VLOOKUP(D261,Arkusz2!O229:P1366,2,0)","v":{"$error":"#N/A"}}]
[null,null,null,"..",{"$f":"VLOOKUP(D262,Arkusz2!$D$2:$E$1137,2,0)","v":{"$error":"#N/A"}},null,null,null,null,null,null,null,null,null,null,null,null,null,null,null,{"$f":"VLOOKUP(T262,Arkusz2!$G$2:$I$34,3,0)","v":{"$error":"#N/A"}},{"$f":"VLOOKUP(D262,Arkusz2!O230:P1367,2,0)","v":{"$error":"#N/A"}}]
[null,null,null,"..",{"$f":"VLOOKUP(D263,Arkusz2!$D$2:$E$1137,2,0)","v":{"$error":"#N/A"}},null,null,null,null,null,null,null,null,null,null,null,null,null,null,null,{"$f":"VLOOKUP(T263,Arkusz2!$G$2:$I$34,3,0)","v":{"$error":"#N/A"}},{"$f":"VLOOKUP(D263,Arkusz2!O231:P1368,2,0)","v":{"$error":"#N/A"}}]
[null,null,null,"..",{"$f":"VLOOKUP(D264,Arkusz2!$D$2:$E$1137,2,0)","v":{"$error":"#N/A"}},null,null,null,null,null,null,null,null,null,null,null,null,null,null,null,{"$f":"VLOOKUP(T264,Arkusz2!$G$2:$I$34,3,0)","v":{"$error":"#N/A"}},{"$f":"VLOOKUP(D264,Arkusz2!O232:P1369,2,0)","v":{"$error":"#N/A"}}]
[null,null,null,"..",{"$f":"VLOOKUP(D265,Arkusz2!$D$2:$E$1137,2,0)","v":{"$error":"#N/A"}},null,null,null,null,null,null,null,null,null,null,null,null,null,null,null,{"$f":"VLOOKUP(T265,Arkusz2!$G$2:$I$34,3,0)","v":{"$error":"#N/A"}},{"$f":"VLOOKUP(D265,Arkusz2!O233:P1370,2,0)","v":{"$error":"#N/A"}}]
[null,null,null,"..",{"$f":"VLOOKUP(D266,Arkusz2!$D$2:$E$1137,2,0)","v":{"$error":"#N/A"}},null,null,null,null,null,null,null,null,null,null,null,null,null,null,null,{"$f":"VLOOKUP(T266,Arkusz2!$G$2:$I$34,3,0)","v":{"$error":"#N/A"}},{"$f":"VLOOKUP(D266,Arkusz2!O234:P1371,2,0)","v":{"$error":"#N/A"}}]
[null,null,null,"..",{"$f":"VLOOKUP(D267,Arkusz2!$D$2:$E$1137,2,0)","v":{"$error":"#N/A"}},null,null,null,null,null,null,null,null,null,null,null,null,null,null,null,{"$f":"VLOOKUP(T267,Arkusz2!$G$2:$I$34,3,0)","v":{"$error":"#N/A"}},{"$f":"VLOOKUP(D267,Arkusz2!O235:P1372,2,0)","v":{"$error":"#N/A"}}]
[null,null,null,"..",{"$f":"VLOOKUP(D268,Arkusz2!$D$2:$E$1137,2,0)","v":{"$error":"#N/A"}},null,null,null,null,null,null,null,null,null,null,null,null,null,null,null,{"$f":"VLOOKUP(T268,Arkusz2!$G$2:$I$34,3,0)","v":{"$error":"#N/A"}},{"$f":"VLOOKUP(D268,Arkusz2!O236:P1373,2,0)","v":{"$error":"#N/A"}}]
[null,null,null,"..",{"$f":"VLOOKUP(D269,Arkusz2!$D$2:$E$1137,2,0)","v":{"$error":"#N/A"}},null,null,null,null,null,null,null,null,null,null,null,null,null,null,null,{"$f":"VLOOKUP(T269,Arkusz2!$G$2:$I$34,3,0)","v":{"$error":"#N/A"}},{"$f":"VLOOKUP(D269,Arkusz2!O237:P1374,2,0)","v":{"$error":"#N/A"}}]
[null,null,null,"..",{"$f":"VLOOKUP(D270,Arkusz2!$D$2:$E$1137,2,0)","v":{"$error":"#N/A"}},null,null,null,null,null,null,null,null,null,null,null,null,null,null,null,{"$f":"VLOOKUP(T270,Arkusz2!$G$2:$I$34,3,0)","v":{"$error":"#N/A"}},{"$f":"VLOOKUP(D270,Arkusz2!O238:P1375,2,0)","v":{"$error":"#N/A"}}]
[null,null,null,"..",{"$f":"VLOOKUP(D271,Arkusz2!$D$2:$E$1137,2,0)","v":{"$error":"#N/A"}},null,null,null,null,null,null,null,null,null,null,null,null,null,null,null,{"$f":"VLOOKUP(T271,Arkusz2!$G$2:$I$34,3,0)","v":{"$error":"#N/A"}},{"$f":"VLOOKUP(D271,Arkusz2!O239:P1376,2,0)","v":{"$error":"#N/A"}}]
[null,null,null,"..",{"$f":"VLOOKUP(D272,Arkusz2!$D$2:$E$1137,2,0)","v":{"$error":"#N/A"}},null,null,null,null,null,null,null,null,null,null,null,null,null,null,null,{"$f":"VLOOKUP(T272,Arkusz2!$G$2:$I$34,3,0)","v":{"$error":"#N/A"}},{"$f":"VLOOKUP(D272,Arkusz2!O240:P1377,2,0)","v":{"$error":"#N/A"}}]
[null,null,null,"..",{"$f":"VLOOKUP(D273,Arkusz2!$D$2:$E$1137,2,0)","v":{"$error":"#N/A"}},null,null,null,null,null,null,null,null,null,null,null,null,null,null,null,{"$f":"VLOOKUP(T273,Arkusz2!$G$2:$I$34,3,0)","v":{"$error":"#N/A"}},{"$f":"VLOOKUP(D273,Arkusz2!O241:P1378,2,0)","v":{"$error":"#N/A"}}]
[null,null,null,"..",{"$f":"VLOOKUP(D274,Arkusz2!$D$2:$E$1137,2,0)","v":{"$error":"#N/A"}},null,null,null,null,null,null,null,null,null,null,null,null,null,null,null,{"$f":"VLOOKUP(T274,Arkusz2!$G$2:$I$34,3,0)","v":{"$error":"#N/A"}},{"$f":"VLOOKUP(D274,Arkusz2!O242:P1379,2,0)","v":{"$error":"#N/A"}}]
[null,null,null,"..",{"$f":"VLOOKUP(D275,Arkusz2!$D$2:$E$1137,2,0)","v":{"$error":"#N/A"}},null,null,null,null,null,null,null,null,null,null,null,null,null,null,null,{"$f":"VLOOKUP(T275,Arkusz2!$G$2:$I$34,3,0)","v":{"$error":"#N/A"}},{"$f":"VLOOKUP(D275,Arkusz2!O243:P1380,2,0)","v":{"$error":"#N/A"}}]
[null,null,null,"..",{"$f":"VLOOKUP(D276,Arkusz2!$D$2:$E$1137,2,0)","v":{"$error":"#N/A"}},null,null,null,null,null,null,null,null,null,null,null,null,null,null,null,{"$f":"VLOOKUP(T276,Arkusz2!$G$2:$I$34,3,0)","v":{"$error":"#N/A"}},{"$f":"VLOOKUP(D276,Arkusz2!O244:P1381,2,0)","v":{"$error":"#N/A"}}]
[null,null,null,"..",{"$f":"VLOOKUP(D277,Arkusz2!$D$2:$E$1137,2,0)","v":{"$error":"#N/A"}},null,null,null,null,null,null,null,null,null,null,null,null,null,null,null,{"$f":"VLOOKUP(T277,Arkusz2!$G$2:$I$34,3,0)","v":{"$error":"#N/A"}},{"$f":"VLOOKUP(D277,Arkusz2!O245:P1382,2,0)","v":{"$error":"#N/A"}}]
[null,null,null,"..",{"$f":"VLOOKUP(D278,Arkusz2!$D$2:$E$1137,2,0)","v":{"$error":"#N/A"}},null,null,null,null,null,null,null,null,null,null,null,null,null,null,null,{"$f":"VLOOKUP(T278,Arkusz2!$G$2:$I$34,3,0)","v":{"$error":"#N/A"}},{"$f":"VLOOKUP(D278,Arkusz2!O246:P1383,2,0)","v":{"$error":"#N/A"}}]
[null,null,null,"..",{"$f":"VLOOKUP(D279,Arkusz2!$D$2:$E$1137,2,0)","v":{"$error":"#N/A"}},null,null,null,null,null,null,null,null,null,null,null,null,null,null,null,{"$f":"VLOOKUP(T279,Arkusz2!$G$2:$I$34,3,0)","v":{"$error":"#N/A"}},{"$f":"VLOOKUP(D279,Arkusz2!O247:P1384,2,0)","v":{"$error":"#N/A"}}]
[null,null,null,"..",{"$f":"VLOOKUP(D280,Arkusz2!$D$2:$E$1137,2,0)","v":{"$error":"#N/A"}},null,null,null,null,null,null,null,null,null,null,null,null,null,null,null,{"$f":"VLOOKUP(T280,Arkusz2!$G$2:$I$34,3,0)","v":{"$error":"#N/A"}},{"$f":"VLOOKUP(D280,Arkusz2!O248:P1385,2,0)","v":{"$error":"#N/A"}}]
[null,null,null,"..",{"$f":"VLOOKUP(D281,Arkusz2!$D$2:$E$1137,2,0)","v":{"$error":"#N/A"}},null,null,null,null,null,null,null,null,null,null,null,null,null,null,null,{"$f":"VLOOKUP(T281,Arkusz2!$G$2:$I$34,3,0)","v":{"$error":"#N/A"}},{"$f":"VLOOKUP(D281,Arkusz2!O249:P1386,2,0)","v":{"$error":"#N/A"}}]
[null,null,null,"..",{"$f":"VLOOKUP(D282,Arkusz2!$D$2:$E$1137,2,0)","v":{"$error":"#N/A"}},null,null,null,null,null,null,null,null,null,null,null,null,null,null,null,{"$f":"VLOOKUP(T282,Arkusz2!$G$2:$I$34,3,0)","v":{"$error":"#N/A"}},{"$f":"VLOOKUP(D282,Arkusz2!O250:P1387,2,0)","v":{"$error":"#N/A"}}]
[null,null,null,"..",{"$f":"VLOOKUP(D283,Arkusz2!$D$2:$E$1137,2,0)","v":{"$error":"#N/A"}},null,null,null,null,null,null,null,null,null,null,null,null,null,null,null,{"$f":"VLOOKUP(T283,Arkusz2!$G$2:$I$34,3,0)","v":{"$error":"#N/A"}},{"$f":"VLOOKUP(D283,Arkusz2!O251:P1388,2,0)","v":{"$error":"#N/A"}}]
[null,null,null,"..",{"$f":"VLOOKUP(D284,Arkusz2!$D$2:$E$1137,2,0)","v":{"$error":"#N/A"}},null,null,null,null,null,null,null,null,null,null,null,null,null,null,null,{"$f":"VLOOKUP(T284,Arkusz2!$G$2:$I$34,3,0)","v":{"$error":"#N/A"}},{"$f":"VLOOKUP(D284,Arkusz2!O252:P1389,2,0)","v":{"$error":"#N/A"}}]
[null,null,null,"..",{"$f":"VLOOKUP(D285,Arkusz2!$D$2:$E$1137,2,0)","v":{"$error":"#N/A"}},null,null,null,null,null,null,null,null,null,null,null,null,null,null,null,{"$f":"VLOOKUP(T285,Arkusz2!$G$2:$I$34,3,0)","v":{"$error":"#N/A"}},{"$f":"VLOOKUP(D285,Arkusz2!O253:P1390,2,0)","v":{"$error":"#N/A"}}]
[null,null,null,"..",{"$f":"VLOOKUP(D286,Arkusz2!$D$2:$E$1137,2,0)","v":{"$error":"#N/A"}},null,null,null,null,null,null,null,null,null,null,null,null,null,null,null,{"$f":"VLOOKUP(T286,Arkusz2!$G$2:$I$34,3,0)","v":{"$error":"#N/A"}},{"$f":"VLOOKUP(D286,Arkusz2!O254:P1391,2,0)","v":{"$error":"#N/A"}}]
[null,null,null,"..",{"$f":"VLOOKUP(D287,Arkusz2!$D$2:$E$1137,2,0)","v":{"$error":"#N/A"}},null,null,null,null,null,null,null,null,null,null,null,null,null,null,null,{"$f":"VLOOKUP(T287,Arkusz2!$G$2:$I$34,3,0)","v":{"$error":"#N/A"}},{"$f":"VLOOKUP(D287,Arkusz2!O255:P1392,2,0)","v":{"$error":"#N/A"}}]
[null,null,null,"..",{"$f":"VLOOKUP(D288,Arkusz2!$D$2:$E$1137,2,0)","v":{"$error":"#N/A"}},null,null,null,null,null,null,null,null,null,null,null,null,null,null,null,{"$f":"VLOOKUP(T288,Arkusz2!$G$2:$I$34,3,0)","v":{"$error":"#N/A"}},{"$f":"VLOOKUP(D288,Arkusz2!O256:P1393,2,0)","v":{"$error":"#N/A"}}]
[null,null,null,"..",{"$f":"VLOOKUP(D289,Arkusz2!$D$2:$E$1137,2,0)","v":{"$error":"#N/A"}},null,null,null,null,null,null,null,null,null,null,null,null,null,null,null,{"$f":"VLOOKUP(T289,Arkusz2!$G$2:$I$34,3,0)","v":{"$error":"#N/A"}},{"$f":"VLOOKUP(D289,Arkusz2!O257:P1394,2,0)","v":{"$error":"#N/A"}}]
[null,null,null,"..",{"$f":"VLOOKUP(D290,Arkusz2!$D$2:$E$1137,2,0)","v":{"$error":"#N/A"}},null,null,null,null,null,null,null,null,null,null,null,null,null,null,null,{"$f":"VLOOKUP(T290,Arkusz2!$G$2:$I$34,3,0)","v":{"$error":"#N/A"}},{"$f":"VLOOKUP(D290,Arkusz2!O258:P1395,2,0)","v":{"$error":"#N/A"}}]
[null,null,null,{"$f":"_xlfn.CONCAT(A291,\".\",B291,\".\",C291)","v":".."},{"$f":"VLOOKUP(D291,Arkusz2!$D$2:$E$1137,2,0)","v":{"$error":"#N/A"}},null,null,null,null,null,null,null,null,null,null,null,null,null,null,null,{"$f":"VLOOKUP(T291,Arkusz2!$G$2:$I$34,3,0)","v":{"$error":"#N/A"}},{"$f":"VLOOKUP(D291,Arkusz2!O259:P1396,2,0)","v":{"$error":"#N/A"}}]
[null,null,null,"..",{"$f":"VLOOKUP(D292,Arkusz2!$D$2:$E$1137,2,0)","v":{"$error":"#N/A"}},null,null,null,null,null,null,null,null,null,null,null,null,null,null,null,{"$f":"VLOOKUP(T292,Arkusz2!$G$2:$I$34,3,0)","v":{"$error":"#N/A"}},{"$f":"VLOOKUP(D292,Arkusz2!O260:P1397,2,0)","v":{"$error":"#N/A"}}]
[null,null,null,"..",{"$f":"VLOOKUP(D293,Arkusz2!$D$2:$E$1137,2,0)","v":{"$error":"#N/A"}},null,null,null,null,null,null,null,null,null,null,null,null,null,null,null,{"$f":"VLOOKUP(T293,Arkusz2!$G$2:$I$34,3,0)","v":{"$error":"#N/A"}},{"$f":"VLOOKUP(D293,Arkusz2!O261:P1398,2,0)","v":{"$error":"#N/A"}}]
[null,null,null,"..",{"$f":"VLOOKUP(D294,Arkusz2!$D$2:$E$1137,2,0)","v":{"$error":"#N/A"}},null,null,null,null,null,null,null,null,null,null,null,null,null,null,null,{"$f":"VLOOKUP(T294,Arkusz2!$G$2:$I$34,3,0)","v":{"$error":"#N/A"}},{"$f":"VLOOKUP(D294,Arkusz2!O262:P1399,2,0)","v":{"$error":"#N/A"}}]
[null,null,null,"..",{"$f":"VLOOKUP(D295,Arkusz2!$D$2:$E$1137,2,0)","v":{"$error":"#N/A"}},null,null,null,null,null,null,null,null,null,null,null,null,null,null,null,{"$f":"VLOOKUP(T295,Arkusz2!$G$2:$I$34,3,0)","v":{"$error":"#N/A"}},{"$f":"VLOOKUP(D295,Arkusz2!O263:P1400,2,0)","v":{"$error":"#N/A"}}]
[null,null,null,"..",{"$f":"VLOOKUP(D296,Arkusz2!$D$2:$E$1137,2,0)","v":{"$error":"#N/A"}},null,null,null,null,null,null,null,null,null,null,null,null,null,null,null,{"$f":"VLOOKUP(T296,Arkusz2!$G$2:$I$34,3,0)","v":{"$error":"#N/A"}},{"$f":"VLOOKUP(D296,Arkusz2!O264:P1401,2,0)","v":{"$error":"#N/A"}}]
[null,null,null,"..",{"$f":"VLOOKUP(D297,Arkusz2!$D$2:$E$1137,2,0)","v":{"$error":"#N/A"}},null,null,null,null,null,null,null,null,null,null,null,null,null,null,null,{"$f":"VLOOKUP(T297,Arkusz2!$G$2:$I$34,3,0)","v":{"$error":"#N/A"}},{"$f":"VLOOKUP(D297,Arkusz2!O265:P1402,2,0)","v":{"$error":"#N/A"}}]
[null,null,null,"..",{"$f":"VLOOKUP(D298,Arkusz2!$D$2:$E$1137,2,0)","v":{"$error":"#N/A"}},null,null,null,null,null,null,null,null,null,null,null,null,null,null,null,{"$f":"VLOOKUP(T298,Arkusz2!$G$2:$I$34,3,0)","v":{"$error":"#N/A"}},{"$f":"VLOOKUP(D298,Arkusz2!O266:P1403,2,0)","v":{"$error":"#N/A"}}]
[null,null,null,"..",{"$f":"VLOOKUP(D299,Arkusz2!$D$2:$E$1137,2,0)","v":{"$error":"#N/A"}},null,null,null,null,null,null,null,null,null,null,null,null,null,null,null,{"$f":"VLOOKUP(T299,Arkusz2!$G$2:$I$34,3,0)","v":{"$error":"#N/A"}},{"$f":"VLOOKUP(D299,Arkusz2!O267:P1404,2,0)","v":{"$error":"#N/A"}}]
[null,null,null,"..",{"$f":"VLOOKUP(D300,Arkusz2!$D$2:$E$1137,2,0)","v":{"$error":"#N/A"}},null,null,null,null,null,null,null,null,null,null,null,null,null,null,null,{"$f":"VLOOKUP(T300,Arkusz2!$G$2:$I$34,3,0)","v":{"$error":"#N/A"}},{"$f":"VLOOKUP(D300,Arkusz2!O268:P1405,2,0)","v":{"$error":"#N/A"}}]
[null,null,null,"..",{"$f":"VLOOKUP(D301,Arkusz2!$D$2:$E$1137,2,0)","v":{"$error":"#N/A"}},null,null,null,null,null,null,null,null,null,null,null,null,null,null,null,{"$f":"VLOOKUP(T301,Arkusz2!$G$2:$I$34,3,0)","v":{"$error":"#N/A"}},{"$f":"VLOOKUP(D301,Arkusz2!O269:P1406,2,0)","v":{"$error":"#N/A"}}]
[null,null,null,"..",{"$f":"VLOOKUP(D302,Arkusz2!$D$2:$E$1137,2,0)","v":{"$error":"#N/A"}},null,null,null,null,null,null,null,null,null,null,null,null,null,null,null,{"$f":"VLOOKUP(T302,Arkusz2!$G$2:$I$34,3,0)","v":{"$error":"#N/A"}},{"$f":"VLOOKUP(D302,Arkusz2!O270:P1407,2,0)","v":{"$error":"#N/A"}}]
[null,null,null,"..",{"$f":"VLOOKUP(D303,Arkusz2!$D$2:$E$1137,2,0)","v":{"$error":"#N/A"}},null,null,null,null,null,null,null,null,null,null,null,null,null,null,null,{"$f":"VLOOKUP(T303,Arkusz2!$G$2:$I$34,3,0)","v":{"$error":"#N/A"}},{"$f":"VLOOKUP(D303,Arkusz2!O271:P1408,2,0)","v":{"$error":"#N/A"}}]
[null,null,null,"..",{"$f":"VLOOKUP(D304,Arkusz2!$D$2:$E$1137,2,0)","v":{"$error":"#N/A"}},null,null,null,null,null,null,null,null,null,null,null,null,null,null,null,{"$f":"VLOOKUP(T304,Arkusz2!$G$2:$I$34,3,0)","v":{"$error":"#N/A"}},{"$f":"VLOOKUP(D304,Arkusz2!O272:P1409,2,0)","v":{"$error":"#N/A"}}]
[null,null,null,"..",{"$f":"VLOOKUP(D305,Arkusz2!$D$2:$E$1137,2,0)","v":{"$error":"#N/A"}},null,null,null,null,null,null,null,null,null,null,null,null,null,null,null,{"$f":"VLOOKUP(T305,Arkusz2!$G$2:$I$34,3,0)","v":{"$error":"#N/A"}},{"$f":"VLOOKUP(D305,Arkusz2!O273:P1410,2,0)","v":{"$error":"#N/A"}}]
[null,null,null,"..",{"$f":"VLOOKUP(D306,Arkusz2!$D$2:$E$1137,2,0)","v":{"$error":"#N/A"}},null,null,null,null,null,null,null,null,null,null,null,null,null,null,null,{"$f":"VLOOKUP(T306,Arkusz2!$G$2:$I$34,3,0)","v":{"$error":"#N/A"}},{"$f":"VLOOKUP(D306,Arkusz2!O274:P1411,2,0)","v":{"$error":"#N/A"}}]
[null,null,null,"..",{"$f":"VLOOKUP(D307,Arkusz2!$D$2:$E$1137,2,0)","v":{"$error":"#N/A"}},null,null,null,null,null,null,null,null,null,null,null,null,null,null,null,{"$f":"VLOOKUP(T307,Arkusz2!$G$2:$I$34,3,0)","v":{"$error":"#N/A"}},{"$f":"VLOOKUP(D307,Arkusz2!O275:P1412,2,0)","v":{"$error":"#N/A"}}]
[null,null,null,"..",{"$f":"VLOOKUP(D308,Arkusz2!$D$2:$E$1137,2,0)","v":{"$error":"#N/A"}},null,null,null,null,null,null,null,null,null,null,null,null,null,null,null,{"$f":"VLOOKUP(T308,Arkusz2!$G$2:$I$34,3,0)","v":{"$error":"#N/A"}},{"$f":"VLOOKUP(D308,Arkusz2!O276:P1413,2,0)","v":{"$error":"#N/A"}}]
[null,null,null,"..",{"$f":"VLOOKUP(D309,Arkusz2!$D$2:$E$1137,2,0)","v":{"$error":"#N/A"}},null,null,null,null,null,null,null,null,null,null,null,null,null,null,null,{"$f":"VLOOKUP(T309,Arkusz2!$G$2:$I$34,3,0)","v":{"$error":"#N/A"}},{"$f":"VLOOKUP(D309,Arkusz2!O277:P1414,2,0)","v":{"$error":"#N/A"}}]
[null,null,null,"..",{"$f":"VLOOKUP(D310,Arkusz2!$D$2:$E$1137,2,0)","v":{"$error":"#N/A"}},null,null,null,null,null,null,null,null,null,null,null,null,null,null,null,{"$f":"VLOOKUP(T310,Arkusz2!$G$2:$I$34,3,0)","v":{"$error":"#N/A"}},{"$f":"VLOOKUP(D310,Arkusz2!O278:P1415,2,0)","v":{"$error":"#N/A"}}]
[null,null,null,"..",{"$f":"VLOOKUP(D311,Arkusz2!$D$2:$E$1137,2,0)","v":{"$error":"#N/A"}},null,null,null,null,null,null,null,null,null,null,null,null,null,null,null,{"$f":"VLOOKUP(T311,Arkusz2!$G$2:$I$34,3,0)","v":{"$error":"#N/A"}},{"$f":"VLOOKUP(D311,Arkusz2!O279:P1416,2,0)","v":{"$error":"#N/A"}}]
[null,null,null,"..",{"$f":"VLOOKUP(D312,Arkusz2!$D$2:$E$1137,2,0)","v":{"$error":"#N/A"}},null,null,null,null,null,null,null,null,null,null,null,null,null,null,null,{"$f":"VLOOKUP(T312,Arkusz2!$G$2:$I$34,3,0)","v":{"$error":"#N/A"}},{"$f":"VLOOKUP(D312,Arkusz2!O280:P1417,2,0)","v":{"$error":"#N/A"}}]
[null,null,null,"..",{"$f":"VLOOKUP(D313,Arkusz2!$D$2:$E$1137,2,0)","v":{"$error":"#N/A"}},null,null,null,null,null,null,null,null,null,null,null,null,null,null,null,{"$f":"VLOOKUP(T313,Arkusz2!$G$2:$I$34,3,0)","v":{"$error":"#N/A"}},{"$f":"VLOOKUP(D313,Arkusz2!O281:P1418,2,0)","v":{"$error":"#N/A"}}]
[null,null,null,"..",{"$f":"VLOOKUP(D314,Arkusz2!$D$2:$E$1137,2,0)","v":{"$error":"#N/A"}},null,null,null,null,null,null,null,null,null,null,null,null,null,null,null,{"$f":"VLOOKUP(T314,Arkusz2!$G$2:$I$34,3,0)","v":{"$error":"#N/A"}},{"$f":"VLOOKUP(D314,Arkusz2!O282:P1419,2,0)","v":{"$error":"#N/A"}}]
[null,null,null,"..",{"$f":"VLOOKUP(D315,Arkusz2!$D$2:$E$1137,2,0)","v":{"$error":"#N/A"}},null,null,null,null,null,null,null,null,null,null,null,null,null,null,null,{"$f":"VLOOKUP(T315,Arkusz2!$G$2:$I$34,3,0)","v":{"$error":"#N/A"}},{"$f":"VLOOKUP(D315,Arkusz2!O283:P1420,2,0)","v":{"$error":"#N/A"}}]
[null,null,null,"..",{"$f":"VLOOKUP(D316,Arkusz2!$D$2:$E$1137,2,0)","v":{"$error":"#N/A"}},null,null,null,null,null,null,null,null,null,null,null,null,null,null,null,{"$f":"VLOOKUP(T316,Arkusz2!$G$2:$I$34,3,0)","v":{"$error":"#N/A"}},{"$f":"VLOOKUP(D316,Arkusz2!O284:P1421,2,0)","v":{"$error":"#N/A"}}]
[null,null,null,"..",{"$f":"VLOOKUP(D317,Arkusz2!$D$2:$E$1137,2,0)","v":{"$error":"#N/A"}},null,null,null,null,null,null,null,null,null,null,null,null,null,null,null,{"$f":"VLOOKUP(T317,Arkusz2!$G$2:$I$34,3,0)","v":{"$error":"#N/A"}},{"$f":"VLOOKUP(D317,Arkusz2!O285:P1422,2,0)","v":{"$error":"#N/A"}}]
[null,null,null,"..",{"$f":"VLOOKUP(D318,Arkusz2!$D$2:$E$1137,2,0)","v":{"$error":"#N/A"}},null,null,null,null,null,null,null,null,null,null,null,null,null,null,null,{"$f":"VLOOKUP(T318,Arkusz2!$G$2:$I$34,3,0)","v":{"$error":"#N/A"}},{"$f":"VLOOKUP(D318,Arkusz2!O286:P1423,2,0)","v":{"$error":"#N/A"}}]
[null,null,null,"..",{"$f":"VLOOKUP(D319,Arkusz2!$D$2:$E$1137,2,0)","v":{"$error":"#N/A"}},null,null,null,null,null,null,null,null,null,null,null,null,null,null,null,{"$f":"VLOOKUP(T319,Arkusz2!$G$2:$I$34,3,0)","v":{"$error":"#N/A"}},{"$f":"VLOOKUP(D319,Arkusz2!O287:P1424,2,0)","v":{"$error":"#N/A"}}]
[null,null,null,"..",{"$f":"VLOOKUP(D320,Arkusz2!$D$2:$E$1137,2,0)","v":{"$error":"#N/A"}},null,null,null,null,null,null,null,null,null,null,null,null,null,null,null,{"$f":"VLOOKUP(T320,Arkusz2!$G$2:$I$34,3,0)","v":{"$error":"#N/A"}},{"$f":"VLOOKUP(D320,Arkusz2!O288:P1425,2,0)","v":{"$error":"#N/A"}}]
[null,null,null,"..",{"$f":"VLOOKUP(D321,Arkusz2!$D$2:$E$1137,2,0)","v":{"$error":"#N/A"}},null,null,null,null,null,null,null,null,null,null,null,null,null,null,null,{"$f":"VLOOKUP(T321,Arkusz2!$G$2:$I$34,3,0)","v":{"$error":"#N/A"}},{"$f":"VLOOKUP(D321,Arkusz2!O289:P1426,2,0)","v":{"$error":"#N/A"}}]
[null,null,null,"..",{"$f":"VLOOKUP(D322,Arkusz2!$D$2:$E$1137,2,0)","v":{"$error":"#N/A"}},null,null,null,null,null,null,null,null,null,null,null,null,null,null,null,{"$f":"VLOOKUP(T322,Arkusz2!$G$2:$I$34,3,0)","v":{"$error":"#N/A"}},{"$f":"VLOOKUP(D322,Arkusz2!O290:P1427,2,0)","v":{"$error":"#N/A"}}]
[null,null,null,"..",{"$f":"VLOOKUP(D323,Arkusz2!$D$2:$E$1137,2,0)","v":{"$error":"#N/A"}},null,null,null,null,null,null,null,null,null,null,null,null,null,null,null,{"$f":"VLOOKUP(T323,Arkusz2!$G$2:$I$34,3,0)","v":{"$error":"#N/A"}},{"$f":"VLOOKUP(D323,Arkusz2!O291:P1428,2,0)","v":{"$error":"#N/A"}}]
[null,null,null,"..",{"$f":"VLOOKUP(D324,Arkusz2!$D$2:$E$1137,2,0)","v":{"$error":"#N/A"}},null,null,null,null,null,null,null,null,null,null,null,null,null,null,null,{"$f":"VLOOKUP(T324,Arkusz2!$G$2:$I$34,3,0)","v":{"$error":"#N/A"}},{"$f":"VLOOKUP(D324,Arkusz2!O292:P1429,2,0)","v":{"$error":"#N/A"}}]
[null,null,null,"..",{"$f":"VLOOKUP(D325,Arkusz2!$D$2:$E$1137,2,0)","v":{"$error":"#N/A"}},null,null,null,null,null,null,null,null,null,null,null,null,null,null,null,{"$f":"VLOOKUP(T325,Arkusz2!$G$2:$I$34,3,0)","v":{"$error":"#N/A"}},{"$f":"VLOOKUP(D325,Arkusz2!O293:P1430,2,0)","v":{"$error":"#N/A"}}]
[null,null,null,"..",{"$f":"VLOOKUP(D326,Arkusz2!$D$2:$E$1137,2,0)","v":{"$error":"#N/A"}},null,null,null,null,null,null,null,null,null,null,null,null,null,null,null,{"$f":"VLOOKUP(T326,Arkusz2!$G$2:$I$34,3,0)","v":{"$error":"#N/A"}},{"$f":"VLOOKUP(D326,Arkusz2!O294:P1431,2,0)","v":{"$error":"#N/A"}}]
[null,null,null,"..",{"$f":"VLOOKUP(D327,Arkusz2!$D$2:$E$1137,2,0)","v":{"$error":"#N/A"}},null,null,null,null,null,null,null,null,null,null,null,null,null,null,null,{"$f":"VLOOKUP(T327,Arkusz2!$G$2:$I$34,3,0)","v":{"$error":"#N/A"}},{"$f":"VLOOKUP(D327,Arkusz2!O295:P1432,2,0)","v":{"$error":"#N/A"}}]
[null,null,null,"..",{"$f":"VLOOKUP(D328,Arkusz2!$D$2:$E$1137,2,0)","v":{"$error":"#N/A"}},null,null,null,null,null,null,null,null,null,null,null,null,null,null,null,{"$f":"VLOOKUP(T328,Arkusz2!$G$2:$I$34,3,0)","v":{"$error":"#N/A"}},{"$f":"VLOOKUP(D328,Arkusz2!O296:P1433,2,0)","v":{"$error":"#N/A"}}]
[null,null,null,"..",{"$f":"VLOOKUP(D329,Arkusz2!$D$2:$E$1137,2,0)","v":{"$error":"#N/A"}},null,null,null,null,null,null,null,null,null,null,null,null,null,null,null,{"$f":"VLOOKUP(T329,Arkusz2!$G$2:$I$34,3,0)","v":{"$error":"#N/A"}},{"$f":"VLOOKUP(D329,Arkusz2!O297:P1434,2,0)","v":{"$error":"#N/A"}}]
[null,null,null,"..",{"$f":"VLOOKUP(D330,Arkusz2!$D$2:$E$1137,2,0)","v":{"$error":"#N/A"}},null,null,null,null,null,null,null,null,null,null,null,null,null,null,null,{"$f":"VLOOKUP(T330,Arkusz2!$G$2:$I$34,3,0)","v":{"$error":"#N/A"}},{"$f":"VLOOKUP(D330,Arkusz2!O298:P1435,2,0)","v":{"$error":"#N/A"}}]
[null,null,null,"..",{"$f":"VLOOKUP(D331,Arkusz2!$D$2:$E$1137,2,0)","v":{"$error":"#N/A"}},null,null,null,null,null,null,null,null,null,null,null,null,null,null,null,{"$f":"VLOOKUP(T331,Arkusz2!$G$2:$I$34,3,0)","v":{"$error":"#N/A"}},{"$f":"VLOOKUP(D331,Arkusz2!O299:P1436,2,0)","v":{"$error":"#N/A"}}]
[null,null,null,"..",{"$f":"VLOOKUP(D332,Arkusz2!$D$2:$E$1137,2,0)","v":{"$error":"#N/A"}},null,null,null,null,null,null,null,null,null,null,null,null,null,null,null,{"$f":"VLOOKUP(T332,Arkusz2!$G$2:$I$34,3,0)","v":{"$error":"#N/A"}},{"$f":"VLOOKUP(D332,Arkusz2!O300:P1437,2,0)","v":{"$error":"#N/A"}}]
[null,null,null,"..",{"$f":"VLOOKUP(D333,Arkusz2!$D$2:$E$1137,2,0)","v":{"$error":"#N/A"}},null,null,null,null,null,null,null,null,null,null,null,null,null,null,null,{"$f":"VLOOKUP(T333,Arkusz2!$G$2:$I$34,3,0)","v":{"$error":"#N/A"}},{"$f":"VLOOKUP(D333,Arkusz2!O301:P1438,2,0)","v":{"$error":"#N/A"}}]
[null,null,null,"..",{"$f":"VLOOKUP(D334,Arkusz2!$D$2:$E$1137,2,0)","v":{"$error":"#N/A"}},null,null,null,null,null,null,null,null,null,null,null,null,null,null,null,{"$f":"VLOOKUP(T334,Arkusz2!$G$2:$I$34,3,0)","v":{"$error":"#N/A"}},{"$f":"VLOOKUP(D334,Arkusz2!O302:P1439,2,0)","v":{"$error":"#N/A"}}]
[null,null,null,"..",{"$f":"VLOOKUP(D335,Arkusz2!$D$2:$E$1137,2,0)","v":{"$error":"#N/A"}},null,null,null,null,null,null,null,null,null,null,null,null,null,null,null,{"$f":"VLOOKUP(T335,Arkusz2!$G$2:$I$34,3,0)","v":{"$error":"#N/A"}},{"$f":"VLOOKUP(D335,Arkusz2!O303:P1440,2,0)","v":{"$error":"#N/A"}}]
[null,null,null,"..",{"$f":"VLOOKUP(D336,Arkusz2!$D$2:$E$1137,2,0)","v":{"$error":"#N/A"}},null,null,null,null,null,null,null,null,null,null,null,null,null,null,null,{"$f":"VLOOKUP(T336,Arkusz2!$G$2:$I$34,3,0)","v":{"$error":"#N/A"}},{"$f":"VLOOKUP(D336,Arkusz2!O304:P1441,2,0)","v":{"$error":"#N/A"}}]
[null,null,null,"..",{"$f":"VLOOKUP(D337,Arkusz2!$D$2:$E$1137,2,0)","v":{"$error":"#N/A"}},null,null,null,null,null,null,null,null,null,null,null,null,null,null,null,{"$f":"VLOOKUP(T337,Arkusz2!$G$2:$I$34,3,0)","v":{"$error":"#N/A"}},{"$f":"VLOOKUP(D337,Arkusz2!O305:P1442,2,0)","v":{"$error":"#N/A"}}]
[null,null,null,"..",{"$f":"VLOOKUP(D338,Arkusz2!$D$2:$E$1137,2,0)","v":{"$error":"#N/A"}},null,null,null,null,null,null,null,null,null,null,null,null,null,null,null,{"$f":"VLOOKUP(T338,Arkusz2!$G$2:$I$34,3,0)","v":{"$error":"#N/A"}},{"$f":"VLOOKUP(D338,Arkusz2!O306:P1443,2,0)","v":{"$error":"#N/A"}}]
[null,null,null,"..",{"$f":"VLOOKUP(D339,Arkusz2!$D$2:$E$1137,2,0)","v":{"$error":"#N/A"}},null,null,null,null,null,null,null,null,null,null,null,null,null,null,null,{"$f":"VLOOKUP(T339,Arkusz2!$G$2:$I$34,3,0)","v":{"$error":"#N/A"}},{"$f":"VLOOKUP(D339,Arkusz2!O307:P1444,2,0)","v":{"$error":"#N/A"}}]
[null,null,null,"..",{"$f":"VLOOKUP(D340,Arkusz2!$D$2:$E$1137,2,0)","v":{"$error":"#N/A"}},null,null,null,null,null,null,null,null,null,null,null,null,null,null,null,{"$f":"VLOOKUP(T340,Arkusz2!$G$2:$I$34,3,0)","v":{"$error":"#N/A"}},{"$f":"VLOOKUP(D340,Arkusz2!O308:P1445,2,0)","v":{"$error":"#N/A"}}]
[null,null,null,"..",{"$f":"VLOOKUP(D341,Arkusz2!$D$2:$E$1137,2,0)","v":{"$error":"#N/A"}},null,null,null,null,null,null,null,null,null,null,null,null,null,null,null,{"$f":"VLOOKUP(T341,Arkusz2!$G$2:$I$34,3,0)","v":{"$error":"#N/A"}},{"$f":"VLOOKUP(D341,Arkusz2!O309:P1446,2,0)","v":{"$error":"#N/A"}}]
[null,null,null,"..",{"$f":"VLOOKUP(D342,Arkusz2!$D$2:$E$1137,2,0)","v":{"$error":"#N/A"}},null,null,null,null,null,null,null,null,null,null,null,null,null,null,null,{"$f":"VLOOKUP(T342,Arkusz2!$G$2:$I$34,3,0)","v":{"$error":"#N/A"}},{"$f":"VLOOKUP(D342,Arkusz2!O310:P1447,2,0)","v":{"$error":"#N/A"}}]
[null,null,null,"..",{"$f":"VLOOKUP(D343,Arkusz2!$D$2:$E$1137,2,0)","v":{"$error":"#N/A"}},null,null,null,null,null,null,null,null,null,null,null,null,null,null,null,{"$f":"VLOOKUP(T343,Arkusz2!$G$2:$I$34,3,0)","v":{"$error":"#N/A"}},{"$f":"VLOOKUP(D343,Arkusz2!O311:P1448,2,0)","v":{"$error":"#N/A"}}]
[null,null,null,"..",{"$f":"VLOOKUP(D344,Arkusz2!$D$2:$E$1137,2,0)","v":{"$error":"#N/A"}},null,null,null,null,null,null,null,null,null,null,null,null,null,null,null,{"$f":"VLOOKUP(T344,Arkusz2!$G$2:$I$34,3,0)","v":{"$error":"#N/A"}},{"$f":"VLOOKUP(D344,Arkusz2!O312:P1449,2,0)","v":{"$error":"#N/A"}}]
[null,null,null,"..",{"$f":"VLOOKUP(D345,Arkusz2!$D$2:$E$1137,2,0)","v":{"$error":"#N/A"}},null,null,null,null,null,null,null,null,null,null,null,null,null,null,null,{"$f":"VLOOKUP(T345,Arkusz2!$G$2:$I$34,3,0)","v":{"$error":"#N/A"}},{"$f":"VLOOKUP(D345,Arkusz2!O313:P1450,2,0)","v":{"$error":"#N/A"}}]
[null,null,null,"..",{"$f":"VLOOKUP(D346,Arkusz2!$D$2:$E$1137,2,0)","v":{"$error":"#N/A"}},null,null,null,null,null,null,null,null,null,null,null,null,null,null,null,{"$f":"VLOOKUP(T346,Arkusz2!$G$2:$I$34,3,0)","v":{"$error":"#N/A"}},{"$f":"VLOOKUP(D346,Arkusz2!O314:P1451,2,0)","v":{"$error":"#N/A"}}]
[null,null,null,"..",{"$f":"VLOOKUP(D347,Arkusz2!$D$2:$E$1137,2,0)","v":{"$error":"#N/A"}},null,null,null,null,null,null,null,null,null,null,null,null,null,null,null,{"$f":"VLOOKUP(T347,Arkusz2!$G$2:$I$34,3,0)","v":{"$error":"#N/A"}},{"$f":"VLOOKUP(D347,Arkusz2!O315:P1452,2,0)","v":{"$error":"#N/A"}}]
[null,null,null,"..",{"$f":"VLOOKUP(D348,Arkusz2!$D$2:$E$1137,2,0)","v":{"$error":"#N/A"}},null,null,null,null,null,null,null,null,null,null,null,null,null,null,null,{"$f":"VLOOKUP(T348,Arkusz2!$G$2:$I$34,3,0)","v":{"$error":"#N/A"}},{"$f":"VLOOKUP(D348,Arkusz2!O316:P1453,2,0)","v":{"$error":"#N/A"}}]
[null,null,null,"..",{"$f":"VLOOKUP(D349,Arkusz2!$D$2:$E$1137,2,0)","v":{"$error":"#N/A"}},null,null,null,null,null,null,null,null,null,null,null,null,null,null,null,{"$f":"VLOOKUP(T349,Arkusz2!$G$2:$I$34,3,0)","v":{"$error":"#N/A"}},{"$f":"VLOOKUP(D349,Arkusz2!O317:P1454,2,0)","v":{"$error":"#N/A"}}]
[null,null,null,"..",{"$f":"VLOOKUP(D350,Arkusz2!$D$2:$E$1137,2,0)","v":{"$error":"#N/A"}},null,null,null,null,null,null,null,null,null,null,null,null,null,null,null,{"$f":"VLOOKUP(T350,Arkusz2!$G$2:$I$34,3,0)","v":{"$error":"#N/A"}},{"$f":"VLOOKUP(D350,Arkusz2!O318:P1455,2,0)","v":{"$error":"#N/A"}}]
[null,null,null,"..",{"$f":"VLOOKUP(D351,Arkusz2!$D$2:$E$1137,2,0)","v":{"$error":"#N/A"}},null,null,null,null,null,null,null,null,null,null,null,null,null,null,null,{"$f":"VLOOKUP(T351,Arkusz2!$G$2:$I$34,3,0)","v":{"$error":"#N/A"}},{"$f":"VLOOKUP(D351,Arkusz2!O319:P1456,2,0)","v":{"$error":"#N/A"}}]
[null,null,null,"..",{"$f":"VLOOKUP(D352,Arkusz2!$D$2:$E$1137,2,0)","v":{"$error":"#N/A"}},null,null,null,null,null,null,null,null,null,null,null,null,null,null,null,{"$f":"VLOOKUP(T352,Arkusz2!$G$2:$I$34,3,0)","v":{"$error":"#N/A"}},{"$f":"VLOOKUP(D352,Arkusz2!O320:P1457,2,0)","v":{"$error":"#N/A"}}]
[null,null,null,"..",{"$f":"VLOOKUP(D353,Arkusz2!$D$2:$E$1137,2,0)","v":{"$error":"#N/A"}},null,null,null,null,null,null,null,null,null,null,null,null,null,null,null,{"$f":"VLOOKUP(T353,Arkusz2!$G$2:$I$34,3,0)","v":{"$error":"#N/A"}},{"$f":"VLOOKUP(D353,Arkusz2!O321:P1458,2,0)","v":{"$error":"#N/A"}}]
[null,null,null,"..",{"$f":"VLOOKUP(D354,Arkusz2!$D$2:$E$1137,2,0)","v":{"$error":"#N/A"}},null,null,null,null,null,null,null,null,null,null,null,null,null,null,null,{"$f":"VLOOKUP(T354,Arkusz2!$G$2:$I$34,3,0)","v":{"$error":"#N/A"}},{"$f":"VLOOKUP(D354,Arkusz2!O322:P1459,2,0)","v":{"$error":"#N/A"}}]
[null,null,null,{"$f":"_xlfn.CONCAT(A355,\".\",B355,\".\",C355)","v":".."},{"$f":"VLOOKUP(D355,Arkusz2!$D$2:$E$1137,2,0)","v":{"$error":"#N/A"}},null,null,null,null,null,null,null,null,null,null,null,null,null,null,null,{"$f":"VLOOKUP(T355,Arkusz2!$G$2:$I$34,3,0)","v":{"$error":"#N/A"}},{"$f":"VLOOKUP(D355,Arkusz2!O323:P1460,2,0)","v":{"$error":"#N/A"}}]
[null,null,null,"..",{"$f":"VLOOKUP(D356,Arkusz2!$D$2:$E$1137,2,0)","v":{"$error":"#N/A"}},null,null,null,null,null,null,null,null,null,null,null,null,null,null,null,{"$f":"VLOOKUP(T356,Arkusz2!$G$2:$I$34,3,0)","v":{"$error":"#N/A"}},{"$f":"VLOOKUP(D356,Arkusz2!O324:P1461,2,0)","v":{"$error":"#N/A"}}]
[null,null,null,"..",{"$f":"VLOOKUP(D357,Arkusz2!$D$2:$E$1137,2,0)","v":{"$error":"#N/A"}},null,null,null,null,null,null,null,null,null,null,null,null,null,null,null,{"$f":"VLOOKUP(T357,Arkusz2!$G$2:$I$34,3,0)","v":{"$error":"#N/A"}},{"$f":"VLOOKUP(D357,Arkusz2!O325:P1462,2,0)","v":{"$error":"#N/A"}}]
[null,null,null,"..",{"$f":"VLOOKUP(D358,Arkusz2!$D$2:$E$1137,2,0)","v":{"$error":"#N/A"}},null,null,null,null,null,null,null,null,null,null,null,null,null,null,null,{"$f":"VLOOKUP(T358,Arkusz2!$G$2:$I$34,3,0)","v":{"$error":"#N/A"}},{"$f":"VLOOKUP(D358,Arkusz2!O326:P1463,2,0)","v":{"$error":"#N/A"}}]
[null,null,null,"..",{"$f":"VLOOKUP(D359,Arkusz2!$D$2:$E$1137,2,0)","v":{"$error":"#N/A"}},null,null,null,null,null,null,null,null,null,null,null,null,null,null,null,{"$f":"VLOOKUP(T359,Arkusz2!$G$2:$I$34,3,0)","v":{"$error":"#N/A"}},{"$f":"VLOOKUP(D359,Arkusz2!O327:P1464,2,0)","v":{"$error":"#N/A"}}]
[null,null,null,"..",{"$f":"VLOOKUP(D360,Arkusz2!$D$2:$E$1137,2,0)","v":{"$error":"#N/A"}},null,null,null,null,null,null,null,null,null,null,null,null,null,null,null,{"$f":"VLOOKUP(T360,Arkusz2!$G$2:$I$34,3,0)","v":{"$error":"#N/A"}},{"$f":"VLOOKUP(D360,Arkusz2!O328:P1465,2,0)","v":{"$error":"#N/A"}}]
[null,null,null,"..",{"$f":"VLOOKUP(D361,Arkusz2!$D$2:$E$1137,2,0)","v":{"$error":"#N/A"}},null,null,null,null,null,null,null,null,null,null,null,null,null,null,null,{"$f":"VLOOKUP(T361,Arkusz2!$G$2:$I$34,3,0)","v":{"$error":"#N/A"}},{"$f":"VLOOKUP(D361,Arkusz2!O329:P1466,2,0)","v":{"$error":"#N/A"}}]
[null,null,null,"..",{"$f":"VLOOKUP(D362,Arkusz2!$D$2:$E$1137,2,0)","v":{"$error":"#N/A"}},null,null,null,null,null,null,null,null,null,null,null,null,null,null,null,{"$f":"VLOOKUP(T362,Arkusz2!$G$2:$I$34,3,0)","v":{"$error":"#N/A"}},{"$f":"VLOOKUP(D362,Arkusz2!O330:P1467,2,0)","v":{"$error":"#N/A"}}]
[null,null,null,"..",{"$f":"VLOOKUP(D363,Arkusz2!$D$2:$E$1137,2,0)","v":{"$error":"#N/A"}},null,null,null,null,null,null,null,null,null,null,null,null,null,null,null,{"$f":"VLOOKUP(T363,Arkusz2!$G$2:$I$34,3,0)","v":{"$error":"#N/A"}},{"$f":"VLOOKUP(D363,Arkusz2!O331:P1468,2,0)","v":{"$error":"#N/A"}}]
[null,null,null,"..",{"$f":"VLOOKUP(D364,Arkusz2!$D$2:$E$1137,2,0)","v":{"$error":"#N/A"}},null,null,null,null,null,null,null,null,null,null,null,null,null,null,null,{"$f":"VLOOKUP(T364,Arkusz2!$G$2:$I$34,3,0)","v":{"$error":"#N/A"}},{"$f":"VLOOKUP(D364,Arkusz2!O332:P1469,2,0)","v":{"$error":"#N/A"}}]
[null,null,null,"..",{"$f":"VLOOKUP(D365,Arkusz2!$D$2:$E$1137,2,0)","v":{"$error":"#N/A"}},null,null,null,null,null,null,null,null,null,null,null,null,null,null,null,{"$f":"VLOOKUP(T365,Arkusz2!$G$2:$I$34,3,0)","v":{"$error":"#N/A"}},{"$f":"VLOOKUP(D365,Arkusz2!O333:P1470,2,0)","v":{"$error":"#N/A"}}]
[null,null,null,"..",{"$f":"VLOOKUP(D366,Arkusz2!$D$2:$E$1137,2,0)","v":{"$error":"#N/A"}},null,null,null,null,null,null,null,null,null,null,null,null,null,null,null,{"$f":"VLOOKUP(T366,Arkusz2!$G$2:$I$34,3,0)","v":{"$error":"#N/A"}},{"$f":"VLOOKUP(D366,Arkusz2!O334:P1471,2,0)","v":{"$error":"#N/A"}}]
[null,null,null,"..",{"$f":"VLOOKUP(D367,Arkusz2!$D$2:$E$1137,2,0)","v":{"$error":"#N/A"}},null,null,null,null,null,null,null,null,null,null,null,null,null,null,null,{"$f":"VLOOKUP(T367,Arkusz2!$G$2:$I$34,3,0)","v":{"$error":"#N/A"}},{"$f":"VLOOKUP(D367,Arkusz2!O335:P1472,2,0)","v":{"$error":"#N/A"}}]
[null,null,null,"..",{"$f":"VLOOKUP(D368,Arkusz2!$D$2:$E$1137,2,0)","v":{"$error":"#N/A"}},null,null,null,null,null,null,null,null,null,null,null,null,null,null,null,{"$f":"VLOOKUP(T368,Arkusz2!$G$2:$I$34,3,0)","v":{"$error":"#N/A"}},{"$f":"VLOOKUP(D368,Arkusz2!O336:P1473,2,0)","v":{"$error":"#N/A"}}]
[null,null,null,"..",{"$f":"VLOOKUP(D369,Arkusz2!$D$2:$E$1137,2,0)","v":{"$error":"#N/A"}},null,null,null,null,null,null,null,null,null,null,null,null,null,null,null,{"$f":"VLOOKUP(T369,Arkusz2!$G$2:$I$34,3,0)","v":{"$error":"#N/A"}},{"$f":"VLOOKUP(D369,Arkusz2!O337:P1474,2,0)","v":{"$error":"#N/A"}}]
[null,null,null,"..",{"$f":"VLOOKUP(D370,Arkusz2!$D$2:$E$1137,2,0)","v":{"$error":"#N/A"}},null,null,null,null,null,null,null,null,null,null,null,null,null,null,null,{"$f":"VLOOKUP(T370,Arkusz2!$G$2:$I$34,3,0)","v":{"$error":"#N/A"}},{"$f":"VLOOKUP(D370,Arkusz2!O338:P1475,2,0)","v":{"$error":"#N/A"}}]
[null,null,null,"..",{"$f":"VLOOKUP(D371,Arkusz2!$D$2:$E$1137,2,0)","v":{"$error":"#N/A"}},null,null,null,null,null,null,null,null,null,null,null,null,null,null,null,{"$f":"VLOOKUP(T371,Arkusz2!$G$2:$I$34,3,0)","v":{"$error":"#N/A"}},{"$f":"VLOOKUP(D371,Arkusz2!O339:P1476,2,0)","v":{"$error":"#N/A"}}]
[null,null,null,"..",{"$f":"VLOOKUP(D372,Arkusz2!$D$2:$E$1137,2,0)","v":{"$error":"#N/A"}},null,null,null,null,null,null,null,null,null,null,null,null,null,null,null,{"$f":"VLOOKUP(T372,Arkusz2!$G$2:$I$34,3,0)","v":{"$error":"#N/A"}},{"$f":"VLOOKUP(D372,Arkusz2!O340:P1477,2,0)","v":{"$error":"#N/A"}}]
[null,null,null,"..",{"$f":"VLOOKUP(D373,Arkusz2!$D$2:$E$1137,2,0)","v":{"$error":"#N/A"}},null,null,null,null,null,null,null,null,null,null,null,null,null,null,null,{"$f":"VLOOKUP(T373,Arkusz2!$G$2:$I$34,3,0)","v":{"$error":"#N/A"}},{"$f":"VLOOKUP(D373,Arkusz2!O341:P1478,2,0)","v":{"$error":"#N/A"}}]
[null,null,null,"..",{"$f":"VLOOKUP(D374,Arkusz2!$D$2:$E$1137,2,0)","v":{"$error":"#N/A"}},null,null,null,null,null,null,null,null,null,null,null,null,null,null,null,{"$f":"VLOOKUP(T374,Arkusz2!$G$2:$I$34,3,0)","v":{"$error":"#N/A"}},{"$f":"VLOOKUP(D374,Arkusz2!O342:P1479,2,0)","v":{"$error":"#N/A"}}]
[null,null,null,"..",{"$f":"VLOOKUP(D375,Arkusz2!$D$2:$E$1137,2,0)","v":{"$error":"#N/A"}},null,null,null,null,null,null,null,null,null,null,null,null,null,null,null,{"$f":"VLOOKUP(T375,Arkusz2!$G$2:$I$34,3,0)","v":{"$error":"#N/A"}},{"$f":"VLOOKUP(D375,Arkusz2!O343:P1480,2,0)","v":{"$error":"#N/A"}}]
[null,null,null,"..",{"$f":"VLOOKUP(D376,Arkusz2!$D$2:$E$1137,2,0)","v":{"$error":"#N/A"}},null,null,null,null,null,null,null,null,null,null,null,null,null,null,null,{"$f":"VLOOKUP(T376,Arkusz2!$G$2:$I$34,3,0)","v":{"$error":"#N/A"}},{"$f":"VLOOKUP(D376,Arkusz2!O344:P1481,2,0)","v":{"$error":"#N/A"}}]
[null,null,null,"..",{"$f":"VLOOKUP(D377,Arkusz2!$D$2:$E$1137,2,0)","v":{"$error":"#N/A"}},null,null,null,null,null,null,null,null,null,null,null,null,null,null,null,{"$f":"VLOOKUP(T377,Arkusz2!$G$2:$I$34,3,0)","v":{"$error":"#N/A"}},{"$f":"VLOOKUP(D377,Arkusz2!O345:P1482,2,0)","v":{"$error":"#N/A"}}]
[null,null,null,"..",{"$f":"VLOOKUP(D378,Arkusz2!$D$2:$E$1137,2,0)","v":{"$error":"#N/A"}},null,null,null,null,null,null,null,null,null,null,null,null,null,null,null,{"$f":"VLOOKUP(T378,Arkusz2!$G$2:$I$34,3,0)","v":{"$error":"#N/A"}},{"$f":"VLOOKUP(D378,Arkusz2!O346:P1483,2,0)","v":{"$error":"#N/A"}}]
[null,null,null,"..",{"$f":"VLOOKUP(D379,Arkusz2!$D$2:$E$1137,2,0)","v":{"$error":"#N/A"}},null,null,null,null,null,null,null,null,null,null,null,null,null,null,null,{"$f":"VLOOKUP(T379,Arkusz2!$G$2:$I$34,3,0)","v":{"$error":"#N/A"}},{"$f":"VLOOKUP(D379,Arkusz2!O347:P1484,2,0)","v":{"$error":"#N/A"}}]
[null,null,null,"..",{"$f":"VLOOKUP(D380,Arkusz2!$D$2:$E$1137,2,0)","v":{"$error":"#N/A"}},null,null,null,null,null,null,null,null,null,null,null,null,null,null,null,{"$f":"VLOOKUP(T380,Arkusz2!$G$2:$I$34,3,0)","v":{"$error":"#N/A"}},{"$f":"VLOOKUP(D380,Arkusz2!O348:P1485,2,0)","v":{"$error":"#N/A"}}]
[null,null,null,"..",{"$f":"VLOOKUP(D381,Arkusz2!$D$2:$E$1137,2,0)","v":{"$error":"#N/A"}},null,null,null,null,null,null,null,null,null,null,null,null,null,null,null,{"$f":"VLOOKUP(T381,Arkusz2!$G$2:$I$34,3,0)","v":{"$error":"#N/A"}},{"$f":"VLOOKUP(D381,Arkusz2!O349:P1486,2,0)","v":{"$error":"#N/A"}}]
[null,null,null,"..",{"$f":"VLOOKUP(D382,Arkusz2!$D$2:$E$1137,2,0)","v":{"$error":"#N/A"}},null,null,null,null,null,null,null,null,null,null,null,null,null,null,null,{"$f":"VLOOKUP(T382,Arkusz2!$G$2:$I$34,3,0)","v":{"$error":"#N/A"}},{"$f":"VLOOKUP(D382,Arkusz2!O350:P1487,2,0)","v":{"$error":"#N/A"}}]
[null,null,null,"..",{"$f":"VLOOKUP(D383,Arkusz2!$D$2:$E$1137,2,0)","v":{"$error":"#N/A"}},null,null,null,null,null,null,null,null,null,null,null,null,null,null,null,{"$f":"VLOOKUP(T383,Arkusz2!$G$2:$I$34,3,0)","v":{"$error":"#N/A"}},{"$f":"VLOOKUP(D383,Arkusz2!O351:P1488,2,0)","v":{"$error":"#N/A"}}]
[null,null,null,"..",{"$f":"VLOOKUP(D384,Arkusz2!$D$2:$E$1137,2,0)","v":{"$error":"#N/A"}},null,null,null,null,null,null,null,null,null,null,null,null,null,null,null,{"$f":"VLOOKUP(T384,Arkusz2!$G$2:$I$34,3,0)","v":{"$error":"#N/A"}},{"$f":"VLOOKUP(D384,Arkusz2!O352:P1489,2,0)","v":{"$error":"#N/A"}}]
[null,null,null,"..",{"$f":"VLOOKUP(D385,Arkusz2!$D$2:$E$1137,2,0)","v":{"$error":"#N/A"}},null,null,null,null,null,null,null,null,null,null,null,null,null,null,null,{"$f":"VLOOKUP(T385,Arkusz2!$G$2:$I$34,3,0)","v":{"$error":"#N/A"}},{"$f":"VLOOKUP(D385,Arkusz2!O353:P1490,2,0)","v":{"$error":"#N/A"}}]
[null,null,null,"..",{"$f":"VLOOKUP(D386,Arkusz2!$D$2:$E$1137,2,0)","v":{"$error":"#N/A"}},null,null,null,null,null,null,null,null,null,null,null,null,null,null,null,{"$f":"VLOOKUP(T386,Arkusz2!$G$2:$I$34,3,0)","v":{"$error":"#N/A"}},{"$f":"VLOOKUP(D386,Arkusz2!O354:P1491,2,0)","v":{"$error":"#N/A"}}]
[null,null,null,"..",{"$f":"VLOOKUP(D387,Arkusz2!$D$2:$E$1137,2,0)","v":{"$error":"#N/A"}},null,null,null,null,null,null,null,null,null,null,null,null,null,null,null,{"$f":"VLOOKUP(T387,Arkusz2!$G$2:$I$34,3,0)","v":{"$error":"#N/A"}},{"$f":"VLOOKUP(D387,Arkusz2!O355:P1492,2,0)","v":{"$error":"#N/A"}}]
[null,null,null,"..",{"$f":"VLOOKUP(D388,Arkusz2!$D$2:$E$1137,2,0)","v":{"$error":"#N/A"}},null,null,null,null,null,null,null,null,null,null,null,null,null,null,null,{"$f":"VLOOKUP(T388,Arkusz2!$G$2:$I$34,3,0)","v":{"$error":"#N/A"}},{"$f":"VLOOKUP(D388,Arkusz2!O356:P1493,2,0)","v":{"$error":"#N/A"}}]
[null,null,null,"..",{"$f":"VLOOKUP(D389,Arkusz2!$D$2:$E$1137,2,0)","v":{"$error":"#N/A"}},null,null,null,null,null,null,null,null,null,null,null,null,null,null,null,{"$f":"VLOOKUP(T389,Arkusz2!$G$2:$I$34,3,0)","v":{"$error":"#N/A"}},{"$f":"VLOOKUP(D389,Arkusz2!O357:P1494,2,0)","v":{"$error":"#N/A"}}]
[null,null,null,"..",{"$f":"VLOOKUP(D390,Arkusz2!$D$2:$E$1137,2,0)","v":{"$error":"#N/A"}},null,null,null,null,null,null,null,null,null,null,null,null,null,null,null,{"$f":"VLOOKUP(T390,Arkusz2!$G$2:$I$34,3,0)","v":{"$error":"#N/A"}},{"$f":"VLOOKUP(D390,Arkusz2!O358:P1495,2,0)","v":{"$error":"#N/A"}}]
[null,null,null,"..",{"$f":"VLOOKUP(D391,Arkusz2!$D$2:$E$1137,2,0)","v":{"$error":"#N/A"}},null,null,null,null,null,null,null,null,null,null,null,null,null,null,null,{"$f":"VLOOKUP(T391,Arkusz2!$G$2:$I$34,3,0)","v":{"$error":"#N/A"}},{"$f":"VLOOKUP(D391,Arkusz2!O359:P1496,2,0)","v":{"$error":"#N/A"}}]
[null,null,null,"..",{"$f":"VLOOKUP(D392,Arkusz2!$D$2:$E$1137,2,0)","v":{"$error":"#N/A"}},null,null,null,null,null,null,null,null,null,null,null,null,null,null,null,{"$f":"VLOOKUP(T392,Arkusz2!$G$2:$I$34,3,0)","v":{"$error":"#N/A"}},{"$f":"VLOOKUP(D392,Arkusz2!O360:P1497,2,0)","v":{"$error":"#N/A"}}]
[null,null,null,"..",{"$f":"VLOOKUP(D393,Arkusz2!$D$2:$E$1137,2,0)","v":{"$error":"#N/A"}},null,null,null,null,null,null,null,null,null,null,null,null,null,null,null,{"$f":"VLOOKUP(T393,Arkusz2!$G$2:$I$34,3,0)","v":{"$error":"#N/A"}},{"$f":"VLOOKUP(D393,Arkusz2!O361:P1498,2,0)","v":{"$error":"#N/A"}}]
[null,null,null,"..",{"$f":"VLOOKUP(D394,Arkusz2!$D$2:$E$1137,2,0)","v":{"$error":"#N/A"}},null,null,null,null,null,null,null,null,null,null,null,null,null,null,null,{"$f":"VLOOKUP(T394,Arkusz2!$G$2:$I$34,3,0)","v":{"$error":"#N/A"}},{"$f":"VLOOKUP(D394,Arkusz2!O362:P1499,2,0)","v":{"$error":"#N/A"}}]
[null,null,null,"..",{"$f":"VLOOKUP(D395,Arkusz2!$D$2:$E$1137,2,0)","v":{"$error":"#N/A"}},null,null,null,null,null,null,null,null,null,null,null,null,null,null,null,{"$f":"VLOOKUP(T395,Arkusz2!$G$2:$I$34,3,0)","v":{"$error":"#N/A"}},{"$f":"VLOOKUP(D395,Arkusz2!O363:P1500,2,0)","v":{"$error":"#N/A"}}]
[null,null,null,"..",{"$f":"VLOOKUP(D396,Arkusz2!$D$2:$E$1137,2,0)","v":{"$error":"#N/A"}},null,null,null,null,null,null,null,null,null,null,null,null,null,null,null,{"$f":"VLOOKUP(T396,Arkusz2!$G$2:$I$34,3,0)","v":{"$error":"#N/A"}},{"$f":"VLOOKUP(D396,Arkusz2!O364:P1501,2,0)","v":{"$error":"#N/A"}}]
[null,null,null,"..",{"$f":"VLOOKUP(D397,Arkusz2!$D$2:$E$1137,2,0)","v":{"$error":"#N/A"}},null,null,null,null,null,null,null,null,null,null,null,null,null,null,null,{"$f":"VLOOKUP(T397,Arkusz2!$G$2:$I$34,3,0)","v":{"$error":"#N/A"}},{"$f":"VLOOKUP(D397,Arkusz2!O365:P1502,2,0)","v":{"$error":"#N/A"}}]
[null,null,null,"..",{"$f":"VLOOKUP(D398,Arkusz2!$D$2:$E$1137,2,0)","v":{"$error":"#N/A"}},null,null,null,null,null,null,null,null,null,null,null,null,null,null,null,{"$f":"VLOOKUP(T398,Arkusz2!$G$2:$I$34,3,0)","v":{"$error":"#N/A"}},{"$f":"VLOOKUP(D398,Arkusz2!O366:P1503,2,0)","v":{"$error":"#N/A"}}]
[null,null,null,"..",{"$f":"VLOOKUP(D399,Arkusz2!$D$2:$E$1137,2,0)","v":{"$error":"#N/A"}},null,null,null,null,null,null,null,null,null,null,null,null,null,null,null,{"$f":"VLOOKUP(T399,Arkusz2!$G$2:$I$34,3,0)","v":{"$error":"#N/A"}},{"$f":"VLOOKUP(D399,Arkusz2!O367:P1504,2,0)","v":{"$error":"#N/A"}}]
[null,null,null,"..",{"$f":"VLOOKUP(D400,Arkusz2!$D$2:$E$1137,2,0)","v":{"$error":"#N/A"}},null,null,null,null,null,null,null,null,null,null,null,null,null,null,null,{"$f":"VLOOKUP(T400,Arkusz2!$G$2:$I$34,3,0)","v":{"$error":"#N/A"}},{"$f":"VLOOKUP(D400,Arkusz2!O368:P1505,2,0)","v":{"$error":"#N/A"}}]
[null,null,null,"..",{"$f":"VLOOKUP(D401,Arkusz2!$D$2:$E$1137,2,0)","v":{"$error":"#N/A"}},null,null,null,null,null,null,null,null,null,null,null,null,null,null,null,{"$f":"VLOOKUP(T401,Arkusz2!$G$2:$I$34,3,0)","v":{"$error":"#N/A"}},{"$f":"VLOOKUP(D401,Arkusz2!O369:P1506,2,0)","v":{"$error":"#N/A"}}]
[null,null,null,"..",{"$f":"VLOOKUP(D402,Arkusz2!$D$2:$E$1137,2,0)","v":{"$error":"#N/A"}},null,null,null,null,null,null,null,null,null,null,null,null,null,null,null,{"$f":"VLOOKUP(T402,Arkusz2!$G$2:$I$34,3,0)","v":{"$error":"#N/A"}},{"$f":"VLOOKUP(D402,Arkusz2!O370:P1507,2,0)","v":{"$error":"#N/A"}}]
[null,null,null,"..",{"$f":"VLOOKUP(D403,Arkusz2!$D$2:$E$1137,2,0)","v":{"$error":"#N/A"}},null,null,null,null,null,null,null,null,null,null,null,null,null,null,null,{"$f":"VLOOKUP(T403,Arkusz2!$G$2:$I$34,3,0)","v":{"$error":"#N/A"}},{"$f":"VLOOKUP(D403,Arkusz2!O371:P1508,2,0)","v":{"$error":"#N/A"}}]
[null,null,null,"..",{"$f":"VLOOKUP(D404,Arkusz2!$D$2:$E$1137,2,0)","v":{"$error":"#N/A"}},null,null,null,null,null,null,null,null,null,null,null,null,null,null,null,{"$f":"VLOOKUP(T404,Arkusz2!$G$2:$I$34,3,0)","v":{"$error":"#N/A"}},{"$f":"VLOOKUP(D404,Arkusz2!O372:P1509,2,0)","v":{"$error":"#N/A"}}]
[null,null,null,"..",{"$f":"VLOOKUP(D405,Arkusz2!$D$2:$E$1137,2,0)","v":{"$error":"#N/A"}},null,null,null,null,null,null,null,null,null,null,null,null,null,null,null,{"$f":"VLOOKUP(T405,Arkusz2!$G$2:$I$34,3,0)","v":{"$error":"#N/A"}},{"$f":"VLOOKUP(D405,Arkusz2!O373:P1510,2,0)","v":{"$error":"#N/A"}}]
[null,null,null,"..",{"$f":"VLOOKUP(D406,Arkusz2!$D$2:$E$1137,2,0)","v":{"$error":"#N/A"}},null,null,null,null,null,null,null,null,null,null,null,null,null,null,null,{"$f":"VLOOKUP(T406,Arkusz2!$G$2:$I$34,3,0)","v":{"$error":"#N/A"}},{"$f":"VLOOKUP(D406,Arkusz2!O374:P1511,2,0)","v":{"$error":"#N/A"}}]
[null,null,null,"..",{"$f":"VLOOKUP(D407,Arkusz2!$D$2:$E$1137,2,0)","v":{"$error":"#N/A"}},null,null,null,null,null,null,null,null,null,null,null,null,null,null,null,{"$f":"VLOOKUP(T407,Arkusz2!$G$2:$I$34,3,0)","v":{"$error":"#N/A"}},{"$f":"VLOOKUP(D407,Arkusz2!O375:P1512,2,0)","v":{"$error":"#N/A"}}]
[null,null,null,"..",{"$f":"VLOOKUP(D408,Arkusz2!$D$2:$E$1137,2,0)","v":{"$error":"#N/A"}},null,null,null,null,null,null,null,null,null,null,null,null,null,null,null,{"$f":"VLOOKUP(T408,Arkusz2!$G$2:$I$34,3,0)","v":{"$error":"#N/A"}},{"$f":"VLOOKUP(D408,Arkusz2!O376:P1513,2,0)","v":{"$error":"#N/A"}}]
[null,null,null,"..",{"$f":"VLOOKUP(D409,Arkusz2!$D$2:$E$1137,2,0)","v":{"$error":"#N/A"}},null,null,null,null,null,null,null,null,null,null,null,null,null,null,null,{"$f":"VLOOKUP(T409,Arkusz2!$G$2:$I$34,3,0)","v":{"$error":"#N/A"}},{"$f":"VLOOKUP(D409,Arkusz2!O377:P1514,2,0)","v":{"$error":"#N/A"}}]
[null,null,null,"..",{"$f":"VLOOKUP(D410,Arkusz2!$D$2:$E$1137,2,0)","v":{"$error":"#N/A"}},null,null,null,null,null,null,null,null,null,null,null,null,null,null,null,{"$f":"VLOOKUP(T410,Arkusz2!$G$2:$I$34,3,0)","v":{"$error":"#N/A"}},{"$f":"VLOOKUP(D410,Arkusz2!O378:P1515,2,0)","v":{"$error":"#N/A"}}]
[null,null,null,"..",{"$f":"VLOOKUP(D411,Arkusz2!$D$2:$E$1137,2,0)","v":{"$error":"#N/A"}},null,null,null,null,null,null,null,null,null,null,null,null,null,null,null,{"$f":"VLOOKUP(T411,Arkusz2!$G$2:$I$34,3,0)","v":{"$error":"#N/A"}},{"$f":"VLOOKUP(D411,Arkusz2!O379:P1516,2,0)","v":{"$error":"#N/A"}}]
[null,null,null,"..",{"$f":"VLOOKUP(D412,Arkusz2!$D$2:$E$1137,2,0)","v":{"$error":"#N/A"}},null,null,null,null,null,null,null,null,null,null,null,null,null,null,null,{"$f":"VLOOKUP(T412,Arkusz2!$G$2:$I$34,3,0)","v":{"$error":"#N/A"}},{"$f":"VLOOKUP(D412,Arkusz2!O380:P1517,2,0)","v":{"$error":"#N/A"}}]
[null,null,null,"..",{"$f":"VLOOKUP(D413,Arkusz2!$D$2:$E$1137,2,0)","v":{"$error":"#N/A"}},null,null,null,null,null,null,null,null,null,null,null,null,null,null,null,{"$f":"VLOOKUP(T413,Arkusz2!$G$2:$I$34,3,0)","v":{"$error":"#N/A"}},{"$f":"VLOOKUP(D413,Arkusz2!O381:P1518,2,0)","v":{"$error":"#N/A"}}]
[null,null,null,"..",{"$f":"VLOOKUP(D414,Arkusz2!$D$2:$E$1137,2,0)","v":{"$error":"#N/A"}},null,null,null,null,null,null,null,null,null,null,null,null,null,null,null,{"$f":"VLOOKUP(T414,Arkusz2!$G$2:$I$34,3,0)","v":{"$error":"#N/A"}},{"$f":"VLOOKUP(D414,Arkusz2!O382:P1519,2,0)","v":{"$error":"#N/A"}}]
[null,null,null,"..",{"$f":"VLOOKUP(D415,Arkusz2!$D$2:$E$1137,2,0)","v":{"$error":"#N/A"}},null,null,null,null,null,null,null,null,null,null,null,null,null,null,null,{"$f":"VLOOKUP(T415,Arkusz2!$G$2:$I$34,3,0)","v":{"$error":"#N/A"}},{"$f":"VLOOKUP(D415,Arkusz2!O383:P1520,2,0)","v":{"$error":"#N/A"}}]
[null,null,null,"..",{"$f":"VLOOKUP(D416,Arkusz2!$D$2:$E$1137,2,0)","v":{"$error":"#N/A"}},null,null,null,null,null,null,null,null,null,null,null,null,null,null,null,{"$f":"VLOOKUP(T416,Arkusz2!$G$2:$I$34,3,0)","v":{"$error":"#N/A"}},{"$f":"VLOOKUP(D416,Arkusz2!O384:P1521,2,0)","v":{"$error":"#N/A"}}]
[null,null,null,"..",{"$f":"VLOOKUP(D417,Arkusz2!$D$2:$E$1137,2,0)","v":{"$error":"#N/A"}},null,null,null,null,null,null,null,null,null,null,null,null,null,null,null,{"$f":"VLOOKUP(T417,Arkusz2!$G$2:$I$34,3,0)","v":{"$error":"#N/A"}},{"$f":"VLOOKUP(D417,Arkusz2!O385:P1522,2,0)","v":{"$error":"#N/A"}}]
[null,null,null,"..",{"$f":"VLOOKUP(D418,Arkusz2!$D$2:$E$1137,2,0)","v":{"$error":"#N/A"}},null,null,null,null,null,null,null,null,null,null,null,null,null,null,null,{"$f":"VLOOKUP(T418,Arkusz2!$G$2:$I$34,3,0)","v":{"$error":"#N/A"}},{"$f":"VLOOKUP(D418,Arkusz2!O386:P1523,2,0)","v":{"$error":"#N/A"}}]
[null,null,null,{"$f":"_xlfn.CONCAT(A419,\".\",B419,\".\",C419)","v":".."},{"$f":"VLOOKUP(D419,Arkusz2!$D$2:$E$1137,2,0)","v":{"$error":"#N/A"}},null,null,null,null,null,null,null,null,null,null,null,null,null,null,null,{"$f":"VLOOKUP(T419,Arkusz2!$G$2:$I$34,3,0)","v":{"$error":"#N/A"}},{"$f":"VLOOKUP(D419,Arkusz2!O387:P1524,2,0)","v":{"$error":"#N/A"}}]
[null,null,null,"..",{"$f":"VLOOKUP(D420,Arkusz2!$D$2:$E$1137,2,0)","v":{"$error":"#N/A"}},null,null,null,null,null,null,null,null,null,null,null,null,null,null,null,{"$f":"VLOOKUP(T420,Arkusz2!$G$2:$I$34,3,0)","v":{"$error":"#N/A"}},{"$f":"VLOOKUP(D420,Arkusz2!O388:P1525,2,0)","v":{"$error":"#N/A"}}]
[null,null,null,"..",{"$f":"VLOOKUP(D421,Arkusz2!$D$2:$E$1137,2,0)","v":{"$error":"#N/A"}},null,null,null,null,null,null,null,null,null,null,null,null,null,null,null,{"$f":"VLOOKUP(T421,Arkusz2!$G$2:$I$34,3,0)","v":{"$error":"#N/A"}},{"$f":"VLOOKUP(D421,Arkusz2!O389:P1526,2,0)","v":{"$error":"#N/A"}}]
[null,null,null,"..",{"$f":"VLOOKUP(D422,Arkusz2!$D$2:$E$1137,2,0)","v":{"$error":"#N/A"}},null,null,null,null,null,null,null,null,null,null,null,null,null,null,null,{"$f":"VLOOKUP(T422,Arkusz2!$G$2:$I$34,3,0)","v":{"$error":"#N/A"}},{"$f":"VLOOKUP(D422,Arkusz2!O390:P1527,2,0)","v":{"$error":"#N/A"}}]
[null,null,null,"..",{"$f":"VLOOKUP(D423,Arkusz2!$D$2:$E$1137,2,0)","v":{"$error":"#N/A"}},null,null,null,null,null,null,null,null,null,null,null,null,null,null,null,{"$f":"VLOOKUP(T423,Arkusz2!$G$2:$I$34,3,0)","v":{"$error":"#N/A"}},{"$f":"VLOOKUP(D423,Arkusz2!O391:P1528,2,0)","v":{"$error":"#N/A"}}]
[null,null,null,"..",{"$f":"VLOOKUP(D424,Arkusz2!$D$2:$E$1137,2,0)","v":{"$error":"#N/A"}},null,null,null,null,null,null,null,null,null,null,null,null,null,null,null,{"$f":"VLOOKUP(T424,Arkusz2!$G$2:$I$34,3,0)","v":{"$error":"#N/A"}},{"$f":"VLOOKUP(D424,Arkusz2!O392:P1529,2,0)","v":{"$error":"#N/A"}}]
[null,null,null,"..",{"$f":"VLOOKUP(D425,Arkusz2!$D$2:$E$1137,2,0)","v":{"$error":"#N/A"}},null,null,null,null,null,null,null,null,null,null,null,null,null,null,null,{"$f":"VLOOKUP(T425,Arkusz2!$G$2:$I$34,3,0)","v":{"$error":"#N/A"}},{"$f":"VLOOKUP(D425,Arkusz2!O393:P1530,2,0)","v":{"$error":"#N/A"}}]
[null,null,null,"..",{"$f":"VLOOKUP(D426,Arkusz2!$D$2:$E$1137,2,0)","v":{"$error":"#N/A"}},null,null,null,null,null,null,null,null,null,null,null,null,null,null,null,{"$f":"VLOOKUP(T426,Arkusz2!$G$2:$I$34,3,0)","v":{"$error":"#N/A"}},{"$f":"VLOOKUP(D426,Arkusz2!O394:P1531,2,0)","v":{"$error":"#N/A"}}]
[null,null,null,"..",{"$f":"VLOOKUP(D427,Arkusz2!$D$2:$E$1137,2,0)","v":{"$error":"#N/A"}},null,null,null,null,null,null,null,null,null,null,null,null,null,null,null,{"$f":"VLOOKUP(T427,Arkusz2!$G$2:$I$34,3,0)","v":{"$error":"#N/A"}},{"$f":"VLOOKUP(D427,Arkusz2!O395:P1532,2,0)","v":{"$error":"#N/A"}}]
[null,null,null,"..",{"$f":"VLOOKUP(D428,Arkusz2!$D$2:$E$1137,2,0)","v":{"$error":"#N/A"}},null,null,null,null,null,null,null,null,null,null,null,null,null,null,null,{"$f":"VLOOKUP(T428,Arkusz2!$G$2:$I$34,3,0)","v":{"$error":"#N/A"}},{"$f":"VLOOKUP(D428,Arkusz2!O396:P1533,2,0)","v":{"$error":"#N/A"}}]
[null,null,null,"..",{"$f":"VLOOKUP(D429,Arkusz2!$D$2:$E$1137,2,0)","v":{"$error":"#N/A"}},null,null,null,null,null,null,null,null,null,null,null,null,null,null,null,{"$f":"VLOOKUP(T429,Arkusz2!$G$2:$I$34,3,0)","v":{"$error":"#N/A"}},{"$f":"VLOOKUP(D429,Arkusz2!O397:P1534,2,0)","v":{"$error":"#N/A"}}]
[null,null,null,"..",{"$f":"VLOOKUP(D430,Arkusz2!$D$2:$E$1137,2,0)","v":{"$error":"#N/A"}},null,null,null,null,null,null,null,null,null,null,null,null,null,null,null,{"$f":"VLOOKUP(T430,Arkusz2!$G$2:$I$34,3,0)","v":{"$error":"#N/A"}},{"$f":"VLOOKUP(D430,Arkusz2!O398:P1535,2,0)","v":{"$error":"#N/A"}}]
[null,null,null,"..",{"$f":"VLOOKUP(D431,Arkusz2!$D$2:$E$1137,2,0)","v":{"$error":"#N/A"}},null,null,null,null,null,null,null,null,null,null,null,null,null,null,null,{"$f":"VLOOKUP(T431,Arkusz2!$G$2:$I$34,3,0)","v":{"$error":"#N/A"}},{"$f":"VLOOKUP(D431,Arkusz2!O399:P1536,2,0)","v":{"$error":"#N/A"}}]
[null,null,null,"..",{"$f":"VLOOKUP(D432,Arkusz2!$D$2:$E$1137,2,0)","v":{"$error":"#N/A"}},null,null,null,null,null,null,null,null,null,null,null,null,null,null,null,{"$f":"VLOOKUP(T432,Arkusz2!$G$2:$I$34,3,0)","v":{"$error":"#N/A"}},{"$f":"VLOOKUP(D432,Arkusz2!O400:P1537,2,0)","v":{"$error":"#N/A"}}]
[null,null,null,"..",{"$f":"VLOOKUP(D433,Arkusz2!$D$2:$E$1137,2,0)","v":{"$error":"#N/A"}},null,null,null,null,null,null,null,null,null,null,null,null,null,null,null,{"$f":"VLOOKUP(T433,Arkusz2!$G$2:$I$34,3,0)","v":{"$error":"#N/A"}},{"$f":"VLOOKUP(D433,Arkusz2!O401:P1538,2,0)","v":{"$error":"#N/A"}}]
[null,null,null,"..",{"$f":"VLOOKUP(D434,Arkusz2!$D$2:$E$1137,2,0)","v":{"$error":"#N/A"}},null,null,null,null,null,null,null,null,null,null,null,null,null,null,null,{"$f":"VLOOKUP(T434,Arkusz2!$G$2:$I$34,3,0)","v":{"$error":"#N/A"}},{"$f":"VLOOKUP(D434,Arkusz2!O402:P1539,2,0)","v":{"$error":"#N/A"}}]
[null,null,null,"..",{"$f":"VLOOKUP(D435,Arkusz2!$D$2:$E$1137,2,0)","v":{"$error":"#N/A"}},null,null,null,null,null,null,null,null,null,null,null,null,null,null,null,{"$f":"VLOOKUP(T435,Arkusz2!$G$2:$I$34,3,0)","v":{"$error":"#N/A"}},{"$f":"VLOOKUP(D435,Arkusz2!O403:P1540,2,0)","v":{"$error":"#N/A"}}]
[null,null,null,"..",{"$f":"VLOOKUP(D436,Arkusz2!$D$2:$E$1137,2,0)","v":{"$error":"#N/A"}},null,null,null,null,null,null,null,null,null,null,null,null,null,null,null,{"$f":"VLOOKUP(T436,Arkusz2!$G$2:$I$34,3,0)","v":{"$error":"#N/A"}},{"$f":"VLOOKUP(D436,Arkusz2!O404:P1541,2,0)","v":{"$error":"#N/A"}}]
[null,null,null,"..",{"$f":"VLOOKUP(D437,Arkusz2!$D$2:$E$1137,2,0)","v":{"$error":"#N/A"}},null,null,null,null,null,null,null,null,null,null,null,null,null,null,null,{"$f":"VLOOKUP(T437,Arkusz2!$G$2:$I$34,3,0)","v":{"$error":"#N/A"}},{"$f":"VLOOKUP(D437,Arkusz2!O405:P1542,2,0)","v":{"$error":"#N/A"}}]
[null,null,null,"..",{"$f":"VLOOKUP(D438,Arkusz2!$D$2:$E$1137,2,0)","v":{"$error":"#N/A"}},null,null,null,null,null,null,null,null,null,null,null,null,null,null,null,{"$f":"VLOOKUP(T438,Arkusz2!$G$2:$I$34,3,0)","v":{"$error":"#N/A"}},{"$f":"VLOOKUP(D438,Arkusz2!O406:P1543,2,0)","v":{"$error":"#N/A"}}]
[null,null,null,"..",{"$f":"VLOOKUP(D439,Arkusz2!$D$2:$E$1137,2,0)","v":{"$error":"#N/A"}},null,null,null,null,null,null,null,null,null,null,null,null,null,null,null,{"$f":"VLOOKUP(T439,Arkusz2!$G$2:$I$34,3,0)","v":{"$error":"#N/A"}},{"$f":"VLOOKUP(D439,Arkusz2!O407:P1544,2,0)","v":{"$error":"#N/A"}}]
[null,null,null,"..",{"$f":"VLOOKUP(D440,Arkusz2!$D$2:$E$1137,2,0)","v":{"$error":"#N/A"}},null,null,null,null,null,null,null,null,null,null,null,null,null,null,null,{"$f":"VLOOKUP(T440,Arkusz2!$G$2:$I$34,3,0)","v":{"$error":"#N/A"}},{"$f":"VLOOKUP(D440,Arkusz2!O408:P1545,2,0)","v":{"$error":"#N/A"}}]
[null,null,null,"..",{"$f":"VLOOKUP(D441,Arkusz2!$D$2:$E$1137,2,0)","v":{"$error":"#N/A"}},null,null,null,null,null,null,null,null,null,null,null,null,null,null,null,{"$f":"VLOOKUP(T441,Arkusz2!$G$2:$I$34,3,0)","v":{"$error":"#N/A"}},{"$f":"VLOOKUP(D441,Arkusz2!O409:P1546,2,0)","v":{"$error":"#N/A"}}]
[null,null,null,"..",{"$f":"VLOOKUP(D442,Arkusz2!$D$2:$E$1137,2,0)","v":{"$error":"#N/A"}},null,null,null,null,null,null,null,null,null,null,null,null,null,null,null,{"$f":"VLOOKUP(T442,Arkusz2!$G$2:$I$34,3,0)","v":{"$error":"#N/A"}},{"$f":"VLOOKUP(D442,Arkusz2!O410:P1547,2,0)","v":{"$error":"#N/A"}}]
[null,null,null,"..",{"$f":"VLOOKUP(D443,Arkusz2!$D$2:$E$1137,2,0)","v":{"$error":"#N/A"}},null,null,null,null,null,null,null,null,null,null,null,null,null,null,null,{"$f":"VLOOKUP(T443,Arkusz2!$G$2:$I$34,3,0)","v":{"$error":"#N/A"}},{"$f":"VLOOKUP(D443,Arkusz2!O411:P1548,2,0)","v":{"$error":"#N/A"}}]
[null,null,null,"..",{"$f":"VLOOKUP(D444,Arkusz2!$D$2:$E$1137,2,0)","v":{"$error":"#N/A"}},null,null,null,null,null,null,null,null,null,null,null,null,null,null,null,{"$f":"VLOOKUP(T444,Arkusz2!$G$2:$I$34,3,0)","v":{"$error":"#N/A"}},{"$f":"VLOOKUP(D444,Arkusz2!O412:P1549,2,0)","v":{"$error":"#N/A"}}]
[null,null,null,"..",{"$f":"VLOOKUP(D445,Arkusz2!$D$2:$E$1137,2,0)","v":{"$error":"#N/A"}},null,null,null,null,null,null,null,null,null,null,null,null,null,null,null,{"$f":"VLOOKUP(T445,Arkusz2!$G$2:$I$34,3,0)","v":{"$error":"#N/A"}},{"$f":"VLOOKUP(D445,Arkusz2!O413:P1550,2,0)","v":{"$error":"#N/A"}}]
[null,null,null,"..",{"$f":"VLOOKUP(D446,Arkusz2!$D$2:$E$1137,2,0)","v":{"$error":"#N/A"}},null,null,null,null,null,null,null,null,null,null,null,null,null,null,null,{"$f":"VLOOKUP(T446,Arkusz2!$G$2:$I$34,3,0)","v":{"$error":"#N/A"}},{"$f":"VLOOKUP(D446,Arkusz2!O414:P1551,2,0)","v":{"$error":"#N/A"}}]
[null,null,null,"..",{"$f":"VLOOKUP(D447,Arkusz2!$D$2:$E$1137,2,0)","v":{"$error":"#N/A"}},null,null,null,null,null,null,null,null,null,null,null,null,null,null,null,{"$f":"VLOOKUP(T447,Arkusz2!$G$2:$I$34,3,0)","v":{"$error":"#N/A"}},{"$f":"VLOOKUP(D447,Arkusz2!O415:P1552,2,0)","v":{"$error":"#N/A"}}]
[null,null,null,"..",{"$f":"VLOOKUP(D448,Arkusz2!$D$2:$E$1137,2,0)","v":{"$error":"#N/A"}},null,null,null,null,null,null,null,null,null,null,null,null,null,null,null,{"$f":"VLOOKUP(T448,Arkusz2!$G$2:$I$34,3,0)","v":{"$error":"#N/A"}},{"$f":"VLOOKUP(D448,Arkusz2!O416:P1553,2,0)","v":{"$error":"#N/A"}}]
[null,null,null,"..",{"$f":"VLOOKUP(D449,Arkusz2!$D$2:$E$1137,2,0)","v":{"$error":"#N/A"}},null,null,null,null,null,null,null,null,null,null,null,null,null,null,null,{"$f":"VLOOKUP(T449,Arkusz2!$G$2:$I$34,3,0)","v":{"$error":"#N/A"}},{"$f":"VLOOKUP(D449,Arkusz2!O417:P1554,2,0)","v":{"$error":"#N/A"}}]
[null,null,null,"..",{"$f":"VLOOKUP(D450,Arkusz2!$D$2:$E$1137,2,0)","v":{"$error":"#N/A"}},null,null,null,null,null,null,null,null,null,null,null,null,null,null,null,{"$f":"VLOOKUP(T450,Arkusz2!$G$2:$I$34,3,0)","v":{"$error":"#N/A"}},{"$f":"VLOOKUP(D450,Arkusz2!O418:P1555,2,0)","v":{"$error":"#N/A"}}]
[null,null,null,"..",{"$f":"VLOOKUP(D451,Arkusz2!$D$2:$E$1137,2,0)","v":{"$error":"#N/A"}},null,null,null,null,null,null,null,null,null,null,null,null,null,null,null,{"$f":"VLOOKUP(T451,Arkusz2!$G$2:$I$34,3,0)","v":{"$error":"#N/A"}},{"$f":"VLOOKUP(D451,Arkusz2!O419:P1556,2,0)","v":{"$error":"#N/A"}}]
[null,null,null,"..",{"$f":"VLOOKUP(D452,Arkusz2!$D$2:$E$1137,2,0)","v":{"$error":"#N/A"}},null,null,null,null,null,null,null,null,null,null,null,null,null,null,null,{"$f":"VLOOKUP(T452,Arkusz2!$G$2:$I$34,3,0)","v":{"$error":"#N/A"}},{"$f":"VLOOKUP(D452,Arkusz2!O420:P1557,2,0)","v":{"$error":"#N/A"}}]
[null,null,null,"..",{"$f":"VLOOKUP(D453,Arkusz2!$D$2:$E$1137,2,0)","v":{"$error":"#N/A"}},null,null,null,null,null,null,null,null,null,null,null,null,null,null,null,{"$f":"VLOOKUP(T453,Arkusz2!$G$2:$I$34,3,0)","v":{"$error":"#N/A"}},{"$f":"VLOOKUP(D453,Arkusz2!O421:P1558,2,0)","v":{"$error":"#N/A"}}]
[null,null,null,"..",{"$f":"VLOOKUP(D454,Arkusz2!$D$2:$E$1137,2,0)","v":{"$error":"#N/A"}},null,null,null,null,null,null,null,null,null,null,null,null,null,null,null,{"$f":"VLOOKUP(T454,Arkusz2!$G$2:$I$34,3,0)","v":{"$error":"#N/A"}},{"$f":"VLOOKUP(D454,Arkusz2!O422:P1559,2,0)","v":{"$error":"#N/A"}}]
[null,null,null,"..",{"$f":"VLOOKUP(D455,Arkusz2!$D$2:$E$1137,2,0)","v":{"$error":"#N/A"}},null,null,null,null,null,null,null,null,null,null,null,null,null,null,null,{"$f":"VLOOKUP(T455,Arkusz2!$G$2:$I$34,3,0)","v":{"$error":"#N/A"}},{"$f":"VLOOKUP(D455,Arkusz2!O423:P1560,2,0)","v":{"$error":"#N/A"}}]
[null,null,null,"..",{"$f":"VLOOKUP(D456,Arkusz2!$D$2:$E$1137,2,0)","v":{"$error":"#N/A"}},null,null,null,null,null,null,null,null,null,null,null,null,null,null,null,{"$f":"VLOOKUP(T456,Arkusz2!$G$2:$I$34,3,0)","v":{"$error":"#N/A"}},{"$f":"VLOOKUP(D456,Arkusz2!O424:P1561,2,0)","v":{"$error":"#N/A"}}]
[null,null,null,"..",{"$f":"VLOOKUP(D457,Arkusz2!$D$2:$E$1137,2,0)","v":{"$error":"#N/A"}},null,null,null,null,null,null,null,null,null,null,null,null,null,null,null,{"$f":"VLOOKUP(T457,Arkusz2!$G$2:$I$34,3,0)","v":{"$error":"#N/A"}},{"$f":"VLOOKUP(D457,Arkusz2!O425:P1562,2,0)","v":{"$error":"#N/A"}}]
[null,null,null,"..",{"$f":"VLOOKUP(D458,Arkusz2!$D$2:$E$1137,2,0)","v":{"$error":"#N/A"}},null,null,null,null,null,null,null,null,null,null,null,null,null,null,null,{"$f":"VLOOKUP(T458,Arkusz2!$G$2:$I$34,3,0)","v":{"$error":"#N/A"}},{"$f":"VLOOKUP(D458,Arkusz2!O426:P1563,2,0)","v":{"$error":"#N/A"}}]
[null,null,null,"..",{"$f":"VLOOKUP(D459,Arkusz2!$D$2:$E$1137,2,0)","v":{"$error":"#N/A"}},null,null,null,null,null,null,null,null,null,null,null,null,null,null,null,{"$f":"VLOOKUP(T459,Arkusz2!$G$2:$I$34,3,0)","v":{"$error":"#N/A"}},{"$f":"VLOOKUP(D459,Arkusz2!O427:P1564,2,0)","v":{"$error":"#N/A"}}]
[null,null,null,"..",{"$f":"VLOOKUP(D460,Arkusz2!$D$2:$E$1137,2,0)","v":{"$error":"#N/A"}},null,null,null,null,null,null,null,null,null,null,null,null,null,null,null,{"$f":"VLOOKUP(T460,Arkusz2!$G$2:$I$34,3,0)","v":{"$error":"#N/A"}},{"$f":"VLOOKUP(D460,Arkusz2!O428:P1565,2,0)","v":{"$error":"#N/A"}}]
[null,null,null,"..",{"$f":"VLOOKUP(D461,Arkusz2!$D$2:$E$1137,2,0)","v":{"$error":"#N/A"}},null,null,null,null,null,null,null,null,null,null,null,null,null,null,null,{"$f":"VLOOKUP(T461,Arkusz2!$G$2:$I$34,3,0)","v":{"$error":"#N/A"}},{"$f":"VLOOKUP(D461,Arkusz2!O429:P1566,2,0)","v":{"$error":"#N/A"}}]
[null,null,null,"..",{"$f":"VLOOKUP(D462,Arkusz2!$D$2:$E$1137,2,0)","v":{"$error":"#N/A"}},null,null,null,null,null,null,null,null,null,null,null,null,null,null,null,{"$f":"VLOOKUP(T462,Arkusz2!$G$2:$I$34,3,0)","v":{"$error":"#N/A"}},{"$f":"VLOOKUP(D462,Arkusz2!O430:P1567,2,0)","v":{"$error":"#N/A"}}]
[null,null,null,"..",{"$f":"VLOOKUP(D463,Arkusz2!$D$2:$E$1137,2,0)","v":{"$error":"#N/A"}},null,null,null,null,null,null,null,null,null,null,null,null,null,null,null,{"$f":"VLOOKUP(T463,Arkusz2!$G$2:$I$34,3,0)","v":{"$error":"#N/A"}},{"$f":"VLOOKUP(D463,Arkusz2!O431:P1568,2,0)","v":{"$error":"#N/A"}}]
[null,null,null,"..",{"$f":"VLOOKUP(D464,Arkusz2!$D$2:$E$1137,2,0)","v":{"$error":"#N/A"}},null,null,null,null,null,null,null,null,null,null,null,null,null,null,null,{"$f":"VLOOKUP(T464,Arkusz2!$G$2:$I$34,3,0)","v":{"$error":"#N/A"}},{"$f":"VLOOKUP(D464,Arkusz2!O432:P1569,2,0)","v":{"$error":"#N/A"}}]
[null,null,null,"..",{"$f":"VLOOKUP(D465,Arkusz2!$D$2:$E$1137,2,0)","v":{"$error":"#N/A"}},null,null,null,null,null,null,null,null,null,null,null,null,null,null,null,{"$f":"VLOOKUP(T465,Arkusz2!$G$2:$I$34,3,0)","v":{"$error":"#N/A"}},{"$f":"VLOOKUP(D465,Arkusz2!O433:P1570,2,0)","v":{"$error":"#N/A"}}]
[null,null,null,"..",{"$f":"VLOOKUP(D466,Arkusz2!$D$2:$E$1137,2,0)","v":{"$error":"#N/A"}},null,null,null,null,null,null,null,null,null,null,null,null,null,null,null,{"$f":"VLOOKUP(T466,Arkusz2!$G$2:$I$34,3,0)","v":{"$error":"#N/A"}},{"$f":"VLOOKUP(D466,Arkusz2!O434:P1571,2,0)","v":{"$error":"#N/A"}}]
[null,null,null,"..",{"$f":"VLOOKUP(D467,Arkusz2!$D$2:$E$1137,2,0)","v":{"$error":"#N/A"}},null,null,null,null,null,null,null,null,null,null,null,null,null,null,null,{"$f":"VLOOKUP(T467,Arkusz2!$G$2:$I$34,3,0)","v":{"$error":"#N/A"}},{"$f":"VLOOKUP(D467,Arkusz2!O435:P1572,2,0)","v":{"$error":"#N/A"}}]
[null,null,null,"..",{"$f":"VLOOKUP(D468,Arkusz2!$D$2:$E$1137,2,0)","v":{"$error":"#N/A"}},null,null,null,null,null,null,null,null,null,null,null,null,null,null,null,{"$f":"VLOOKUP(T468,Arkusz2!$G$2:$I$34,3,0)","v":{"$error":"#N/A"}},{"$f":"VLOOKUP(D468,Arkusz2!O436:P1573,2,0)","v":{"$error":"#N/A"}}]
[null,null,null,"..",{"$f":"VLOOKUP(D469,Arkusz2!$D$2:$E$1137,2,0)","v":{"$error":"#N/A"}},null,null,null,null,null,null,null,null,null,null,null,null,null,null,null,{"$f":"VLOOKUP(T469,Arkusz2!$G$2:$I$34,3,0)","v":{"$error":"#N/A"}},{"$f":"VLOOKUP(D469,Arkusz2!O437:P1574,2,0)","v":{"$error":"#N/A"}}]
[null,null,null,"..",{"$f":"VLOOKUP(D470,Arkusz2!$D$2:$E$1137,2,0)","v":{"$error":"#N/A"}},null,null,null,null,null,null,null,null,null,null,null,null,null,null,null,{"$f":"VLOOKUP(T470,Arkusz2!$G$2:$I$34,3,0)","v":{"$error":"#N/A"}},{"$f":"VLOOKUP(D470,Arkusz2!O438:P1575,2,0)","v":{"$error":"#N/A"}}]
[null,null,null,"..",{"$f":"VLOOKUP(D471,Arkusz2!$D$2:$E$1137,2,0)","v":{"$error":"#N/A"}},null,null,null,null,null,null,null,null,null,null,null,null,null,null,null,{"$f":"VLOOKUP(T471,Arkusz2!$G$2:$I$34,3,0)","v":{"$error":"#N/A"}},{"$f":"VLOOKUP(D471,Arkusz2!O439:P1576,2,0)","v":{"$error":"#N/A"}}]
[null,null,null,"..",{"$f":"VLOOKUP(D472,Arkusz2!$D$2:$E$1137,2,0)","v":{"$error":"#N/A"}},null,null,null,null,null,null,null,null,null,null,null,null,null,null,null,{"$f":"VLOOKUP(T472,Arkusz2!$G$2:$I$34,3,0)","v":{"$error":"#N/A"}},{"$f":"VLOOKUP(D472,Arkusz2!O440:P1577,2,0)","v":{"$error":"#N/A"}}]
[null,null,null,"..",{"$f":"VLOOKUP(D473,Arkusz2!$D$2:$E$1137,2,0)","v":{"$error":"#N/A"}},null,null,null,null,null,null,null,null,null,null,null,null,null,null,null,{"$f":"VLOOKUP(T473,Arkusz2!$G$2:$I$34,3,0)","v":{"$error":"#N/A"}},{"$f":"VLOOKUP(D473,Arkusz2!O441:P1578,2,0)","v":{"$error":"#N/A"}}]
[null,null,null,"..",{"$f":"VLOOKUP(D474,Arkusz2!$D$2:$E$1137,2,0)","v":{"$error":"#N/A"}},null,null,null,null,null,null,null,null,null,null,null,null,null,null,null,{"$f":"VLOOKUP(T474,Arkusz2!$G$2:$I$34,3,0)","v":{"$error":"#N/A"}},{"$f":"VLOOKUP(D474,Arkusz2!O442:P1579,2,0)","v":{"$error":"#N/A"}}]
[null,null,null,"..",{"$f":"VLOOKUP(D475,Arkusz2!$D$2:$E$1137,2,0)","v":{"$error":"#N/A"}},null,null,null,null,null,null,null,null,null,null,null,null,null,null,null,{"$f":"VLOOKUP(T475,Arkusz2!$G$2:$I$34,3,0)","v":{"$error":"#N/A"}},{"$f":"VLOOKUP(D475,Arkusz2!O443:P1580,2,0)","v":{"$error":"#N/A"}}]
[null,null,null,"..",{"$f":"VLOOKUP(D476,Arkusz2!$D$2:$E$1137,2,0)","v":{"$error":"#N/A"}},null,null,null,null,null,null,null,null,null,null,null,null,null,null,null,{"$f":"VLOOKUP(T476,Arkusz2!$G$2:$I$34,3,0)","v":{"$error":"#N/A"}},{"$f":"VLOOKUP(D476,Arkusz2!O444:P1581,2,0)","v":{"$error":"#N/A"}}]
[null,null,null,"..",{"$f":"VLOOKUP(D477,Arkusz2!$D$2:$E$1137,2,0)","v":{"$error":"#N/A"}},null,null,null,null,null,null,null,null,null,null,null,null,null,null,null,{"$f":"VLOOKUP(T477,Arkusz2!$G$2:$I$34,3,0)","v":{"$error":"#N/A"}},{"$f":"VLOOKUP(D477,Arkusz2!O445:P1582,2,0)","v":{"$error":"#N/A"}}]
[null,null,null,"..",{"$f":"VLOOKUP(D478,Arkusz2!$D$2:$E$1137,2,0)","v":{"$error":"#N/A"}},null,null,null,null,null,null,null,null,null,null,null,null,null,null,null,{"$f":"VLOOKUP(T478,Arkusz2!$G$2:$I$34,3,0)","v":{"$error":"#N/A"}},{"$f":"VLOOKUP(D478,Arkusz2!O446:P1583,2,0)","v":{"$error":"#N/A"}}]
[null,null,null,"..",{"$f":"VLOOKUP(D479,Arkusz2!$D$2:$E$1137,2,0)","v":{"$error":"#N/A"}},null,null,null,null,null,null,null,null,null,null,null,null,null,null,null,{"$f":"VLOOKUP(T479,Arkusz2!$G$2:$I$34,3,0)","v":{"$error":"#N/A"}},{"$f":"VLOOKUP(D479,Arkusz2!O447:P1584,2,0)","v":{"$error":"#N/A"}}]
[null,null,null,"..",{"$f":"VLOOKUP(D480,Arkusz2!$D$2:$E$1137,2,0)","v":{"$error":"#N/A"}},null,null,null,null,null,null,null,null,null,null,null,null,null,null,null,{"$f":"VLOOKUP(T480,Arkusz2!$G$2:$I$34,3,0)","v":{"$error":"#N/A"}},{"$f":"VLOOKUP(D480,Arkusz2!O448:P1585,2,0)","v":{"$error":"#N/A"}}]
[null,null,null,"..",{"$f":"VLOOKUP(D481,Arkusz2!$D$2:$E$1137,2,0)","v":{"$error":"#N/A"}},null,null,null,null,null,null,null,null,null,null,null,null,null,null,null,{"$f":"VLOOKUP(T481,Arkusz2!$G$2:$I$34,3,0)","v":{"$error":"#N/A"}},{"$f":"VLOOKUP(D481,Arkusz2!O449:P1586,2,0)","v":{"$error":"#N/A"}}]
[null,null,null,"..",{"$f":"VLOOKUP(D482,Arkusz2!$D$2:$E$1137,2,0)","v":{"$error":"#N/A"}},null,null,null,null,null,null,null,null,null,null,null,null,null,null,null,{"$f":"VLOOKUP(T482,Arkusz2!$G$2:$I$34,3,0)","v":{"$error":"#N/A"}},{"$f":"VLOOKUP(D482,Arkusz2!O450:P1587,2,0)","v":{"$error":"#N/A"}}]
[null,null,null,{"$f":"_xlfn.CONCAT(A483,\".\",B483,\".\",C483)","v":".."},{"$f":"VLOOKUP(D483,Arkusz2!$D$2:$E$1137,2,0)","v":{"$error":"#N/A"}},null,null,null,null,null,null,null,null,null,null,null,null,null,null,null,{"$f":"VLOOKUP(T483,Arkusz2!$G$2:$I$34,3,0)","v":{"$error":"#N/A"}},{"$f":"VLOOKUP(D483,Arkusz2!O451:P1588,2,0)","v":{"$error":"#N/A"}}]
[null,null,null,"..",{"$f":"VLOOKUP(D484,Arkusz2!$D$2:$E$1137,2,0)","v":{"$error":"#N/A"}},null,null,null,null,null,null,null,null,null,null,null,null,null,null,null,{"$f":"VLOOKUP(T484,Arkusz2!$G$2:$I$34,3,0)","v":{"$error":"#N/A"}},{"$f":"VLOOKUP(D484,Arkusz2!O452:P1589,2,0)","v":{"$error":"#N/A"}}]
[null,null,null,"..",{"$f":"VLOOKUP(D485,Arkusz2!$D$2:$E$1137,2,0)","v":{"$error":"#N/A"}},null,null,null,null,null,null,null,null,null,null,null,null,null,null,null,{"$f":"VLOOKUP(T485,Arkusz2!$G$2:$I$34,3,0)","v":{"$error":"#N/A"}},{"$f":"VLOOKUP(D485,Arkusz2!O453:P1590,2,0)","v":{"$error":"#N/A"}}]
[null,null,null,"..",{"$f":"VLOOKUP(D486,Arkusz2!$D$2:$E$1137,2,0)","v":{"$error":"#N/A"}},null,null,null,null,null,null,null,null,null,null,null,null,null,null,null,{"$f":"VLOOKUP(T486,Arkusz2!$G$2:$I$34,3,0)","v":{"$error":"#N/A"}},{"$f":"VLOOKUP(D486,Arkusz2!O454:P1591,2,0)","v":{"$error":"#N/A"}}]
[null,null,null,"..",{"$f":"VLOOKUP(D487,Arkusz2!$D$2:$E$1137,2,0)","v":{"$error":"#N/A"}},null,null,null,null,null,null,null,null,null,null,null,null,null,null,null,{"$f":"VLOOKUP(T487,Arkusz2!$G$2:$I$34,3,0)","v":{"$error":"#N/A"}},{"$f":"VLOOKUP(D487,Arkusz2!O455:P1592,2,0)","v":{"$error":"#N/A"}}]
[null,null,null,"..",{"$f":"VLOOKUP(D488,Arkusz2!$D$2:$E$1137,2,0)","v":{"$error":"#N/A"}},null,null,null,null,null,null,null,null,null,null,null,null,null,null,null,{"$f":"VLOOKUP(T488,Arkusz2!$G$2:$I$34,3,0)","v":{"$error":"#N/A"}},{"$f":"VLOOKUP(D488,Arkusz2!O456:P1593,2,0)","v":{"$error":"#N/A"}}]
[null,null,null,"..",{"$f":"VLOOKUP(D489,Arkusz2!$D$2:$E$1137,2,0)","v":{"$error":"#N/A"}},null,null,null,null,null,null,null,null,null,null,null,null,null,null,null,{"$f":"VLOOKUP(T489,Arkusz2!$G$2:$I$34,3,0)","v":{"$error":"#N/A"}},{"$f":"VLOOKUP(D489,Arkusz2!O457:P1594,2,0)","v":{"$error":"#N/A"}}]
[null,null,null,"..",{"$f":"VLOOKUP(D490,Arkusz2!$D$2:$E$1137,2,0)","v":{"$error":"#N/A"}},null,null,null,null,null,null,null,null,null,null,null,null,null,null,null,{"$f":"VLOOKUP(T490,Arkusz2!$G$2:$I$34,3,0)","v":{"$error":"#N/A"}},{"$f":"VLOOKUP(D490,Arkusz2!O458:P1595,2,0)","v":{"$error":"#N/A"}}]
[null,null,null,"..",{"$f":"VLOOKUP(D491,Arkusz2!$D$2:$E$1137,2,0)","v":{"$error":"#N/A"}},null,null,null,null,null,null,null,null,null,null,null,null,null,null,null,{"$f":"VLOOKUP(T491,Arkusz2!$G$2:$I$34,3,0)","v":{"$error":"#N/A"}},{"$f":"VLOOKUP(D491,Arkusz2!O459:P1596,2,0)","v":{"$error":"#N/A"}}]
[null,null,null,"..",{"$f":"VLOOKUP(D492,Arkusz2!$D$2:$E$1137,2,0)","v":{"$error":"#N/A"}},null,null,null,null,null,null,null,null,null,null,null,null,null,null,null,{"$f":"VLOOKUP(T492,Arkusz2!$G$2:$I$34,3,0)","v":{"$error":"#N/A"}},{"$f":"VLOOKUP(D492,Arkusz2!O460:P1597,2,0)","v":{"$error":"#N/A"}}]
[null,null,null,"..",{"$f":"VLOOKUP(D493,Arkusz2!$D$2:$E$1137,2,0)","v":{"$error":"#N/A"}},null,null,null,null,null,null,null,null,null,null,null,null,null,null,null,{"$f":"VLOOKUP(T493,Arkusz2!$G$2:$I$34,3,0)","v":{"$error":"#N/A"}},{"$f":"VLOOKUP(D493,Arkusz2!O461:P1598,2,0)","v":{"$error":"#N/A"}}]
[null,null,null,"..",{"$f":"VLOOKUP(D494,Arkusz2!$D$2:$E$1137,2,0)","v":{"$error":"#N/A"}},null,null,null,null,null,null,null,null,null,null,null,null,null,null,null,{"$f":"VLOOKUP(T494,Arkusz2!$G$2:$I$34,3,0)","v":{"$error":"#N/A"}},{"$f":"VLOOKUP(D494,Arkusz2!O462:P1599,2,0)","v":{"$error":"#N/A"}}]
[null,null,null,"..",{"$f":"VLOOKUP(D495,Arkusz2!$D$2:$E$1137,2,0)","v":{"$error":"#N/A"}},null,null,null,null,null,null,null,null,null,null,null,null,null,null,null,{"$f":"VLOOKUP(T495,Arkusz2!$G$2:$I$34,3,0)","v":{"$error":"#N/A"}},{"$f":"VLOOKUP(D495,Arkusz2!O463:P1600,2,0)","v":{"$error":"#N/A"}}]
[null,null,null,"..",{"$f":"VLOOKUP(D496,Arkusz2!$D$2:$E$1137,2,0)","v":{"$error":"#N/A"}},null,null,null,null,null,null,null,null,null,null,null,null,null,null,null,{"$f":"VLOOKUP(T496,Arkusz2!$G$2:$I$34,3,0)","v":{"$error":"#N/A"}},{"$f":"VLOOKUP(D496,Arkusz2!O464:P1601,2,0)","v":{"$error":"#N/A"}}]
[null,null,null,"..",{"$f":"VLOOKUP(D497,Arkusz2!$D$2:$E$1137,2,0)","v":{"$error":"#N/A"}},null,null,null,null,null,null,null,null,null,null,null,null,null,null,null,{"$f":"VLOOKUP(T497,Arkusz2!$G$2:$I$34,3,0)","v":{"$error":"#N/A"}},{"$f":"VLOOKUP(D497,Arkusz2!O465:P1602,2,0)","v":{"$error":"#N/A"}}]
[null,null,null,"..",{"$f":"VLOOKUP(D498,Arkusz2!$D$2:$E$1137,2,0)","v":{"$error":"#N/A"}},null,null,null,null,null,null,null,null,null,null,null,null,null,null,null,{"$f":"VLOOKUP(T498,Arkusz2!$G$2:$I$34,3,0)","v":{"$error":"#N/A"}},{"$f":"VLOOKUP(D498,Arkusz2!O466:P1603,2,0)","v":{"$error":"#N/A"}}]
[null,null,null,"..",{"$f":"VLOOKUP(D499,Arkusz2!$D$2:$E$1137,2,0)","v":{"$error":"#N/A"}},null,null,null,null,null,null,null,null,null,null,null,null,null,null,null,{"$f":"VLOOKUP(T499,Arkusz2!$G$2:$I$34,3,0)","v":{"$error":"#N/A"}},{"$f":"VLOOKUP(D499,Arkusz2!O467:P1604,2,0)","v":{"$error":"#N/A"}}]
[null,null,null,"..",{"$f":"VLOOKUP(D500,Arkusz2!$D$2:$E$1137,2,0)","v":{"$error":"#N/A"}},null,null,null,null,null,null,null,null,null,null,null,null,null,null,null,{"$f":"VLOOKUP(T500,Arkusz2!$G$2:$I$34,3,0)","v":{"$error":"#N/A"}},{"$f":"VLOOKUP(D500,Arkusz2!O468:P1605,2,0)","v":{"$error":"#N/A"}}]
[null,null,null,"..",{"$f":"VLOOKUP(D501,Arkusz2!$D$2:$E$1137,2,0)","v":{"$error":"#N/A"}},null,null,null,null,null,null,null,null,null,null,null,null,null,null,null,{"$f":"VLOOKUP(T501,Arkusz2!$G$2:$I$34,3,0)","v":{"$error":"#N/A"}},{"$f":"VLOOKUP(D501,Arkusz2!O469:P1606,2,0)","v":{"$error":"#N/A"}}]
[null,null,null,"..",{"$f":"VLOOKUP(D502,Arkusz2!$D$2:$E$1137,2,0)","v":{"$error":"#N/A"}},null,null,null,null,null,null,null,null,null,null,null,null,null,null,null,{"$f":"VLOOKUP(T502,Arkusz2!$G$2:$I$34,3,0)","v":{"$error":"#N/A"}},{"$f":"VLOOKUP(D502,Arkusz2!O470:P1607,2,0)","v":{"$error":"#N/A"}}]
[null,null,null,"..",{"$f":"VLOOKUP(D503,Arkusz2!$D$2:$E$1137,2,0)","v":{"$error":"#N/A"}},null,null,null,null,null,null,null,null,null,null,null,null,null,null,null,{"$f":"VLOOKUP(T503,Arkusz2!$G$2:$I$34,3,0)","v":{"$error":"#N/A"}},{"$f":"VLOOKUP(D503,Arkusz2!O471:P1608,2,0)","v":{"$error":"#N/A"}}]
[null,null,null,"..",{"$f":"VLOOKUP(D504,Arkusz2!$D$2:$E$1137,2,0)","v":{"$error":"#N/A"}},null,null,null,null,null,null,null,null,null,null,null,null,null,null,null,{"$f":"VLOOKUP(T504,Arkusz2!$G$2:$I$34,3,0)","v":{"$error":"#N/A"}},{"$f":"VLOOKUP(D504,Arkusz2!O472:P1609,2,0)","v":{"$error":"#N/A"}}]
[null,null,null,"..",{"$f":"VLOOKUP(D505,Arkusz2!$D$2:$E$1137,2,0)","v":{"$error":"#N/A"}},null,null,null,null,null,null,null,null,null,null,null,null,null,null,null,{"$f":"VLOOKUP(T505,Arkusz2!$G$2:$I$34,3,0)","v":{"$error":"#N/A"}},{"$f":"VLOOKUP(D505,Arkusz2!O473:P1610,2,0)","v":{"$error":"#N/A"}}]
[null,null,null,"..",{"$f":"VLOOKUP(D506,Arkusz2!$D$2:$E$1137,2,0)","v":{"$error":"#N/A"}},null,null,null,null,null,null,null,null,null,null,null,null,null,null,null,{"$f":"VLOOKUP(T506,Arkusz2!$G$2:$I$34,3,0)","v":{"$error":"#N/A"}},{"$f":"VLOOKUP(D506,Arkusz2!O474:P1611,2,0)","v":{"$error":"#N/A"}}]
[null,null,null,"..",{"$f":"VLOOKUP(D507,Arkusz2!$D$2:$E$1137,2,0)","v":{"$error":"#N/A"}},null,null,null,null,null,null,null,null,null,null,null,null,null,null,null,{"$f":"VLOOKUP(T507,Arkusz2!$G$2:$I$34,3,0)","v":{"$error":"#N/A"}},{"$f":"VLOOKUP(D507,Arkusz2!O475:P1612,2,0)","v":{"$error":"#N/A"}}]
[null,null,null,"..",{"$f":"VLOOKUP(D508,Arkusz2!$D$2:$E$1137,2,0)","v":{"$error":"#N/A"}},null,null,null,null,null,null,null,null,null,null,null,null,null,null,null,{"$f":"VLOOKUP(T508,Arkusz2!$G$2:$I$34,3,0)","v":{"$error":"#N/A"}},{"$f":"VLOOKUP(D508,Arkusz2!O476:P1613,2,0)","v":{"$error":"#N/A"}}]
[null,null,null,"..",{"$f":"VLOOKUP(D509,Arkusz2!$D$2:$E$1137,2,0)","v":{"$error":"#N/A"}},null,null,null,null,null,null,null,null,null,null,null,null,null,null,null,{"$f":"VLOOKUP(T509,Arkusz2!$G$2:$I$34,3,0)","v":{"$error":"#N/A"}},{"$f":"VLOOKUP(D509,Arkusz2!O477:P1614,2,0)","v":{"$error":"#N/A"}}]
[null,null,null,"..",{"$f":"VLOOKUP(D510,Arkusz2!$D$2:$E$1137,2,0)","v":{"$error":"#N/A"}},null,null,null,null,null,null,null,null,null,null,null,null,null,null,null,{"$f":"VLOOKUP(T510,Arkusz2!$G$2:$I$34,3,0)","v":{"$error":"#N/A"}},{"$f":"VLOOKUP(D510,Arkusz2!O478:P1615,2,0)","v":{"$error":"#N/A"}}]
[null,null,null,"..",{"$f":"VLOOKUP(D511,Arkusz2!$D$2:$E$1137,2,0)","v":{"$error":"#N/A"}},null,null,null,null,null,null,null,null,null,null,null,null,null,null,null,{"$f":"VLOOKUP(T511,Arkusz2!$G$2:$I$34,3,0)","v":{"$error":"#N/A"}},{"$f":"VLOOKUP(D511,Arkusz2!O479:P1616,2,0)","v":{"$error":"#N/A"}}]
[null,null,null,"..",{"$f":"VLOOKUP(D512,Arkusz2!$D$2:$E$1137,2,0)","v":{"$error":"#N/A"}},null,null,null,null,null,null,null,null,null,null,null,null,null,null,null,{"$f":"VLOOKUP(T512,Arkusz2!$G$2:$I$34,3,0)","v":{"$error":"#N/A"}},{"$f":"VLOOKUP(D512,Arkusz2!O480:P1617,2,0)","v":{"$error":"#N/A"}}]
[null,null,null,"..",{"$f":"VLOOKUP(D513,Arkusz2!$D$2:$E$1137,2,0)","v":{"$error":"#N/A"}},null,null,null,null,null,null,null,null,null,null,null,null,null,null,null,{"$f":"VLOOKUP(T513,Arkusz2!$G$2:$I$34,3,0)","v":{"$error":"#N/A"}},{"$f":"VLOOKUP(D513,Arkusz2!O481:P1618,2,0)","v":{"$error":"#N/A"}}]
[null,null,null,"..",{"$f":"VLOOKUP(D514,Arkusz2!$D$2:$E$1137,2,0)","v":{"$error":"#N/A"}},null,null,null,null,null,null,null,null,null,null,null,null,null,null,null,{"$f":"VLOOKUP(T514,Arkusz2!$G$2:$I$34,3,0)","v":{"$error":"#N/A"}},{"$f":"VLOOKUP(D514,Arkusz2!O482:P1619,2,0)","v":{"$error":"#N/A"}}]
[null,null,null,"..",{"$f":"VLOOKUP(D515,Arkusz2!$D$2:$E$1137,2,0)","v":{"$error":"#N/A"}},null,null,null,null,null,null,null,null,null,null,null,null,null,null,null,{"$f":"VLOOKUP(T515,Arkusz2!$G$2:$I$34,3,0)","v":{"$error":"#N/A"}},{"$f":"VLOOKUP(D515,Arkusz2!O483:P1620,2,0)","v":{"$error":"#N/A"}}]
[null,null,null,"..",{"$f":"VLOOKUP(D516,Arkusz2!$D$2:$E$1137,2,0)","v":{"$error":"#N/A"}},null,null,null,null,null,null,null,null,null,null,null,null,null,null,null,{"$f":"VLOOKUP(T516,Arkusz2!$G$2:$I$34,3,0)","v":{"$error":"#N/A"}},{"$f":"VLOOKUP(D516,Arkusz2!O484:P1621,2,0)","v":{"$error":"#N/A"}}]
[null,null,null,"..",{"$f":"VLOOKUP(D517,Arkusz2!$D$2:$E$1137,2,0)","v":{"$error":"#N/A"}},null,null,null,null,null,null,null,null,null,null,null,null,null,null,null,{"$f":"VLOOKUP(T517,Arkusz2!$G$2:$I$34,3,0)","v":{"$error":"#N/A"}},{"$f":"VLOOKUP(D517,Arkusz2!O485:P1622,2,0)","v":{"$error":"#N/A"}}]
[null,null,null,"..",{"$f":"VLOOKUP(D518,Arkusz2!$D$2:$E$1137,2,0)","v":{"$error":"#N/A"}},null,null,null,null,null,null,null,null,null,null,null,null,null,null,null,{"$f":"VLOOKUP(T518,Arkusz2!$G$2:$I$34,3,0)","v":{"$error":"#N/A"}},{"$f":"VLOOKUP(D518,Arkusz2!O486:P1623,2,0)","v":{"$error":"#N/A"}}]
[null,null,null,"..",{"$f":"VLOOKUP(D519,Arkusz2!$D$2:$E$1137,2,0)","v":{"$error":"#N/A"}},null,null,null,null,null,null,null,null,null,null,null,null,null,null,null,{"$f":"VLOOKUP(T519,Arkusz2!$G$2:$I$34,3,0)","v":{"$error":"#N/A"}},{"$f":"VLOOKUP(D519,Arkusz2!O487:P1624,2,0)","v":{"$error":"#N/A"}}]
[null,null,null,"..",{"$f":"VLOOKUP(D520,Arkusz2!$D$2:$E$1137,2,0)","v":{"$error":"#N/A"}},null,null,null,null,null,null,null,null,null,null,null,null,null,null,null,{"$f":"VLOOKUP(T520,Arkusz2!$G$2:$I$34,3,0)","v":{"$error":"#N/A"}},{"$f":"VLOOKUP(D520,Arkusz2!O488:P1625,2,0)","v":{"$error":"#N/A"}}]
[null,null,null,"..",{"$f":"VLOOKUP(D521,Arkusz2!$D$2:$E$1137,2,0)","v":{"$error":"#N/A"}},null,null,null,null,null,null,null,null,null,null,null,null,null,null,null,{"$f":"VLOOKUP(T521,Arkusz2!$G$2:$I$34,3,0)","v":{"$error":"#N/A"}},{"$f":"VLOOKUP(D521,Arkusz2!O489:P1626,2,0)","v":{"$error":"#N/A"}}]
[null,null,null,"..",{"$f":"VLOOKUP(D522,Arkusz2!$D$2:$E$1137,2,0)","v":{"$error":"#N/A"}},null,null,null,null,null,null,null,null,null,null,null,null,null,null,null,{"$f":"VLOOKUP(T522,Arkusz2!$G$2:$I$34,3,0)","v":{"$error":"#N/A"}},{"$f":"VLOOKUP(D522,Arkusz2!O490:P1627,2,0)","v":{"$error":"#N/A"}}]
[null,null,null,"..",{"$f":"VLOOKUP(D523,Arkusz2!$D$2:$E$1137,2,0)","v":{"$error":"#N/A"}},null,null,null,null,null,null,null,null,null,null,null,null,null,null,null,{"$f":"VLOOKUP(T523,Arkusz2!$G$2:$I$34,3,0)","v":{"$error":"#N/A"}},{"$f":"VLOOKUP(D523,Arkusz2!O491:P1628,2,0)","v":{"$error":"#N/A"}}]
[null,null,null,"..",{"$f":"VLOOKUP(D524,Arkusz2!$D$2:$E$1137,2,0)","v":{"$error":"#N/A"}},null,null,null,null,null,null,null,null,null,null,null,null,null,null,null,{"$f":"VLOOKUP(T524,Arkusz2!$G$2:$I$34,3,0)","v":{"$error":"#N/A"}},{"$f":"VLOOKUP(D524,Arkusz2!O492:P1629,2,0)","v":{"$error":"#N/A"}}]
[null,null,null,"..",{"$f":"VLOOKUP(D525,Arkusz2!$D$2:$E$1137,2,0)","v":{"$error":"#N/A"}},null,null,null,null,null,null,null,null,null,null,null,null,null,null,null,{"$f":"VLOOKUP(T525,Arkusz2!$G$2:$I$34,3,0)","v":{"$error":"#N/A"}},{"$f":"VLOOKUP(D525,Arkusz2!O493:P1630,2,0)","v":{"$error":"#N/A"}}]
[null,null,null,"..",{"$f":"VLOOKUP(D526,Arkusz2!$D$2:$E$1137,2,0)","v":{"$error":"#N/A"}},null,null,null,null,null,null,null,null,null,null,null,null,null,null,null,{"$f":"VLOOKUP(T526,Arkusz2!$G$2:$I$34,3,0)","v":{"$error":"#N/A"}},{"$f":"VLOOKUP(D526,Arkusz2!O494:P1631,2,0)","v":{"$error":"#N/A"}}]
[null,null,null,"..",{"$f":"VLOOKUP(D527,Arkusz2!$D$2:$E$1137,2,0)","v":{"$error":"#N/A"}},null,null,null,null,null,null,null,null,null,null,null,null,null,null,null,{"$f":"VLOOKUP(T527,Arkusz2!$G$2:$I$34,3,0)","v":{"$error":"#N/A"}},{"$f":"VLOOKUP(D527,Arkusz2!O495:P1632,2,0)","v":{"$error":"#N/A"}}]
[null,null,null,"..",{"$f":"VLOOKUP(D528,Arkusz2!$D$2:$E$1137,2,0)","v":{"$error":"#N/A"}},null,null,null,null,null,null,null,null,null,null,null,null,null,null,null,{"$f":"VLOOKUP(T528,Arkusz2!$G$2:$I$34,3,0)","v":{"$error":"#N/A"}},{"$f":"VLOOKUP(D528,Arkusz2!O496:P1633,2,0)","v":{"$error":"#N/A"}}]
[null,null,null,"..",{"$f":"VLOOKUP(D529,Arkusz2!$D$2:$E$1137,2,0)","v":{"$error":"#N/A"}},null,null,null,null,null,null,null,null,null,null,null,null,null,null,null,{"$f":"VLOOKUP(T529,Arkusz2!$G$2:$I$34,3,0)","v":{"$error":"#N/A"}},{"$f":"VLOOKUP(D529,Arkusz2!O497:P1634,2,0)","v":{"$error":"#N/A"}}]
[null,null,null,"..",{"$f":"VLOOKUP(D530,Arkusz2!$D$2:$E$1137,2,0)","v":{"$error":"#N/A"}},null,null,null,null,null,null,null,null,null,null,null,null,null,null,null,{"$f":"VLOOKUP(T530,Arkusz2!$G$2:$I$34,3,0)","v":{"$error":"#N/A"}},{"$f":"VLOOKUP(D530,Arkusz2!O498:P1635,2,0)","v":{"$error":"#N/A"}}]
[null,null,null,"..",{"$f":"VLOOKUP(D531,Arkusz2!$D$2:$E$1137,2,0)","v":{"$error":"#N/A"}},null,null,null,null,null,null,null,null,null,null,null,null,null,null,null,{"$f":"VLOOKUP(T531,Arkusz2!$G$2:$I$34,3,0)","v":{"$error":"#N/A"}},{"$f":"VLOOKUP(D531,Arkusz2!O499:P1636,2,0)","v":{"$error":"#N/A"}}]
[null,null,null,"..",{"$f":"VLOOKUP(D532,Arkusz2!$D$2:$E$1137,2,0)","v":{"$error":"#N/A"}},null,null,null,null,null,null,null,null,null,null,null,null,null,null,null,{"$f":"VLOOKUP(T532,Arkusz2!$G$2:$I$34,3,0)","v":{"$error":"#N/A"}},{"$f":"VLOOKUP(D532,Arkusz2!O500:P1637,2,0)","v":{"$error":"#N/A"}}]
[null,null,null,"..",{"$f":"VLOOKUP(D533,Arkusz2!$D$2:$E$1137,2,0)","v":{"$error":"#N/A"}},null,null,null,null,null,null,null,null,null,null,null,null,null,null,null,{"$f":"VLOOKUP(T533,Arkusz2!$G$2:$I$34,3,0)","v":{"$error":"#N/A"}},{"$f":"VLOOKUP(D533,Arkusz2!O501:P1638,2,0)","v":{"$error":"#N/A"}}]
[null,null,null,"..",{"$f":"VLOOKUP(D534,Arkusz2!$D$2:$E$1137,2,0)","v":{"$error":"#N/A"}},null,null,null,null,null,null,null,null,null,null,null,null,null,null,null,{"$f":"VLOOKUP(T534,Arkusz2!$G$2:$I$34,3,0)","v":{"$error":"#N/A"}},{"$f":"VLOOKUP(D534,Arkusz2!O502:P1639,2,0)","v":{"$error":"#N/A"}}]
[null,null,null,"..",{"$f":"VLOOKUP(D535,Arkusz2!$D$2:$E$1137,2,0)","v":{"$error":"#N/A"}},null,null,null,null,null,null,null,null,null,null,null,null,null,null,null,{"$f":"VLOOKUP(T535,Arkusz2!$G$2:$I$34,3,0)","v":{"$error":"#N/A"}},{"$f":"VLOOKUP(D535,Arkusz2!O503:P1640,2,0)","v":{"$error":"#N/A"}}]
[null,null,null,"..",{"$f":"VLOOKUP(D536,Arkusz2!$D$2:$E$1137,2,0)","v":{"$error":"#N/A"}},null,null,null,null,null,null,null,null,null,null,null,null,null,null,null,{"$f":"VLOOKUP(T536,Arkusz2!$G$2:$I$34,3,0)","v":{"$error":"#N/A"}},{"$f":"VLOOKUP(D536,Arkusz2!O504:P1641,2,0)","v":{"$error":"#N/A"}}]
[null,null,null,"..",{"$f":"VLOOKUP(D537,Arkusz2!$D$2:$E$1137,2,0)","v":{"$error":"#N/A"}},null,null,null,null,null,null,null,null,null,null,null,null,null,null,null,{"$f":"VLOOKUP(T537,Arkusz2!$G$2:$I$34,3,0)","v":{"$error":"#N/A"}},{"$f":"VLOOKUP(D537,Arkusz2!O505:P1642,2,0)","v":{"$error":"#N/A"}}]
[null,null,null,"..",{"$f":"VLOOKUP(D538,Arkusz2!$D$2:$E$1137,2,0)","v":{"$error":"#N/A"}},null,null,null,null,null,null,null,null,null,null,null,null,null,null,null,{"$f":"VLOOKUP(T538,Arkusz2!$G$2:$I$34,3,0)","v":{"$error":"#N/A"}},{"$f":"VLOOKUP(D538,Arkusz2!O506:P1643,2,0)","v":{"$error":"#N/A"}}]
[null,null,null,"..",{"$f":"VLOOKUP(D539,Arkusz2!$D$2:$E$1137,2,0)","v":{"$error":"#N/A"}},null,null,null,null,null,null,null,null,null,null,null,null,null,null,null,{"$f":"VLOOKUP(T539,Arkusz2!$G$2:$I$34,3,0)","v":{"$error":"#N/A"}},{"$f":"VLOOKUP(D539,Arkusz2!O507:P1644,2,0)","v":{"$error":"#N/A"}}]
[null,null,null,"..",{"$f":"VLOOKUP(D540,Arkusz2!$D$2:$E$1137,2,0)","v":{"$error":"#N/A"}},null,null,null,null,null,null,null,null,null,null,null,null,null,null,null,{"$f":"VLOOKUP(T540,Arkusz2!$G$2:$I$34,3,0)","v":{"$error":"#N/A"}},{"$f":"VLOOKUP(D540,Arkusz2!O508:P1645,2,0)","v":{"$error":"#N/A"}}]
[null,null,null,"..",{"$f":"VLOOKUP(D541,Arkusz2!$D$2:$E$1137,2,0)","v":{"$error":"#N/A"}},null,null,null,null,null,null,null,null,null,null,null,null,null,null,null,{"$f":"VLOOKUP(T541,Arkusz2!$G$2:$I$34,3,0)","v":{"$error":"#N/A"}},{"$f":"VLOOKUP(D541,Arkusz2!O509:P1646,2,0)","v":{"$error":"#N/A"}}]
[null,null,null,"..",{"$f":"VLOOKUP(D542,Arkusz2!$D$2:$E$1137,2,0)","v":{"$error":"#N/A"}},null,null,null,null,null,null,null,null,null,null,null,null,null,null,null,{"$f":"VLOOKUP(T542,Arkusz2!$G$2:$I$34,3,0)","v":{"$error":"#N/A"}},{"$f":"VLOOKUP(D542,Arkusz2!O510:P1647,2,0)","v":{"$error":"#N/A"}}]
[null,null,null,"..",{"$f":"VLOOKUP(D543,Arkusz2!$D$2:$E$1137,2,0)","v":{"$error":"#N/A"}},null,null,null,null,null,null,null,null,null,null,null,null,null,null,null,{"$f":"VLOOKUP(T543,Arkusz2!$G$2:$I$34,3,0)","v":{"$error":"#N/A"}},{"$f":"VLOOKUP(D543,Arkusz2!O511:P1648,2,0)","v":{"$error":"#N/A"}}]
[null,null,null,"..",{"$f":"VLOOKUP(D544,Arkusz2!$D$2:$E$1137,2,0)","v":{"$error":"#N/A"}},null,null,null,null,null,null,null,null,null,null,null,null,null,null,null,{"$f":"VLOOKUP(T544,Arkusz2!$G$2:$I$34,3,0)","v":{"$error":"#N/A"}},{"$f":"VLOOKUP(D544,Arkusz2!O512:P1649,2,0)","v":{"$error":"#N/A"}}]
[null,null,null,"..",{"$f":"VLOOKUP(D545,Arkusz2!$D$2:$E$1137,2,0)","v":{"$error":"#N/A"}},null,null,null,null,null,null,null,null,null,null,null,null,null,null,null,{"$f":"VLOOKUP(T545,Arkusz2!$G$2:$I$34,3,0)","v":{"$error":"#N/A"}},{"$f":"VLOOKUP(D545,Arkusz2!O513:P1650,2,0)","v":{"$error":"#N/A"}}]
[null,null,null,"..",{"$f":"VLOOKUP(D546,Arkusz2!$D$2:$E$1137,2,0)","v":{"$error":"#N/A"}},null,null,null,null,null,null,null,null,null,null,null,null,null,null,null,{"$f":"VLOOKUP(T546,Arkusz2!$G$2:$I$34,3,0)","v":{"$error":"#N/A"}},{"$f":"VLOOKUP(D546,Arkusz2!O514:P1651,2,0)","v":{"$error":"#N/A"}}]
[null,null,null,{"$f":"_xlfn.CONCAT(A547,\".\",B547,\".\",C547)","v":".."},{"$f":"VLOOKUP(D547,Arkusz2!$D$2:$E$1137,2,0)","v":{"$error":"#N/A"}},null,null,null,null,null,null,null,null,null,null,null,null,null,null,null,{"$f":"VLOOKUP(T547,Arkusz2!$G$2:$I$34,3,0)","v":{"$error":"#N/A"}},{"$f":"VLOOKUP(D547,Arkusz2!O515:P1652,2,0)","v":{"$error":"#N/A"}}]
[null,null,null,"..",{"$f":"VLOOKUP(D548,Arkusz2!$D$2:$E$1137,2,0)","v":{"$error":"#N/A"}},null,null,null,null,null,null,null,null,null,null,null,null,null,null,null,{"$f":"VLOOKUP(T548,Arkusz2!$G$2:$I$34,3,0)","v":{"$error":"#N/A"}},{"$f":"VLOOKUP(D548,Arkusz2!O516:P1653,2,0)","v":{"$error":"#N/A"}}]
[null,null,null,"..",{"$f":"VLOOKUP(D549,Arkusz2!$D$2:$E$1137,2,0)","v":{"$error":"#N/A"}},null,null,null,null,null,null,null,null,null,null,null,null,null,null,null,{"$f":"VLOOKUP(T549,Arkusz2!$G$2:$I$34,3,0)","v":{"$error":"#N/A"}},{"$f":"VLOOKUP(D549,Arkusz2!O517:P1654,2,0)","v":{"$error":"#N/A"}}]
[null,null,null,"..",{"$f":"VLOOKUP(D550,Arkusz2!$D$2:$E$1137,2,0)","v":{"$error":"#N/A"}},null,null,null,null,null,null,null,null,null,null,null,null,null,null,null,{"$f":"VLOOKUP(T550,Arkusz2!$G$2:$I$34,3,0)","v":{"$error":"#N/A"}},{"$f":"VLOOKUP(D550,Arkusz2!O518:P1655,2,0)","v":{"$error":"#N/A"}}]
[null,null,null,"..",{"$f":"VLOOKUP(D551,Arkusz2!$D$2:$E$1137,2,0)","v":{"$error":"#N/A"}},null,null,null,null,null,null,null,null,null,null,null,null,null,null,null,{"$f":"VLOOKUP(T551,Arkusz2!$G$2:$I$34,3,0)","v":{"$error":"#N/A"}},{"$f":"VLOOKUP(D551,Arkusz2!O519:P1656,2,0)","v":{"$error":"#N/A"}}]
[null,null,null,"..",{"$f":"VLOOKUP(D552,Arkusz2!$D$2:$E$1137,2,0)","v":{"$error":"#N/A"}},null,null,null,null,null,null,null,null,null,null,null,null,null,null,null,{"$f":"VLOOKUP(T552,Arkusz2!$G$2:$I$34,3,0)","v":{"$error":"#N/A"}},{"$f":"VLOOKUP(D552,Arkusz2!O520:P1657,2,0)","v":{"$error":"#N/A"}}]
[null,null,null,"..",{"$f":"VLOOKUP(D553,Arkusz2!$D$2:$E$1137,2,0)","v":{"$error":"#N/A"}},null,null,null,null,null,null,null,null,null,null,null,null,null,null,null,{"$f":"VLOOKUP(T553,Arkusz2!$G$2:$I$34,3,0)","v":{"$error":"#N/A"}},{"$f":"VLOOKUP(D553,Arkusz2!O521:P1658,2,0)","v":{"$error":"#N/A"}}]
[null,null,null,"..",{"$f":"VLOOKUP(D554,Arkusz2!$D$2:$E$1137,2,0)","v":{"$error":"#N/A"}},null,null,null,null,null,null,null,null,null,null,null,null,null,null,null,{"$f":"VLOOKUP(T554,Arkusz2!$G$2:$I$34,3,0)","v":{"$error":"#N/A"}},{"$f":"VLOOKUP(D554,Arkusz2!O522:P1659,2,0)","v":{"$error":"#N/A"}}]
[null,null,null,"..",{"$f":"VLOOKUP(D555,Arkusz2!$D$2:$E$1137,2,0)","v":{"$error":"#N/A"}},null,null,null,null,null,null,null,null,null,null,null,null,null,null,null,{"$f":"VLOOKUP(T555,Arkusz2!$G$2:$I$34,3,0)","v":{"$error":"#N/A"}},{"$f":"VLOOKUP(D555,Arkusz2!O523:P1660,2,0)","v":{"$error":"#N/A"}}]
[null,null,null,"..",{"$f":"VLOOKUP(D556,Arkusz2!$D$2:$E$1137,2,0)","v":{"$error":"#N/A"}},null,null,null,null,null,null,null,null,null,null,null,null,null,null,null,{"$f":"VLOOKUP(T556,Arkusz2!$G$2:$I$34,3,0)","v":{"$error":"#N/A"}},{"$f":"VLOOKUP(D556,Arkusz2!O524:P1661,2,0)","v":{"$error":"#N/A"}}]
[null,null,null,"..",{"$f":"VLOOKUP(D557,Arkusz2!$D$2:$E$1137,2,0)","v":{"$error":"#N/A"}},null,null,null,null,null,null,null,null,null,null,null,null,null,null,null,{"$f":"VLOOKUP(T557,Arkusz2!$G$2:$I$34,3,0)","v":{"$error":"#N/A"}},{"$f":"VLOOKUP(D557,Arkusz2!O525:P1662,2,0)","v":{"$error":"#N/A"}}]
[null,null,null,"..",{"$f":"VLOOKUP(D558,Arkusz2!$D$2:$E$1137,2,0)","v":{"$error":"#N/A"}},null,null,null,null,null,null,null,null,null,null,null,null,null,null,null,{"$f":"VLOOKUP(T558,Arkusz2!$G$2:$I$34,3,0)","v":{"$error":"#N/A"}},{"$f":"VLOOKUP(D558,Arkusz2!O526:P1663,2,0)","v":{"$error":"#N/A"}}]
[null,null,null,"..",{"$f":"VLOOKUP(D559,Arkusz2!$D$2:$E$1137,2,0)","v":{"$error":"#N/A"}},null,null,null,null,null,null,null,null,null,null,null,null,null,null,null,{"$f":"VLOOKUP(T559,Arkusz2!$G$2:$I$34,3,0)","v":{"$error":"#N/A"}},{"$f":"VLOOKUP(D559,Arkusz2!O527:P1664,2,0)","v":{"$error":"#N/A"}}]
[null,null,null,"..",{"$f":"VLOOKUP(D560,Arkusz2!$D$2:$E$1137,2,0)","v":{"$error":"#N/A"}},null,null,null,null,null,null,null,null,null,null,null,null,null,null,null,{"$f":"VLOOKUP(T560,Arkusz2!$G$2:$I$34,3,0)","v":{"$error":"#N/A"}},{"$f":"VLOOKUP(D560,Arkusz2!O528:P1665,2,0)","v":{"$error":"#N/A"}}]
[null,null,null,"..",{"$f":"VLOOKUP(D561,Arkusz2!$D$2:$E$1137,2,0)","v":{"$error":"#N/A"}},null,null,null,null,null,null,null,null,null,null,null,null,null,null,null,{"$f":"VLOOKUP(T561,Arkusz2!$G$2:$I$34,3,0)","v":{"$error":"#N/A"}},{"$f":"VLOOKUP(D561,Arkusz2!O529:P1666,2,0)","v":{"$error":"#N/A"}}]
[null,null,null,"..",{"$f":"VLOOKUP(D562,Arkusz2!$D$2:$E$1137,2,0)","v":{"$error":"#N/A"}},null,null,null,null,null,null,null,null,null,null,null,null,null,null,null,{"$f":"VLOOKUP(T562,Arkusz2!$G$2:$I$34,3,0)","v":{"$error":"#N/A"}},{"$f":"VLOOKUP(D562,Arkusz2!O530:P1667,2,0)","v":{"$error":"#N/A"}}]
[null,null,null,"..",{"$f":"VLOOKUP(D563,Arkusz2!$D$2:$E$1137,2,0)","v":{"$error":"#N/A"}},null,null,null,null,null,null,null,null,null,null,null,null,null,null,null,{"$f":"VLOOKUP(T563,Arkusz2!$G$2:$I$34,3,0)","v":{"$error":"#N/A"}},{"$f":"VLOOKUP(D563,Arkusz2!O531:P1668,2,0)","v":{"$error":"#N/A"}}]
[null,null,null,"..",{"$f":"VLOOKUP(D564,Arkusz2!$D$2:$E$1137,2,0)","v":{"$error":"#N/A"}},null,null,null,null,null,null,null,null,null,null,null,null,null,null,null,{"$f":"VLOOKUP(T564,Arkusz2!$G$2:$I$34,3,0)","v":{"$error":"#N/A"}},{"$f":"VLOOKUP(D564,Arkusz2!O532:P1669,2,0)","v":{"$error":"#N/A"}}]
[null,null,null,"..",{"$f":"VLOOKUP(D565,Arkusz2!$D$2:$E$1137,2,0)","v":{"$error":"#N/A"}},null,null,null,null,null,null,null,null,null,null,null,null,null,null,null,{"$f":"VLOOKUP(T565,Arkusz2!$G$2:$I$34,3,0)","v":{"$error":"#N/A"}},{"$f":"VLOOKUP(D565,Arkusz2!O533:P1670,2,0)","v":{"$error":"#N/A"}}]
[null,null,null,"..",{"$f":"VLOOKUP(D566,Arkusz2!$D$2:$E$1137,2,0)","v":{"$error":"#N/A"}},null,null,null,null,null,null,null,null,null,null,null,null,null,null,null,{"$f":"VLOOKUP(T566,Arkusz2!$G$2:$I$34,3,0)","v":{"$error":"#N/A"}},{"$f":"VLOOKUP(D566,Arkusz2!O534:P1671,2,0)","v":{"$error":"#N/A"}}]
[null,null,null,"..",{"$f":"VLOOKUP(D567,Arkusz2!$D$2:$E$1137,2,0)","v":{"$error":"#N/A"}},null,null,null,null,null,null,null,null,null,null,null,null,null,null,null,{"$f":"VLOOKUP(T567,Arkusz2!$G$2:$I$34,3,0)","v":{"$error":"#N/A"}},{"$f":"VLOOKUP(D567,Arkusz2!O535:P1672,2,0)","v":{"$error":"#N/A"}}]
[null,null,null,"..",{"$f":"VLOOKUP(D568,Arkusz2!$D$2:$E$1137,2,0)","v":{"$error":"#N/A"}},null,null,null,null,null,null,null,null,null,null,null,null,null,null,null,{"$f":"VLOOKUP(T568,Arkusz2!$G$2:$I$34,3,0)","v":{"$error":"#N/A"}},{"$f":"VLOOKUP(D568,Arkusz2!O536:P1673,2,0)","v":{"$error":"#N/A"}}]
[null,null,null,"..",{"$f":"VLOOKUP(D569,Arkusz2!$D$2:$E$1137,2,0)","v":{"$error":"#N/A"}},null,null,null,null,null,null,null,null,null,null,null,null,null,null,null,{"$f":"VLOOKUP(T569,Arkusz2!$G$2:$I$34,3,0)","v":{"$error":"#N/A"}},{"$f":"VLOOKUP(D569,Arkusz2!O537:P1674,2,0)","v":{"$error":"#N/A"}}]
[null,null,null,"..",{"$f":"VLOOKUP(D570,Arkusz2!$D$2:$E$1137,2,0)","v":{"$error":"#N/A"}},null,null,null,null,null,null,null,null,null,null,null,null,null,null,null,{"$f":"VLOOKUP(T570,Arkusz2!$G$2:$I$34,3,0)","v":{"$error":"#N/A"}},{"$f":"VLOOKUP(D570,Arkusz2!O538:P1675,2,0)","v":{"$error":"#N/A"}}]
[null,null,null,"..",{"$f":"VLOOKUP(D571,Arkusz2!$D$2:$E$1137,2,0)","v":{"$error":"#N/A"}},null,null,null,null,null,null,null,null,null,null,null,null,null,null,null,{"$f":"VLOOKUP(T571,Arkusz2!$G$2:$I$34,3,0)","v":{"$error":"#N/A"}},{"$f":"VLOOKUP(D571,Arkusz2!O539:P1676,2,0)","v":{"$error":"#N/A"}}]
[null,null,null,"..",{"$f":"VLOOKUP(D572,Arkusz2!$D$2:$E$1137,2,0)","v":{"$error":"#N/A"}},null,null,null,null,null,null,null,null,null,null,null,null,null,null,null,{"$f":"VLOOKUP(T572,Arkusz2!$G$2:$I$34,3,0)","v":{"$error":"#N/A"}},{"$f":"VLOOKUP(D572,Arkusz2!O540:P1677,2,0)","v":{"$error":"#N/A"}}]
[null,null,null,"..",{"$f":"VLOOKUP(D573,Arkusz2!$D$2:$E$1137,2,0)","v":{"$error":"#N/A"}},null,null,null,null,null,null,null,null,null,null,null,null,null,null,null,{"$f":"VLOOKUP(T573,Arkusz2!$G$2:$I$34,3,0)","v":{"$error":"#N/A"}},{"$f":"VLOOKUP(D573,Arkusz2!O541:P1678,2,0)","v":{"$error":"#N/A"}}]
[null,null,null,"..",{"$f":"VLOOKUP(D574,Arkusz2!$D$2:$E$1137,2,0)","v":{"$error":"#N/A"}},null,null,null,null,null,null,null,null,null,null,null,null,null,null,null,{"$f":"VLOOKUP(T574,Arkusz2!$G$2:$I$34,3,0)","v":{"$error":"#N/A"}},{"$f":"VLOOKUP(D574,Arkusz2!O542:P1679,2,0)","v":{"$error":"#N/A"}}]
[null,null,null,"..",{"$f":"VLOOKUP(D575,Arkusz2!$D$2:$E$1137,2,0)","v":{"$error":"#N/A"}},null,null,null,null,null,null,null,null,null,null,null,null,null,null,null,{"$f":"VLOOKUP(T575,Arkusz2!$G$2:$I$34,3,0)","v":{"$error":"#N/A"}},{"$f":"VLOOKUP(D575,Arkusz2!O543:P1680,2,0)","v":{"$error":"#N/A"}}]
[null,null,null,"..",{"$f":"VLOOKUP(D576,Arkusz2!$D$2:$E$1137,2,0)","v":{"$error":"#N/A"}},null,null,null,null,null,null,null,null,null,null,null,null,null,null,null,{"$f":"VLOOKUP(T576,Arkusz2!$G$2:$I$34,3,0)","v":{"$error":"#N/A"}},{"$f":"VLOOKUP(D576,Arkusz2!O544:P1681,2,0)","v":{"$error":"#N/A"}}]
[null,null,null,"..",{"$f":"VLOOKUP(D577,Arkusz2!$D$2:$E$1137,2,0)","v":{"$error":"#N/A"}},null,null,null,null,null,null,null,null,null,null,null,null,null,null,null,{"$f":"VLOOKUP(T577,Arkusz2!$G$2:$I$34,3,0)","v":{"$error":"#N/A"}},{"$f":"VLOOKUP(D577,Arkusz2!O545:P1682,2,0)","v":{"$error":"#N/A"}}]
[null,null,null,"..",{"$f":"VLOOKUP(D578,Arkusz2!$D$2:$E$1137,2,0)","v":{"$error":"#N/A"}},null,null,null,null,null,null,null,null,null,null,null,null,null,null,null,{"$f":"VLOOKUP(T578,Arkusz2!$G$2:$I$34,3,0)","v":{"$error":"#N/A"}},{"$f":"VLOOKUP(D578,Arkusz2!O546:P1683,2,0)","v":{"$error":"#N/A"}}]
[null,null,null,"..",{"$f":"VLOOKUP(D579,Arkusz2!$D$2:$E$1137,2,0)","v":{"$error":"#N/A"}},null,null,null,null,null,null,null,null,null,null,null,null,null,null,null,{"$f":"VLOOKUP(T579,Arkusz2!$G$2:$I$34,3,0)","v":{"$error":"#N/A"}},{"$f":"VLOOKUP(D579,Arkusz2!O547:P1684,2,0)","v":{"$error":"#N/A"}}]
[null,null,null,"..",{"$f":"VLOOKUP(D580,Arkusz2!$D$2:$E$1137,2,0)","v":{"$error":"#N/A"}},null,null,null,null,null,null,null,null,null,null,null,null,null,null,null,{"$f":"VLOOKUP(T580,Arkusz2!$G$2:$I$34,3,0)","v":{"$error":"#N/A"}},{"$f":"VLOOKUP(D580,Arkusz2!O548:P1685,2,0)","v":{"$error":"#N/A"}}]
[null,null,null,"..",{"$f":"VLOOKUP(D581,Arkusz2!$D$2:$E$1137,2,0)","v":{"$error":"#N/A"}},null,null,null,null,null,null,null,null,null,null,null,null,null,null,null,{"$f":"VLOOKUP(T581,Arkusz2!$G$2:$I$34,3,0)","v":{"$error":"#N/A"}},{"$f":"VLOOKUP(D581,Arkusz2!O549:P1686,2,0)","v":{"$error":"#N/A"}}]
[null,null,null,"..",{"$f":"VLOOKUP(D582,Arkusz2!$D$2:$E$1137,2,0)","v":{"$error":"#N/A"}},null,null,null,null,null,null,null,null,null,null,null,null,null,null,null,{"$f":"VLOOKUP(T582,Arkusz2!$G$2:$I$34,3,0)","v":{"$error":"#N/A"}},{"$f":"VLOOKUP(D582,Arkusz2!O550:P1687,2,0)","v":{"$error":"#N/A"}}]
[null,null,null,"..",{"$f":"VLOOKUP(D583,Arkusz2!$D$2:$E$1137,2,0)","v":{"$error":"#N/A"}},null,null,null,null,null,null,null,null,null,null,null,null,null,null,null,{"$f":"VLOOKUP(T583,Arkusz2!$G$2:$I$34,3,0)","v":{"$error":"#N/A"}},{"$f":"VLOOKUP(D583,Arkusz2!O551:P1688,2,0)","v":{"$error":"#N/A"}}]
[null,null,null,"..",{"$f":"VLOOKUP(D584,Arkusz2!$D$2:$E$1137,2,0)","v":{"$error":"#N/A"}},null,null,null,null,null,null,null,null,null,null,null,null,null,null,null,{"$f":"VLOOKUP(T584,Arkusz2!$G$2:$I$34,3,0)","v":{"$error":"#N/A"}},{"$f":"VLOOKUP(D584,Arkusz2!O552:P1689,2,0)","v":{"$error":"#N/A"}}]
[null,null,null,"..",{"$f":"VLOOKUP(D585,Arkusz2!$D$2:$E$1137,2,0)","v":{"$error":"#N/A"}},null,null,null,null,null,null,null,null,null,null,null,null,null,null,null,{"$f":"VLOOKUP(T585,Arkusz2!$G$2:$I$34,3,0)","v":{"$error":"#N/A"}},{"$f":"VLOOKUP(D585,Arkusz2!O553:P1690,2,0)","v":{"$error":"#N/A"}}]
[null,null,null,"..",{"$f":"VLOOKUP(D586,Arkusz2!$D$2:$E$1137,2,0)","v":{"$error":"#N/A"}},null,null,null,null,null,null,null,null,null,null,null,null,null,null,null,{"$f":"VLOOKUP(T586,Arkusz2!$G$2:$I$34,3,0)","v":{"$error":"#N/A"}},{"$f":"VLOOKUP(D586,Arkusz2!O554:P1691,2,0)","v":{"$error":"#N/A"}}]
[null,null,null,"..",{"$f":"VLOOKUP(D587,Arkusz2!$D$2:$E$1137,2,0)","v":{"$error":"#N/A"}},null,null,null,null,null,null,null,null,null,null,null,null,null,null,null,{"$f":"VLOOKUP(T587,Arkusz2!$G$2:$I$34,3,0)","v":{"$error":"#N/A"}},{"$f":"VLOOKUP(D587,Arkusz2!O555:P1692,2,0)","v":{"$error":"#N/A"}}]
[null,null,null,"..",{"$f":"VLOOKUP(D588,Arkusz2!$D$2:$E$1137,2,0)","v":{"$error":"#N/A"}},null,null,null,null,null,null,null,null,null,null,null,null,null,null,null,{"$f":"VLOOKUP(T588,Arkusz2!$G$2:$I$34,3,0)","v":{"$error":"#N/A"}},{"$f":"VLOOKUP(D588,Arkusz2!O556:P1693,2,0)","v":{"$error":"#N/A"}}]
[null,null,null,"..",{"$f":"VLOOKUP(D589,Arkusz2!$D$2:$E$1137,2,0)","v":{"$error":"#N/A"}},null,null,null,null,null,null,null,null,null,null,null,null,null,null,null,{"$f":"VLOOKUP(T589,Arkusz2!$G$2:$I$34,3,0)","v":{"$error":"#N/A"}},{"$f":"VLOOKUP(D589,Arkusz2!O557:P1694,2,0)","v":{"$error":"#N/A"}}]
[null,null,null,"..",{"$f":"VLOOKUP(D590,Arkusz2!$D$2:$E$1137,2,0)","v":{"$error":"#N/A"}},null,null,null,null,null,null,null,null,null,null,null,null,null,null,null,{"$f":"VLOOKUP(T590,Arkusz2!$G$2:$I$34,3,0)","v":{"$error":"#N/A"}},{"$f":"VLOOKUP(D590,Arkusz2!O558:P1695,2,0)","v":{"$error":"#N/A"}}]
[null,null,null,"..",{"$f":"VLOOKUP(D591,Arkusz2!$D$2:$E$1137,2,0)","v":{"$error":"#N/A"}},null,null,null,null,null,null,null,null,null,null,null,null,null,null,null,{"$f":"VLOOKUP(T591,Arkusz2!$G$2:$I$34,3,0)","v":{"$error":"#N/A"}},{"$f":"VLOOKUP(D591,Arkusz2!O559:P1696,2,0)","v":{"$error":"#N/A"}}]
[null,null,null,"..",{"$f":"VLOOKUP(D592,Arkusz2!$D$2:$E$1137,2,0)","v":{"$error":"#N/A"}},null,null,null,null,null,null,null,null,null,null,null,null,null,null,null,{"$f":"VLOOKUP(T592,Arkusz2!$G$2:$I$34,3,0)","v":{"$error":"#N/A"}},{"$f":"VLOOKUP(D592,Arkusz2!O560:P1697,2,0)","v":{"$error":"#N/A"}}]
[null,null,null,"..",{"$f":"VLOOKUP(D593,Arkusz2!$D$2:$E$1137,2,0)","v":{"$error":"#N/A"}},null,null,null,null,null,null,null,null,null,null,null,null,null,null,null,{"$f":"VLOOKUP(T593,Arkusz2!$G$2:$I$34,3,0)","v":{"$error":"#N/A"}},{"$f":"VLOOKUP(D593,Arkusz2!O561:P1698,2,0)","v":{"$error":"#N/A"}}]
[null,null,null,"..",{"$f":"VLOOKUP(D594,Arkusz2!$D$2:$E$1137,2,0)","v":{"$error":"#N/A"}},null,null,null,null,null,null,null,null,null,null,null,null,null,null,null,{"$f":"VLOOKUP(T594,Arkusz2!$G$2:$I$34,3,0)","v":{"$error":"#N/A"}},{"$f":"VLOOKUP(D594,Arkusz2!O562:P1699,2,0)","v":{"$error":"#N/A"}}]
[null,null,null,"..",{"$f":"VLOOKUP(D595,Arkusz2!$D$2:$E$1137,2,0)","v":{"$error":"#N/A"}},null,null,null,null,null,null,null,null,null,null,null,null,null,null,null,{"$f":"VLOOKUP(T595,Arkusz2!$G$2:$I$34,3,0)","v":{"$error":"#N/A"}},{"$f":"VLOOKUP(D595,Arkusz2!O563:P1700,2,0)","v":{"$error":"#N/A"}}]
[null,null,null,"..",{"$f":"VLOOKUP(D596,Arkusz2!$D$2:$E$1137,2,0)","v":{"$error":"#N/A"}},null,null,null,null,null,null,null,null,null,null,null,null,null,null,null,{"$f":"VLOOKUP(T596,Arkusz2!$G$2:$I$34,3,0)","v":{"$error":"#N/A"}},{"$f":"VLOOKUP(D596,Arkusz2!O564:P1701,2,0)","v":{"$error":"#N/A"}}]
[null,null,null,"..",{"$f":"VLOOKUP(D597,Arkusz2!$D$2:$E$1137,2,0)","v":{"$error":"#N/A"}},null,null,null,null,null,null,null,null,null,null,null,null,null,null,null,{"$f":"VLOOKUP(T597,Arkusz2!$G$2:$I$34,3,0)","v":{"$error":"#N/A"}},{"$f":"VLOOKUP(D597,Arkusz2!O565:P1702,2,0)","v":{"$error":"#N/A"}}]
[null,null,null,"..",{"$f":"VLOOKUP(D598,Arkusz2!$D$2:$E$1137,2,0)","v":{"$error":"#N/A"}},null,null,null,null,null,null,null,null,null,null,null,null,null,null,null,{"$f":"VLOOKUP(T598,Arkusz2!$G$2:$I$34,3,0)","v":{"$error":"#N/A"}},{"$f":"VLOOKUP(D598,Arkusz2!O566:P1703,2,0)","v":{"$error":"#N/A"}}]
[null,null,null,"..",{"$f":"VLOOKUP(D599,Arkusz2!$D$2:$E$1137,2,0)","v":{"$error":"#N/A"}},null,null,null,null,null,null,null,null,null,null,null,null,null,null,null,{"$f":"VLOOKUP(T599,Arkusz2!$G$2:$I$34,3,0)","v":{"$error":"#N/A"}},{"$f":"VLOOKUP(D599,Arkusz2!O567:P1704,2,0)","v":{"$error":"#N/A"}}]
[null,null,null,"..",{"$f":"VLOOKUP(D600,Arkusz2!$D$2:$E$1137,2,0)","v":{"$error":"#N/A"}},null,null,null,null,null,null,null,null,null,null,null,null,null,null,null,{"$f":"VLOOKUP(T600,Arkusz2!$G$2:$I$34,3,0)","v":{"$error":"#N/A"}},{"$f":"VLOOKUP(D600,Arkusz2!O568:P1705,2,0)","v":{"$error":"#N/A"}}]
[null,null,null,"..",{"$f":"VLOOKUP(D601,Arkusz2!$D$2:$E$1137,2,0)","v":{"$error":"#N/A"}},null,null,null,null,null,null,null,null,null,null,null,null,null,null,null,{"$f":"VLOOKUP(T601,Arkusz2!$G$2:$I$34,3,0)","v":{"$error":"#N/A"}},{"$f":"VLOOKUP(D601,Arkusz2!O569:P1706,2,0)","v":{"$error":"#N/A"}}]
[null,null,null,"..",{"$f":"VLOOKUP(D602,Arkusz2!$D$2:$E$1137,2,0)","v":{"$error":"#N/A"}},null,null,null,null,null,null,null,null,null,null,null,null,null,null,null,{"$f":"VLOOKUP(T602,Arkusz2!$G$2:$I$34,3,0)","v":{"$error":"#N/A"}},{"$f":"VLOOKUP(D602,Arkusz2!O570:P1707,2,0)","v":{"$error":"#N/A"}}]
[null,null,null,"..",{"$f":"VLOOKUP(D603,Arkusz2!$D$2:$E$1137,2,0)","v":{"$error":"#N/A"}},null,null,null,null,null,null,null,null,null,null,null,null,null,null,null,{"$f":"VLOOKUP(T603,Arkusz2!$G$2:$I$34,3,0)","v":{"$error":"#N/A"}},{"$f":"VLOOKUP(D603,Arkusz2!O571:P1708,2,0)","v":{"$error":"#N/A"}}]
[null,null,null,"..",{"$f":"VLOOKUP(D604,Arkusz2!$D$2:$E$1137,2,0)","v":{"$error":"#N/A"}},null,null,null,null,null,null,null,null,null,null,null,null,null,null,null,{"$f":"VLOOKUP(T604,Arkusz2!$G$2:$I$34,3,0)","v":{"$error":"#N/A"}},{"$f":"VLOOKUP(D604,Arkusz2!O572:P1709,2,0)","v":{"$error":"#N/A"}}]
[null,null,null,"..",{"$f":"VLOOKUP(D605,Arkusz2!$D$2:$E$1137,2,0)","v":{"$error":"#N/A"}},null,null,null,null,null,null,null,null,null,null,null,null,null,null,null,{"$f":"VLOOKUP(T605,Arkusz2!$G$2:$I$34,3,0)","v":{"$error":"#N/A"}},{"$f":"VLOOKUP(D605,Arkusz2!O573:P1710,2,0)","v":{"$error":"#N/A"}}]
[null,null,null,"..",{"$f":"VLOOKUP(D606,Arkusz2!$D$2:$E$1137,2,0)","v":{"$error":"#N/A"}},null,null,null,null,null,null,null,null,null,null,null,null,null,null,null,{"$f":"VLOOKUP(T606,Arkusz2!$G$2:$I$34,3,0)","v":{"$error":"#N/A"}},{"$f":"VLOOKUP(D606,Arkusz2!O574:P1711,2,0)","v":{"$error":"#N/A"}}]
[null,null,null,"..",{"$f":"VLOOKUP(D607,Arkusz2!$D$2:$E$1137,2,0)","v":{"$error":"#N/A"}},null,null,null,null,null,null,null,null,null,null,null,null,null,null,null,{"$f":"VLOOKUP(T607,Arkusz2!$G$2:$I$34,3,0)","v":{"$error":"#N/A"}},{"$f":"VLOOKUP(D607,Arkusz2!O575:P1712,2,0)","v":{"$error":"#N/A"}}]
[null,null,null,"..",{"$f":"VLOOKUP(D608,Arkusz2!$D$2:$E$1137,2,0)","v":{"$error":"#N/A"}},null,null,null,null,null,null,null,null,null,null,null,null,null,null,null,{"$f":"VLOOKUP(T608,Arkusz2!$G$2:$I$34,3,0)","v":{"$error":"#N/A"}},{"$f":"VLOOKUP(D608,Arkusz2!O576:P1713,2,0)","v":{"$error":"#N/A"}}]
[null,null,null,"..",{"$f":"VLOOKUP(D609,Arkusz2!$D$2:$E$1137,2,0)","v":{"$error":"#N/A"}},null,null,null,null,null,null,null,null,null,null,null,null,null,null,null,{"$f":"VLOOKUP(T609,Arkusz2!$G$2:$I$34,3,0)","v":{"$error":"#N/A"}},{"$f":"VLOOKUP(D609,Arkusz2!O577:P1714,2,0)","v":{"$error":"#N/A"}}]
[null,null,null,"..",{"$f":"VLOOKUP(D610,Arkusz2!$D$2:$E$1137,2,0)","v":{"$error":"#N/A"}},null,null,null,null,null,null,null,null,null,null,null,null,null,null,null,{"$f":"VLOOKUP(T610,Arkusz2!$G$2:$I$34,3,0)","v":{"$error":"#N/A"}},{"$f":"VLOOKUP(D610,Arkusz2!O578:P1715,2,0)","v":{"$error":"#N/A"}}]
[null,null,null,{"$f":"_xlfn.CONCAT(A611,\".\",B611,\".\",C611)","v":".."},{"$f":"VLOOKUP(D611,Arkusz2!$D$2:$E$1137,2,0)","v":{"$error":"#N/A"}},null,null,null,null,null,null,null,null,null,null,null,null,null,null,null,{"$f":"VLOOKUP(T611,Arkusz2!$G$2:$I$34,3,0)","v":{"$error":"#N/A"}},{"$f":"VLOOKUP(D611,Arkusz2!O579:P1716,2,0)","v":{"$error":"#N/A"}}]
[null,null,null,"..",{"$f":"VLOOKUP(D612,Arkusz2!$D$2:$E$1137,2,0)","v":{"$error":"#N/A"}},null,null,null,null,null,null,null,null,null,null,null,null,null,null,null,{"$f":"VLOOKUP(T612,Arkusz2!$G$2:$I$34,3,0)","v":{"$error":"#N/A"}},{"$f":"VLOOKUP(D612,Arkusz2!O580:P1717,2,0)","v":{"$error":"#N/A"}}]
[null,null,null,"..",{"$f":"VLOOKUP(D613,Arkusz2!$D$2:$E$1137,2,0)","v":{"$error":"#N/A"}},null,null,null,null,null,null,null,null,null,null,null,null,null,null,null,{"$f":"VLOOKUP(T613,Arkusz2!$G$2:$I$34,3,0)","v":{"$error":"#N/A"}},{"$f":"VLOOKUP(D613,Arkusz2!O581:P1718,2,0)","v":{"$error":"#N/A"}}]
[null,null,null,"..",{"$f":"VLOOKUP(D614,Arkusz2!$D$2:$E$1137,2,0)","v":{"$error":"#N/A"}},null,null,null,null,null,null,null,null,null,null,null,null,null,null,null,{"$f":"VLOOKUP(T614,Arkusz2!$G$2:$I$34,3,0)","v":{"$error":"#N/A"}},{"$f":"VLOOKUP(D614,Arkusz2!O582:P1719,2,0)","v":{"$error":"#N/A"}}]
[null,null,null,"..",{"$f":"VLOOKUP(D615,Arkusz2!$D$2:$E$1137,2,0)","v":{"$error":"#N/A"}},null,null,null,null,null,null,null,null,null,null,null,null,null,null,null,{"$f":"VLOOKUP(T615,Arkusz2!$G$2:$I$34,3,0)","v":{"$error":"#N/A"}},{"$f":"VLOOKUP(D615,Arkusz2!O583:P1720,2,0)","v":{"$error":"#N/A"}}]
[null,null,null,"..",{"$f":"VLOOKUP(D616,Arkusz2!$D$2:$E$1137,2,0)","v":{"$error":"#N/A"}},null,null,null,null,null,null,null,null,null,null,null,null,null,null,null,{"$f":"VLOOKUP(T616,Arkusz2!$G$2:$I$34,3,0)","v":{"$error":"#N/A"}},{"$f":"VLOOKUP(D616,Arkusz2!O584:P1721,2,0)","v":{"$error":"#N/A"}}]
[null,null,null,"..",{"$f":"VLOOKUP(D617,Arkusz2!$D$2:$E$1137,2,0)","v":{"$error":"#N/A"}},null,null,null,null,null,null,null,null,null,null,null,null,null,null,null,{"$f":"VLOOKUP(T617,Arkusz2!$G$2:$I$34,3,0)","v":{"$error":"#N/A"}},{"$f":"VLOOKUP(D617,Arkusz2!O585:P1722,2,0)","v":{"$error":"#N/A"}}]
[null,null,null,"..",{"$f":"VLOOKUP(D618,Arkusz2!$D$2:$E$1137,2,0)","v":{"$error":"#N/A"}},null,null,null,null,null,null,null,null,null,null,null,null,null,null,null,{"$f":"VLOOKUP(T618,Arkusz2!$G$2:$I$34,3,0)","v":{"$error":"#N/A"}},{"$f":"VLOOKUP(D618,Arkusz2!O586:P1723,2,0)","v":{"$error":"#N/A"}}]
[null,null,null,"..",{"$f":"VLOOKUP(D619,Arkusz2!$D$2:$E$1137,2,0)","v":{"$error":"#N/A"}},null,null,null,null,null,null,null,null,null,null,null,null,null,null,null,{"$f":"VLOOKUP(T619,Arkusz2!$G$2:$I$34,3,0)","v":{"$error":"#N/A"}},{"$f":"VLOOKUP(D619,Arkusz2!O587:P1724,2,0)","v":{"$error":"#N/A"}}]
[null,null,null,"..",{"$f":"VLOOKUP(D620,Arkusz2!$D$2:$E$1137,2,0)","v":{"$error":"#N/A"}},null,null,null,null,null,null,null,null,null,null,null,null,null,null,null,{"$f":"VLOOKUP(T620,Arkusz2!$G$2:$I$34,3,0)","v":{"$error":"#N/A"}},{"$f":"VLOOKUP(D620,Arkusz2!O588:P1725,2,0)","v":{"$error":"#N/A"}}]
[null,null,null,"..",{"$f":"VLOOKUP(D621,Arkusz2!$D$2:$E$1137,2,0)","v":{"$error":"#N/A"}},null,null,null,null,null,null,null,null,null,null,null,null,null,null,null,{"$f":"VLOOKUP(T621,Arkusz2!$G$2:$I$34,3,0)","v":{"$error":"#N/A"}},{"$f":"VLOOKUP(D621,Arkusz2!O589:P1726,2,0)","v":{"$error":"#N/A"}}]
[null,null,null,"..",{"$f":"VLOOKUP(D622,Arkusz2!$D$2:$E$1137,2,0)","v":{"$error":"#N/A"}},null,null,null,null,null,null,null,null,null,null,null,null,null,null,null,{"$f":"VLOOKUP(T622,Arkusz2!$G$2:$I$34,3,0)","v":{"$error":"#N/A"}},{"$f":"VLOOKUP(D622,Arkusz2!O590:P1727,2,0)","v":{"$error":"#N/A"}}]
[null,null,null,"..",{"$f":"VLOOKUP(D623,Arkusz2!$D$2:$E$1137,2,0)","v":{"$error":"#N/A"}},null,null,null,null,null,null,null,null,null,null,null,null,null,null,null,{"$f":"VLOOKUP(T623,Arkusz2!$G$2:$I$34,3,0)","v":{"$error":"#N/A"}},{"$f":"VLOOKUP(D623,Arkusz2!O591:P1728,2,0)","v":{"$error":"#N/A"}}]
[null,null,null,"..",{"$f":"VLOOKUP(D624,Arkusz2!$D$2:$E$1137,2,0)","v":{"$error":"#N/A"}},null,null,null,null,null,null,null,null,null,null,null,null,null,null,null,{"$f":"VLOOKUP(T624,Arkusz2!$G$2:$I$34,3,0)","v":{"$error":"#N/A"}},{"$f":"VLOOKUP(D624,Arkusz2!O592:P1729,2,0)","v":{"$error":"#N/A"}}]
[null,null,null,"..",{"$f":"VLOOKUP(D625,Arkusz2!$D$2:$E$1137,2,0)","v":{"$error":"#N/A"}},null,null,null,null,null,null,null,null,null,null,null,null,null,null,null,{"$f":"VLOOKUP(T625,Arkusz2!$G$2:$I$34,3,0)","v":{"$error":"#N/A"}},{"$f":"VLOOKUP(D625,Arkusz2!O593:P1730,2,0)","v":{"$error":"#N/A"}}]
[null,null,null,"..",{"$f":"VLOOKUP(D626,Arkusz2!$D$2:$E$1137,2,0)","v":{"$error":"#N/A"}},null,null,null,null,null,null,null,null,null,null,null,null,null,null,null,{"$f":"VLOOKUP(T626,Arkusz2!$G$2:$I$34,3,0)","v":{"$error":"#N/A"}},{"$f":"VLOOKUP(D626,Arkusz2!O594:P1731,2,0)","v":{"$error":"#N/A"}}]
[null,null,null,"..",{"$f":"VLOOKUP(D627,Arkusz2!$D$2:$E$1137,2,0)","v":{"$error":"#N/A"}},null,null,null,null,null,null,null,null,null,null,null,null,null,null,null,{"$f":"VLOOKUP(T627,Arkusz2!$G$2:$I$34,3,0)","v":{"$error":"#N/A"}},{"$f":"VLOOKUP(D627,Arkusz2!O595:P1732,2,0)","v":{"$error":"#N/A"}}]
[null,null,null,"..",{"$f":"VLOOKUP(D628,Arkusz2!$D$2:$E$1137,2,0)","v":{"$error":"#N/A"}},null,null,null,null,null,null,null,null,null,null,null,null,null,null,null,{"$f":"VLOOKUP(T628,Arkusz2!$G$2:$I$34,3,0)","v":{"$error":"#N/A"}},{"$f":"VLOOKUP(D628,Arkusz2!O596:P1733,2,0)","v":{"$error":"#N/A"}}]
[null,null,null,"..",{"$f":"VLOOKUP(D629,Arkusz2!$D$2:$E$1137,2,0)","v":{"$error":"#N/A"}},null,null,null,null,null,null,null,null,null,null,null,null,null,null,null,{"$f":"VLOOKUP(T629,Arkusz2!$G$2:$I$34,3,0)","v":{"$error":"#N/A"}},{"$f":"VLOOKUP(D629,Arkusz2!O597:P1734,2,0)","v":{"$error":"#N/A"}}]
[null,null,null,"..",{"$f":"VLOOKUP(D630,Arkusz2!$D$2:$E$1137,2,0)","v":{"$error":"#N/A"}},null,null,null,null,null,null,null,null,null,null,null,null,null,null,null,{"$f":"VLOOKUP(T630,Arkusz2!$G$2:$I$34,3,0)","v":{"$error":"#N/A"}},{"$f":"VLOOKUP(D630,Arkusz2!O598:P1735,2,0)","v":{"$error":"#N/A"}}]
[null,null,null,"..",{"$f":"VLOOKUP(D631,Arkusz2!$D$2:$E$1137,2,0)","v":{"$error":"#N/A"}},null,null,null,null,null,null,null,null,null,null,null,null,null,null,null,{"$f":"VLOOKUP(T631,Arkusz2!$G$2:$I$34,3,0)","v":{"$error":"#N/A"}},{"$f":"VLOOKUP(D631,Arkusz2!O599:P1736,2,0)","v":{"$error":"#N/A"}}]
[null,null,null,"..",{"$f":"VLOOKUP(D632,Arkusz2!$D$2:$E$1137,2,0)","v":{"$error":"#N/A"}},null,null,null,null,null,null,null,null,null,null,null,null,null,null,null,{"$f":"VLOOKUP(T632,Arkusz2!$G$2:$I$34,3,0)","v":{"$error":"#N/A"}},{"$f":"VLOOKUP(D632,Arkusz2!O600:P1737,2,0)","v":{"$error":"#N/A"}}]
[null,null,null,"..",{"$f":"VLOOKUP(D633,Arkusz2!$D$2:$E$1137,2,0)","v":{"$error":"#N/A"}},null,null,null,null,null,null,null,null,null,null,null,null,null,null,null,{"$f":"VLOOKUP(T633,Arkusz2!$G$2:$I$34,3,0)","v":{"$error":"#N/A"}},{"$f":"VLOOKUP(D633,Arkusz2!O601:P1738,2,0)","v":{"$error":"#N/A"}}]
[null,null,null,"..",{"$f":"VLOOKUP(D634,Arkusz2!$D$2:$E$1137,2,0)","v":{"$error":"#N/A"}},null,null,null,null,null,null,null,null,null,null,null,null,null,null,null,{"$f":"VLOOKUP(T634,Arkusz2!$G$2:$I$34,3,0)","v":{"$error":"#N/A"}},{"$f":"VLOOKUP(D634,Arkusz2!O602:P1739,2,0)","v":{"$error":"#N/A"}}]
[null,null,null,"..",{"$f":"VLOOKUP(D635,Arkusz2!$D$2:$E$1137,2,0)","v":{"$error":"#N/A"}},null,null,null,null,null,null,null,null,null,null,null,null,null,null,null,{"$f":"VLOOKUP(T635,Arkusz2!$G$2:$I$34,3,0)","v":{"$error":"#N/A"}},{"$f":"VLOOKUP(D635,Arkusz2!O603:P1740,2,0)","v":{"$error":"#N/A"}}]
[null,null,null,"..",{"$f":"VLOOKUP(D636,Arkusz2!$D$2:$E$1137,2,0)","v":{"$error":"#N/A"}},null,null,null,null,null,null,null,null,null,null,null,null,null,null,null,{"$f":"VLOOKUP(T636,Arkusz2!$G$2:$I$34,3,0)","v":{"$error":"#N/A"}},{"$f":"VLOOKUP(D636,Arkusz2!O604:P1741,2,0)","v":{"$error":"#N/A"}}]
[null,null,null,"..",{"$f":"VLOOKUP(D637,Arkusz2!$D$2:$E$1137,2,0)","v":{"$error":"#N/A"}},null,null,null,null,null,null,null,null,null,null,null,null,null,null,null,{"$f":"VLOOKUP(T637,Arkusz2!$G$2:$I$34,3,0)","v":{"$error":"#N/A"}},{"$f":"VLOOKUP(D637,Arkusz2!O605:P1742,2,0)","v":{"$error":"#N/A"}}]
[null,null,null,"..",{"$f":"VLOOKUP(D638,Arkusz2!$D$2:$E$1137,2,0)","v":{"$error":"#N/A"}},null,null,null,null,null,null,null,null,null,null,null,null,null,null,null,{"$f":"VLOOKUP(T638,Arkusz2!$G$2:$I$34,3,0)","v":{"$error":"#N/A"}},{"$f":"VLOOKUP(D638,Arkusz2!O606:P1743,2,0)","v":{"$error":"#N/A"}}]
[null,null,null,"..",{"$f":"VLOOKUP(D639,Arkusz2!$D$2:$E$1137,2,0)","v":{"$error":"#N/A"}},null,null,null,null,null,null,null,null,null,null,null,null,null,null,null,{"$f":"VLOOKUP(T639,Arkusz2!$G$2:$I$34,3,0)","v":{"$error":"#N/A"}},{"$f":"VLOOKUP(D639,Arkusz2!O607:P1744,2,0)","v":{"$error":"#N/A"}}]
[null,null,null,"..",{"$f":"VLOOKUP(D640,Arkusz2!$D$2:$E$1137,2,0)","v":{"$error":"#N/A"}},null,null,null,null,null,null,null,null,null,null,null,null,null,null,null,{"$f":"VLOOKUP(T640,Arkusz2!$G$2:$I$34,3,0)","v":{"$error":"#N/A"}},{"$f":"VLOOKUP(D640,Arkusz2!O608:P1745,2,0)","v":{"$error":"#N/A"}}]
[null,null,null,"..",{"$f":"VLOOKUP(D641,Arkusz2!$D$2:$E$1137,2,0)","v":{"$error":"#N/A"}},null,null,null,null,null,null,null,null,null,null,null,null,null,null,null,{"$f":"VLOOKUP(T641,Arkusz2!$G$2:$I$34,3,0)","v":{"$error":"#N/A"}},{"$f":"VLOOKUP(D641,Arkusz2!O609:P1746,2,0)","v":{"$error":"#N/A"}}]
[null,null,null,"..",{"$f":"VLOOKUP(D642,Arkusz2!$D$2:$E$1137,2,0)","v":{"$error":"#N/A"}},null,null,null,null,null,null,null,null,null,null,null,null,null,null,null,{"$f":"VLOOKUP(T642,Arkusz2!$G$2:$I$34,3,0)","v":{"$error":"#N/A"}},{"$f":"VLOOKUP(D642,Arkusz2!O610:P1747,2,0)","v":{"$error":"#N/A"}}]
[null,null,null,"..",{"$f":"VLOOKUP(D643,Arkusz2!$D$2:$E$1137,2,0)","v":{"$error":"#N/A"}},null,null,null,null,null,null,null,null,null,null,null,null,null,null,null,{"$f":"VLOOKUP(T643,Arkusz2!$G$2:$I$34,3,0)","v":{"$error":"#N/A"}},{"$f":"VLOOKUP(D643,Arkusz2!O611:P1748,2,0)","v":{"$error":"#N/A"}}]
[null,null,null,"..",{"$f":"VLOOKUP(D644,Arkusz2!$D$2:$E$1137,2,0)","v":{"$error":"#N/A"}},null,null,null,null,null,null,null,null,null,null,null,null,null,null,null,{"$f":"VLOOKUP(T644,Arkusz2!$G$2:$I$34,3,0)","v":{"$error":"#N/A"}},{"$f":"VLOOKUP(D644,Arkusz2!O612:P1749,2,0)","v":{"$error":"#N/A"}}]
[null,null,null,"..",{"$f":"VLOOKUP(D645,Arkusz2!$D$2:$E$1137,2,0)","v":{"$error":"#N/A"}},null,null,null,null,null,null,null,null,null,null,null,null,null,null,null,{"$f":"VLOOKUP(T645,Arkusz2!$G$2:$I$34,3,0)","v":{"$error":"#N/A"}},{"$f":"VLOOKUP(D645,Arkusz2!O613:P1750,2,0)","v":{"$error":"#N/A"}}]
[null,null,null,"..",{"$f":"VLOOKUP(D646,Arkusz2!$D$2:$E$1137,2,0)","v":{"$error":"#N/A"}},null,null,null,null,null,null,null,null,null,null,null,null,null,null,null,{"$f":"VLOOKUP(T646,Arkusz2!$G$2:$I$34,3,0)","v":{"$error":"#N/A"}},{"$f":"VLOOKUP(D646,Arkusz2!O614:P1751,2,0)","v":{"$error":"#N/A"}}]
[null,null,null,"..",{"$f":"VLOOKUP(D647,Arkusz2!$D$2:$E$1137,2,0)","v":{"$error":"#N/A"}},null,null,null,null,null,null,null,null,null,null,null,null,null,null,null,{"$f":"VLOOKUP(T647,Arkusz2!$G$2:$I$34,3,0)","v":{"$error":"#N/A"}},{"$f":"VLOOKUP(D647,Arkusz2!O615:P1752,2,0)","v":{"$error":"#N/A"}}]
[null,null,null,"..",{"$f":"VLOOKUP(D648,Arkusz2!$D$2:$E$1137,2,0)","v":{"$error":"#N/A"}},null,null,null,null,null,null,null,null,null,null,null,null,null,null,null,{"$f":"VLOOKUP(T648,Arkusz2!$G$2:$I$34,3,0)","v":{"$error":"#N/A"}},{"$f":"VLOOKUP(D648,Arkusz2!O616:P1753,2,0)","v":{"$error":"#N/A"}}]
[null,null,null,"..",{"$f":"VLOOKUP(D649,Arkusz2!$D$2:$E$1137,2,0)","v":{"$error":"#N/A"}},null,null,null,null,null,null,null,null,null,null,null,null,null,null,null,{"$f":"VLOOKUP(T649,Arkusz2!$G$2:$I$34,3,0)","v":{"$error":"#N/A"}},{"$f":"VLOOKUP(D649,Arkusz2!O617:P1754,2,0)","v":{"$error":"#N/A"}}]
[null,null,null,"..",{"$f":"VLOOKUP(D650,Arkusz2!$D$2:$E$1137,2,0)","v":{"$error":"#N/A"}},null,null,null,null,null,null,null,null,null,null,null,null,null,null,null,{"$f":"VLOOKUP(T650,Arkusz2!$G$2:$I$34,3,0)","v":{"$error":"#N/A"}},{"$f":"VLOOKUP(D650,Arkusz2!O618:P1755,2,0)","v":{"$error":"#N/A"}}]
[null,null,null,"..",{"$f":"VLOOKUP(D651,Arkusz2!$D$2:$E$1137,2,0)","v":{"$error":"#N/A"}},null,null,null,null,null,null,null,null,null,null,null,null,null,null,null,{"$f":"VLOOKUP(T651,Arkusz2!$G$2:$I$34,3,0)","v":{"$error":"#N/A"}},{"$f":"VLOOKUP(D651,Arkusz2!O619:P1756,2,0)","v":{"$error":"#N/A"}}]
[null,null,null,"..",{"$f":"VLOOKUP(D652,Arkusz2!$D$2:$E$1137,2,0)","v":{"$error":"#N/A"}},null,null,null,null,null,null,null,null,null,null,null,null,null,null,null,{"$f":"VLOOKUP(T652,Arkusz2!$G$2:$I$34,3,0)","v":{"$error":"#N/A"}},{"$f":"VLOOKUP(D652,Arkusz2!O620:P1757,2,0)","v":{"$error":"#N/A"}}]
[null,null,null,"..",{"$f":"VLOOKUP(D653,Arkusz2!$D$2:$E$1137,2,0)","v":{"$error":"#N/A"}},null,null,null,null,null,null,null,null,null,null,null,null,null,null,null,{"$f":"VLOOKUP(T653,Arkusz2!$G$2:$I$34,3,0)","v":{"$error":"#N/A"}},{"$f":"VLOOKUP(D653,Arkusz2!O621:P1758,2,0)","v":{"$error":"#N/A"}}]
[null,null,null,"..",{"$f":"VLOOKUP(D654,Arkusz2!$D$2:$E$1137,2,0)","v":{"$error":"#N/A"}},null,null,null,null,null,null,null,null,null,null,null,null,null,null,null,{"$f":"VLOOKUP(T654,Arkusz2!$G$2:$I$34,3,0)","v":{"$error":"#N/A"}},{"$f":"VLOOKUP(D654,Arkusz2!O622:P1759,2,0)","v":{"$error":"#N/A"}}]
[null,null,null,"..",{"$f":"VLOOKUP(D655,Arkusz2!$D$2:$E$1137,2,0)","v":{"$error":"#N/A"}},null,null,null,null,null,null,null,null,null,null,null,null,null,null,null,{"$f":"VLOOKUP(T655,Arkusz2!$G$2:$I$34,3,0)","v":{"$error":"#N/A"}},{"$f":"VLOOKUP(D655,Arkusz2!O623:P1760,2,0)","v":{"$error":"#N/A"}}]
[null,null,null,"..",{"$f":"VLOOKUP(D656,Arkusz2!$D$2:$E$1137,2,0)","v":{"$error":"#N/A"}},null,null,null,null,null,null,null,null,null,null,null,null,null,null,null,{"$f":"VLOOKUP(T656,Arkusz2!$G$2:$I$34,3,0)","v":{"$error":"#N/A"}},{"$f":"VLOOKUP(D656,Arkusz2!O624:P1761,2,0)","v":{"$error":"#N/A"}}]
[null,null,null,"..",{"$f":"VLOOKUP(D657,Arkusz2!$D$2:$E$1137,2,0)","v":{"$error":"#N/A"}},null,null,null,null,null,null,null,null,null,null,null,null,null,null,null,{"$f":"VLOOKUP(T657,Arkusz2!$G$2:$I$34,3,0)","v":{"$error":"#N/A"}},{"$f":"VLOOKUP(D657,Arkusz2!O625:P1762,2,0)","v":{"$error":"#N/A"}}]
[null,null,null,"..",{"$f":"VLOOKUP(D658,Arkusz2!$D$2:$E$1137,2,0)","v":{"$error":"#N/A"}},null,null,null,null,null,null,null,null,null,null,null,null,null,null,null,{"$f":"VLOOKUP(T658,Arkusz2!$G$2:$I$34,3,0)","v":{"$error":"#N/A"}},{"$f":"VLOOKUP(D658,Arkusz2!O626:P1763,2,0)","v":{"$error":"#N/A"}}]
[null,null,null,"..",{"$f":"VLOOKUP(D659,Arkusz2!$D$2:$E$1137,2,0)","v":{"$error":"#N/A"}},null,null,null,null,null,null,null,null,null,null,null,null,null,null,null,{"$f":"VLOOKUP(T659,Arkusz2!$G$2:$I$34,3,0)","v":{"$error":"#N/A"}},{"$f":"VLOOKUP(D659,Arkusz2!O627:P1764,2,0)","v":{"$error":"#N/A"}}]
[null,null,null,"..",{"$f":"VLOOKUP(D660,Arkusz2!$D$2:$E$1137,2,0)","v":{"$error":"#N/A"}},null,null,null,null,null,null,null,null,null,null,null,null,null,null,null,{"$f":"VLOOKUP(T660,Arkusz2!$G$2:$I$34,3,0)","v":{"$error":"#N/A"}},{"$f":"VLOOKUP(D660,Arkusz2!O628:P1765,2,0)","v":{"$error":"#N/A"}}]
[null,null,null,"..",{"$f":"VLOOKUP(D661,Arkusz2!$D$2:$E$1137,2,0)","v":{"$error":"#N/A"}},null,null,null,null,null,null,null,null,null,null,null,null,null,null,null,{"$f":"VLOOKUP(T661,Arkusz2!$G$2:$I$34,3,0)","v":{"$error":"#N/A"}},{"$f":"VLOOKUP(D661,Arkusz2!O629:P1766,2,0)","v":{"$error":"#N/A"}}]
[null,null,null,"..",{"$f":"VLOOKUP(D662,Arkusz2!$D$2:$E$1137,2,0)","v":{"$error":"#N/A"}},null,null,null,null,null,null,null,null,null,null,null,null,null,null,null,{"$f":"VLOOKUP(T662,Arkusz2!$G$2:$I$34,3,0)","v":{"$error":"#N/A"}},{"$f":"VLOOKUP(D662,Arkusz2!O630:P1767,2,0)","v":{"$error":"#N/A"}}]
[null,null,null,"..",{"$f":"VLOOKUP(D663,Arkusz2!$D$2:$E$1137,2,0)","v":{"$error":"#N/A"}},null,null,null,null,null,null,null,null,null,null,null,null,null,null,null,{"$f":"VLOOKUP(T663,Arkusz2!$G$2:$I$34,3,0)","v":{"$error":"#N/A"}},{"$f":"VLOOKUP(D663,Arkusz2!O631:P1768,2,0)","v":{"$error":"#N/A"}}]
[null,null,null,"..",{"$f":"VLOOKUP(D664,Arkusz2!$D$2:$E$1137,2,0)","v":{"$error":"#N/A"}},null,null,null,null,null,null,null,null,null,null,null,null,null,null,null,{"$f":"VLOOKUP(T664,Arkusz2!$G$2:$I$34,3,0)","v":{"$error":"#N/A"}},{"$f":"VLOOKUP(D664,Arkusz2!O632:P1769,2,0)","v":{"$error":"#N/A"}}]
[null,null,null,"..",{"$f":"VLOOKUP(D665,Arkusz2!$D$2:$E$1137,2,0)","v":{"$error":"#N/A"}},null,null,null,null,null,null,null,null,null,null,null,null,null,null,null,{"$f":"VLOOKUP(T665,Arkusz2!$G$2:$I$34,3,0)","v":{"$error":"#N/A"}},{"$f":"VLOOKUP(D665,Arkusz2!O633:P1770,2,0)","v":{"$error":"#N/A"}}]
[null,null,null,"..",{"$f":"VLOOKUP(D666,Arkusz2!$D$2:$E$1137,2,0)","v":{"$error":"#N/A"}},null,null,null,null,null,null,null,null,null,null,null,null,null,null,null,{"$f":"VLOOKUP(T666,Arkusz2!$G$2:$I$34,3,0)","v":{"$error":"#N/A"}},{"$f":"VLOOKUP(D666,Arkusz2!O634:P1771,2,0)","v":{"$error":"#N/A"}}]
[null,null,null,"..",{"$f":"VLOOKUP(D667,Arkusz2!$D$2:$E$1137,2,0)","v":{"$error":"#N/A"}},null,null,null,null,null,null,null,null,null,null,null,null,null,null,null,{"$f":"VLOOKUP(T667,Arkusz2!$G$2:$I$34,3,0)","v":{"$error":"#N/A"}},{"$f":"VLOOKUP(D667,Arkusz2!O635:P1772,2,0)","v":{"$error":"#N/A"}}]
[null,null,null,"..",{"$f":"VLOOKUP(D668,Arkusz2!$D$2:$E$1137,2,0)","v":{"$error":"#N/A"}},null,null,null,null,null,null,null,null,null,null,null,null,null,null,null,{"$f":"VLOOKUP(T668,Arkusz2!$G$2:$I$34,3,0)","v":{"$error":"#N/A"}},{"$f":"VLOOKUP(D668,Arkusz2!O636:P1773,2,0)","v":{"$error":"#N/A"}}]
[null,null,null,"..",{"$f":"VLOOKUP(D669,Arkusz2!$D$2:$E$1137,2,0)","v":{"$error":"#N/A"}},null,null,null,null,null,null,null,null,null,null,null,null,null,null,null,{"$f":"VLOOKUP(T669,Arkusz2!$G$2:$I$34,3,0)","v":{"$error":"#N/A"}},{"$f":"VLOOKUP(D669,Arkusz2!O637:P1774,2,0)","v":{"$error":"#N/A"}}]
[null,null,null,"..",{"$f":"VLOOKUP(D670,Arkusz2!$D$2:$E$1137,2,0)","v":{"$error":"#N/A"}},null,null,null,null,null,null,null,null,null,null,null,null,null,null,null,{"$f":"VLOOKUP(T670,Arkusz2!$G$2:$I$34,3,0)","v":{"$error":"#N/A"}},{"$f":"VLOOKUP(D670,Arkusz2!O638:P1775,2,0)","v":{"$error":"#N/A"}}]
[null,null,null,"..",{"$f":"VLOOKUP(D671,Arkusz2!$D$2:$E$1137,2,0)","v":{"$error":"#N/A"}},null,null,null,null,null,null,null,null,null,null,null,null,null,null,null,{"$f":"VLOOKUP(T671,Arkusz2!$G$2:$I$34,3,0)","v":{"$error":"#N/A"}},{"$f":"VLOOKUP(D671,Arkusz2!O639:P1776,2,0)","v":{"$error":"#N/A"}}]
[null,null,null,"..",{"$f":"VLOOKUP(D672,Arkusz2!$D$2:$E$1137,2,0)","v":{"$error":"#N/A"}},null,null,null,null,null,null,null,null,null,null,null,null,null,null,null,{"$f":"VLOOKUP(T672,Arkusz2!$G$2:$I$34,3,0)","v":{"$error":"#N/A"}},{"$f":"VLOOKUP(D672,Arkusz2!O640:P1777,2,0)","v":{"$error":"#N/A"}}]
[null,null,null,"..",{"$f":"VLOOKUP(D673,Arkusz2!$D$2:$E$1137,2,0)","v":{"$error":"#N/A"}},null,null,null,null,null,null,null,null,null,null,null,null,null,null,null,{"$f":"VLOOKUP(T673,Arkusz2!$G$2:$I$34,3,0)","v":{"$error":"#N/A"}},{"$f":"VLOOKUP(D673,Arkusz2!O641:P1778,2,0)","v":{"$error":"#N/A"}}]
[null,null,null,"..",{"$f":"VLOOKUP(D674,Arkusz2!$D$2:$E$1137,2,0)","v":{"$error":"#N/A"}},null,null,null,null,null,null,null,null,null,null,null,null,null,null,null,{"$f":"VLOOKUP(T674,Arkusz2!$G$2:$I$34,3,0)","v":{"$error":"#N/A"}},{"$f":"VLOOKUP(D674,Arkusz2!O642:P1779,2,0)","v":{"$error":"#N/A"}}]
[null,null,null,{"$f":"_xlfn.CONCAT(A675,\".\",B675,\".\",C675)","v":".."},{"$f":"VLOOKUP(D675,Arkusz2!$D$2:$E$1137,2,0)","v":{"$error":"#N/A"}},null,null,null,null,null,null,null,null,null,null,null,null,null,null,null,{"$f":"VLOOKUP(T675,Arkusz2!$G$2:$I$34,3,0)","v":{"$error":"#N/A"}},{"$f":"VLOOKUP(D675,Arkusz2!O643:P1780,2,0)","v":{"$error":"#N/A"}}]
[null,null,null,"..",{"$f":"VLOOKUP(D676,Arkusz2!$D$2:$E$1137,2,0)","v":{"$error":"#N/A"}},null,null,null,null,null,null,null,null,null,null,null,null,null,null,null,{"$f":"VLOOKUP(T676,Arkusz2!$G$2:$I$34,3,0)","v":{"$error":"#N/A"}},{"$f":"VLOOKUP(D676,Arkusz2!O644:P1781,2,0)","v":{"$error":"#N/A"}}]
[null,null,null,"..",{"$f":"VLOOKUP(D677,Arkusz2!$D$2:$E$1137,2,0)","v":{"$error":"#N/A"}},null,null,null,null,null,null,null,null,null,null,null,null,null,null,null,{"$f":"VLOOKUP(T677,Arkusz2!$G$2:$I$34,3,0)","v":{"$error":"#N/A"}},{"$f":"VLOOKUP(D677,Arkusz2!O645:P1782,2,0)","v":{"$error":"#N/A"}}]
[null,null,null,"..",{"$f":"VLOOKUP(D678,Arkusz2!$D$2:$E$1137,2,0)","v":{"$error":"#N/A"}},null,null,null,null,null,null,null,null,null,null,null,null,null,null,null,{"$f":"VLOOKUP(T678,Arkusz2!$G$2:$I$34,3,0)","v":{"$error":"#N/A"}},{"$f":"VLOOKUP(D678,Arkusz2!O646:P1783,2,0)","v":{"$error":"#N/A"}}]
[null,null,null,"..",{"$f":"VLOOKUP(D679,Arkusz2!$D$2:$E$1137,2,0)","v":{"$error":"#N/A"}},null,null,null,null,null,null,null,null,null,null,null,null,null,null,null,{"$f":"VLOOKUP(T679,Arkusz2!$G$2:$I$34,3,0)","v":{"$error":"#N/A"}},{"$f":"VLOOKUP(D679,Arkusz2!O647:P1784,2,0)","v":{"$error":"#N/A"}}]
[null,null,null,"..",{"$f":"VLOOKUP(D680,Arkusz2!$D$2:$E$1137,2,0)","v":{"$error":"#N/A"}},null,null,null,null,null,null,null,null,null,null,null,null,null,null,null,{"$f":"VLOOKUP(T680,Arkusz2!$G$2:$I$34,3,0)","v":{"$error":"#N/A"}},{"$f":"VLOOKUP(D680,Arkusz2!O648:P1785,2,0)","v":{"$error":"#N/A"}}]
[null,null,null,"..",{"$f":"VLOOKUP(D681,Arkusz2!$D$2:$E$1137,2,0)","v":{"$error":"#N/A"}},null,null,null,null,null,null,null,null,null,null,null,null,null,null,null,{"$f":"VLOOKUP(T681,Arkusz2!$G$2:$I$34,3,0)","v":{"$error":"#N/A"}},{"$f":"VLOOKUP(D681,Arkusz2!O649:P1786,2,0)","v":{"$error":"#N/A"}}]
[null,null,null,"..",{"$f":"VLOOKUP(D682,Arkusz2!$D$2:$E$1137,2,0)","v":{"$error":"#N/A"}},null,null,null,null,null,null,null,null,null,null,null,null,null,null,null,{"$f":"VLOOKUP(T682,Arkusz2!$G$2:$I$34,3,0)","v":{"$error":"#N/A"}},{"$f":"VLOOKUP(D682,Arkusz2!O650:P1787,2,0)","v":{"$error":"#N/A"}}]
[null,null,null,"..",{"$f":"VLOOKUP(D683,Arkusz2!$D$2:$E$1137,2,0)","v":{"$error":"#N/A"}},null,null,null,null,null,null,null,null,null,null,null,null,null,null,null,{"$f":"VLOOKUP(T683,Arkusz2!$G$2:$I$34,3,0)","v":{"$error":"#N/A"}},{"$f":"VLOOKUP(D683,Arkusz2!O651:P1788,2,0)","v":{"$error":"#N/A"}}]
[null,null,null,"..",{"$f":"VLOOKUP(D684,Arkusz2!$D$2:$E$1137,2,0)","v":{"$error":"#N/A"}},null,null,null,null,null,null,null,null,null,null,null,null,null,null,null,{"$f":"VLOOKUP(T684,Arkusz2!$G$2:$I$34,3,0)","v":{"$error":"#N/A"}},{"$f":"VLOOKUP(D684,Arkusz2!O652:P1789,2,0)","v":{"$error":"#N/A"}}]
[null,null,null,"..",{"$f":"VLOOKUP(D685,Arkusz2!$D$2:$E$1137,2,0)","v":{"$error":"#N/A"}},null,null,null,null,null,null,null,null,null,null,null,null,null,null,null,{"$f":"VLOOKUP(T685,Arkusz2!$G$2:$I$34,3,0)","v":{"$error":"#N/A"}},{"$f":"VLOOKUP(D685,Arkusz2!O653:P1790,2,0)","v":{"$error":"#N/A"}}]
[null,null,null,"..",{"$f":"VLOOKUP(D686,Arkusz2!$D$2:$E$1137,2,0)","v":{"$error":"#N/A"}},null,null,null,null,null,null,null,null,null,null,null,null,null,null,null,{"$f":"VLOOKUP(T686,Arkusz2!$G$2:$I$34,3,0)","v":{"$error":"#N/A"}},{"$f":"VLOOKUP(D686,Arkusz2!O654:P1791,2,0)","v":{"$error":"#N/A"}}]
[null,null,null,"..",{"$f":"VLOOKUP(D687,Arkusz2!$D$2:$E$1137,2,0)","v":{"$error":"#N/A"}},null,null,null,null,null,null,null,null,null,null,null,null,null,null,null,{"$f":"VLOOKUP(T687,Arkusz2!$G$2:$I$34,3,0)","v":{"$error":"#N/A"}},{"$f":"VLOOKUP(D687,Arkusz2!O655:P1792,2,0)","v":{"$error":"#N/A"}}]
[null,null,null,"..",{"$f":"VLOOKUP(D688,Arkusz2!$D$2:$E$1137,2,0)","v":{"$error":"#N/A"}},null,null,null,null,null,null,null,null,null,null,null,null,null,null,null,{"$f":"VLOOKUP(T688,Arkusz2!$G$2:$I$34,3,0)","v":{"$error":"#N/A"}},{"$f":"VLOOKUP(D688,Arkusz2!O656:P1793,2,0)","v":{"$error":"#N/A"}}]
[null,null,null,"..",{"$f":"VLOOKUP(D689,Arkusz2!$D$2:$E$1137,2,0)","v":{"$error":"#N/A"}},null,null,null,null,null,null,null,null,null,null,null,null,null,null,null,{"$f":"VLOOKUP(T689,Arkusz2!$G$2:$I$34,3,0)","v":{"$error":"#N/A"}},{"$f":"VLOOKUP(D689,Arkusz2!O657:P1794,2,0)","v":{"$error":"#N/A"}}]
[null,null,null,"..",{"$f":"VLOOKUP(D690,Arkusz2!$D$2:$E$1137,2,0)","v":{"$error":"#N/A"}},null,null,null,null,null,null,null,null,null,null,null,null,null,null,null,{"$f":"VLOOKUP(T690,Arkusz2!$G$2:$I$34,3,0)","v":{"$error":"#N/A"}},{"$f":"VLOOKUP(D690,Arkusz2!O658:P1795,2,0)","v":{"$error":"#N/A"}}]
[null,null,null,"..",{"$f":"VLOOKUP(D691,Arkusz2!$D$2:$E$1137,2,0)","v":{"$error":"#N/A"}},null,null,null,null,null,null,null,null,null,null,null,null,null,null,null,{"$f":"VLOOKUP(T691,Arkusz2!$G$2:$I$34,3,0)","v":{"$error":"#N/A"}},{"$f":"VLOOKUP(D691,Arkusz2!O659:P1796,2,0)","v":{"$error":"#N/A"}}]
[null,null,null,"..",{"$f":"VLOOKUP(D692,Arkusz2!$D$2:$E$1137,2,0)","v":{"$error":"#N/A"}},null,null,null,null,null,null,null,null,null,null,null,null,null,null,null,{"$f":"VLOOKUP(T692,Arkusz2!$G$2:$I$34,3,0)","v":{"$error":"#N/A"}},{"$f":"VLOOKUP(D692,Arkusz2!O660:P1797,2,0)","v":{"$error":"#N/A"}}]
[null,null,null,"..",{"$f":"VLOOKUP(D693,Arkusz2!$D$2:$E$1137,2,0)","v":{"$error":"#N/A"}},null,null,null,null,null,null,null,null,null,null,null,null,null,null,null,{"$f":"VLOOKUP(T693,Arkusz2!$G$2:$I$34,3,0)","v":{"$error":"#N/A"}},{"$f":"VLOOKUP(D693,Arkusz2!O661:P1798,2,0)","v":{"$error":"#N/A"}}]
[null,null,null,"..",{"$f":"VLOOKUP(D694,Arkusz2!$D$2:$E$1137,2,0)","v":{"$error":"#N/A"}},null,null,null,null,null,null,null,null,null,null,null,null,null,null,null,{"$f":"VLOOKUP(T694,Arkusz2!$G$2:$I$34,3,0)","v":{"$error":"#N/A"}},{"$f":"VLOOKUP(D694,Arkusz2!O662:P1799,2,0)","v":{"$error":"#N/A"}}]
[null,null,null,"..",{"$f":"VLOOKUP(D695,Arkusz2!$D$2:$E$1137,2,0)","v":{"$error":"#N/A"}},null,null,null,null,null,null,null,null,null,null,null,null,null,null,null,{"$f":"VLOOKUP(T695,Arkusz2!$G$2:$I$34,3,0)","v":{"$error":"#N/A"}},{"$f":"VLOOKUP(D695,Arkusz2!O663:P1800,2,0)","v":{"$error":"#N/A"}}]
[null,null,null,"..",{"$f":"VLOOKUP(D696,Arkusz2!$D$2:$E$1137,2,0)","v":{"$error":"#N/A"}},null,null,null,null,null,null,null,null,null,null,null,null,null,null,null,{"$f":"VLOOKUP(T696,Arkusz2!$G$2:$I$34,3,0)","v":{"$error":"#N/A"}},{"$f":"VLOOKUP(D696,Arkusz2!O664:P1801,2,0)","v":{"$error":"#N/A"}}]
[null,null,null,"..",{"$f":"VLOOKUP(D697,Arkusz2!$D$2:$E$1137,2,0)","v":{"$error":"#N/A"}},null,null,null,null,null,null,null,null,null,null,null,null,null,null,null,{"$f":"VLOOKUP(T697,Arkusz2!$G$2:$I$34,3,0)","v":{"$error":"#N/A"}},{"$f":"VLOOKUP(D697,Arkusz2!O665:P1802,2,0)","v":{"$error":"#N/A"}}]
[null,null,null,"..",{"$f":"VLOOKUP(D698,Arkusz2!$D$2:$E$1137,2,0)","v":{"$error":"#N/A"}},null,null,null,null,null,null,null,null,null,null,null,null,null,null,null,{"$f":"VLOOKUP(T698,Arkusz2!$G$2:$I$34,3,0)","v":{"$error":"#N/A"}},{"$f":"VLOOKUP(D698,Arkusz2!O666:P1803,2,0)","v":{"$error":"#N/A"}}]
[null,null,null,"..",{"$f":"VLOOKUP(D699,Arkusz2!$D$2:$E$1137,2,0)","v":{"$error":"#N/A"}},null,null,null,null,null,null,null,null,null,null,null,null,null,null,null,{"$f":"VLOOKUP(T699,Arkusz2!$G$2:$I$34,3,0)","v":{"$error":"#N/A"}},{"$f":"VLOOKUP(D699,Arkusz2!O667:P1804,2,0)","v":{"$error":"#N/A"}}]
[null,null,null,"..",{"$f":"VLOOKUP(D700,Arkusz2!$D$2:$E$1137,2,0)","v":{"$error":"#N/A"}},null,null,null,null,null,null,null,null,null,null,null,null,null,null,null,{"$f":"VLOOKUP(T700,Arkusz2!$G$2:$I$34,3,0)","v":{"$error":"#N/A"}},{"$f":"VLOOKUP(D700,Arkusz2!O668:P1805,2,0)","v":{"$error":"#N/A"}}]
[null,null,null,"..",{"$f":"VLOOKUP(D701,Arkusz2!$D$2:$E$1137,2,0)","v":{"$error":"#N/A"}},null,null,null,null,null,null,null,null,null,null,null,null,null,null,null,{"$f":"VLOOKUP(T701,Arkusz2!$G$2:$I$34,3,0)","v":{"$error":"#N/A"}},{"$f":"VLOOKUP(D701,Arkusz2!O669:P1806,2,0)","v":{"$error":"#N/A"}}]
[null,null,null,"..",{"$f":"VLOOKUP(D702,Arkusz2!$D$2:$E$1137,2,0)","v":{"$error":"#N/A"}},null,null,null,null,null,null,null,null,null,null,null,null,null,null,null,{"$f":"VLOOKUP(T702,Arkusz2!$G$2:$I$34,3,0)","v":{"$error":"#N/A"}},{"$f":"VLOOKUP(D702,Arkusz2!O670:P1807,2,0)","v":{"$error":"#N/A"}}]
[null,null,null,"..",{"$f":"VLOOKUP(D703,Arkusz2!$D$2:$E$1137,2,0)","v":{"$error":"#N/A"}},null,null,null,null,null,null,null,null,null,null,null,null,null,null,null,{"$f":"VLOOKUP(T703,Arkusz2!$G$2:$I$34,3,0)","v":{"$error":"#N/A"}},{"$f":"VLOOKUP(D703,Arkusz2!O671:P1808,2,0)","v":{"$error":"#N/A"}}]
[null,null,null,"..",{"$f":"VLOOKUP(D704,Arkusz2!$D$2:$E$1137,2,0)","v":{"$error":"#N/A"}},null,null,null,null,null,null,null,null,null,null,null,null,null,null,null,{"$f":"VLOOKUP(T704,Arkusz2!$G$2:$I$34,3,0)","v":{"$error":"#N/A"}},{"$f":"VLOOKUP(D704,Arkusz2!O672:P1809,2,0)","v":{"$error":"#N/A"}}]
[null,null,null,"..",{"$f":"VLOOKUP(D705,Arkusz2!$D$2:$E$1137,2,0)","v":{"$error":"#N/A"}},null,null,null,null,null,null,null,null,null,null,null,null,null,null,null,{"$f":"VLOOKUP(T705,Arkusz2!$G$2:$I$34,3,0)","v":{"$error":"#N/A"}},{"$f":"VLOOKUP(D705,Arkusz2!O673:P1810,2,0)","v":{"$error":"#N/A"}}]
[null,null,null,"..",{"$f":"VLOOKUP(D706,Arkusz2!$D$2:$E$1137,2,0)","v":{"$error":"#N/A"}},null,null,null,null,null,null,null,null,null,null,null,null,null,null,null,{"$f":"VLOOKUP(T706,Arkusz2!$G$2:$I$34,3,0)","v":{"$error":"#N/A"}},{"$f":"VLOOKUP(D706,Arkusz2!O674:P1811,2,0)","v":{"$error":"#N/A"}}]
[null,null,null,"..",{"$f":"VLOOKUP(D707,Arkusz2!$D$2:$E$1137,2,0)","v":{"$error":"#N/A"}},null,null,null,null,null,null,null,null,null,null,null,null,null,null,null,{"$f":"VLOOKUP(T707,Arkusz2!$G$2:$I$34,3,0)","v":{"$error":"#N/A"}},{"$f":"VLOOKUP(D707,Arkusz2!O675:P1812,2,0)","v":{"$error":"#N/A"}}]
[null,null,null,"..",{"$f":"VLOOKUP(D708,Arkusz2!$D$2:$E$1137,2,0)","v":{"$error":"#N/A"}},null,null,null,null,null,null,null,null,null,null,null,null,null,null,null,{"$f":"VLOOKUP(T708,Arkusz2!$G$2:$I$34,3,0)","v":{"$error":"#N/A"}},{"$f":"VLOOKUP(D708,Arkusz2!O676:P1813,2,0)","v":{"$error":"#N/A"}}]
[null,null,null,"..",{"$f":"VLOOKUP(D709,Arkusz2!$D$2:$E$1137,2,0)","v":{"$error":"#N/A"}},null,null,null,null,null,null,null,null,null,null,null,null,null,null,null,{"$f":"VLOOKUP(T709,Arkusz2!$G$2:$I$34,3,0)","v":{"$error":"#N/A"}},{"$f":"VLOOKUP(D709,Arkusz2!O677:P1814,2,0)","v":{"$error":"#N/A"}}]
[null,null,null,"..",{"$f":"VLOOKUP(D710,Arkusz2!$D$2:$E$1137,2,0)","v":{"$error":"#N/A"}},null,null,null,null,null,null,null,null,null,null,null,null,null,null,null,{"$f":"VLOOKUP(T710,Arkusz2!$G$2:$I$34,3,0)","v":{"$error":"#N/A"}},{"$f":"VLOOKUP(D710,Arkusz2!O678:P1815,2,0)","v":{"$error":"#N/A"}}]
[null,null,null,"..",{"$f":"VLOOKUP(D711,Arkusz2!$D$2:$E$1137,2,0)","v":{"$error":"#N/A"}},null,null,null,null,null,null,null,null,null,null,null,null,null,null,null,{"$f":"VLOOKUP(T711,Arkusz2!$G$2:$I$34,3,0)","v":{"$error":"#N/A"}},{"$f":"VLOOKUP(D711,Arkusz2!O679:P1816,2,0)","v":{"$error":"#N/A"}}]
[null,null,null,"..",{"$f":"VLOOKUP(D712,Arkusz2!$D$2:$E$1137,2,0)","v":{"$error":"#N/A"}},null,null,null,null,null,null,null,null,null,null,null,null,null,null,null,{"$f":"VLOOKUP(T712,Arkusz2!$G$2:$I$34,3,0)","v":{"$error":"#N/A"}},{"$f":"VLOOKUP(D712,Arkusz2!O680:P1817,2,0)","v":{"$error":"#N/A"}}]
[null,null,null,"..",{"$f":"VLOOKUP(D713,Arkusz2!$D$2:$E$1137,2,0)","v":{"$error":"#N/A"}},null,null,null,null,null,null,null,null,null,null,null,null,null,null,null,{"$f":"VLOOKUP(T713,Arkusz2!$G$2:$I$34,3,0)","v":{"$error":"#N/A"}},{"$f":"VLOOKUP(D713,Arkusz2!O681:P1818,2,0)","v":{"$error":"#N/A"}}]
[null,null,null,"..",{"$f":"VLOOKUP(D714,Arkusz2!$D$2:$E$1137,2,0)","v":{"$error":"#N/A"}},null,null,null,null,null,null,null,null,null,null,null,null,null,null,null,{"$f":"VLOOKUP(T714,Arkusz2!$G$2:$I$34,3,0)","v":{"$error":"#N/A"}},{"$f":"VLOOKUP(D714,Arkusz2!O682:P1819,2,0)","v":{"$error":"#N/A"}}]
[null,null,null,"..",{"$f":"VLOOKUP(D715,Arkusz2!$D$2:$E$1137,2,0)","v":{"$error":"#N/A"}},null,null,null,null,null,null,null,null,null,null,null,null,null,null,null,{"$f":"VLOOKUP(T715,Arkusz2!$G$2:$I$34,3,0)","v":{"$error":"#N/A"}},{"$f":"VLOOKUP(D715,Arkusz2!O683:P1820,2,0)","v":{"$error":"#N/A"}}]
[null,null,null,"..",{"$f":"VLOOKUP(D716,Arkusz2!$D$2:$E$1137,2,0)","v":{"$error":"#N/A"}},null,null,null,null,null,null,null,null,null,null,null,null,null,null,null,{"$f":"VLOOKUP(T716,Arkusz2!$G$2:$I$34,3,0)","v":{"$error":"#N/A"}},{"$f":"VLOOKUP(D716,Arkusz2!O684:P1821,2,0)","v":{"$error":"#N/A"}}]
[null,null,null,"..",{"$f":"VLOOKUP(D717,Arkusz2!$D$2:$E$1137,2,0)","v":{"$error":"#N/A"}},null,null,null,null,null,null,null,null,null,null,null,null,null,null,null,{"$f":"VLOOKUP(T717,Arkusz2!$G$2:$I$34,3,0)","v":{"$error":"#N/A"}},{"$f":"VLOOKUP(D717,Arkusz2!O685:P1822,2,0)","v":{"$error":"#N/A"}}]
[null,null,null,"..",{"$f":"VLOOKUP(D718,Arkusz2!$D$2:$E$1137,2,0)","v":{"$error":"#N/A"}},null,null,null,null,null,null,null,null,null,null,null,null,null,null,null,{"$f":"VLOOKUP(T718,Arkusz2!$G$2:$I$34,3,0)","v":{"$error":"#N/A"}},{"$f":"VLOOKUP(D718,Arkusz2!O686:P1823,2,0)","v":{"$error":"#N/A"}}]
[null,null,null,"..",{"$f":"VLOOKUP(D719,Arkusz2!$D$2:$E$1137,2,0)","v":{"$error":"#N/A"}},null,null,null,null,null,null,null,null,null,null,null,null,null,null,null,{"$f":"VLOOKUP(T719,Arkusz2!$G$2:$I$34,3,0)","v":{"$error":"#N/A"}},{"$f":"VLOOKUP(D719,Arkusz2!O687:P1824,2,0)","v":{"$error":"#N/A"}}]
[null,null,null,"..",{"$f":"VLOOKUP(D720,Arkusz2!$D$2:$E$1137,2,0)","v":{"$error":"#N/A"}},null,null,null,null,null,null,null,null,null,null,null,null,null,null,null,{"$f":"VLOOKUP(T720,Arkusz2!$G$2:$I$34,3,0)","v":{"$error":"#N/A"}},{"$f":"VLOOKUP(D720,Arkusz2!O688:P1825,2,0)","v":{"$error":"#N/A"}}]
[null,null,null,"..",{"$f":"VLOOKUP(D721,Arkusz2!$D$2:$E$1137,2,0)","v":{"$error":"#N/A"}},null,null,null,null,null,null,null,null,null,null,null,null,null,null,null,{"$f":"VLOOKUP(T721,Arkusz2!$G$2:$I$34,3,0)","v":{"$error":"#N/A"}},{"$f":"VLOOKUP(D721,Arkusz2!O689:P1826,2,0)","v":{"$error":"#N/A"}}]
[null,null,null,"..",{"$f":"VLOOKUP(D722,Arkusz2!$D$2:$E$1137,2,0)","v":{"$error":"#N/A"}},null,null,null,null,null,null,null,null,null,null,null,null,null,null,null,{"$f":"VLOOKUP(T722,Arkusz2!$G$2:$I$34,3,0)","v":{"$error":"#N/A"}},{"$f":"VLOOKUP(D722,Arkusz2!O690:P1827,2,0)","v":{"$error":"#N/A"}}]
[null,null,null,"..",{"$f":"VLOOKUP(D723,Arkusz2!$D$2:$E$1137,2,0)","v":{"$error":"#N/A"}},null,null,null,null,null,null,null,null,null,null,null,null,null,null,null,{"$f":"VLOOKUP(T723,Arkusz2!$G$2:$I$34,3,0)","v":{"$error":"#N/A"}},{"$f":"VLOOKUP(D723,Arkusz2!O691:P1828,2,0)","v":{"$error":"#N/A"}}]
[null,null,null,"..",{"$f":"VLOOKUP(D724,Arkusz2!$D$2:$E$1137,2,0)","v":{"$error":"#N/A"}},null,null,null,null,null,null,null,null,null,null,null,null,null,null,null,{"$f":"VLOOKUP(T724,Arkusz2!$G$2:$I$34,3,0)","v":{"$error":"#N/A"}},{"$f":"VLOOKUP(D724,Arkusz2!O692:P1829,2,0)","v":{"$error":"#N/A"}}]
[null,null,null,"..",{"$f":"VLOOKUP(D725,Arkusz2!$D$2:$E$1137,2,0)","v":{"$error":"#N/A"}},null,null,null,null,null,null,null,null,null,null,null,null,null,null,null,{"$f":"VLOOKUP(T725,Arkusz2!$G$2:$I$34,3,0)","v":{"$error":"#N/A"}},{"$f":"VLOOKUP(D725,Arkusz2!O693:P1830,2,0)","v":{"$error":"#N/A"}}]
[null,null,null,"..",{"$f":"VLOOKUP(D726,Arkusz2!$D$2:$E$1137,2,0)","v":{"$error":"#N/A"}},null,null,null,null,null,null,null,null,null,null,null,null,null,null,null,{"$f":"VLOOKUP(T726,Arkusz2!$G$2:$I$34,3,0)","v":{"$error":"#N/A"}},{"$f":"VLOOKUP(D726,Arkusz2!O694:P1831,2,0)","v":{"$error":"#N/A"}}]
[null,null,null,"..",{"$f":"VLOOKUP(D727,Arkusz2!$D$2:$E$1137,2,0)","v":{"$error":"#N/A"}},null,null,null,null,null,null,null,null,null,null,null,null,null,null,null,{"$f":"VLOOKUP(T727,Arkusz2!$G$2:$I$34,3,0)","v":{"$error":"#N/A"}},{"$f":"VLOOKUP(D727,Arkusz2!O695:P1832,2,0)","v":{"$error":"#N/A"}}]
[null,null,null,"..",{"$f":"VLOOKUP(D728,Arkusz2!$D$2:$E$1137,2,0)","v":{"$error":"#N/A"}},null,null,null,null,null,null,null,null,null,null,null,null,null,null,null,{"$f":"VLOOKUP(T728,Arkusz2!$G$2:$I$34,3,0)","v":{"$error":"#N/A"}},{"$f":"VLOOKUP(D728,Arkusz2!O696:P1833,2,0)","v":{"$error":"#N/A"}}]
[null,null,null,"..",{"$f":"VLOOKUP(D729,Arkusz2!$D$2:$E$1137,2,0)","v":{"$error":"#N/A"}},null,null,null,null,null,null,null,null,null,null,null,null,null,null,null,{"$f":"VLOOKUP(T729,Arkusz2!$G$2:$I$34,3,0)","v":{"$error":"#N/A"}},{"$f":"VLOOKUP(D729,Arkusz2!O697:P1834,2,0)","v":{"$error":"#N/A"}}]
[null,null,null,"..",{"$f":"VLOOKUP(D730,Arkusz2!$D$2:$E$1137,2,0)","v":{"$error":"#N/A"}},null,null,null,null,null,null,null,null,null,null,null,null,null,null,null,{"$f":"VLOOKUP(T730,Arkusz2!$G$2:$I$34,3,0)","v":{"$error":"#N/A"}},{"$f":"VLOOKUP(D730,Arkusz2!O698:P1835,2,0)","v":{"$error":"#N/A"}}]
[null,null,null,"..",{"$f":"VLOOKUP(D731,Arkusz2!$D$2:$E$1137,2,0)","v":{"$error":"#N/A"}},null,null,null,null,null,null,null,null,null,null,null,null,null,null,null,{"$f":"VLOOKUP(T731,Arkusz2!$G$2:$I$34,3,0)","v":{"$error":"#N/A"}},{"$f":"VLOOKUP(D731,Arkusz2!O699:P1836,2,0)","v":{"$error":"#N/A"}}]
[null,null,null,"..",{"$f":"VLOOKUP(D732,Arkusz2!$D$2:$E$1137,2,0)","v":{"$error":"#N/A"}},null,null,null,null,null,null,null,null,null,null,null,null,null,null,null,{"$f":"VLOOKUP(T732,Arkusz2!$G$2:$I$34,3,0)","v":{"$error":"#N/A"}},{"$f":"VLOOKUP(D732,Arkusz2!O700:P1837,2,0)","v":{"$error":"#N/A"}}]
[null,null,null,"..",{"$f":"VLOOKUP(D733,Arkusz2!$D$2:$E$1137,2,0)","v":{"$error":"#N/A"}},null,null,null,null,null,null,null,null,null,null,null,null,null,null,null,{"$f":"VLOOKUP(T733,Arkusz2!$G$2:$I$34,3,0)","v":{"$error":"#N/A"}},{"$f":"VLOOKUP(D733,Arkusz2!O701:P1838,2,0)","v":{"$error":"#N/A"}}]
[null,null,null,"..",{"$f":"VLOOKUP(D734,Arkusz2!$D$2:$E$1137,2,0)","v":{"$error":"#N/A"}},null,null,null,null,null,null,null,null,null,null,null,null,null,null,null,{"$f":"VLOOKUP(T734,Arkusz2!$G$2:$I$34,3,0)","v":{"$error":"#N/A"}},{"$f":"VLOOKUP(D734,Arkusz2!O702:P1839,2,0)","v":{"$error":"#N/A"}}]
[null,null,null,"..",{"$f":"VLOOKUP(D735,Arkusz2!$D$2:$E$1137,2,0)","v":{"$error":"#N/A"}},null,null,null,null,null,null,null,null,null,null,null,null,null,null,null,{"$f":"VLOOKUP(T735,Arkusz2!$G$2:$I$34,3,0)","v":{"$error":"#N/A"}},{"$f":"VLOOKUP(D735,Arkusz2!O703:P1840,2,0)","v":{"$error":"#N/A"}}]
[null,null,null,"..",{"$f":"VLOOKUP(D736,Arkusz2!$D$2:$E$1137,2,0)","v":{"$error":"#N/A"}},null,null,null,null,null,null,null,null,null,null,null,null,null,null,null,{"$f":"VLOOKUP(T736,Arkusz2!$G$2:$I$34,3,0)","v":{"$error":"#N/A"}},{"$f":"VLOOKUP(D736,Arkusz2!O704:P1841,2,0)","v":{"$error":"#N/A"}}]
[null,null,null,"..",{"$f":"VLOOKUP(D737,Arkusz2!$D$2:$E$1137,2,0)","v":{"$error":"#N/A"}},null,null,null,null,null,null,null,null,null,null,null,null,null,null,null,{"$f":"VLOOKUP(T737,Arkusz2!$G$2:$I$34,3,0)","v":{"$error":"#N/A"}},{"$f":"VLOOKUP(D737,Arkusz2!O705:P1842,2,0)","v":{"$error":"#N/A"}}]
[null,null,null,"..",{"$f":"VLOOKUP(D738,Arkusz2!$D$2:$E$1137,2,0)","v":{"$error":"#N/A"}},null,null,null,null,null,null,null,null,null,null,null,null,null,null,null,{"$f":"VLOOKUP(T738,Arkusz2!$G$2:$I$34,3,0)","v":{"$error":"#N/A"}},{"$f":"VLOOKUP(D738,Arkusz2!O706:P1843,2,0)","v":{"$error":"#N/A"}}]
[null,null,null,{"$f":"_xlfn.CONCAT(A739,\".\",B739,\".\",C739)","v":".."},{"$f":"VLOOKUP(D739,Arkusz2!$D$2:$E$1137,2,0)","v":{"$error":"#N/A"}},null,null,null,null,null,null,null,null,null,null,null,null,null,null,null,{"$f":"VLOOKUP(T739,Arkusz2!$G$2:$I$34,3,0)","v":{"$error":"#N/A"}},{"$f":"VLOOKUP(D739,Arkusz2!O707:P1844,2,0)","v":{"$error":"#N/A"}}]
[null,null,null,"..",{"$f":"VLOOKUP(D740,Arkusz2!$D$2:$E$1137,2,0)","v":{"$error":"#N/A"}},null,null,null,null,null,null,null,null,null,null,null,null,null,null,null,{"$f":"VLOOKUP(T740,Arkusz2!$G$2:$I$34,3,0)","v":{"$error":"#N/A"}},{"$f":"VLOOKUP(D740,Arkusz2!O708:P1845,2,0)","v":{"$error":"#N/A"}}]
[null,null,null,"..",{"$f":"VLOOKUP(D741,Arkusz2!$D$2:$E$1137,2,0)","v":{"$error":"#N/A"}},null,null,null,null,null,null,null,null,null,null,null,null,null,null,null,{"$f":"VLOOKUP(T741,Arkusz2!$G$2:$I$34,3,0)","v":{"$error":"#N/A"}},{"$f":"VLOOKUP(D741,Arkusz2!O709:P1846,2,0)","v":{"$error":"#N/A"}}]
[null,null,null,"..",{"$f":"VLOOKUP(D742,Arkusz2!$D$2:$E$1137,2,0)","v":{"$error":"#N/A"}},null,null,null,null,null,null,null,null,null,null,null,null,null,null,null,{"$f":"VLOOKUP(T742,Arkusz2!$G$2:$I$34,3,0)","v":{"$error":"#N/A"}},{"$f":"VLOOKUP(D742,Arkusz2!O710:P1847,2,0)","v":{"$error":"#N/A"}}]
[null,null,null,"..",{"$f":"VLOOKUP(D743,Arkusz2!$D$2:$E$1137,2,0)","v":{"$error":"#N/A"}},null,null,null,null,null,null,null,null,null,null,null,null,null,null,null,{"$f":"VLOOKUP(T743,Arkusz2!$G$2:$I$34,3,0)","v":{"$error":"#N/A"}},{"$f":"VLOOKUP(D743,Arkusz2!O711:P1848,2,0)","v":{"$error":"#N/A"}}]
[null,null,null,"..",{"$f":"VLOOKUP(D744,Arkusz2!$D$2:$E$1137,2,0)","v":{"$error":"#N/A"}},null,null,null,null,null,null,null,null,null,null,null,null,null,null,null,{"$f":"VLOOKUP(T744,Arkusz2!$G$2:$I$34,3,0)","v":{"$error":"#N/A"}},{"$f":"VLOOKUP(D744,Arkusz2!O712:P1849,2,0)","v":{"$error":"#N/A"}}]
[null,null,null,"..",{"$f":"VLOOKUP(D745,Arkusz2!$D$2:$E$1137,2,0)","v":{"$error":"#N/A"}},null,null,null,null,null,null,null,null,null,null,null,null,null,null,null,{"$f":"VLOOKUP(T745,Arkusz2!$G$2:$I$34,3,0)","v":{"$error":"#N/A"}},{"$f":"VLOOKUP(D745,Arkusz2!O713:P1850,2,0)","v":{"$error":"#N/A"}}]
[null,null,null,"..",{"$f":"VLOOKUP(D746,Arkusz2!$D$2:$E$1137,2,0)","v":{"$error":"#N/A"}},null,null,null,null,null,null,null,null,null,null,null,null,null,null,null,{"$f":"VLOOKUP(T746,Arkusz2!$G$2:$I$34,3,0)","v":{"$error":"#N/A"}},{"$f":"VLOOKUP(D746,Arkusz2!O714:P1851,2,0)","v":{"$error":"#N/A"}}]
[null,null,null,"..",{"$f":"VLOOKUP(D747,Arkusz2!$D$2:$E$1137,2,0)","v":{"$error":"#N/A"}},null,null,null,null,null,null,null,null,null,null,null,null,null,null,null,{"$f":"VLOOKUP(T747,Arkusz2!$G$2:$I$34,3,0)","v":{"$error":"#N/A"}},{"$f":"VLOOKUP(D747,Arkusz2!O715:P1852,2,0)","v":{"$error":"#N/A"}}]
[null,null,null,"..",{"$f":"VLOOKUP(D748,Arkusz2!$D$2:$E$1137,2,0)","v":{"$error":"#N/A"}},null,null,null,null,null,null,null,null,null,null,null,null,null,null,null,{"$f":"VLOOKUP(T748,Arkusz2!$G$2:$I$34,3,0)","v":{"$error":"#N/A"}},{"$f":"VLOOKUP(D748,Arkusz2!O716:P1853,2,0)","v":{"$error":"#N/A"}}]
[null,null,null,"..",{"$f":"VLOOKUP(D749,Arkusz2!$D$2:$E$1137,2,0)","v":{"$error":"#N/A"}},null,null,null,null,null,null,null,null,null,null,null,null,null,null,null,{"$f":"VLOOKUP(T749,Arkusz2!$G$2:$I$34,3,0)","v":{"$error":"#N/A"}},{"$f":"VLOOKUP(D749,Arkusz2!O717:P1854,2,0)","v":{"$error":"#N/A"}}]
[null,null,null,"..",{"$f":"VLOOKUP(D750,Arkusz2!$D$2:$E$1137,2,0)","v":{"$error":"#N/A"}},null,null,null,null,null,null,null,null,null,null,null,null,null,null,null,{"$f":"VLOOKUP(T750,Arkusz2!$G$2:$I$34,3,0)","v":{"$error":"#N/A"}},{"$f":"VLOOKUP(D750,Arkusz2!O718:P1855,2,0)","v":{"$error":"#N/A"}}]
[null,null,null,"..",{"$f":"VLOOKUP(D751,Arkusz2!$D$2:$E$1137,2,0)","v":{"$error":"#N/A"}},null,null,null,null,null,null,null,null,null,null,null,null,null,null,null,{"$f":"VLOOKUP(T751,Arkusz2!$G$2:$I$34,3,0)","v":{"$error":"#N/A"}},{"$f":"VLOOKUP(D751,Arkusz2!O719:P1856,2,0)","v":{"$error":"#N/A"}}]
[null,null,null,"..",{"$f":"VLOOKUP(D752,Arkusz2!$D$2:$E$1137,2,0)","v":{"$error":"#N/A"}},null,null,null,null,null,null,null,null,null,null,null,null,null,null,null,{"$f":"VLOOKUP(T752,Arkusz2!$G$2:$I$34,3,0)","v":{"$error":"#N/A"}},{"$f":"VLOOKUP(D752,Arkusz2!O720:P1857,2,0)","v":{"$error":"#N/A"}}]
[null,null,null,"..",{"$f":"VLOOKUP(D753,Arkusz2!$D$2:$E$1137,2,0)","v":{"$error":"#N/A"}},null,null,null,null,null,null,null,null,null,null,null,null,null,null,null,{"$f":"VLOOKUP(T753,Arkusz2!$G$2:$I$34,3,0)","v":{"$error":"#N/A"}},{"$f":"VLOOKUP(D753,Arkusz2!O721:P1858,2,0)","v":{"$error":"#N/A"}}]
[null,null,null,"..",{"$f":"VLOOKUP(D754,Arkusz2!$D$2:$E$1137,2,0)","v":{"$error":"#N/A"}},null,null,null,null,null,null,null,null,null,null,null,null,null,null,null,{"$f":"VLOOKUP(T754,Arkusz2!$G$2:$I$34,3,0)","v":{"$error":"#N/A"}},{"$f":"VLOOKUP(D754,Arkusz2!O722:P1859,2,0)","v":{"$error":"#N/A"}}]
[null,null,null,"..",{"$f":"VLOOKUP(D755,Arkusz2!$D$2:$E$1137,2,0)","v":{"$error":"#N/A"}},null,null,null,null,null,null,null,null,null,null,null,null,null,null,null,{"$f":"VLOOKUP(T755,Arkusz2!$G$2:$I$34,3,0)","v":{"$error":"#N/A"}},{"$f":"VLOOKUP(D755,Arkusz2!O723:P1860,2,0)","v":{"$error":"#N/A"}}]
[null,null,null,"..",{"$f":"VLOOKUP(D756,Arkusz2!$D$2:$E$1137,2,0)","v":{"$error":"#N/A"}},null,null,null,null,null,null,null,null,null,null,null,null,null,null,null,{"$f":"VLOOKUP(T756,Arkusz2!$G$2:$I$34,3,0)","v":{"$error":"#N/A"}},{"$f":"VLOOKUP(D756,Arkusz2!O724:P1861,2,0)","v":{"$error":"#N/A"}}]
[null,null,null,"..",{"$f":"VLOOKUP(D757,Arkusz2!$D$2:$E$1137,2,0)","v":{"$error":"#N/A"}},null,null,null,null,null,null,null,null,null,null,null,null,null,null,null,{"$f":"VLOOKUP(T757,Arkusz2!$G$2:$I$34,3,0)","v":{"$error":"#N/A"}},{"$f":"VLOOKUP(D757,Arkusz2!O725:P1862,2,0)","v":{"$error":"#N/A"}}]
[null,null,null,"..",{"$f":"VLOOKUP(D758,Arkusz2!$D$2:$E$1137,2,0)","v":{"$error":"#N/A"}},null,null,null,null,null,null,null,null,null,null,null,null,null,null,null,{"$f":"VLOOKUP(T758,Arkusz2!$G$2:$I$34,3,0)","v":{"$error":"#N/A"}},{"$f":"VLOOKUP(D758,Arkusz2!O726:P1863,2,0)","v":{"$error":"#N/A"}}]
[null,null,null,"..",{"$f":"VLOOKUP(D759,Arkusz2!$D$2:$E$1137,2,0)","v":{"$error":"#N/A"}},null,null,null,null,null,null,null,null,null,null,null,null,null,null,null,{"$f":"VLOOKUP(T759,Arkusz2!$G$2:$I$34,3,0)","v":{"$error":"#N/A"}},{"$f":"VLOOKUP(D759,Arkusz2!O727:P1864,2,0)","v":{"$error":"#N/A"}}]
[null,null,null,"..",{"$f":"VLOOKUP(D760,Arkusz2!$D$2:$E$1137,2,0)","v":{"$error":"#N/A"}},null,null,null,null,null,null,null,null,null,null,null,null,null,null,null,{"$f":"VLOOKUP(T760,Arkusz2!$G$2:$I$34,3,0)","v":{"$error":"#N/A"}},{"$f":"VLOOKUP(D760,Arkusz2!O728:P1865,2,0)","v":{"$error":"#N/A"}}]
[null,null,null,"..",{"$f":"VLOOKUP(D761,Arkusz2!$D$2:$E$1137,2,0)","v":{"$error":"#N/A"}},null,null,null,null,null,null,null,null,null,null,null,null,null,null,null,{"$f":"VLOOKUP(T761,Arkusz2!$G$2:$I$34,3,0)","v":{"$error":"#N/A"}},{"$f":"VLOOKUP(D761,Arkusz2!O729:P1866,2,0)","v":{"$error":"#N/A"}}]
[null,null,null,"..",{"$f":"VLOOKUP(D762,Arkusz2!$D$2:$E$1137,2,0)","v":{"$error":"#N/A"}},null,null,null,null,null,null,null,null,null,null,null,null,null,null,null,{"$f":"VLOOKUP(T762,Arkusz2!$G$2:$I$34,3,0)","v":{"$error":"#N/A"}},{"$f":"VLOOKUP(D762,Arkusz2!O730:P1867,2,0)","v":{"$error":"#N/A"}}]
[null,null,null,"..",{"$f":"VLOOKUP(D763,Arkusz2!$D$2:$E$1137,2,0)","v":{"$error":"#N/A"}},null,null,null,null,null,null,null,null,null,null,null,null,null,null,null,{"$f":"VLOOKUP(T763,Arkusz2!$G$2:$I$34,3,0)","v":{"$error":"#N/A"}},{"$f":"VLOOKUP(D763,Arkusz2!O731:P1868,2,0)","v":{"$error":"#N/A"}}]
[null,null,null,"..",{"$f":"VLOOKUP(D764,Arkusz2!$D$2:$E$1137,2,0)","v":{"$error":"#N/A"}},null,null,null,null,null,null,null,null,null,null,null,null,null,null,null,{"$f":"VLOOKUP(T764,Arkusz2!$G$2:$I$34,3,0)","v":{"$error":"#N/A"}},{"$f":"VLOOKUP(D764,Arkusz2!O732:P1869,2,0)","v":{"$error":"#N/A"}}]
[null,null,null,"..",{"$f":"VLOOKUP(D765,Arkusz2!$D$2:$E$1137,2,0)","v":{"$error":"#N/A"}},null,null,null,null,null,null,null,null,null,null,null,null,null,null,null,{"$f":"VLOOKUP(T765,Arkusz2!$G$2:$I$34,3,0)","v":{"$error":"#N/A"}},{"$f":"VLOOKUP(D765,Arkusz2!O733:P1870,2,0)","v":{"$error":"#N/A"}}]
[null,null,null,"..",{"$f":"VLOOKUP(D766,Arkusz2!$D$2:$E$1137,2,0)","v":{"$error":"#N/A"}},null,null,null,null,null,null,null,null,null,null,null,null,null,null,null,{"$f":"VLOOKUP(T766,Arkusz2!$G$2:$I$34,3,0)","v":{"$error":"#N/A"}},{"$f":"VLOOKUP(D766,Arkusz2!O734:P1871,2,0)","v":{"$error":"#N/A"}}]
[null,null,null,"..",{"$f":"VLOOKUP(D767,Arkusz2!$D$2:$E$1137,2,0)","v":{"$error":"#N/A"}},null,null,null,null,null,null,null,null,null,null,null,null,null,null,null,{"$f":"VLOOKUP(T767,Arkusz2!$G$2:$I$34,3,0)","v":{"$error":"#N/A"}},{"$f":"VLOOKUP(D767,Arkusz2!O735:P1872,2,0)","v":{"$error":"#N/A"}}]
[null,null,null,"..",{"$f":"VLOOKUP(D768,Arkusz2!$D$2:$E$1137,2,0)","v":{"$error":"#N/A"}},null,null,null,null,null,null,null,null,null,null,null,null,null,null,null,{"$f":"VLOOKUP(T768,Arkusz2!$G$2:$I$34,3,0)","v":{"$error":"#N/A"}},{"$f":"VLOOKUP(D768,Arkusz2!O736:P1873,2,0)","v":{"$error":"#N/A"}}]
[null,null,null,"..",{"$f":"VLOOKUP(D769,Arkusz2!$D$2:$E$1137,2,0)","v":{"$error":"#N/A"}},null,null,null,null,null,null,null,null,null,null,null,null,null,null,null,{"$f":"VLOOKUP(T769,Arkusz2!$G$2:$I$34,3,0)","v":{"$error":"#N/A"}},{"$f":"VLOOKUP(D769,Arkusz2!O737:P1874,2,0)","v":{"$error":"#N/A"}}]
[null,null,null,"..",{"$f":"VLOOKUP(D770,Arkusz2!$D$2:$E$1137,2,0)","v":{"$error":"#N/A"}},null,null,null,null,null,null,null,null,null,null,null,null,null,null,null,{"$f":"VLOOKUP(T770,Arkusz2!$G$2:$I$34,3,0)","v":{"$error":"#N/A"}},{"$f":"VLOOKUP(D770,Arkusz2!O738:P1875,2,0)","v":{"$error":"#N/A"}}]
[null,null,null,"..",{"$f":"VLOOKUP(D771,Arkusz2!$D$2:$E$1137,2,0)","v":{"$error":"#N/A"}},null,null,null,null,null,null,null,null,null,null,null,null,null,null,null,{"$f":"VLOOKUP(T771,Arkusz2!$G$2:$I$34,3,0)","v":{"$error":"#N/A"}},{"$f":"VLOOKUP(D771,Arkusz2!O739:P1876,2,0)","v":{"$error":"#N/A"}}]
[null,null,null,"..",{"$f":"VLOOKUP(D772,Arkusz2!$D$2:$E$1137,2,0)","v":{"$error":"#N/A"}},null,null,null,null,null,null,null,null,null,null,null,null,null,null,null,{"$f":"VLOOKUP(T772,Arkusz2!$G$2:$I$34,3,0)","v":{"$error":"#N/A"}},{"$f":"VLOOKUP(D772,Arkusz2!O740:P1877,2,0)","v":{"$error":"#N/A"}}]
[null,null,null,"..",{"$f":"VLOOKUP(D773,Arkusz2!$D$2:$E$1137,2,0)","v":{"$error":"#N/A"}},null,null,null,null,null,null,null,null,null,null,null,null,null,null,null,{"$f":"VLOOKUP(T773,Arkusz2!$G$2:$I$34,3,0)","v":{"$error":"#N/A"}},{"$f":"VLOOKUP(D773,Arkusz2!O741:P1878,2,0)","v":{"$error":"#N/A"}}]
[null,null,null,"..",{"$f":"VLOOKUP(D774,Arkusz2!$D$2:$E$1137,2,0)","v":{"$error":"#N/A"}},null,null,null,null,null,null,null,null,null,null,null,null,null,null,null,{"$f":"VLOOKUP(T774,Arkusz2!$G$2:$I$34,3,0)","v":{"$error":"#N/A"}},{"$f":"VLOOKUP(D774,Arkusz2!O742:P1879,2,0)","v":{"$error":"#N/A"}}]
[null,null,null,"..",{"$f":"VLOOKUP(D775,Arkusz2!$D$2:$E$1137,2,0)","v":{"$error":"#N/A"}},null,null,null,null,null,null,null,null,null,null,null,null,null,null,null,{"$f":"VLOOKUP(T775,Arkusz2!$G$2:$I$34,3,0)","v":{"$error":"#N/A"}},{"$f":"VLOOKUP(D775,Arkusz2!O743:P1880,2,0)","v":{"$error":"#N/A"}}]
[null,null,null,"..",{"$f":"VLOOKUP(D776,Arkusz2!$D$2:$E$1137,2,0)","v":{"$error":"#N/A"}},null,null,null,null,null,null,null,null,null,null,null,null,null,null,null,{"$f":"VLOOKUP(T776,Arkusz2!$G$2:$I$34,3,0)","v":{"$error":"#N/A"}},{"$f":"VLOOKUP(D776,Arkusz2!O744:P1881,2,0)","v":{"$error":"#N/A"}}]
[null,null,null,"..",{"$f":"VLOOKUP(D777,Arkusz2!$D$2:$E$1137,2,0)","v":{"$error":"#N/A"}},null,null,null,null,null,null,null,null,null,null,null,null,null,null,null,{"$f":"VLOOKUP(T777,Arkusz2!$G$2:$I$34,3,0)","v":{"$error":"#N/A"}},{"$f":"VLOOKUP(D777,Arkusz2!O745:P1882,2,0)","v":{"$error":"#N/A"}}]
[null,null,null,"..",{"$f":"VLOOKUP(D778,Arkusz2!$D$2:$E$1137,2,0)","v":{"$error":"#N/A"}},null,null,null,null,null,null,null,null,null,null,null,null,null,null,null,{"$f":"VLOOKUP(T778,Arkusz2!$G$2:$I$34,3,0)","v":{"$error":"#N/A"}},{"$f":"VLOOKUP(D778,Arkusz2!O746:P1883,2,0)","v":{"$error":"#N/A"}}]
[null,null,null,"..",{"$f":"VLOOKUP(D779,Arkusz2!$D$2:$E$1137,2,0)","v":{"$error":"#N/A"}},null,null,null,null,null,null,null,null,null,null,null,null,null,null,null,{"$f":"VLOOKUP(T779,Arkusz2!$G$2:$I$34,3,0)","v":{"$error":"#N/A"}},{"$f":"VLOOKUP(D779,Arkusz2!O747:P1884,2,0)","v":{"$error":"#N/A"}}]
[null,null,null,"..",{"$f":"VLOOKUP(D780,Arkusz2!$D$2:$E$1137,2,0)","v":{"$error":"#N/A"}},null,null,null,null,null,null,null,null,null,null,null,null,null,null,null,{"$f":"VLOOKUP(T780,Arkusz2!$G$2:$I$34,3,0)","v":{"$error":"#N/A"}},{"$f":"VLOOKUP(D780,Arkusz2!O748:P1885,2,0)","v":{"$error":"#N/A"}}]
[null,null,null,"..",{"$f":"VLOOKUP(D781,Arkusz2!$D$2:$E$1137,2,0)","v":{"$error":"#N/A"}},null,null,null,null,null,null,null,null,null,null,null,null,null,null,null,{"$f":"VLOOKUP(T781,Arkusz2!$G$2:$I$34,3,0)","v":{"$error":"#N/A"}},{"$f":"VLOOKUP(D781,Arkusz2!O749:P1886,2,0)","v":{"$error":"#N/A"}}]
[null,null,null,"..",{"$f":"VLOOKUP(D782,Arkusz2!$D$2:$E$1137,2,0)","v":{"$error":"#N/A"}},null,null,null,null,null,null,null,null,null,null,null,null,null,null,null,{"$f":"VLOOKUP(T782,Arkusz2!$G$2:$I$34,3,0)","v":{"$error":"#N/A"}},{"$f":"VLOOKUP(D782,Arkusz2!O750:P1887,2,0)","v":{"$error":"#N/A"}}]
[null,null,null,"..",{"$f":"VLOOKUP(D783,Arkusz2!$D$2:$E$1137,2,0)","v":{"$error":"#N/A"}},null,null,null,null,null,null,null,null,null,null,null,null,null,null,null,{"$f":"VLOOKUP(T783,Arkusz2!$G$2:$I$34,3,0)","v":{"$error":"#N/A"}},{"$f":"VLOOKUP(D783,Arkusz2!O751:P1888,2,0)","v":{"$error":"#N/A"}}]
[null,null,null,"..",{"$f":"VLOOKUP(D784,Arkusz2!$D$2:$E$1137,2,0)","v":{"$error":"#N/A"}},null,null,null,null,null,null,null,null,null,null,null,null,null,null,null,{"$f":"VLOOKUP(T784,Arkusz2!$G$2:$I$34,3,0)","v":{"$error":"#N/A"}},{"$f":"VLOOKUP(D784,Arkusz2!O752:P1889,2,0)","v":{"$error":"#N/A"}}]
[null,null,null,"..",{"$f":"VLOOKUP(D785,Arkusz2!$D$2:$E$1137,2,0)","v":{"$error":"#N/A"}},null,null,null,null,null,null,null,null,null,null,null,null,null,null,null,{"$f":"VLOOKUP(T785,Arkusz2!$G$2:$I$34,3,0)","v":{"$error":"#N/A"}},{"$f":"VLOOKUP(D785,Arkusz2!O753:P1890,2,0)","v":{"$error":"#N/A"}}]
[null,null,null,"..",{"$f":"VLOOKUP(D786,Arkusz2!$D$2:$E$1137,2,0)","v":{"$error":"#N/A"}},null,null,null,null,null,null,null,null,null,null,null,null,null,null,null,{"$f":"VLOOKUP(T786,Arkusz2!$G$2:$I$34,3,0)","v":{"$error":"#N/A"}},{"$f":"VLOOKUP(D786,Arkusz2!O754:P1891,2,0)","v":{"$error":"#N/A"}}]
[null,null,null,"..",{"$f":"VLOOKUP(D787,Arkusz2!$D$2:$E$1137,2,0)","v":{"$error":"#N/A"}},null,null,null,null,null,null,null,null,null,null,null,null,null,null,null,{"$f":"VLOOKUP(T787,Arkusz2!$G$2:$I$34,3,0)","v":{"$error":"#N/A"}},{"$f":"VLOOKUP(D787,Arkusz2!O755:P1892,2,0)","v":{"$error":"#N/A"}}]
[null,null,null,"..",{"$f":"VLOOKUP(D788,Arkusz2!$D$2:$E$1137,2,0)","v":{"$error":"#N/A"}},null,null,null,null,null,null,null,null,null,null,null,null,null,null,null,{"$f":"VLOOKUP(T788,Arkusz2!$G$2:$I$34,3,0)","v":{"$error":"#N/A"}},{"$f":"VLOOKUP(D788,Arkusz2!O756:P1893,2,0)","v":{"$error":"#N/A"}}]
[null,null,null,"..",{"$f":"VLOOKUP(D789,Arkusz2!$D$2:$E$1137,2,0)","v":{"$error":"#N/A"}},null,null,null,null,null,null,null,null,null,null,null,null,null,null,null,{"$f":"VLOOKUP(T789,Arkusz2!$G$2:$I$34,3,0)","v":{"$error":"#N/A"}},{"$f":"VLOOKUP(D789,Arkusz2!O757:P1894,2,0)","v":{"$error":"#N/A"}}]
[null,null,null,"..",{"$f":"VLOOKUP(D790,Arkusz2!$D$2:$E$1137,2,0)","v":{"$error":"#N/A"}},null,null,null,null,null,null,null,null,null,null,null,null,null,null,null,{"$f":"VLOOKUP(T790,Arkusz2!$G$2:$I$34,3,0)","v":{"$error":"#N/A"}},{"$f":"VLOOKUP(D790,Arkusz2!O758:P1895,2,0)","v":{"$error":"#N/A"}}]
[null,null,null,"..",{"$f":"VLOOKUP(D791,Arkusz2!$D$2:$E$1137,2,0)","v":{"$error":"#N/A"}},null,null,null,null,null,null,null,null,null,null,null,null,null,null,null,{"$f":"VLOOKUP(T791,Arkusz2!$G$2:$I$34,3,0)","v":{"$error":"#N/A"}},{"$f":"VLOOKUP(D791,Arkusz2!O759:P1896,2,0)","v":{"$error":"#N/A"}}]
[null,null,null,"..",{"$f":"VLOOKUP(D792,Arkusz2!$D$2:$E$1137,2,0)","v":{"$error":"#N/A"}},null,null,null,null,null,null,null,null,null,null,null,null,null,null,null,{"$f":"VLOOKUP(T792,Arkusz2!$G$2:$I$34,3,0)","v":{"$error":"#N/A"}},{"$f":"VLOOKUP(D792,Arkusz2!O760:P1897,2,0)","v":{"$error":"#N/A"}}]
[null,null,null,"..",{"$f":"VLOOKUP(D793,Arkusz2!$D$2:$E$1137,2,0)","v":{"$error":"#N/A"}},null,null,null,null,null,null,null,null,null,null,null,null,null,null,null,{"$f":"VLOOKUP(T793,Arkusz2!$G$2:$I$34,3,0)","v":{"$error":"#N/A"}},{"$f":"VLOOKUP(D793,Arkusz2!O761:P1898,2,0)","v":{"$error":"#N/A"}}]
[null,null,null,"..",{"$f":"VLOOKUP(D794,Arkusz2!$D$2:$E$1137,2,0)","v":{"$error":"#N/A"}},null,null,null,null,null,null,null,null,null,null,null,null,null,null,null,{"$f":"VLOOKUP(T794,Arkusz2!$G$2:$I$34,3,0)","v":{"$error":"#N/A"}},{"$f":"VLOOKUP(D794,Arkusz2!O762:P1899,2,0)","v":{"$error":"#N/A"}}]
[null,null,null,"..",{"$f":"VLOOKUP(D795,Arkusz2!$D$2:$E$1137,2,0)","v":{"$error":"#N/A"}},null,null,null,null,null,null,null,null,null,null,null,null,null,null,null,{"$f":"VLOOKUP(T795,Arkusz2!$G$2:$I$34,3,0)","v":{"$error":"#N/A"}},{"$f":"VLOOKUP(D795,Arkusz2!O763:P1900,2,0)","v":{"$error":"#N/A"}}]
[null,null,null,"..",{"$f":"VLOOKUP(D796,Arkusz2!$D$2:$E$1137,2,0)","v":{"$error":"#N/A"}},null,null,null,null,null,null,null,null,null,null,null,null,null,null,null,{"$f":"VLOOKUP(T796,Arkusz2!$G$2:$I$34,3,0)","v":{"$error":"#N/A"}},{"$f":"VLOOKUP(D796,Arkusz2!O764:P1901,2,0)","v":{"$error":"#N/A"}}]
[null,null,null,"..",{"$f":"VLOOKUP(D797,Arkusz2!$D$2:$E$1137,2,0)","v":{"$error":"#N/A"}},null,null,null,null,null,null,null,null,null,null,null,null,null,null,null,{"$f":"VLOOKUP(T797,Arkusz2!$G$2:$I$34,3,0)","v":{"$error":"#N/A"}},{"$f":"VLOOKUP(D797,Arkusz2!O765:P1902,2,0)","v":{"$error":"#N/A"}}]
[null,null,null,"..",{"$f":"VLOOKUP(D798,Arkusz2!$D$2:$E$1137,2,0)","v":{"$error":"#N/A"}},null,null,null,null,null,null,null,null,null,null,null,null,null,null,null,{"$f":"VLOOKUP(T798,Arkusz2!$G$2:$I$34,3,0)","v":{"$error":"#N/A"}},{"$f":"VLOOKUP(D798,Arkusz2!O766:P1903,2,0)","v":{"$error":"#N/A"}}]
[null,null,null,"..",{"$f":"VLOOKUP(D799,Arkusz2!$D$2:$E$1137,2,0)","v":{"$error":"#N/A"}},null,null,null,null,null,null,null,null,null,null,null,null,null,null,null,{"$f":"VLOOKUP(T799,Arkusz2!$G$2:$I$34,3,0)","v":{"$error":"#N/A"}},{"$f":"VLOOKUP(D799,Arkusz2!O767:P1904,2,0)","v":{"$error":"#N/A"}}]
[null,null,null,"..",{"$f":"VLOOKUP(D800,Arkusz2!$D$2:$E$1137,2,0)","v":{"$error":"#N/A"}},null,null,null,null,null,null,null,null,null,null,null,null,null,null,null,{"$f":"VLOOKUP(T800,Arkusz2!$G$2:$I$34,3,0)","v":{"$error":"#N/A"}},{"$f":"VLOOKUP(D800,Arkusz2!O768:P1905,2,0)","v":{"$error":"#N/A"}}]
[null,null,null,"..",{"$f":"VLOOKUP(D801,Arkusz2!$D$2:$E$1137,2,0)","v":{"$error":"#N/A"}},null,null,null,null,null,null,null,null,null,null,null,null,null,null,null,{"$f":"VLOOKUP(T801,Arkusz2!$G$2:$I$34,3,0)","v":{"$error":"#N/A"}},{"$f":"VLOOKUP(D801,Arkusz2!O769:P1906,2,0)","v":{"$error":"#N/A"}}]
[null,null,null,"..",{"$f":"VLOOKUP(D802,Arkusz2!$D$2:$E$1137,2,0)","v":{"$error":"#N/A"}},null,null,null,null,null,null,null,null,null,null,null,null,null,null,null,{"$f":"VLOOKUP(T802,Arkusz2!$G$2:$I$34,3,0)","v":{"$error":"#N/A"}},{"$f":"VLOOKUP(D802,Arkusz2!O770:P1907,2,0)","v":{"$error":"#N/A"}}]
[null,null,null,{"$f":"_xlfn.CONCAT(A803,\".\",B803,\".\",C803)","v":".."},{"$f":"VLOOKUP(D803,Arkusz2!$D$2:$E$1137,2,0)","v":{"$error":"#N/A"}},null,null,null,null,null,null,null,null,null,null,null,null,null,null,null,{"$f":"VLOOKUP(T803,Arkusz2!$G$2:$I$34,3,0)","v":{"$error":"#N/A"}},{"$f":"VLOOKUP(D803,Arkusz2!O771:P1908,2,0)","v":{"$error":"#N/A"}}]
[null,null,null,"..",{"$f":"VLOOKUP(D804,Arkusz2!$D$2:$E$1137,2,0)","v":{"$error":"#N/A"}},null,null,null,null,null,null,null,null,null,null,null,null,null,null,null,{"$f":"VLOOKUP(T804,Arkusz2!$G$2:$I$34,3,0)","v":{"$error":"#N/A"}},{"$f":"VLOOKUP(D804,Arkusz2!O772:P1909,2,0)","v":{"$error":"#N/A"}}]
[null,null,null,"..",{"$f":"VLOOKUP(D805,Arkusz2!$D$2:$E$1137,2,0)","v":{"$error":"#N/A"}},null,null,null,null,null,null,null,null,null,null,null,null,null,null,null,{"$f":"VLOOKUP(T805,Arkusz2!$G$2:$I$34,3,0)","v":{"$error":"#N/A"}},{"$f":"VLOOKUP(D805,Arkusz2!O773:P1910,2,0)","v":{"$error":"#N/A"}}]
[null,null,null,"..",{"$f":"VLOOKUP(D806,Arkusz2!$D$2:$E$1137,2,0)","v":{"$error":"#N/A"}},null,null,null,null,null,null,null,null,null,null,null,null,null,null,null,{"$f":"VLOOKUP(T806,Arkusz2!$G$2:$I$34,3,0)","v":{"$error":"#N/A"}},{"$f":"VLOOKUP(D806,Arkusz2!O774:P1911,2,0)","v":{"$error":"#N/A"}}]
[null,null,null,"..",{"$f":"VLOOKUP(D807,Arkusz2!$D$2:$E$1137,2,0)","v":{"$error":"#N/A"}},null,null,null,null,null,null,null,null,null,null,null,null,null,null,null,{"$f":"VLOOKUP(T807,Arkusz2!$G$2:$I$34,3,0)","v":{"$error":"#N/A"}},{"$f":"VLOOKUP(D807,Arkusz2!O775:P1912,2,0)","v":{"$error":"#N/A"}}]
[null,null,null,"..",{"$f":"VLOOKUP(D808,Arkusz2!$D$2:$E$1137,2,0)","v":{"$error":"#N/A"}},null,null,null,null,null,null,null,null,null,null,null,null,null,null,null,{"$f":"VLOOKUP(T808,Arkusz2!$G$2:$I$34,3,0)","v":{"$error":"#N/A"}},{"$f":"VLOOKUP(D808,Arkusz2!O776:P1913,2,0)","v":{"$error":"#N/A"}}]
[null,null,null,"..",{"$f":"VLOOKUP(D809,Arkusz2!$D$2:$E$1137,2,0)","v":{"$error":"#N/A"}},null,null,null,null,null,null,null,null,null,null,null,null,null,null,null,{"$f":"VLOOKUP(T809,Arkusz2!$G$2:$I$34,3,0)","v":{"$error":"#N/A"}},{"$f":"VLOOKUP(D809,Arkusz2!O777:P1914,2,0)","v":{"$error":"#N/A"}}]
[null,null,null,"..",{"$f":"VLOOKUP(D810,Arkusz2!$D$2:$E$1137,2,0)","v":{"$error":"#N/A"}},null,null,null,null,null,null,null,null,null,null,null,null,null,null,null,{"$f":"VLOOKUP(T810,Arkusz2!$G$2:$I$34,3,0)","v":{"$error":"#N/A"}},{"$f":"VLOOKUP(D810,Arkusz2!O778:P1915,2,0)","v":{"$error":"#N/A"}}]
[null,null,null,"..",{"$f":"VLOOKUP(D811,Arkusz2!$D$2:$E$1137,2,0)","v":{"$error":"#N/A"}},null,null,null,null,null,null,null,null,null,null,null,null,null,null,null,{"$f":"VLOOKUP(T811,Arkusz2!$G$2:$I$34,3,0)","v":{"$error":"#N/A"}},{"$f":"VLOOKUP(D811,Arkusz2!O779:P1916,2,0)","v":{"$error":"#N/A"}}]
[null,null,null,"..",{"$f":"VLOOKUP(D812,Arkusz2!$D$2:$E$1137,2,0)","v":{"$error":"#N/A"}},null,null,null,null,null,null,null,null,null,null,null,null,null,null,null,{"$f":"VLOOKUP(T812,Arkusz2!$G$2:$I$34,3,0)","v":{"$error":"#N/A"}},{"$f":"VLOOKUP(D812,Arkusz2!O780:P1917,2,0)","v":{"$error":"#N/A"}}]
[null,null,null,"..",{"$f":"VLOOKUP(D813,Arkusz2!$D$2:$E$1137,2,0)","v":{"$error":"#N/A"}},null,null,null,null,null,null,null,null,null,null,null,null,null,null,null,{"$f":"VLOOKUP(T813,Arkusz2!$G$2:$I$34,3,0)","v":{"$error":"#N/A"}},{"$f":"VLOOKUP(D813,Arkusz2!O781:P1918,2,0)","v":{"$error":"#N/A"}}]
[null,null,null,"..",{"$f":"VLOOKUP(D814,Arkusz2!$D$2:$E$1137,2,0)","v":{"$error":"#N/A"}},null,null,null,null,null,null,null,null,null,null,null,null,null,null,null,{"$f":"VLOOKUP(T814,Arkusz2!$G$2:$I$34,3,0)","v":{"$error":"#N/A"}},{"$f":"VLOOKUP(D814,Arkusz2!O782:P1919,2,0)","v":{"$error":"#N/A"}}]
[null,null,null,"..",{"$f":"VLOOKUP(D815,Arkusz2!$D$2:$E$1137,2,0)","v":{"$error":"#N/A"}},null,null,null,null,null,null,null,null,null,null,null,null,null,null,null,{"$f":"VLOOKUP(T815,Arkusz2!$G$2:$I$34,3,0)","v":{"$error":"#N/A"}},{"$f":"VLOOKUP(D815,Arkusz2!O783:P1920,2,0)","v":{"$error":"#N/A"}}]
[null,null,null,"..",{"$f":"VLOOKUP(D816,Arkusz2!$D$2:$E$1137,2,0)","v":{"$error":"#N/A"}},null,null,null,null,null,null,null,null,null,null,null,null,null,null,null,{"$f":"VLOOKUP(T816,Arkusz2!$G$2:$I$34,3,0)","v":{"$error":"#N/A"}},{"$f":"VLOOKUP(D816,Arkusz2!O784:P1921,2,0)","v":{"$error":"#N/A"}}]
[null,null,null,"..",{"$f":"VLOOKUP(D817,Arkusz2!$D$2:$E$1137,2,0)","v":{"$error":"#N/A"}},null,null,null,null,null,null,null,null,null,null,null,null,null,null,null,{"$f":"VLOOKUP(T817,Arkusz2!$G$2:$I$34,3,0)","v":{"$error":"#N/A"}},{"$f":"VLOOKUP(D817,Arkusz2!O785:P1922,2,0)","v":{"$error":"#N/A"}}]
[null,null,null,"..",{"$f":"VLOOKUP(D818,Arkusz2!$D$2:$E$1137,2,0)","v":{"$error":"#N/A"}},null,null,null,null,null,null,null,null,null,null,null,null,null,null,null,{"$f":"VLOOKUP(T818,Arkusz2!$G$2:$I$34,3,0)","v":{"$error":"#N/A"}},{"$f":"VLOOKUP(D818,Arkusz2!O786:P1923,2,0)","v":{"$error":"#N/A"}}]
[null,null,null,"..",{"$f":"VLOOKUP(D819,Arkusz2!$D$2:$E$1137,2,0)","v":{"$error":"#N/A"}},null,null,null,null,null,null,null,null,null,null,null,null,null,null,null,{"$f":"VLOOKUP(T819,Arkusz2!$G$2:$I$34,3,0)","v":{"$error":"#N/A"}},{"$f":"VLOOKUP(D819,Arkusz2!O787:P1924,2,0)","v":{"$error":"#N/A"}}]
[null,null,null,"..",{"$f":"VLOOKUP(D820,Arkusz2!$D$2:$E$1137,2,0)","v":{"$error":"#N/A"}},null,null,null,null,null,null,null,null,null,null,null,null,null,null,null,{"$f":"VLOOKUP(T820,Arkusz2!$G$2:$I$34,3,0)","v":{"$error":"#N/A"}},{"$f":"VLOOKUP(D820,Arkusz2!O788:P1925,2,0)","v":{"$error":"#N/A"}}]
[null,null,null,"..",{"$f":"VLOOKUP(D821,Arkusz2!$D$2:$E$1137,2,0)","v":{"$error":"#N/A"}},null,null,null,null,null,null,null,null,null,null,null,null,null,null,null,{"$f":"VLOOKUP(T821,Arkusz2!$G$2:$I$34,3,0)","v":{"$error":"#N/A"}},{"$f":"VLOOKUP(D821,Arkusz2!O789:P1926,2,0)","v":{"$error":"#N/A"}}]
[null,null,null,"..",{"$f":"VLOOKUP(D822,Arkusz2!$D$2:$E$1137,2,0)","v":{"$error":"#N/A"}},null,null,null,null,null,null,null,null,null,null,null,null,null,null,null,{"$f":"VLOOKUP(T822,Arkusz2!$G$2:$I$34,3,0)","v":{"$error":"#N/A"}},{"$f":"VLOOKUP(D822,Arkusz2!O790:P1927,2,0)","v":{"$error":"#N/A"}}]
[null,null,null,"..",{"$f":"VLOOKUP(D823,Arkusz2!$D$2:$E$1137,2,0)","v":{"$error":"#N/A"}},null,null,null,null,null,null,null,null,null,null,null,null,null,null,null,{"$f":"VLOOKUP(T823,Arkusz2!$G$2:$I$34,3,0)","v":{"$error":"#N/A"}},{"$f":"VLOOKUP(D823,Arkusz2!O791:P1928,2,0)","v":{"$error":"#N/A"}}]
[null,null,null,"..",{"$f":"VLOOKUP(D824,Arkusz2!$D$2:$E$1137,2,0)","v":{"$error":"#N/A"}},null,null,null,null,null,null,null,null,null,null,null,null,null,null,null,{"$f":"VLOOKUP(T824,Arkusz2!$G$2:$I$34,3,0)","v":{"$error":"#N/A"}},{"$f":"VLOOKUP(D824,Arkusz2!O792:P1929,2,0)","v":{"$error":"#N/A"}}]
[null,null,null,"..",{"$f":"VLOOKUP(D825,Arkusz2!$D$2:$E$1137,2,0)","v":{"$error":"#N/A"}},null,null,null,null,null,null,null,null,null,null,null,null,null,null,null,{"$f":"VLOOKUP(T825,Arkusz2!$G$2:$I$34,3,0)","v":{"$error":"#N/A"}},{"$f":"VLOOKUP(D825,Arkusz2!O793:P1930,2,0)","v":{"$error":"#N/A"}}]
[null,null,null,"..",{"$f":"VLOOKUP(D826,Arkusz2!$D$2:$E$1137,2,0)","v":{"$error":"#N/A"}},null,null,null,null,null,null,null,null,null,null,null,null,null,null,null,{"$f":"VLOOKUP(T826,Arkusz2!$G$2:$I$34,3,0)","v":{"$error":"#N/A"}},{"$f":"VLOOKUP(D826,Arkusz2!O794:P1931,2,0)","v":{"$error":"#N/A"}}]
[null,null,null,"..",{"$f":"VLOOKUP(D827,Arkusz2!$D$2:$E$1137,2,0)","v":{"$error":"#N/A"}},null,null,null,null,null,null,null,null,null,null,null,null,null,null,null,{"$f":"VLOOKUP(T827,Arkusz2!$G$2:$I$34,3,0)","v":{"$error":"#N/A"}},{"$f":"VLOOKUP(D827,Arkusz2!O795:P1932,2,0)","v":{"$error":"#N/A"}}]
[null,null,null,"..",{"$f":"VLOOKUP(D828,Arkusz2!$D$2:$E$1137,2,0)","v":{"$error":"#N/A"}},null,null,null,null,null,null,null,null,null,null,null,null,null,null,null,{"$f":"VLOOKUP(T828,Arkusz2!$G$2:$I$34,3,0)","v":{"$error":"#N/A"}},{"$f":"VLOOKUP(D828,Arkusz2!O796:P1933,2,0)","v":{"$error":"#N/A"}}]
[null,null,null,"..",{"$f":"VLOOKUP(D829,Arkusz2!$D$2:$E$1137,2,0)","v":{"$error":"#N/A"}},null,null,null,null,null,null,null,null,null,null,null,null,null,null,null,{"$f":"VLOOKUP(T829,Arkusz2!$G$2:$I$34,3,0)","v":{"$error":"#N/A"}},{"$f":"VLOOKUP(D829,Arkusz2!O797:P1934,2,0)","v":{"$error":"#N/A"}}]
[null,null,null,"..",{"$f":"VLOOKUP(D830,Arkusz2!$D$2:$E$1137,2,0)","v":{"$error":"#N/A"}},null,null,null,null,null,null,null,null,null,null,null,null,null,null,null,{"$f":"VLOOKUP(T830,Arkusz2!$G$2:$I$34,3,0)","v":{"$error":"#N/A"}},{"$f":"VLOOKUP(D830,Arkusz2!O798:P1935,2,0)","v":{"$error":"#N/A"}}]
[null,null,null,"..",{"$f":"VLOOKUP(D831,Arkusz2!$D$2:$E$1137,2,0)","v":{"$error":"#N/A"}},null,null,null,null,null,null,null,null,null,null,null,null,null,null,null,{"$f":"VLOOKUP(T831,Arkusz2!$G$2:$I$34,3,0)","v":{"$error":"#N/A"}},{"$f":"VLOOKUP(D831,Arkusz2!O799:P1936,2,0)","v":{"$error":"#N/A"}}]
[null,null,null,"..",{"$f":"VLOOKUP(D832,Arkusz2!$D$2:$E$1137,2,0)","v":{"$error":"#N/A"}},null,null,null,null,null,null,null,null,null,null,null,null,null,null,null,{"$f":"VLOOKUP(T832,Arkusz2!$G$2:$I$34,3,0)","v":{"$error":"#N/A"}},{"$f":"VLOOKUP(D832,Arkusz2!O800:P1937,2,0)","v":{"$error":"#N/A"}}]
[null,null,null,"..",{"$f":"VLOOKUP(D833,Arkusz2!$D$2:$E$1137,2,0)","v":{"$error":"#N/A"}},null,null,null,null,null,null,null,null,null,null,null,null,null,null,null,{"$f":"VLOOKUP(T833,Arkusz2!$G$2:$I$34,3,0)","v":{"$error":"#N/A"}},{"$f":"VLOOKUP(D833,Arkusz2!O801:P1938,2,0)","v":{"$error":"#N/A"}}]
[null,null,null,"..",{"$f":"VLOOKUP(D834,Arkusz2!$D$2:$E$1137,2,0)","v":{"$error":"#N/A"}},null,null,null,null,null,null,null,null,null,null,null,null,null,null,null,{"$f":"VLOOKUP(T834,Arkusz2!$G$2:$I$34,3,0)","v":{"$error":"#N/A"}},{"$f":"VLOOKUP(D834,Arkusz2!O802:P1939,2,0)","v":{"$error":"#N/A"}}]
[null,null,null,"..",{"$f":"VLOOKUP(D835,Arkusz2!$D$2:$E$1137,2,0)","v":{"$error":"#N/A"}},null,null,null,null,null,null,null,null,null,null,null,null,null,null,null,{"$f":"VLOOKUP(T835,Arkusz2!$G$2:$I$34,3,0)","v":{"$error":"#N/A"}},{"$f":"VLOOKUP(D835,Arkusz2!O803:P1940,2,0)","v":{"$error":"#N/A"}}]
[null,null,null,"..",{"$f":"VLOOKUP(D836,Arkusz2!$D$2:$E$1137,2,0)","v":{"$error":"#N/A"}},null,null,null,null,null,null,null,null,null,null,null,null,null,null,null,{"$f":"VLOOKUP(T836,Arkusz2!$G$2:$I$34,3,0)","v":{"$error":"#N/A"}},{"$f":"VLOOKUP(D836,Arkusz2!O804:P1941,2,0)","v":{"$error":"#N/A"}}]
[null,null,null,"..",{"$f":"VLOOKUP(D837,Arkusz2!$D$2:$E$1137,2,0)","v":{"$error":"#N/A"}},null,null,null,null,null,null,null,null,null,null,null,null,null,null,null,{"$f":"VLOOKUP(T837,Arkusz2!$G$2:$I$34,3,0)","v":{"$error":"#N/A"}},{"$f":"VLOOKUP(D837,Arkusz2!O805:P1942,2,0)","v":{"$error":"#N/A"}}]
[null,null,null,"..",{"$f":"VLOOKUP(D838,Arkusz2!$D$2:$E$1137,2,0)","v":{"$error":"#N/A"}},null,null,null,null,null,null,null,null,null,null,null,null,null,null,null,{"$f":"VLOOKUP(T838,Arkusz2!$G$2:$I$34,3,0)","v":{"$error":"#N/A"}},{"$f":"VLOOKUP(D838,Arkusz2!O806:P1943,2,0)","v":{"$error":"#N/A"}}]
[null,null,null,"..",{"$f":"VLOOKUP(D839,Arkusz2!$D$2:$E$1137,2,0)","v":{"$error":"#N/A"}},null,null,null,null,null,null,null,null,null,null,null,null,null,null,null,{"$f":"VLOOKUP(T839,Arkusz2!$G$2:$I$34,3,0)","v":{"$error":"#N/A"}},{"$f":"VLOOKUP(D839,Arkusz2!O807:P1944,2,0)","v":{"$error":"#N/A"}}]
[null,null,null,"..",{"$f":"VLOOKUP(D840,Arkusz2!$D$2:$E$1137,2,0)","v":{"$error":"#N/A"}},null,null,null,null,null,null,null,null,null,null,null,null,null,null,null,{"$f":"VLOOKUP(T840,Arkusz2!$G$2:$I$34,3,0)","v":{"$error":"#N/A"}},{"$f":"VLOOKUP(D840,Arkusz2!O808:P1945,2,0)","v":{"$error":"#N/A"}}]
[null,null,null,"..",{"$f":"VLOOKUP(D841,Arkusz2!$D$2:$E$1137,2,0)","v":{"$error":"#N/A"}},null,null,null,null,null,null,null,null,null,null,null,null,null,null,null,{"$f":"VLOOKUP(T841,Arkusz2!$G$2:$I$34,3,0)","v":{"$error":"#N/A"}},{"$f":"VLOOKUP(D841,Arkusz2!O809:P1946,2,0)","v":{"$error":"#N/A"}}]
[null,null,null,"..",{"$f":"VLOOKUP(D842,Arkusz2!$D$2:$E$1137,2,0)","v":{"$error":"#N/A"}},null,null,null,null,null,null,null,null,null,null,null,null,null,null,null,{"$f":"VLOOKUP(T842,Arkusz2!$G$2:$I$34,3,0)","v":{"$error":"#N/A"}},{"$f":"VLOOKUP(D842,Arkusz2!O810:P1947,2,0)","v":{"$error":"#N/A"}}]
[null,null,null,"..",{"$f":"VLOOKUP(D843,Arkusz2!$D$2:$E$1137,2,0)","v":{"$error":"#N/A"}},null,null,null,null,null,null,null,null,null,null,null,null,null,null,null,{"$f":"VLOOKUP(T843,Arkusz2!$G$2:$I$34,3,0)","v":{"$error":"#N/A"}},{"$f":"VLOOKUP(D843,Arkusz2!O811:P1948,2,0)","v":{"$error":"#N/A"}}]
[null,null,null,"..",{"$f":"VLOOKUP(D844,Arkusz2!$D$2:$E$1137,2,0)","v":{"$error":"#N/A"}},null,null,null,null,null,null,null,null,null,null,null,null,null,null,null,{"$f":"VLOOKUP(T844,Arkusz2!$G$2:$I$34,3,0)","v":{"$error":"#N/A"}},{"$f":"VLOOKUP(D844,Arkusz2!O812:P1949,2,0)","v":{"$error":"#N/A"}}]
[null,null,null,"..",{"$f":"VLOOKUP(D845,Arkusz2!$D$2:$E$1137,2,0)","v":{"$error":"#N/A"}},null,null,null,null,null,null,null,null,null,null,null,null,null,null,null,{"$f":"VLOOKUP(T845,Arkusz2!$G$2:$I$34,3,0)","v":{"$error":"#N/A"}},{"$f":"VLOOKUP(D845,Arkusz2!O813:P1950,2,0)","v":{"$error":"#N/A"}}]
[null,null,null,"..",{"$f":"VLOOKUP(D846,Arkusz2!$D$2:$E$1137,2,0)","v":{"$error":"#N/A"}},null,null,null,null,null,null,null,null,null,null,null,null,null,null,null,{"$f":"VLOOKUP(T846,Arkusz2!$G$2:$I$34,3,0)","v":{"$error":"#N/A"}},{"$f":"VLOOKUP(D846,Arkusz2!O814:P1951,2,0)","v":{"$error":"#N/A"}}]
[null,null,null,"..",{"$f":"VLOOKUP(D847,Arkusz2!$D$2:$E$1137,2,0)","v":{"$error":"#N/A"}},null,null,null,null,null,null,null,null,null,null,null,null,null,null,null,{"$f":"VLOOKUP(T847,Arkusz2!$G$2:$I$34,3,0)","v":{"$error":"#N/A"}},{"$f":"VLOOKUP(D847,Arkusz2!O815:P1952,2,0)","v":{"$error":"#N/A"}}]
[null,null,null,"..",{"$f":"VLOOKUP(D848,Arkusz2!$D$2:$E$1137,2,0)","v":{"$error":"#N/A"}},null,null,null,null,null,null,null,null,null,null,null,null,null,null,null,{"$f":"VLOOKUP(T848,Arkusz2!$G$2:$I$34,3,0)","v":{"$error":"#N/A"}},{"$f":"VLOOKUP(D848,Arkusz2!O816:P1953,2,0)","v":{"$error":"#N/A"}}]
[null,null,null,"..",{"$f":"VLOOKUP(D849,Arkusz2!$D$2:$E$1137,2,0)","v":{"$error":"#N/A"}},null,null,null,null,null,null,null,null,null,null,null,null,null,null,null,{"$f":"VLOOKUP(T849,Arkusz2!$G$2:$I$34,3,0)","v":{"$error":"#N/A"}},{"$f":"VLOOKUP(D849,Arkusz2!O817:P1954,2,0)","v":{"$error":"#N/A"}}]
[null,null,null,"..",{"$f":"VLOOKUP(D850,Arkusz2!$D$2:$E$1137,2,0)","v":{"$error":"#N/A"}},null,null,null,null,null,null,null,null,null,null,null,null,null,null,null,{"$f":"VLOOKUP(T850,Arkusz2!$G$2:$I$34,3,0)","v":{"$error":"#N/A"}},{"$f":"VLOOKUP(D850,Arkusz2!O818:P1955,2,0)","v":{"$error":"#N/A"}}]
[null,null,null,"..",{"$f":"VLOOKUP(D851,Arkusz2!$D$2:$E$1137,2,0)","v":{"$error":"#N/A"}},null,null,null,null,null,null,null,null,null,null,null,null,null,null,null,{"$f":"VLOOKUP(T851,Arkusz2!$G$2:$I$34,3,0)","v":{"$error":"#N/A"}},{"$f":"VLOOKUP(D851,Arkusz2!O819:P1956,2,0)","v":{"$error":"#N/A"}}]
[null,null,null,"..",{"$f":"VLOOKUP(D852,Arkusz2!$D$2:$E$1137,2,0)","v":{"$error":"#N/A"}},null,null,null,null,null,null,null,null,null,null,null,null,null,null,null,{"$f":"VLOOKUP(T852,Arkusz2!$G$2:$I$34,3,0)","v":{"$error":"#N/A"}},{"$f":"VLOOKUP(D852,Arkusz2!O820:P1957,2,0)","v":{"$error":"#N/A"}}]
[null,null,null,"..",{"$f":"VLOOKUP(D853,Arkusz2!$D$2:$E$1137,2,0)","v":{"$error":"#N/A"}},null,null,null,null,null,null,null,null,null,null,null,null,null,null,null,{"$f":"VLOOKUP(T853,Arkusz2!$G$2:$I$34,3,0)","v":{"$error":"#N/A"}},{"$f":"VLOOKUP(D853,Arkusz2!O821:P1958,2,0)","v":{"$error":"#N/A"}}]
[null,null,null,"..",{"$f":"VLOOKUP(D854,Arkusz2!$D$2:$E$1137,2,0)","v":{"$error":"#N/A"}},null,null,null,null,null,null,null,null,null,null,null,null,null,null,null,{"$f":"VLOOKUP(T854,Arkusz2!$G$2:$I$34,3,0)","v":{"$error":"#N/A"}},{"$f":"VLOOKUP(D854,Arkusz2!O822:P1959,2,0)","v":{"$error":"#N/A"}}]
[null,null,null,"..",{"$f":"VLOOKUP(D855,Arkusz2!$D$2:$E$1137,2,0)","v":{"$error":"#N/A"}},null,null,null,null,null,null,null,null,null,null,null,null,null,null,null,{"$f":"VLOOKUP(T855,Arkusz2!$G$2:$I$34,3,0)","v":{"$error":"#N/A"}},{"$f":"VLOOKUP(D855,Arkusz2!O823:P1960,2,0)","v":{"$error":"#N/A"}}]
[null,null,null,"..",{"$f":"VLOOKUP(D856,Arkusz2!$D$2:$E$1137,2,0)","v":{"$error":"#N/A"}},null,null,null,null,null,null,null,null,null,null,null,null,null,null,null,{"$f":"VLOOKUP(T856,Arkusz2!$G$2:$I$34,3,0)","v":{"$error":"#N/A"}},{"$f":"VLOOKUP(D856,Arkusz2!O824:P1961,2,0)","v":{"$error":"#N/A"}}]
[null,null,null,"..",{"$f":"VLOOKUP(D857,Arkusz2!$D$2:$E$1137,2,0)","v":{"$error":"#N/A"}},null,null,null,null,null,null,null,null,null,null,null,null,null,null,null,{"$f":"VLOOKUP(T857,Arkusz2!$G$2:$I$34,3,0)","v":{"$error":"#N/A"}},{"$f":"VLOOKUP(D857,Arkusz2!O825:P1962,2,0)","v":{"$error":"#N/A"}}]
[null,null,null,"..",{"$f":"VLOOKUP(D858,Arkusz2!$D$2:$E$1137,2,0)","v":{"$error":"#N/A"}},null,null,null,null,null,null,null,null,null,null,null,null,null,null,null,{"$f":"VLOOKUP(T858,Arkusz2!$G$2:$I$34,3,0)","v":{"$error":"#N/A"}},{"$f":"VLOOKUP(D858,Arkusz2!O826:P1963,2,0)","v":{"$error":"#N/A"}}]
[null,null,null,"..",{"$f":"VLOOKUP(D859,Arkusz2!$D$2:$E$1137,2,0)","v":{"$error":"#N/A"}},null,null,null,null,null,null,null,null,null,null,null,null,null,null,null,{"$f":"VLOOKUP(T859,Arkusz2!$G$2:$I$34,3,0)","v":{"$error":"#N/A"}},{"$f":"VLOOKUP(D859,Arkusz2!O827:P1964,2,0)","v":{"$error":"#N/A"}}]
[null,null,null,"..",{"$f":"VLOOKUP(D860,Arkusz2!$D$2:$E$1137,2,0)","v":{"$error":"#N/A"}},null,null,null,null,null,null,null,null,null,null,null,null,null,null,null,{"$f":"VLOOKUP(T860,Arkusz2!$G$2:$I$34,3,0)","v":{"$error":"#N/A"}},{"$f":"VLOOKUP(D860,Arkusz2!O828:P1965,2,0)","v":{"$error":"#N/A"}}]
[null,null,null,"..",{"$f":"VLOOKUP(D861,Arkusz2!$D$2:$E$1137,2,0)","v":{"$error":"#N/A"}},null,null,null,null,null,null,null,null,null,null,null,null,null,null,null,{"$f":"VLOOKUP(T861,Arkusz2!$G$2:$I$34,3,0)","v":{"$error":"#N/A"}},{"$f":"VLOOKUP(D861,Arkusz2!O829:P1966,2,0)","v":{"$error":"#N/A"}}]
[null,null,null,"..",{"$f":"VLOOKUP(D862,Arkusz2!$D$2:$E$1137,2,0)","v":{"$error":"#N/A"}},null,null,null,null,null,null,null,null,null,null,null,null,null,null,null,{"$f":"VLOOKUP(T862,Arkusz2!$G$2:$I$34,3,0)","v":{"$error":"#N/A"}},{"$f":"VLOOKUP(D862,Arkusz2!O830:P1967,2,0)","v":{"$error":"#N/A"}}]
[null,null,null,"..",{"$f":"VLOOKUP(D863,Arkusz2!$D$2:$E$1137,2,0)","v":{"$error":"#N/A"}},null,null,null,null,null,null,null,null,null,null,null,null,null,null,null,{"$f":"VLOOKUP(T863,Arkusz2!$G$2:$I$34,3,0)","v":{"$error":"#N/A"}},{"$f":"VLOOKUP(D863,Arkusz2!O831:P1968,2,0)","v":{"$error":"#N/A"}}]
[null,null,null,"..",{"$f":"VLOOKUP(D864,Arkusz2!$D$2:$E$1137,2,0)","v":{"$error":"#N/A"}},null,null,null,null,null,null,null,null,null,null,null,null,null,null,null,{"$f":"VLOOKUP(T864,Arkusz2!$G$2:$I$34,3,0)","v":{"$error":"#N/A"}},{"$f":"VLOOKUP(D864,Arkusz2!O832:P1969,2,0)","v":{"$error":"#N/A"}}]
[null,null,null,"..",{"$f":"VLOOKUP(D865,Arkusz2!$D$2:$E$1137,2,0)","v":{"$error":"#N/A"}},null,null,null,null,null,null,null,null,null,null,null,null,null,null,null,{"$f":"VLOOKUP(T865,Arkusz2!$G$2:$I$34,3,0)","v":{"$error":"#N/A"}},{"$f":"VLOOKUP(D865,Arkusz2!O833:P1970,2,0)","v":{"$error":"#N/A"}}]
[null,null,null,"..",{"$f":"VLOOKUP(D866,Arkusz2!$D$2:$E$1137,2,0)","v":{"$error":"#N/A"}},null,null,null,null,null,null,null,null,null,null,null,null,null,null,null,{"$f":"VLOOKUP(T866,Arkusz2!$G$2:$I$34,3,0)","v":{"$error":"#N/A"}},{"$f":"VLOOKUP(D866,Arkusz2!O834:P1971,2,0)","v":{"$error":"#N/A"}}]
[null,null,null,{"$f":"_xlfn.CONCAT(A867,\".\",B867,\".\",C867)","v":".."},{"$f":"VLOOKUP(D867,Arkusz2!$D$2:$E$1137,2,0)","v":{"$error":"#N/A"}},null,null,null,null,null,null,null,null,null,null,null,null,null,null,null,{"$f":"VLOOKUP(T867,Arkusz2!$G$2:$I$34,3,0)","v":{"$error":"#N/A"}},{"$f":"VLOOKUP(D867,Arkusz2!O835:P1972,2,0)","v":{"$error":"#N/A"}}]
[null,null,null,"..",{"$f":"VLOOKUP(D868,Arkusz2!$D$2:$E$1137,2,0)","v":{"$error":"#N/A"}},null,null,null,null,null,null,null,null,null,null,null,null,null,null,null,{"$f":"VLOOKUP(T868,Arkusz2!$G$2:$I$34,3,0)","v":{"$error":"#N/A"}},{"$f":"VLOOKUP(D868,Arkusz2!O836:P1973,2,0)","v":{"$error":"#N/A"}}]
[null,null,null,"..",{"$f":"VLOOKUP(D869,Arkusz2!$D$2:$E$1137,2,0)","v":{"$error":"#N/A"}},null,null,null,null,null,null,null,null,null,null,null,null,null,null,null,{"$f":"VLOOKUP(T869,Arkusz2!$G$2:$I$34,3,0)","v":{"$error":"#N/A"}},{"$f":"VLOOKUP(D869,Arkusz2!O837:P1974,2,0)","v":{"$error":"#N/A"}}]
[null,null,null,"..",{"$f":"VLOOKUP(D870,Arkusz2!$D$2:$E$1137,2,0)","v":{"$error":"#N/A"}},null,null,null,null,null,null,null,null,null,null,null,null,null,null,null,{"$f":"VLOOKUP(T870,Arkusz2!$G$2:$I$34,3,0)","v":{"$error":"#N/A"}},{"$f":"VLOOKUP(D870,Arkusz2!O838:P1975,2,0)","v":{"$error":"#N/A"}}]
[null,null,null,"..",{"$f":"VLOOKUP(D871,Arkusz2!$D$2:$E$1137,2,0)","v":{"$error":"#N/A"}},null,null,null,null,null,null,null,null,null,null,null,null,null,null,null,{"$f":"VLOOKUP(T871,Arkusz2!$G$2:$I$34,3,0)","v":{"$error":"#N/A"}},{"$f":"VLOOKUP(D871,Arkusz2!O839:P1976,2,0)","v":{"$error":"#N/A"}}]
[null,null,null,"..",{"$f":"VLOOKUP(D872,Arkusz2!$D$2:$E$1137,2,0)","v":{"$error":"#N/A"}},null,null,null,null,null,null,null,null,null,null,null,null,null,null,null,{"$f":"VLOOKUP(T872,Arkusz2!$G$2:$I$34,3,0)","v":{"$error":"#N/A"}},{"$f":"VLOOKUP(D872,Arkusz2!O840:P1977,2,0)","v":{"$error":"#N/A"}}]
[null,null,null,"..",{"$f":"VLOOKUP(D873,Arkusz2!$D$2:$E$1137,2,0)","v":{"$error":"#N/A"}},null,null,null,null,null,null,null,null,null,null,null,null,null,null,null,{"$f":"VLOOKUP(T873,Arkusz2!$G$2:$I$34,3,0)","v":{"$error":"#N/A"}},{"$f":"VLOOKUP(D873,Arkusz2!O841:P1978,2,0)","v":{"$error":"#N/A"}}]
[null,null,null,"..",{"$f":"VLOOKUP(D874,Arkusz2!$D$2:$E$1137,2,0)","v":{"$error":"#N/A"}},null,null,null,null,null,null,null,null,null,null,null,null,null,null,null,{"$f":"VLOOKUP(T874,Arkusz2!$G$2:$I$34,3,0)","v":{"$error":"#N/A"}},{"$f":"VLOOKUP(D874,Arkusz2!O842:P1979,2,0)","v":{"$error":"#N/A"}}]
[null,null,null,"..",{"$f":"VLOOKUP(D875,Arkusz2!$D$2:$E$1137,2,0)","v":{"$error":"#N/A"}},null,null,null,null,null,null,null,null,null,null,null,null,null,null,null,{"$f":"VLOOKUP(T875,Arkusz2!$G$2:$I$34,3,0)","v":{"$error":"#N/A"}},{"$f":"VLOOKUP(D875,Arkusz2!O843:P1980,2,0)","v":{"$error":"#N/A"}}]
[null,null,null,"..",{"$f":"VLOOKUP(D876,Arkusz2!$D$2:$E$1137,2,0)","v":{"$error":"#N/A"}},null,null,null,null,null,null,null,null,null,null,null,null,null,null,null,{"$f":"VLOOKUP(T876,Arkusz2!$G$2:$I$34,3,0)","v":{"$error":"#N/A"}},{"$f":"VLOOKUP(D876,Arkusz2!O844:P1981,2,0)","v":{"$error":"#N/A"}}]
[null,null,null,"..",{"$f":"VLOOKUP(D877,Arkusz2!$D$2:$E$1137,2,0)","v":{"$error":"#N/A"}},null,null,null,null,null,null,null,null,null,null,null,null,null,null,null,{"$f":"VLOOKUP(T877,Arkusz2!$G$2:$I$34,3,0)","v":{"$error":"#N/A"}},{"$f":"VLOOKUP(D877,Arkusz2!O845:P1982,2,0)","v":{"$error":"#N/A"}}]
[null,null,null,"..",{"$f":"VLOOKUP(D878,Arkusz2!$D$2:$E$1137,2,0)","v":{"$error":"#N/A"}},null,null,null,null,null,null,null,null,null,null,null,null,null,null,null,{"$f":"VLOOKUP(T878,Arkusz2!$G$2:$I$34,3,0)","v":{"$error":"#N/A"}},{"$f":"VLOOKUP(D878,Arkusz2!O846:P1983,2,0)","v":{"$error":"#N/A"}}]
[null,null,null,"..",{"$f":"VLOOKUP(D879,Arkusz2!$D$2:$E$1137,2,0)","v":{"$error":"#N/A"}},null,null,null,null,null,null,null,null,null,null,null,null,null,null,null,{"$f":"VLOOKUP(T879,Arkusz2!$G$2:$I$34,3,0)","v":{"$error":"#N/A"}},{"$f":"VLOOKUP(D879,Arkusz2!O847:P1984,2,0)","v":{"$error":"#N/A"}}]
[null,null,null,"..",{"$f":"VLOOKUP(D880,Arkusz2!$D$2:$E$1137,2,0)","v":{"$error":"#N/A"}},null,null,null,null,null,null,null,null,null,null,null,null,null,null,null,{"$f":"VLOOKUP(T880,Arkusz2!$G$2:$I$34,3,0)","v":{"$error":"#N/A"}},{"$f":"VLOOKUP(D880,Arkusz2!O848:P1985,2,0)","v":{"$error":"#N/A"}}]
[null,null,null,"..",{"$f":"VLOOKUP(D881,Arkusz2!$D$2:$E$1137,2,0)","v":{"$error":"#N/A"}},null,null,null,null,null,null,null,null,null,null,null,null,null,null,null,{"$f":"VLOOKUP(T881,Arkusz2!$G$2:$I$34,3,0)","v":{"$error":"#N/A"}},{"$f":"VLOOKUP(D881,Arkusz2!O849:P1986,2,0)","v":{"$error":"#N/A"}}]
[null,null,null,"..",{"$f":"VLOOKUP(D882,Arkusz2!$D$2:$E$1137,2,0)","v":{"$error":"#N/A"}},null,null,null,null,null,null,null,null,null,null,null,null,null,null,null,{"$f":"VLOOKUP(T882,Arkusz2!$G$2:$I$34,3,0)","v":{"$error":"#N/A"}},{"$f":"VLOOKUP(D882,Arkusz2!O850:P1987,2,0)","v":{"$error":"#N/A"}}]
[null,null,null,"..",{"$f":"VLOOKUP(D883,Arkusz2!$D$2:$E$1137,2,0)","v":{"$error":"#N/A"}},null,null,null,null,null,null,null,null,null,null,null,null,null,null,null,{"$f":"VLOOKUP(T883,Arkusz2!$G$2:$I$34,3,0)","v":{"$error":"#N/A"}},{"$f":"VLOOKUP(D883,Arkusz2!O851:P1988,2,0)","v":{"$error":"#N/A"}}]
[null,null,null,"..",{"$f":"VLOOKUP(D884,Arkusz2!$D$2:$E$1137,2,0)","v":{"$error":"#N/A"}},null,null,null,null,null,null,null,null,null,null,null,null,null,null,null,{"$f":"VLOOKUP(T884,Arkusz2!$G$2:$I$34,3,0)","v":{"$error":"#N/A"}},{"$f":"VLOOKUP(D884,Arkusz2!O852:P1989,2,0)","v":{"$error":"#N/A"}}]
[null,null,null,"..",{"$f":"VLOOKUP(D885,Arkusz2!$D$2:$E$1137,2,0)","v":{"$error":"#N/A"}},null,null,null,null,null,null,null,null,null,null,null,null,null,null,null,{"$f":"VLOOKUP(T885,Arkusz2!$G$2:$I$34,3,0)","v":{"$error":"#N/A"}},{"$f":"VLOOKUP(D885,Arkusz2!O853:P1990,2,0)","v":{"$error":"#N/A"}}]
[null,null,null,"..",{"$f":"VLOOKUP(D886,Arkusz2!$D$2:$E$1137,2,0)","v":{"$error":"#N/A"}},null,null,null,null,null,null,null,null,null,null,null,null,null,null,null,{"$f":"VLOOKUP(T886,Arkusz2!$G$2:$I$34,3,0)","v":{"$error":"#N/A"}},{"$f":"VLOOKUP(D886,Arkusz2!O854:P1991,2,0)","v":{"$error":"#N/A"}}]
[null,null,null,"..",{"$f":"VLOOKUP(D887,Arkusz2!$D$2:$E$1137,2,0)","v":{"$error":"#N/A"}},null,null,null,null,null,null,null,null,null,null,null,null,null,null,null,{"$f":"VLOOKUP(T887,Arkusz2!$G$2:$I$34,3,0)","v":{"$error":"#N/A"}},{"$f":"VLOOKUP(D887,Arkusz2!O855:P1992,2,0)","v":{"$error":"#N/A"}}]
[null,null,null,"..",{"$f":"VLOOKUP(D888,Arkusz2!$D$2:$E$1137,2,0)","v":{"$error":"#N/A"}},null,null,null,null,null,null,null,null,null,null,null,null,null,null,null,{"$f":"VLOOKUP(T888,Arkusz2!$G$2:$I$34,3,0)","v":{"$error":"#N/A"}},{"$f":"VLOOKUP(D888,Arkusz2!O856:P1993,2,0)","v":{"$error":"#N/A"}}]
[null,null,null,"..",{"$f":"VLOOKUP(D889,Arkusz2!$D$2:$E$1137,2,0)","v":{"$error":"#N/A"}},null,null,null,null,null,null,null,null,null,null,null,null,null,null,null,{"$f":"VLOOKUP(T889,Arkusz2!$G$2:$I$34,3,0)","v":{"$error":"#N/A"}},{"$f":"VLOOKUP(D889,Arkusz2!O857:P1994,2,0)","v":{"$error":"#N/A"}}]
[null,null,null,"..",{"$f":"VLOOKUP(D890,Arkusz2!$D$2:$E$1137,2,0)","v":{"$error":"#N/A"}},null,null,null,null,null,null,null,null,null,null,null,null,null,null,null,{"$f":"VLOOKUP(T890,Arkusz2!$G$2:$I$34,3,0)","v":{"$error":"#N/A"}},{"$f":"VLOOKUP(D890,Arkusz2!O858:P1995,2,0)","v":{"$error":"#N/A"}}]
[null,null,null,"..",{"$f":"VLOOKUP(D891,Arkusz2!$D$2:$E$1137,2,0)","v":{"$error":"#N/A"}},null,null,null,null,null,null,null,null,null,null,null,null,null,null,null,{"$f":"VLOOKUP(T891,Arkusz2!$G$2:$I$34,3,0)","v":{"$error":"#N/A"}},{"$f":"VLOOKUP(D891,Arkusz2!O859:P1996,2,0)","v":{"$error":"#N/A"}}]
[null,null,null,"..",{"$f":"VLOOKUP(D892,Arkusz2!$D$2:$E$1137,2,0)","v":{"$error":"#N/A"}},null,null,null,null,null,null,null,null,null,null,null,null,null,null,null,{"$f":"VLOOKUP(T892,Arkusz2!$G$2:$I$34,3,0)","v":{"$error":"#N/A"}},{"$f":"VLOOKUP(D892,Arkusz2!O860:P1997,2,0)","v":{"$error":"#N/A"}}]
[null,null,null,"..",{"$f":"VLOOKUP(D893,Arkusz2!$D$2:$E$1137,2,0)","v":{"$error":"#N/A"}},null,null,null,null,null,null,null,null,null,null,null,null,null,null,null,{"$f":"VLOOKUP(T893,Arkusz2!$G$2:$I$34,3,0)","v":{"$error":"#N/A"}},{"$f":"VLOOKUP(D893,Arkusz2!O861:P1998,2,0)","v":{"$error":"#N/A"}}]
[null,null,null,"..",{"$f":"VLOOKUP(D894,Arkusz2!$D$2:$E$1137,2,0)","v":{"$error":"#N/A"}},null,null,null,null,null,null,null,null,null,null,null,null,null,null,null,{"$f":"VLOOKUP(T894,Arkusz2!$G$2:$I$34,3,0)","v":{"$error":"#N/A"}},{"$f":"VLOOKUP(D894,Arkusz2!O862:P1999,2,0)","v":{"$error":"#N/A"}}]
[null,null,null,"..",{"$f":"VLOOKUP(D895,Arkusz2!$D$2:$E$1137,2,0)","v":{"$error":"#N/A"}},null,null,null,null,null,null,null,null,null,null,null,null,null,null,null,{"$f":"VLOOKUP(T895,Arkusz2!$G$2:$I$34,3,0)","v":{"$error":"#N/A"}},{"$f":"VLOOKUP(D895,Arkusz2!O863:P2000,2,0)","v":{"$error":"#N/A"}}]
[null,null,null,"..",{"$f":"VLOOKUP(D896,Arkusz2!$D$2:$E$1137,2,0)","v":{"$error":"#N/A"}},null,null,null,null,null,null,null,null,null,null,null,null,null,null,null,{"$f":"VLOOKUP(T896,Arkusz2!$G$2:$I$34,3,0)","v":{"$error":"#N/A"}},{"$f":"VLOOKUP(D896,Arkusz2!O864:P2001,2,0)","v":{"$error":"#N/A"}}]
[null,null,null,"..",{"$f":"VLOOKUP(D897,Arkusz2!$D$2:$E$1137,2,0)","v":{"$error":"#N/A"}},null,null,null,null,null,null,null,null,null,null,null,null,null,null,null,{"$f":"VLOOKUP(T897,Arkusz2!$G$2:$I$34,3,0)","v":{"$error":"#N/A"}},{"$f":"VLOOKUP(D897,Arkusz2!O865:P2002,2,0)","v":{"$error":"#N/A"}}]
[null,null,null,"..",{"$f":"VLOOKUP(D898,Arkusz2!$D$2:$E$1137,2,0)","v":{"$error":"#N/A"}},null,null,null,null,null,null,null,null,null,null,null,null,null,null,null,{"$f":"VLOOKUP(T898,Arkusz2!$G$2:$I$34,3,0)","v":{"$error":"#N/A"}},{"$f":"VLOOKUP(D898,Arkusz2!O866:P2003,2,0)","v":{"$error":"#N/A"}}]
[null,null,null,"..",{"$f":"VLOOKUP(D899,Arkusz2!$D$2:$E$1137,2,0)","v":{"$error":"#N/A"}},null,null,null,null,null,null,null,null,null,null,null,null,null,null,null,{"$f":"VLOOKUP(T899,Arkusz2!$G$2:$I$34,3,0)","v":{"$error":"#N/A"}},{"$f":"VLOOKUP(D899,Arkusz2!O867:P2004,2,0)","v":{"$error":"#N/A"}}]
[null,null,null,"..",{"$f":"VLOOKUP(D900,Arkusz2!$D$2:$E$1137,2,0)","v":{"$error":"#N/A"}},null,null,null,null,null,null,null,null,null,null,null,null,null,null,null,{"$f":"VLOOKUP(T900,Arkusz2!$G$2:$I$34,3,0)","v":{"$error":"#N/A"}},{"$f":"VLOOKUP(D900,Arkusz2!O868:P2005,2,0)","v":{"$error":"#N/A"}}]
[null,null,null,"..",{"$f":"VLOOKUP(D901,Arkusz2!$D$2:$E$1137,2,0)","v":{"$error":"#N/A"}},null,null,null,null,null,null,null,null,null,null,null,null,null,null,null,{"$f":"VLOOKUP(T901,Arkusz2!$G$2:$I$34,3,0)","v":{"$error":"#N/A"}},{"$f":"VLOOKUP(D901,Arkusz2!O869:P2006,2,0)","v":{"$error":"#N/A"}}]
[null,null,null,"..",{"$f":"VLOOKUP(D902,Arkusz2!$D$2:$E$1137,2,0)","v":{"$error":"#N/A"}},null,null,null,null,null,null,null,null,null,null,null,null,null,null,null,{"$f":"VLOOKUP(T902,Arkusz2!$G$2:$I$34,3,0)","v":{"$error":"#N/A"}},{"$f":"VLOOKUP(D902,Arkusz2!O870:P2007,2,0)","v":{"$error":"#N/A"}}]
[null,null,null,"..",{"$f":"VLOOKUP(D903,Arkusz2!$D$2:$E$1137,2,0)","v":{"$error":"#N/A"}},null,null,null,null,null,null,null,null,null,null,null,null,null,null,null,{"$f":"VLOOKUP(T903,Arkusz2!$G$2:$I$34,3,0)","v":{"$error":"#N/A"}},{"$f":"VLOOKUP(D903,Arkusz2!O871:P2008,2,0)","v":{"$error":"#N/A"}}]
[null,null,null,"..",{"$f":"VLOOKUP(D904,Arkusz2!$D$2:$E$1137,2,0)","v":{"$error":"#N/A"}},null,null,null,null,null,null,null,null,null,null,null,null,null,null,null,{"$f":"VLOOKUP(T904,Arkusz2!$G$2:$I$34,3,0)","v":{"$error":"#N/A"}},{"$f":"VLOOKUP(D904,Arkusz2!O872:P2009,2,0)","v":{"$error":"#N/A"}}]
[null,null,null,"..",{"$f":"VLOOKUP(D905,Arkusz2!$D$2:$E$1137,2,0)","v":{"$error":"#N/A"}},null,null,null,null,null,null,null,null,null,null,null,null,null,null,null,{"$f":"VLOOKUP(T905,Arkusz2!$G$2:$I$34,3,0)","v":{"$error":"#N/A"}},{"$f":"VLOOKUP(D905,Arkusz2!O873:P2010,2,0)","v":{"$error":"#N/A"}}]
[null,null,null,"..",{"$f":"VLOOKUP(D906,Arkusz2!$D$2:$E$1137,2,0)","v":{"$error":"#N/A"}},null,null,null,null,null,null,null,null,null,null,null,null,null,null,null,{"$f":"VLOOKUP(T906,Arkusz2!$G$2:$I$34,3,0)","v":{"$error":"#N/A"}},{"$f":"VLOOKUP(D906,Arkusz2!O874:P2011,2,0)","v":{"$error":"#N/A"}}]
[null,null,null,"..",{"$f":"VLOOKUP(D907,Arkusz2!$D$2:$E$1137,2,0)","v":{"$error":"#N/A"}},null,null,null,null,null,null,null,null,null,null,null,null,null,null,null,{"$f":"VLOOKUP(T907,Arkusz2!$G$2:$I$34,3,0)","v":{"$error":"#N/A"}},{"$f":"VLOOKUP(D907,Arkusz2!O875:P2012,2,0)","v":{"$error":"#N/A"}}]
[null,null,null,"..",{"$f":"VLOOKUP(D908,Arkusz2!$D$2:$E$1137,2,0)","v":{"$error":"#N/A"}},null,null,null,null,null,null,null,null,null,null,null,null,null,null,null,{"$f":"VLOOKUP(T908,Arkusz2!$G$2:$I$34,3,0)","v":{"$error":"#N/A"}},{"$f":"VLOOKUP(D908,Arkusz2!O876:P2013,2,0)","v":{"$error":"#N/A"}}]
[null,null,null,"..",{"$f":"VLOOKUP(D909,Arkusz2!$D$2:$E$1137,2,0)","v":{"$error":"#N/A"}},null,null,null,null,null,null,null,null,null,null,null,null,null,null,null,{"$f":"VLOOKUP(T909,Arkusz2!$G$2:$I$34,3,0)","v":{"$error":"#N/A"}},{"$f":"VLOOKUP(D909,Arkusz2!O877:P2014,2,0)","v":{"$error":"#N/A"}}]
[null,null,null,"..",{"$f":"VLOOKUP(D910,Arkusz2!$D$2:$E$1137,2,0)","v":{"$error":"#N/A"}},null,null,null,null,null,null,null,null,null,null,null,null,null,null,null,{"$f":"VLOOKUP(T910,Arkusz2!$G$2:$I$34,3,0)","v":{"$error":"#N/A"}},{"$f":"VLOOKUP(D910,Arkusz2!O878:P2015,2,0)","v":{"$error":"#N/A"}}]
[null,null,null,"..",{"$f":"VLOOKUP(D911,Arkusz2!$D$2:$E$1137,2,0)","v":{"$error":"#N/A"}},null,null,null,null,null,null,null,null,null,null,null,null,null,null,null,{"$f":"VLOOKUP(T911,Arkusz2!$G$2:$I$34,3,0)","v":{"$error":"#N/A"}},{"$f":"VLOOKUP(D911,Arkusz2!O879:P2016,2,0)","v":{"$error":"#N/A"}}]
[null,null,null,"..",{"$f":"VLOOKUP(D912,Arkusz2!$D$2:$E$1137,2,0)","v":{"$error":"#N/A"}},null,null,null,null,null,null,null,null,null,null,null,null,null,null,null,{"$f":"VLOOKUP(T912,Arkusz2!$G$2:$I$34,3,0)","v":{"$error":"#N/A"}},{"$f":"VLOOKUP(D912,Arkusz2!O880:P2017,2,0)","v":{"$error":"#N/A"}}]
[null,null,null,"..",{"$f":"VLOOKUP(D913,Arkusz2!$D$2:$E$1137,2,0)","v":{"$error":"#N/A"}},null,null,null,null,null,null,null,null,null,null,null,null,null,null,null,{"$f":"VLOOKUP(T913,Arkusz2!$G$2:$I$34,3,0)","v":{"$error":"#N/A"}},{"$f":"VLOOKUP(D913,Arkusz2!O881:P2018,2,0)","v":{"$error":"#N/A"}}]
[null,null,null,"..",{"$f":"VLOOKUP(D914,Arkusz2!$D$2:$E$1137,2,0)","v":{"$error":"#N/A"}},null,null,null,null,null,null,null,null,null,null,null,null,null,null,null,{"$f":"VLOOKUP(T914,Arkusz2!$G$2:$I$34,3,0)","v":{"$error":"#N/A"}},{"$f":"VLOOKUP(D914,Arkusz2!O882:P2019,2,0)","v":{"$error":"#N/A"}}]
[null,null,null,"..",{"$f":"VLOOKUP(D915,Arkusz2!$D$2:$E$1137,2,0)","v":{"$error":"#N/A"}},null,null,null,null,null,null,null,null,null,null,null,null,null,null,null,{"$f":"VLOOKUP(T915,Arkusz2!$G$2:$I$34,3,0)","v":{"$error":"#N/A"}},{"$f":"VLOOKUP(D915,Arkusz2!O883:P2020,2,0)","v":{"$error":"#N/A"}}]
[null,null,null,"..",{"$f":"VLOOKUP(D916,Arkusz2!$D$2:$E$1137,2,0)","v":{"$error":"#N/A"}},null,null,null,null,null,null,null,null,null,null,null,null,null,null,null,{"$f":"VLOOKUP(T916,Arkusz2!$G$2:$I$34,3,0)","v":{"$error":"#N/A"}},{"$f":"VLOOKUP(D916,Arkusz2!O884:P2021,2,0)","v":{"$error":"#N/A"}}]
[null,null,null,"..",{"$f":"VLOOKUP(D917,Arkusz2!$D$2:$E$1137,2,0)","v":{"$error":"#N/A"}},null,null,null,null,null,null,null,null,null,null,null,null,null,null,null,{"$f":"VLOOKUP(T917,Arkusz2!$G$2:$I$34,3,0)","v":{"$error":"#N/A"}},{"$f":"VLOOKUP(D917,Arkusz2!O885:P2022,2,0)","v":{"$error":"#N/A"}}]
[null,null,null,"..",{"$f":"VLOOKUP(D918,Arkusz2!$D$2:$E$1137,2,0)","v":{"$error":"#N/A"}},null,null,null,null,null,null,null,null,null,null,null,null,null,null,null,{"$f":"VLOOKUP(T918,Arkusz2!$G$2:$I$34,3,0)","v":{"$error":"#N/A"}},{"$f":"VLOOKUP(D918,Arkusz2!O886:P2023,2,0)","v":{"$error":"#N/A"}}]
[null,null,null,"..",{"$f":"VLOOKUP(D919,Arkusz2!$D$2:$E$1137,2,0)","v":{"$error":"#N/A"}},null,null,null,null,null,null,null,null,null,null,null,null,null,null,null,{"$f":"VLOOKUP(T919,Arkusz2!$G$2:$I$34,3,0)","v":{"$error":"#N/A"}},{"$f":"VLOOKUP(D919,Arkusz2!O887:P2024,2,0)","v":{"$error":"#N/A"}}]
[null,null,null,"..",{"$f":"VLOOKUP(D920,Arkusz2!$D$2:$E$1137,2,0)","v":{"$error":"#N/A"}},null,null,null,null,null,null,null,null,null,null,null,null,null,null,null,{"$f":"VLOOKUP(T920,Arkusz2!$G$2:$I$34,3,0)","v":{"$error":"#N/A"}},{"$f":"VLOOKUP(D920,Arkusz2!O888:P2025,2,0)","v":{"$error":"#N/A"}}]
[null,null,null,"..",{"$f":"VLOOKUP(D921,Arkusz2!$D$2:$E$1137,2,0)","v":{"$error":"#N/A"}},null,null,null,null,null,null,null,null,null,null,null,null,null,null,null,{"$f":"VLOOKUP(T921,Arkusz2!$G$2:$I$34,3,0)","v":{"$error":"#N/A"}},{"$f":"VLOOKUP(D921,Arkusz2!O889:P2026,2,0)","v":{"$error":"#N/A"}}]
[null,null,null,"..",{"$f":"VLOOKUP(D922,Arkusz2!$D$2:$E$1137,2,0)","v":{"$error":"#N/A"}},null,null,null,null,null,null,null,null,null,null,null,null,null,null,null,{"$f":"VLOOKUP(T922,Arkusz2!$G$2:$I$34,3,0)","v":{"$error":"#N/A"}},{"$f":"VLOOKUP(D922,Arkusz2!O890:P2027,2,0)","v":{"$error":"#N/A"}}]
[null,null,null,"..",{"$f":"VLOOKUP(D923,Arkusz2!$D$2:$E$1137,2,0)","v":{"$error":"#N/A"}},null,null,null,null,null,null,null,null,null,null,null,null,null,null,null,{"$f":"VLOOKUP(T923,Arkusz2!$G$2:$I$34,3,0)","v":{"$error":"#N/A"}},{"$f":"VLOOKUP(D923,Arkusz2!O891:P2028,2,0)","v":{"$error":"#N/A"}}]
[null,null,null,"..",{"$f":"VLOOKUP(D924,Arkusz2!$D$2:$E$1137,2,0)","v":{"$error":"#N/A"}},null,null,null,null,null,null,null,null,null,null,null,null,null,null,null,{"$f":"VLOOKUP(T924,Arkusz2!$G$2:$I$34,3,0)","v":{"$error":"#N/A"}},{"$f":"VLOOKUP(D924,Arkusz2!O892:P2029,2,0)","v":{"$error":"#N/A"}}]
[null,null,null,"..",{"$f":"VLOOKUP(D925,Arkusz2!$D$2:$E$1137,2,0)","v":{"$error":"#N/A"}},null,null,null,null,null,null,null,null,null,null,null,null,null,null,null,{"$f":"VLOOKUP(T925,Arkusz2!$G$2:$I$34,3,0)","v":{"$error":"#N/A"}},{"$f":"VLOOKUP(D925,Arkusz2!O893:P2030,2,0)","v":{"$error":"#N/A"}}]
[null,null,null,"..",{"$f":"VLOOKUP(D926,Arkusz2!$D$2:$E$1137,2,0)","v":{"$error":"#N/A"}},null,null,null,null,null,null,null,null,null,null,null,null,null,null,null,{"$f":"VLOOKUP(T926,Arkusz2!$G$2:$I$34,3,0)","v":{"$error":"#N/A"}},{"$f":"VLOOKUP(D926,Arkusz2!O894:P2031,2,0)","v":{"$error":"#N/A"}}]
[null,null,null,"..",{"$f":"VLOOKUP(D927,Arkusz2!$D$2:$E$1137,2,0)","v":{"$error":"#N/A"}},null,null,null,null,null,null,null,null,null,null,null,null,null,null,null,{"$f":"VLOOKUP(T927,Arkusz2!$G$2:$I$34,3,0)","v":{"$error":"#N/A"}},{"$f":"VLOOKUP(D927,Arkusz2!O895:P2032,2,0)","v":{"$error":"#N/A"}}]
[null,null,null,"..",{"$f":"VLOOKUP(D928,Arkusz2!$D$2:$E$1137,2,0)","v":{"$error":"#N/A"}},null,null,null,null,null,null,null,null,null,null,null,null,null,null,null,{"$f":"VLOOKUP(T928,Arkusz2!$G$2:$I$34,3,0)","v":{"$error":"#N/A"}},{"$f":"VLOOKUP(D928,Arkusz2!O896:P2033,2,0)","v":{"$error":"#N/A"}}]
[null,null,null,"..",{"$f":"VLOOKUP(D929,Arkusz2!$D$2:$E$1137,2,0)","v":{"$error":"#N/A"}},null,null,null,null,null,null,null,null,null,null,null,null,null,null,null,{"$f":"VLOOKUP(T929,Arkusz2!$G$2:$I$34,3,0)","v":{"$error":"#N/A"}},{"$f":"VLOOKUP(D929,Arkusz2!O897:P2034,2,0)","v":{"$error":"#N/A"}}]
[null,null,null,"..",{"$f":"VLOOKUP(D930,Arkusz2!$D$2:$E$1137,2,0)","v":{"$error":"#N/A"}},null,null,null,null,null,null,null,null,null,null,null,null,null,null,null,{"$f":"VLOOKUP(T930,Arkusz2!$G$2:$I$34,3,0)","v":{"$error":"#N/A"}},{"$f":"VLOOKUP(D930,Arkusz2!O898:P2035,2,0)","v":{"$error":"#N/A"}}]
[null,null,null,{"$f":"_xlfn.CONCAT(A931,\".\",B931,\".\",C931)","v":".."},{"$f":"VLOOKUP(D931,Arkusz2!$D$2:$E$1137,2,0)","v":{"$error":"#N/A"}},null,null,null,null,null,null,null,null,null,null,null,null,null,null,null,{"$f":"VLOOKUP(T931,Arkusz2!$G$2:$I$34,3,0)","v":{"$error":"#N/A"}},{"$f":"VLOOKUP(D931,Arkusz2!O899:P2036,2,0)","v":{"$error":"#N/A"}}]
[null,null,null,"..",{"$f":"VLOOKUP(D932,Arkusz2!$D$2:$E$1137,2,0)","v":{"$error":"#N/A"}},null,null,null,null,null,null,null,null,null,null,null,null,null,null,null,{"$f":"VLOOKUP(T932,Arkusz2!$G$2:$I$34,3,0)","v":{"$error":"#N/A"}},{"$f":"VLOOKUP(D932,Arkusz2!O900:P2037,2,0)","v":{"$error":"#N/A"}}]
[null,null,null,"..",{"$f":"VLOOKUP(D933,Arkusz2!$D$2:$E$1137,2,0)","v":{"$error":"#N/A"}},null,null,null,null,null,null,null,null,null,null,null,null,null,null,null,{"$f":"VLOOKUP(T933,Arkusz2!$G$2:$I$34,3,0)","v":{"$error":"#N/A"}},{"$f":"VLOOKUP(D933,Arkusz2!O901:P2038,2,0)","v":{"$error":"#N/A"}}]
[null,null,null,"..",{"$f":"VLOOKUP(D934,Arkusz2!$D$2:$E$1137,2,0)","v":{"$error":"#N/A"}},null,null,null,null,null,null,null,null,null,null,null,null,null,null,null,{"$f":"VLOOKUP(T934,Arkusz2!$G$2:$I$34,3,0)","v":{"$error":"#N/A"}},{"$f":"VLOOKUP(D934,Arkusz2!O902:P2039,2,0)","v":{"$error":"#N/A"}}]
[null,null,null,"..",{"$f":"VLOOKUP(D935,Arkusz2!$D$2:$E$1137,2,0)","v":{"$error":"#N/A"}},null,null,null,null,null,null,null,null,null,null,null,null,null,null,null,{"$f":"VLOOKUP(T935,Arkusz2!$G$2:$I$34,3,0)","v":{"$error":"#N/A"}},{"$f":"VLOOKUP(D935,Arkusz2!O903:P2040,2,0)","v":{"$error":"#N/A"}}]
[null,null,null,"..",{"$f":"VLOOKUP(D936,Arkusz2!$D$2:$E$1137,2,0)","v":{"$error":"#N/A"}},null,null,null,null,null,null,null,null,null,null,null,null,null,null,null,{"$f":"VLOOKUP(T936,Arkusz2!$G$2:$I$34,3,0)","v":{"$error":"#N/A"}},{"$f":"VLOOKUP(D936,Arkusz2!O904:P2041,2,0)","v":{"$error":"#N/A"}}]
[null,null,null,"..",{"$f":"VLOOKUP(D937,Arkusz2!$D$2:$E$1137,2,0)","v":{"$error":"#N/A"}},null,null,null,null,null,null,null,null,null,null,null,null,null,null,null,{"$f":"VLOOKUP(T937,Arkusz2!$G$2:$I$34,3,0)","v":{"$error":"#N/A"}},{"$f":"VLOOKUP(D937,Arkusz2!O905:P2042,2,0)","v":{"$error":"#N/A"}}]
[null,null,null,"..",{"$f":"VLOOKUP(D938,Arkusz2!$D$2:$E$1137,2,0)","v":{"$error":"#N/A"}},null,null,null,null,null,null,null,null,null,null,null,null,null,null,null,{"$f":"VLOOKUP(T938,Arkusz2!$G$2:$I$34,3,0)","v":{"$error":"#N/A"}},{"$f":"VLOOKUP(D938,Arkusz2!O906:P2043,2,0)","v":{"$error":"#N/A"}}]
[null,null,null,"..",{"$f":"VLOOKUP(D939,Arkusz2!$D$2:$E$1137,2,0)","v":{"$error":"#N/A"}},null,null,null,null,null,null,null,null,null,null,null,null,null,null,null,{"$f":"VLOOKUP(T939,Arkusz2!$G$2:$I$34,3,0)","v":{"$error":"#N/A"}},{"$f":"VLOOKUP(D939,Arkusz2!O907:P2044,2,0)","v":{"$error":"#N/A"}}]
[null,null,null,"..",{"$f":"VLOOKUP(D940,Arkusz2!$D$2:$E$1137,2,0)","v":{"$error":"#N/A"}},null,null,null,null,null,null,null,null,null,null,null,null,null,null,null,{"$f":"VLOOKUP(T940,Arkusz2!$G$2:$I$34,3,0)","v":{"$error":"#N/A"}},{"$f":"VLOOKUP(D940,Arkusz2!O908:P2045,2,0)","v":{"$error":"#N/A"}}]
[null,null,null,"..",{"$f":"VLOOKUP(D941,Arkusz2!$D$2:$E$1137,2,0)","v":{"$error":"#N/A"}},null,null,null,null,null,null,null,null,null,null,null,null,null,null,null,{"$f":"VLOOKUP(T941,Arkusz2!$G$2:$I$34,3,0)","v":{"$error":"#N/A"}},{"$f":"VLOOKUP(D941,Arkusz2!O909:P2046,2,0)","v":{"$error":"#N/A"}}]
[null,null,null,"..",{"$f":"VLOOKUP(D942,Arkusz2!$D$2:$E$1137,2,0)","v":{"$error":"#N/A"}},null,null,null,null,null,null,null,null,null,null,null,null,null,null,null,{"$f":"VLOOKUP(T942,Arkusz2!$G$2:$I$34,3,0)","v":{"$error":"#N/A"}},{"$f":"VLOOKUP(D942,Arkusz2!O910:P2047,2,0)","v":{"$error":"#N/A"}}]
[null,null,null,"..",{"$f":"VLOOKUP(D943,Arkusz2!$D$2:$E$1137,2,0)","v":{"$error":"#N/A"}},null,null,null,null,null,null,null,null,null,null,null,null,null,null,null,{"$f":"VLOOKUP(T943,Arkusz2!$G$2:$I$34,3,0)","v":{"$error":"#N/A"}},{"$f":"VLOOKUP(D943,Arkusz2!O911:P2048,2,0)","v":{"$error":"#N/A"}}]
[null,null,null,"..",{"$f":"VLOOKUP(D944,Arkusz2!$D$2:$E$1137,2,0)","v":{"$error":"#N/A"}},null,null,null,null,null,null,null,null,null,null,null,null,null,null,null,{"$f":"VLOOKUP(T944,Arkusz2!$G$2:$I$34,3,0)","v":{"$error":"#N/A"}},{"$f":"VLOOKUP(D944,Arkusz2!O912:P2049,2,0)","v":{"$error":"#N/A"}}]
[null,null,null,"..",{"$f":"VLOOKUP(D945,Arkusz2!$D$2:$E$1137,2,0)","v":{"$error":"#N/A"}},null,null,null,null,null,null,null,null,null,null,null,null,null,null,null,{"$f":"VLOOKUP(T945,Arkusz2!$G$2:$I$34,3,0)","v":{"$error":"#N/A"}},{"$f":"VLOOKUP(D945,Arkusz2!O913:P2050,2,0)","v":{"$error":"#N/A"}}]
[null,null,null,"..",{"$f":"VLOOKUP(D946,Arkusz2!$D$2:$E$1137,2,0)","v":{"$error":"#N/A"}},null,null,null,null,null,null,null,null,null,null,null,null,null,null,null,{"$f":"VLOOKUP(T946,Arkusz2!$G$2:$I$34,3,0)","v":{"$error":"#N/A"}},{"$f":"VLOOKUP(D946,Arkusz2!O914:P2051,2,0)","v":{"$error":"#N/A"}}]
[null,null,null,"..",{"$f":"VLOOKUP(D947,Arkusz2!$D$2:$E$1137,2,0)","v":{"$error":"#N/A"}},null,null,null,null,null,null,null,null,null,null,null,null,null,null,null,{"$f":"VLOOKUP(T947,Arkusz2!$G$2:$I$34,3,0)","v":{"$error":"#N/A"}},{"$f":"VLOOKUP(D947,Arkusz2!O915:P2052,2,0)","v":{"$error":"#N/A"}}]
[null,null,null,"..",{"$f":"VLOOKUP(D948,Arkusz2!$D$2:$E$1137,2,0)","v":{"$error":"#N/A"}},null,null,null,null,null,null,null,null,null,null,null,null,null,null,null,{"$f":"VLOOKUP(T948,Arkusz2!$G$2:$I$34,3,0)","v":{"$error":"#N/A"}},{"$f":"VLOOKUP(D948,Arkusz2!O916:P2053,2,0)","v":{"$error":"#N/A"}}]
[null,null,null,"..",{"$f":"VLOOKUP(D949,Arkusz2!$D$2:$E$1137,2,0)","v":{"$error":"#N/A"}},null,null,null,null,null,null,null,null,null,null,null,null,null,null,null,{"$f":"VLOOKUP(T949,Arkusz2!$G$2:$I$34,3,0)","v":{"$error":"#N/A"}},{"$f":"VLOOKUP(D949,Arkusz2!O917:P2054,2,0)","v":{"$error":"#N/A"}}]
[null,null,null,"..",{"$f":"VLOOKUP(D950,Arkusz2!$D$2:$E$1137,2,0)","v":{"$error":"#N/A"}},null,null,null,null,null,null,null,null,null,null,null,null,null,null,null,{"$f":"VLOOKUP(T950,Arkusz2!$G$2:$I$34,3,0)","v":{"$error":"#N/A"}},{"$f":"VLOOKUP(D950,Arkusz2!O918:P2055,2,0)","v":{"$error":"#N/A"}}]
[null,null,null,"..",{"$f":"VLOOKUP(D951,Arkusz2!$D$2:$E$1137,2,0)","v":{"$error":"#N/A"}},null,null,null,null,null,null,null,null,null,null,null,null,null,null,null,{"$f":"VLOOKUP(T951,Arkusz2!$G$2:$I$34,3,0)","v":{"$error":"#N/A"}},{"$f":"VLOOKUP(D951,Arkusz2!O919:P2056,2,0)","v":{"$error":"#N/A"}}]
[null,null,null,"..",{"$f":"VLOOKUP(D952,Arkusz2!$D$2:$E$1137,2,0)","v":{"$error":"#N/A"}},null,null,null,null,null,null,null,null,null,null,null,null,null,null,null,{"$f":"VLOOKUP(T952,Arkusz2!$G$2:$I$34,3,0)","v":{"$error":"#N/A"}},{"$f":"VLOOKUP(D952,Arkusz2!O920:P2057,2,0)","v":{"$error":"#N/A"}}]
[null,null,null,"..",{"$f":"VLOOKUP(D953,Arkusz2!$D$2:$E$1137,2,0)","v":{"$error":"#N/A"}},null,null,null,null,null,null,null,null,null,null,null,null,null,null,null,{"$f":"VLOOKUP(T953,Arkusz2!$G$2:$I$34,3,0)","v":{"$error":"#N/A"}},{"$f":"VLOOKUP(D953,Arkusz2!O921:P2058,2,0)","v":{"$error":"#N/A"}}]
[null,null,null,"..",{"$f":"VLOOKUP(D954,Arkusz2!$D$2:$E$1137,2,0)","v":{"$error":"#N/A"}},null,null,null,null,null,null,null,null,null,null,null,null,null,null,null,{"$f":"VLOOKUP(T954,Arkusz2!$G$2:$I$34,3,0)","v":{"$error":"#N/A"}},{"$f":"VLOOKUP(D954,Arkusz2!O922:P2059,2,0)","v":{"$error":"#N/A"}}]
[null,null,null,"..",{"$f":"VLOOKUP(D955,Arkusz2!$D$2:$E$1137,2,0)","v":{"$error":"#N/A"}},null,null,null,null,null,null,null,null,null,null,null,null,null,null,null,{"$f":"VLOOKUP(T955,Arkusz2!$G$2:$I$34,3,0)","v":{"$error":"#N/A"}},{"$f":"VLOOKUP(D955,Arkusz2!O923:P2060,2,0)","v":{"$error":"#N/A"}}]
[null,null,null,"..",{"$f":"VLOOKUP(D956,Arkusz2!$D$2:$E$1137,2,0)","v":{"$error":"#N/A"}},null,null,null,null,null,null,null,null,null,null,null,null,null,null,null,{"$f":"VLOOKUP(T956,Arkusz2!$G$2:$I$34,3,0)","v":{"$error":"#N/A"}},{"$f":"VLOOKUP(D956,Arkusz2!O924:P2061,2,0)","v":{"$error":"#N/A"}}]
[null,null,null,"..",{"$f":"VLOOKUP(D957,Arkusz2!$D$2:$E$1137,2,0)","v":{"$error":"#N/A"}},null,null,null,null,null,null,null,null,null,null,null,null,null,null,null,{"$f":"VLOOKUP(T957,Arkusz2!$G$2:$I$34,3,0)","v":{"$error":"#N/A"}},{"$f":"VLOOKUP(D957,Arkusz2!O925:P2062,2,0)","v":{"$error":"#N/A"}}]
[null,null,null,"..",{"$f":"VLOOKUP(D958,Arkusz2!$D$2:$E$1137,2,0)","v":{"$error":"#N/A"}},null,null,null,null,null,null,null,null,null,null,null,null,null,null,null,{"$f":"VLOOKUP(T958,Arkusz2!$G$2:$I$34,3,0)","v":{"$error":"#N/A"}},{"$f":"VLOOKUP(D958,Arkusz2!O926:P2063,2,0)","v":{"$error":"#N/A"}}]
[null,null,null,"..",{"$f":"VLOOKUP(D959,Arkusz2!$D$2:$E$1137,2,0)","v":{"$error":"#N/A"}},null,null,null,null,null,null,null,null,null,null,null,null,null,null,null,{"$f":"VLOOKUP(T959,Arkusz2!$G$2:$I$34,3,0)","v":{"$error":"#N/A"}},{"$f":"VLOOKUP(D959,Arkusz2!O927:P2064,2,0)","v":{"$error":"#N/A"}}]
[null,null,null,"..",{"$f":"VLOOKUP(D960,Arkusz2!$D$2:$E$1137,2,0)","v":{"$error":"#N/A"}},null,null,null,null,null,null,null,null,null,null,null,null,null,null,null,{"$f":"VLOOKUP(T960,Arkusz2!$G$2:$I$34,3,0)","v":{"$error":"#N/A"}},{"$f":"VLOOKUP(D960,Arkusz2!O928:P2065,2,0)","v":{"$error":"#N/A"}}]
[null,null,null,"..",{"$f":"VLOOKUP(D961,Arkusz2!$D$2:$E$1137,2,0)","v":{"$error":"#N/A"}},null,null,null,null,null,null,null,null,null,null,null,null,null,null,null,{"$f":"VLOOKUP(T961,Arkusz2!$G$2:$I$34,3,0)","v":{"$error":"#N/A"}},{"$f":"VLOOKUP(D961,Arkusz2!O929:P2066,2,0)","v":{"$error":"#N/A"}}]
[null,null,null,"..",{"$f":"VLOOKUP(D962,Arkusz2!$D$2:$E$1137,2,0)","v":{"$error":"#N/A"}},null,null,null,null,null,null,null,null,null,null,null,null,null,null,null,{"$f":"VLOOKUP(T962,Arkusz2!$G$2:$I$34,3,0)","v":{"$error":"#N/A"}},{"$f":"VLOOKUP(D962,Arkusz2!O930:P2067,2,0)","v":{"$error":"#N/A"}}]
[null,null,null,"..",{"$f":"VLOOKUP(D963,Arkusz2!$D$2:$E$1137,2,0)","v":{"$error":"#N/A"}},null,null,null,null,null,null,null,null,null,null,null,null,null,null,null,{"$f":"VLOOKUP(T963,Arkusz2!$G$2:$I$34,3,0)","v":{"$error":"#N/A"}},{"$f":"VLOOKUP(D963,Arkusz2!O931:P2068,2,0)","v":{"$error":"#N/A"}}]
[null,null,null,"..",{"$f":"VLOOKUP(D964,Arkusz2!$D$2:$E$1137,2,0)","v":{"$error":"#N/A"}},null,null,null,null,null,null,null,null,null,null,null,null,null,null,null,{"$f":"VLOOKUP(T964,Arkusz2!$G$2:$I$34,3,0)","v":{"$error":"#N/A"}},{"$f":"VLOOKUP(D964,Arkusz2!O932:P2069,2,0)","v":{"$error":"#N/A"}}]
[null,null,null,"..",{"$f":"VLOOKUP(D965,Arkusz2!$D$2:$E$1137,2,0)","v":{"$error":"#N/A"}},null,null,null,null,null,null,null,null,null,null,null,null,null,null,null,{"$f":"VLOOKUP(T965,Arkusz2!$G$2:$I$34,3,0)","v":{"$error":"#N/A"}},{"$f":"VLOOKUP(D965,Arkusz2!O933:P2070,2,0)","v":{"$error":"#N/A"}}]
[null,null,null,"..",{"$f":"VLOOKUP(D966,Arkusz2!$D$2:$E$1137,2,0)","v":{"$error":"#N/A"}},null,null,null,null,null,null,null,null,null,null,null,null,null,null,null,{"$f":"VLOOKUP(T966,Arkusz2!$G$2:$I$34,3,0)","v":{"$error":"#N/A"}},{"$f":"VLOOKUP(D966,Arkusz2!O934:P2071,2,0)","v":{"$error":"#N/A"}}]
[null,null,null,"..",{"$f":"VLOOKUP(D967,Arkusz2!$D$2:$E$1137,2,0)","v":{"$error":"#N/A"}},null,null,null,null,null,null,null,null,null,null,null,null,null,null,null,{"$f":"VLOOKUP(T967,Arkusz2!$G$2:$I$34,3,0)","v":{"$error":"#N/A"}},{"$f":"VLOOKUP(D967,Arkusz2!O935:P2072,2,0)","v":{"$error":"#N/A"}}]
[null,null,null,"..",{"$f":"VLOOKUP(D968,Arkusz2!$D$2:$E$1137,2,0)","v":{"$error":"#N/A"}},null,null,null,null,null,null,null,null,null,null,null,null,null,null,null,{"$f":"VLOOKUP(T968,Arkusz2!$G$2:$I$34,3,0)","v":{"$error":"#N/A"}},{"$f":"VLOOKUP(D968,Arkusz2!O936:P2073,2,0)","v":{"$error":"#N/A"}}]
[null,null,null,"..",{"$f":"VLOOKUP(D969,Arkusz2!$D$2:$E$1137,2,0)","v":{"$error":"#N/A"}},null,null,null,null,null,null,null,null,null,null,null,null,null,null,null,{"$f":"VLOOKUP(T969,Arkusz2!$G$2:$I$34,3,0)","v":{"$error":"#N/A"}},{"$f":"VLOOKUP(D969,Arkusz2!O937:P2074,2,0)","v":{"$error":"#N/A"}}]
[null,null,null,"..",{"$f":"VLOOKUP(D970,Arkusz2!$D$2:$E$1137,2,0)","v":{"$error":"#N/A"}},null,null,null,null,null,null,null,null,null,null,null,null,null,null,null,{"$f":"VLOOKUP(T970,Arkusz2!$G$2:$I$34,3,0)","v":{"$error":"#N/A"}},{"$f":"VLOOKUP(D970,Arkusz2!O938:P2075,2,0)","v":{"$error":"#N/A"}}]
[null,null,null,"..",{"$f":"VLOOKUP(D971,Arkusz2!$D$2:$E$1137,2,0)","v":{"$error":"#N/A"}},null,null,null,null,null,null,null,null,null,null,null,null,null,null,null,{"$f":"VLOOKUP(T971,Arkusz2!$G$2:$I$34,3,0)","v":{"$error":"#N/A"}},{"$f":"VLOOKUP(D971,Arkusz2!O939:P2076,2,0)","v":{"$error":"#N/A"}}]
[null,null,null,"..",{"$f":"VLOOKUP(D972,Arkusz2!$D$2:$E$1137,2,0)","v":{"$error":"#N/A"}},null,null,null,null,null,null,null,null,null,null,null,null,null,null,null,{"$f":"VLOOKUP(T972,Arkusz2!$G$2:$I$34,3,0)","v":{"$error":"#N/A"}},{"$f":"VLOOKUP(D972,Arkusz2!O940:P2077,2,0)","v":{"$error":"#N/A"}}]
[null,null,null,"..",{"$f":"VLOOKUP(D973,Arkusz2!$D$2:$E$1137,2,0)","v":{"$error":"#N/A"}},null,null,null,null,null,null,null,null,null,null,null,null,null,null,null,{"$f":"VLOOKUP(T973,Arkusz2!$G$2:$I$34,3,0)","v":{"$error":"#N/A"}},{"$f":"VLOOKUP(D973,Arkusz2!O941:P2078,2,0)","v":{"$error":"#N/A"}}]
[null,null,null,"..",{"$f":"VLOOKUP(D974,Arkusz2!$D$2:$E$1137,2,0)","v":{"$error":"#N/A"}},null,null,null,null,null,null,null,null,null,null,null,null,null,null,null,{"$f":"VLOOKUP(T974,Arkusz2!$G$2:$I$34,3,0)","v":{"$error":"#N/A"}},{"$f":"VLOOKUP(D974,Arkusz2!O942:P2079,2,0)","v":{"$error":"#N/A"}}]
[null,null,null,"..",{"$f":"VLOOKUP(D975,Arkusz2!$D$2:$E$1137,2,0)","v":{"$error":"#N/A"}},null,null,null,null,null,null,null,null,null,null,null,null,null,null,null,{"$f":"VLOOKUP(T975,Arkusz2!$G$2:$I$34,3,0)","v":{"$error":"#N/A"}},{"$f":"VLOOKUP(D975,Arkusz2!O943:P2080,2,0)","v":{"$error":"#N/A"}}]
[null,null,null,"..",{"$f":"VLOOKUP(D976,Arkusz2!$D$2:$E$1137,2,0)","v":{"$error":"#N/A"}},null,null,null,null,null,null,null,null,null,null,null,null,null,null,null,{"$f":"VLOOKUP(T976,Arkusz2!$G$2:$I$34,3,0)","v":{"$error":"#N/A"}},{"$f":"VLOOKUP(D976,Arkusz2!O944:P2081,2,0)","v":{"$error":"#N/A"}}]
[null,null,null,"..",{"$f":"VLOOKUP(D977,Arkusz2!$D$2:$E$1137,2,0)","v":{"$error":"#N/A"}},null,null,null,null,null,null,null,null,null,null,null,null,null,null,null,{"$f":"VLOOKUP(T977,Arkusz2!$G$2:$I$34,3,0)","v":{"$error":"#N/A"}},{"$f":"VLOOKUP(D977,Arkusz2!O945:P2082,2,0)","v":{"$error":"#N/A"}}]
[null,null,null,"..",{"$f":"VLOOKUP(D978,Arkusz2!$D$2:$E$1137,2,0)","v":{"$error":"#N/A"}},null,null,null,null,null,null,null,null,null,null,null,null,null,null,null,{"$f":"VLOOKUP(T978,Arkusz2!$G$2:$I$34,3,0)","v":{"$error":"#N/A"}},{"$f":"VLOOKUP(D978,Arkusz2!O946:P2083,2,0)","v":{"$error":"#N/A"}}]
[null,null,null,"..",{"$f":"VLOOKUP(D979,Arkusz2!$D$2:$E$1137,2,0)","v":{"$error":"#N/A"}},null,null,null,null,null,null,null,null,null,null,null,null,null,null,null,{"$f":"VLOOKUP(T979,Arkusz2!$G$2:$I$34,3,0)","v":{"$error":"#N/A"}},{"$f":"VLOOKUP(D979,Arkusz2!O947:P2084,2,0)","v":{"$error":"#N/A"}}]
[null,null,null,"..",{"$f":"VLOOKUP(D980,Arkusz2!$D$2:$E$1137,2,0)","v":{"$error":"#N/A"}},null,null,null,null,null,null,null,null,null,null,null,null,null,null,null,{"$f":"VLOOKUP(T980,Arkusz2!$G$2:$I$34,3,0)","v":{"$error":"#N/A"}},{"$f":"VLOOKUP(D980,Arkusz2!O948:P2085,2,0)","v":{"$error":"#N/A"}}]
[null,null,null,"..",{"$f":"VLOOKUP(D981,Arkusz2!$D$2:$E$1137,2,0)","v":{"$error":"#N/A"}},null,null,null,null,null,null,null,null,null,null,null,null,null,null,null,{"$f":"VLOOKUP(T981,Arkusz2!$G$2:$I$34,3,0)","v":{"$error":"#N/A"}},{"$f":"VLOOKUP(D981,Arkusz2!O949:P2086,2,0)","v":{"$error":"#N/A"}}]
[null,null,null,"..",{"$f":"VLOOKUP(D982,Arkusz2!$D$2:$E$1137,2,0)","v":{"$error":"#N/A"}},null,null,null,null,null,null,null,null,null,null,null,null,null,null,null,{"$f":"VLOOKUP(T982,Arkusz2!$G$2:$I$34,3,0)","v":{"$error":"#N/A"}},{"$f":"VLOOKUP(D982,Arkusz2!O950:P2087,2,0)","v":{"$error":"#N/A"}}]
[null,null,null,"..",{"$f":"VLOOKUP(D983,Arkusz2!$D$2:$E$1137,2,0)","v":{"$error":"#N/A"}},null,null,null,null,null,null,null,null,null,null,null,null,null,null,null,{"$f":"VLOOKUP(T983,Arkusz2!$G$2:$I$34,3,0)","v":{"$error":"#N/A"}},{"$f":"VLOOKUP(D983,Arkusz2!O951:P2088,2,0)","v":{"$error":"#N/A"}}]
[null,null,null,"..",{"$f":"VLOOKUP(D984,Arkusz2!$D$2:$E$1137,2,0)","v":{"$error":"#N/A"}},null,null,null,null,null,null,null,null,null,null,null,null,null,null,null,{"$f":"VLOOKUP(T984,Arkusz2!$G$2:$I$34,3,0)","v":{"$error":"#N/A"}},{"$f":"VLOOKUP(D984,Arkusz2!O952:P2089,2,0)","v":{"$error":"#N/A"}}]
[null,null,null,"..",{"$f":"VLOOKUP(D985,Arkusz2!$D$2:$E$1137,2,0)","v":{"$error":"#N/A"}},null,null,null,null,null,null,null,null,null,null,null,null,null,null,null,{"$f":"VLOOKUP(T985,Arkusz2!$G$2:$I$34,3,0)","v":{"$error":"#N/A"}},{"$f":"VLOOKUP(D985,Arkusz2!O953:P2090,2,0)","v":{"$error":"#N/A"}}]
[null,null,null,"..",{"$f":"VLOOKUP(D986,Arkusz2!$D$2:$E$1137,2,0)","v":{"$error":"#N/A"}},null,null,null,null,null,null,null,null,null,null,null,null,null,null,null,{"$f":"VLOOKUP(T986,Arkusz2!$G$2:$I$34,3,0)","v":{"$error":"#N/A"}},{"$f":"VLOOKUP(D986,Arkusz2!O954:P2091,2,0)","v":{"$error":"#N/A"}}]
[null,null,null,"..",{"$f":"VLOOKUP(D987,Arkusz2!$D$2:$E$1137,2,0)","v":{"$error":"#N/A"}},null,null,null,null,null,null,null,null,null,null,null,null,null,null,null,{"$f":"VLOOKUP(T987,Arkusz2!$G$2:$I$34,3,0)","v":{"$error":"#N/A"}},{"$f":"VLOOKUP(D987,Arkusz2!O955:P2092,2,0)","v":{"$error":"#N/A"}}]
[null,null,null,"..",{"$f":"VLOOKUP(D988,Arkusz2!$D$2:$E$1137,2,0)","v":{"$error":"#N/A"}},null,null,null,null,null,null,null,null,null,null,null,null,null,null,null,{"$f":"VLOOKUP(T988,Arkusz2!$G$2:$I$34,3,0)","v":{"$error":"#N/A"}},{"$f":"VLOOKUP(D988,Arkusz2!O956:P2093,2,0)","v":{"$error":"#N/A"}}]
[null,null,null,"..",{"$f":"VLOOKUP(D989,Arkusz2!$D$2:$E$1137,2,0)","v":{"$error":"#N/A"}},null,null,null,null,null,null,null,null,null,null,null,null,null,null,null,{"$f":"VLOOKUP(T989,Arkusz2!$G$2:$I$34,3,0)","v":{"$error":"#N/A"}},{"$f":"VLOOKUP(D989,Arkusz2!O957:P2094,2,0)","v":{"$error":"#N/A"}}]
[null,null,null,"..",{"$f":"VLOOKUP(D990,Arkusz2!$D$2:$E$1137,2,0)","v":{"$error":"#N/A"}},null,null,null,null,null,null,null,null,null,null,null,null,null,null,null,{"$f":"VLOOKUP(T990,Arkusz2!$G$2:$I$34,3,0)","v":{"$error":"#N/A"}},{"$f":"VLOOKUP(D990,Arkusz2!O958:P2095,2,0)","v":{"$error":"#N/A"}}]
[null,null,null,"..",{"$f":"VLOOKUP(D991,Arkusz2!$D$2:$E$1137,2,0)","v":{"$error":"#N/A"}},null,null,null,null,null,null,null,null,null,null,null,null,null,null,null,{"$f":"VLOOKUP(T991,Arkusz2!$G$2:$I$34,3,0)","v":{"$error":"#N/A"}},{"$f":"VLOOKUP(D991,Arkusz2!O959:P2096,2,0)","v":{"$error":"#N/A"}}]
[null,null,null,"..",{"$f":"VLOOKUP(D992,Arkusz2!$D$2:$E$1137,2,0)","v":{"$error":"#N/A"}},null,null,null,null,null,null,null,null,null,null,null,null,null,null,null,{"$f":"VLOOKUP(T992,Arkusz2!$G$2:$I$34,3,0)","v":{"$error":"#N/A"}},{"$f":"VLOOKUP(D992,Arkusz2!O960:P2097,2,0)","v":{"$error":"#N/A"}}]
[null,null,null,"..",{"$f":"VLOOKUP(D993,Arkusz2!$D$2:$E$1137,2,0)","v":{"$error":"#N/A"}},null,null,null,null,null,null,null,null,null,null,null,null,null,null,null,{"$f":"VLOOKUP(T993,Arkusz2!$G$2:$I$34,3,0)","v":{"$error":"#N/A"}},{"$f":"VLOOKUP(D993,Arkusz2!O961:P2098,2,0)","v":{"$error":"#N/A"}}]
[null,null,null,"..",{"$f":"VLOOKUP(D994,Arkusz2!$D$2:$E$1137,2,0)","v":{"$error":"#N/A"}},null,null,null,null,null,null,null,null,null,null,null,null,null,null,null,{"$f":"VLOOKUP(T994,Arkusz2!$G$2:$I$34,3,0)","v":{"$error":"#N/A"}},{"$f":"VLOOKUP(D994,Arkusz2!O962:P2099,2,0)","v":{"$error":"#N/A"}}]
[null,null,null,{"$f":"_xlfn.CONCAT(A995,\".\",B995,\".\",C995)","v":".."},{"$f":"VLOOKUP(D995,Arkusz2!$D$2:$E$1137,2,0)","v":{"$error":"#N/A"}},null,null,null,null,null,null,null,null,null,null,null,null,null,null,null,{"$f":"VLOOKUP(T995,Arkusz2!$G$2:$I$34,3,0)","v":{"$error":"#N/A"}},{"$f":"VLOOKUP(D995,Arkusz2!O963:P2100,2,0)","v":{"$error":"#N/A"}}]
[null,null,null,"..",{"$f":"VLOOKUP(D996,Arkusz2!$D$2:$E$1137,2,0)","v":{"$error":"#N/A"}},null,null,null,null,null,null,null,null,null,null,null,null,null,null,null,{"$f":"VLOOKUP(T996,Arkusz2!$G$2:$I$34,3,0)","v":{"$error":"#N/A"}},{"$f":"VLOOKUP(D996,Arkusz2!O964:P2101,2,0)","v":{"$error":"#N/A"}}]
[null,null,null,"..",{"$f":"VLOOKUP(D997,Arkusz2!$D$2:$E$1137,2,0)","v":{"$error":"#N/A"}},null,null,null,null,null,null,null,null,null,null,null,null,null,null,null,{"$f":"VLOOKUP(T997,Arkusz2!$G$2:$I$34,3,0)","v":{"$error":"#N/A"}},{"$f":"VLOOKUP(D997,Arkusz2!O965:P2102,2,0)","v":{"$error":"#N/A"}}]
[null,null,null,"..",{"$f":"VLOOKUP(D998,Arkusz2!$D$2:$E$1137,2,0)","v":{"$error":"#N/A"}},null,null,null,null,null,null,null,null,null,null,null,null,null,null,null,{"$f":"VLOOKUP(T998,Arkusz2!$G$2:$I$34,3,0)","v":{"$error":"#N/A"}},{"$f":"VLOOKUP(D998,Arkusz2!O966:P2103,2,0)","v":{"$error":"#N/A"}}]
[null,null,null,"..",{"$f":"VLOOKUP(D999,Arkusz2!$D$2:$E$1137,2,0)","v":{"$error":"#N/A"}},null,null,null,null,null,null,null,null,null,null,null,null,null,null,null,{"$f":"VLOOKUP(T999,Arkusz2!$G$2:$I$34,3,0)","v":{"$error":"#N/A"}},{"$f":"VLOOKUP(D999,Arkusz2!O967:P2104,2,0)","v":{"$error":"#N/A"}}]
[null,null,null,"..",{"$f":"VLOOKUP(D1000,Arkusz2!$D$2:$E$1137,2,0)","v":{"$error":"#N/A"}},null,null,null,null,null,null,null,null,null,null,null,null,null,null,null,{"$f":"VLOOKUP(T1000,Arkusz2!$G$2:$I$34,3,0)","v":{"$error":"#N/A"}},{"$f":"VLOOKUP(D1000,Arkusz2!O968:P2105,2,0)","v":{"$error":"#N/A"}}]
[null,null,null,"..",{"$f":"VLOOKUP(D1001,Arkusz2!$D$2:$E$1137,2,0)","v":{"$error":"#N/A"}},null,null,null,null,null,null,null,null,null,null,null,null,null,null,null,{"$f":"VLOOKUP(T1001,Arkusz2!$G$2:$I$34,3,0)","v":{"$error":"#N/A"}},{"$f":"VLOOKUP(D1001,Arkusz2!O969:P2106,2,0)","v":{"$error":"#N/A"}}]
[null,null,null,"..",{"$f":"VLOOKUP(D1002,Arkusz2!$D$2:$E$1137,2,0)","v":{"$error":"#N/A"}},null,null,null,null,null,null,null,null,null,null,null,null,null,null,null,{"$f":"VLOOKUP(T1002,Arkusz2!$G$2:$I$34,3,0)","v":{"$error":"#N/A"}},{"$f":"VLOOKUP(D1002,Arkusz2!O970:P2107,2,0)","v":{"$error":"#N/A"}}]
[null,null,null,"..",{"$f":"VLOOKUP(D1003,Arkusz2!$D$2:$E$1137,2,0)","v":{"$error":"#N/A"}},null,null,null,null,null,null,null,null,null,null,null,null,null,null,null,{"$f":"VLOOKUP(T1003,Arkusz2!$G$2:$I$34,3,0)","v":{"$error":"#N/A"}},{"$f":"VLOOKUP(D1003,Arkusz2!O971:P2108,2,0)","v":{"$error":"#N/A"}}]
[null,null,null,"..",{"$f":"VLOOKUP(D1004,Arkusz2!$D$2:$E$1137,2,0)","v":{"$error":"#N/A"}},null,null,null,null,null,null,null,null,null,null,null,null,null,null,null,{"$f":"VLOOKUP(T1004,Arkusz2!$G$2:$I$34,3,0)","v":{"$error":"#N/A"}},{"$f":"VLOOKUP(D1004,Arkusz2!O972:P2109,2,0)","v":{"$error":"#N/A"}}]
[null,null,null,"..",{"$f":"VLOOKUP(D1005,Arkusz2!$D$2:$E$1137,2,0)","v":{"$error":"#N/A"}},null,null,null,null,null,null,null,null,null,null,null,null,null,null,null,{"$f":"VLOOKUP(T1005,Arkusz2!$G$2:$I$34,3,0)","v":{"$error":"#N/A"}},{"$f":"VLOOKUP(D1005,Arkusz2!O973:P2110,2,0)","v":{"$error":"#N/A"}}]
[null,null,null,"..",{"$f":"VLOOKUP(D1006,Arkusz2!$D$2:$E$1137,2,0)","v":{"$error":"#N/A"}},null,null,null,null,null,null,null,null,null,null,null,null,null,null,null,{"$f":"VLOOKUP(T1006,Arkusz2!$G$2:$I$34,3,0)","v":{"$error":"#N/A"}},{"$f":"VLOOKUP(D1006,Arkusz2!O974:P2111,2,0)","v":{"$error":"#N/A"}}]
[null,null,null,"..",{"$f":"VLOOKUP(D1007,Arkusz2!$D$2:$E$1137,2,0)","v":{"$error":"#N/A"}},null,null,null,null,null,null,null,null,null,null,null,null,null,null,null,{"$f":"VLOOKUP(T1007,Arkusz2!$G$2:$I$34,3,0)","v":{"$error":"#N/A"}},{"$f":"VLOOKUP(D1007,Arkusz2!O975:P2112,2,0)","v":{"$error":"#N/A"}}]
[null,null,null,"..",{"$f":"VLOOKUP(D1008,Arkusz2!$D$2:$E$1137,2,0)","v":{"$error":"#N/A"}},null,null,null,null,null,null,null,null,null,null,null,null,null,null,null,{"$f":"VLOOKUP(T1008,Arkusz2!$G$2:$I$34,3,0)","v":{"$error":"#N/A"}},{"$f":"VLOOKUP(D1008,Arkusz2!O976:P2113,2,0)","v":{"$error":"#N/A"}}]
[null,null,null,"..",{"$f":"VLOOKUP(D1009,Arkusz2!$D$2:$E$1137,2,0)","v":{"$error":"#N/A"}},null,null,null,null,null,null,null,null,null,null,null,null,null,null,null,{"$f":"VLOOKUP(T1009,Arkusz2!$G$2:$I$34,3,0)","v":{"$error":"#N/A"}},{"$f":"VLOOKUP(D1009,Arkusz2!O977:P2114,2,0)","v":{"$error":"#N/A"}}]
[null,null,null,"..",{"$f":"VLOOKUP(D1010,Arkusz2!$D$2:$E$1137,2,0)","v":{"$error":"#N/A"}},null,null,null,null,null,null,null,null,null,null,null,null,null,null,null,{"$f":"VLOOKUP(T1010,Arkusz2!$G$2:$I$34,3,0)","v":{"$error":"#N/A"}},{"$f":"VLOOKUP(D1010,Arkusz2!O978:P2115,2,0)","v":{"$error":"#N/A"}}]
[null,null,null,"..",{"$f":"VLOOKUP(D1011,Arkusz2!$D$2:$E$1137,2,0)","v":{"$error":"#N/A"}},null,null,null,null,null,null,null,null,null,null,null,null,null,null,null,{"$f":"VLOOKUP(T1011,Arkusz2!$G$2:$I$34,3,0)","v":{"$error":"#N/A"}},{"$f":"VLOOKUP(D1011,Arkusz2!O979:P2116,2,0)","v":{"$error":"#N/A"}}]
[null,null,null,"..",{"$f":"VLOOKUP(D1012,Arkusz2!$D$2:$E$1137,2,0)","v":{"$error":"#N/A"}},null,null,null,null,null,null,null,null,null,null,null,null,null,null,null,{"$f":"VLOOKUP(T1012,Arkusz2!$G$2:$I$34,3,0)","v":{"$error":"#N/A"}},{"$f":"VLOOKUP(D1012,Arkusz2!O980:P2117,2,0)","v":{"$error":"#N/A"}}]
[null,null,null,"..",{"$f":"VLOOKUP(D1013,Arkusz2!$D$2:$E$1137,2,0)","v":{"$error":"#N/A"}},null,null,null,null,null,null,null,null,null,null,null,null,null,null,null,{"$f":"VLOOKUP(T1013,Arkusz2!$G$2:$I$34,3,0)","v":{"$error":"#N/A"}},{"$f":"VLOOKUP(D1013,Arkusz2!O981:P2118,2,0)","v":{"$error":"#N/A"}}]
[null,null,null,"..",{"$f":"VLOOKUP(D1014,Arkusz2!$D$2:$E$1137,2,0)","v":{"$error":"#N/A"}},null,null,null,null,null,null,null,null,null,null,null,null,null,null,null,{"$f":"VLOOKUP(T1014,Arkusz2!$G$2:$I$34,3,0)","v":{"$error":"#N/A"}},{"$f":"VLOOKUP(D1014,Arkusz2!O982:P2119,2,0)","v":{"$error":"#N/A"}}]
[null,null,null,"..",{"$f":"VLOOKUP(D1015,Arkusz2!$D$2:$E$1137,2,0)","v":{"$error":"#N/A"}},null,null,null,null,null,null,null,null,null,null,null,null,null,null,null,{"$f":"VLOOKUP(T1015,Arkusz2!$G$2:$I$34,3,0)","v":{"$error":"#N/A"}},{"$f":"VLOOKUP(D1015,Arkusz2!O983:P2120,2,0)","v":{"$error":"#N/A"}}]
[null,null,null,"..",{"$f":"VLOOKUP(D1016,Arkusz2!$D$2:$E$1137,2,0)","v":{"$error":"#N/A"}},null,null,null,null,null,null,null,null,null,null,null,null,null,null,null,{"$f":"VLOOKUP(T1016,Arkusz2!$G$2:$I$34,3,0)","v":{"$error":"#N/A"}},{"$f":"VLOOKUP(D1016,Arkusz2!O984:P2121,2,0)","v":{"$error":"#N/A"}}]
[null,null,null,"..",{"$f":"VLOOKUP(D1017,Arkusz2!$D$2:$E$1137,2,0)","v":{"$error":"#N/A"}},null,null,null,null,null,null,null,null,null,null,null,null,null,null,null,{"$f":"VLOOKUP(T1017,Arkusz2!$G$2:$I$34,3,0)","v":{"$error":"#N/A"}},{"$f":"VLOOKUP(D1017,Arkusz2!O985:P2122,2,0)","v":{"$error":"#N/A"}}]
[null,null,null,"..",{"$f":"VLOOKUP(D1018,Arkusz2!$D$2:$E$1137,2,0)","v":{"$error":"#N/A"}},null,null,null,null,null,null,null,null,null,null,null,null,null,null,null,{"$f":"VLOOKUP(T1018,Arkusz2!$G$2:$I$34,3,0)","v":{"$error":"#N/A"}},{"$f":"VLOOKUP(D1018,Arkusz2!O986:P2123,2,0)","v":{"$error":"#N/A"}}]
[null,null,null,"..",{"$f":"VLOOKUP(D1019,Arkusz2!$D$2:$E$1137,2,0)","v":{"$error":"#N/A"}},null,null,null,null,null,null,null,null,null,null,null,null,null,null,null,{"$f":"VLOOKUP(T1019,Arkusz2!$G$2:$I$34,3,0)","v":{"$error":"#N/A"}},{"$f":"VLOOKUP(D1019,Arkusz2!O987:P2124,2,0)","v":{"$error":"#N/A"}}]
[null,null,null,"..",{"$f":"VLOOKUP(D1020,Arkusz2!$D$2:$E$1137,2,0)","v":{"$error":"#N/A"}},null,null,null,null,null,null,null,null,null,null,null,null,null,null,null,{"$f":"VLOOKUP(T1020,Arkusz2!$G$2:$I$34,3,0)","v":{"$error":"#N/A"}},{"$f":"VLOOKUP(D1020,Arkusz2!O988:P2125,2,0)","v":{"$error":"#N/A"}}]
[null,null,null,"..",{"$f":"VLOOKUP(D1021,Arkusz2!$D$2:$E$1137,2,0)","v":{"$error":"#N/A"}},null,null,null,null,null,null,null,null,null,null,null,null,null,null,null,{"$f":"VLOOKUP(T1021,Arkusz2!$G$2:$I$34,3,0)","v":{"$error":"#N/A"}},{"$f":"VLOOKUP(D1021,Arkusz2!O989:P2126,2,0)","v":{"$error":"#N/A"}}]
[null,null,null,"..",{"$f":"VLOOKUP(D1022,Arkusz2!$D$2:$E$1137,2,0)","v":{"$error":"#N/A"}},null,null,null,null,null,null,null,null,null,null,null,null,null,null,null,{"$f":"VLOOKUP(T1022,Arkusz2!$G$2:$I$34,3,0)","v":{"$error":"#N/A"}},{"$f":"VLOOKUP(D1022,Arkusz2!O990:P2127,2,0)","v":{"$error":"#N/A"}}]
[null,null,null,"..",{"$f":"VLOOKUP(D1023,Arkusz2!$D$2:$E$1137,2,0)","v":{"$error":"#N/A"}},null,null,null,null,null,null,null,null,null,null,null,null,null,null,null,{"$f":"VLOOKUP(T1023,Arkusz2!$G$2:$I$34,3,0)","v":{"$error":"#N/A"}},{"$f":"VLOOKUP(D1023,Arkusz2!O991:P2128,2,0)","v":{"$error":"#N/A"}}]
[null,null,null,"..",{"$f":"VLOOKUP(D1024,Arkusz2!$D$2:$E$1137,2,0)","v":{"$error":"#N/A"}},null,null,null,null,null,null,null,null,null,null,null,null,null,null,null,{"$f":"VLOOKUP(T1024,Arkusz2!$G$2:$I$34,3,0)","v":{"$error":"#N/A"}},{"$f":"VLOOKUP(D1024,Arkusz2!O992:P2129,2,0)","v":{"$error":"#N/A"}}]
[null,null,null,"..",{"$f":"VLOOKUP(D1025,Arkusz2!$D$2:$E$1137,2,0)","v":{"$error":"#N/A"}},null,null,null,null,null,null,null,null,null,null,null,null,null,null,null,{"$f":"VLOOKUP(T1025,Arkusz2!$G$2:$I$34,3,0)","v":{"$error":"#N/A"}},{"$f":"VLOOKUP(D1025,Arkusz2!O993:P2130,2,0)","v":{"$error":"#N/A"}}]
[null,null,null,"..",{"$f":"VLOOKUP(D1026,Arkusz2!$D$2:$E$1137,2,0)","v":{"$error":"#N/A"}},null,null,null,null,null,null,null,null,null,null,null,null,null,null,null,{"$f":"VLOOKUP(T1026,Arkusz2!$G$2:$I$34,3,0)","v":{"$error":"#N/A"}},{"$f":"VLOOKUP(D1026,Arkusz2!O994:P2131,2,0)","v":{"$error":"#N/A"}}]
[null,null,null,"..",{"$f":"VLOOKUP(D1027,Arkusz2!$D$2:$E$1137,2,0)","v":{"$error":"#N/A"}},null,null,null,null,null,null,null,null,null,null,null,null,null,null,null,{"$f":"VLOOKUP(T1027,Arkusz2!$G$2:$I$34,3,0)","v":{"$error":"#N/A"}},{"$f":"VLOOKUP(D1027,Arkusz2!O995:P2132,2,0)","v":{"$error":"#N/A"}}]
[null,null,null,"..",{"$f":"VLOOKUP(D1028,Arkusz2!$D$2:$E$1137,2,0)","v":{"$error":"#N/A"}},null,null,null,null,null,null,null,null,null,null,null,null,null,null,null,{"$f":"VLOOKUP(T1028,Arkusz2!$G$2:$I$34,3,0)","v":{"$error":"#N/A"}},{"$f":"VLOOKUP(D1028,Arkusz2!O996:P2133,2,0)","v":{"$error":"#N/A"}}]
[null,null,null,"..",{"$f":"VLOOKUP(D1029,Arkusz2!$D$2:$E$1137,2,0)","v":{"$error":"#N/A"}},null,null,null,null,null,null,null,null,null,null,null,null,null,null,null,{"$f":"VLOOKUP(T1029,Arkusz2!$G$2:$I$34,3,0)","v":{"$error":"#N/A"}},{"$f":"VLOOKUP(D1029,Arkusz2!O997:P2134,2,0)","v":{"$error":"#N/A"}}]
[null,null,null,"..",{"$f":"VLOOKUP(D1030,Arkusz2!$D$2:$E$1137,2,0)","v":{"$error":"#N/A"}},null,null,null,null,null,null,null,null,null,null,null,null,null,null,null,{"$f":"VLOOKUP(T1030,Arkusz2!$G$2:$I$34,3,0)","v":{"$error":"#N/A"}},{"$f":"VLOOKUP(D1030,Arkusz2!O998:P2135,2,0)","v":{"$error":"#N/A"}}]
[null,null,null,"..",{"$f":"VLOOKUP(D1031,Arkusz2!$D$2:$E$1137,2,0)","v":{"$error":"#N/A"}},null,null,null,null,null,null,null,null,null,null,null,null,null,null,null,{"$f":"VLOOKUP(T1031,Arkusz2!$G$2:$I$34,3,0)","v":{"$error":"#N/A"}},{"$f":"VLOOKUP(D1031,Arkusz2!O999:P2136,2,0)","v":{"$error":"#N/A"}}]
[null,null,null,"..",{"$f":"VLOOKUP(D1032,Arkusz2!$D$2:$E$1137,2,0)","v":{"$error":"#N/A"}},null,null,null,null,null,null,null,null,null,null,null,null,null,null,null,{"$f":"VLOOKUP(T1032,Arkusz2!$G$2:$I$34,3,0)","v":{"$error":"#N/A"}},{"$f":"VLOOKUP(D1032,Arkusz2!O1000:P2137,2,0)","v":{"$error":"#N/A"}}]

{"sheet":"Arkusz1","index":1,"n_rows":0,"n_cols":0,"rows_kept":0,"cut":false,"hidden":false,"merged":[]}

{"sheet":"Arkusz2","index":2,"n_rows":1139,"n_cols":17,"rows_kept":1139,"cut":false,"hidden":true,"merged":[]}
["Program","Priorytet","Numer działania","Działanie - kod","Działanie - nazwa","Sposób wyboru","Kod - wersja w CST2021","Kod - wersja w SFC2021","Kod i nazwa - wersja w CST2021","Kod i nazwa - wersja w CST2021","Fundusz - kod","Realizacja instrumentów terytorialnych","Wnioskodawcy - typy ogólne","Wnioskodawcy - typy szczegółowe","Działanie - kod","Fundusz - kod","Kwartały"]
["FEDS","01","01","FEDS.01.01","Rozwój jednostek naukowych","konkurencyjny","EFRR.CP1.I","RSO1.1","Rozwijanie i wzmacnianie zdolności badawczych i innowacyjnych oraz wykorzystywanie zaawansowanych technologii","EFRR.CP1.I Rozwijanie i wzmacnianie zdolności badawczych i innowacyjnych oraz wykorzystywanie zaawansowanych technologii","EFRR","IIT","Przedsiębiorstwa","MŚP","FEDS.01.01","EFRR","I kwartał 2024"]
["FEKP","02","02","FEDS.01.02","Innowacyjne przedsiębiorstwa","niekonkurencyjny","EFRR.CP1.II","RSO1.2","Czerpanie korzyści z cyfryzacji dla obywateli, przedsiębiorstw, organizacji badawczych i instytucji publicznych","EFRR.CP1.II Czerpanie korzyści z cyfryzacji dla obywateli, przedsiębiorstw, organizacji badawczych i instytucji publicznych","EFRR PT","RKLS","Osoby fizyczne","Duże przedsiębiorstwa","FEDS.01.02","EFRR","II kwartał 2024"]
["FELB","03","03","FEDS.01.03","Cyfryzacja usług publicznych",null,"EFRR.CP1.III","RSO1.3","Wzmacnianie trwałego wzrostu i konkurencyjności MŚP oraz tworzenie miejsc pracy w MŚP, w tym poprzez inwestycje produkcyjne","EFRR.CP1.III Wzmacnianie trwałego wzrostu i konkurencyjności MŚP oraz tworzenie miejsc pracy w MŚP, w tym poprzez inwestycje produkcyjne","EFS+","ZIT","Administracja publiczna","Osoby fizyczne","FEDS.01.03","EFRR","III kwartał 2024"]
["FELD","04","04","FEDS.01.04","Wsparcie rozwoju MŚP",null,"EFRR.CP1.IV","RSO1.4","Rozwijanie umiejętności w zakresie inteligentnej specjalizacji, transformacji przemysłowej i przedsiębiorczości","EFRR.CP1.IV Rozwijanie umiejętności w zakresie inteligentnej specjalizacji, transformacji przemysłowej i przedsiębiorczości","EFS+ PT","Nie dotyczy","Przedsiębiorstwa realizujące cele publiczne","Administracja rządowa","FEDS.01.04","EFRR","IV kwartał 2024"]
["FELU","05","05","FEDS.01.05","Instrumenty finansowe dla MŚP",null,"EFRR/FS.CP2.I","RSO2.1","Wspieranie efektywności energetycznej i redukcji emisji gazów cieplarnianych","EFRR/FS.CP2.I Wspieranie efektywności energetycznej i redukcji emisji gazów cieplarnianych","FST",null,"Instytucje wspierające biznes","Jednostki Samorządu Terytorialnego","FEDS.01.05","EFRR","I kwartał 2025"]
["FEMA","06","06","FEDS.02.01","Efektywność energetyczna w budynkach publicznych",null,"EFRR/FS.CP2.II","RSO2.2","Wspieranie energii odnawialnej zgodnie z dyrektywą (UE) 2018/2001, w tym określonymi w niej kryteriami zrównoważonego rozwoju","EFRR/FS.CP2.II Wspieranie energii odnawialnej zgodnie z dyrektywą (UE) 2018/2001, w tym określonymi w niej kryteriami zrównoważonego rozwoju","FST PT",null,"Partnerstwa","Zarządcy infrastruktury kolejowej","FEDS.02.01","EFRR","II kwartał 2025"]
["FEMP","07","07","FEDS.02.02","Efektywność energetyczna w budynkach mieszkalnych",null,"EFRR/FS.CP2.IV","RSO2.4","Wspieranie przystosowania się do zmian klimatu i zapobiegania ryzyku związanemu z klęskami żywiołowymi i katastrofami, a także odporności, z uwzględnieniem podejścia ekosystemowego","EFRR/FS.CP2.IV Wspieranie przystosowania się do zmian klimatu i zapobiegania ryzyku związanemu z klęskami żywiołowymi i katastrofami, a także odporności, z uwzględnieniem podejścia ekosystemowego",null,null,"Służby publiczne","Przedsiębiorstwa kolejowych przewozów towarowych","FEDS.02.02","EFRR","III kwartał 2025"]
["FEOP","08","08","FEDS.02.03","Instrumenty finansowe na efektywność energetyczną",null,"EFRR/FS.CP2.V","RSO2.5","Wspieranie dostępu do wody oraz zrównoważonej gospodarki wodnej","EFRR/FS.CP2.V Wspieranie dostępu do wody oraz zrównoważonej gospodarki wodnej",null,null,"Instytucje ochrony zdrowia","Podmioty zarządzające terenami inwestycyjnymi","FEDS.02.03","EFRR","IV kwartał 2025"]
["FEPD","09","09","FEDS.02.04","Innowacje w OZE",null,"EFRR/FS.CP2.VI","RSO2.6","Wspieranie transformacji w kierunku gospodarki o obiegu zamkniętym i gospodarki zasobooszczędnej","EFRR/FS.CP2.VI Wspieranie transformacji w kierunku gospodarki o obiegu zamkniętym i gospodarki zasobooszczędnej",null,null,"Organizacje społeczne i związki wyznaniowe","Porty lotnicze","FEDS.02.04","EFRR","I kwartał 2026"]
["FEPK","10","10","FEDS.02.05","Instrumenty finansowe na OZE",null,"EFRR/FS.CP2.VII","RSO2.7","Wzmacnianie ochrony i zachowania przyrody, różnorodności biologicznej oraz zielonej infrastruktury, w tym na obszarach miejskich, oraz ograniczanie wszelkich rodzajów zanieczyszczenia","EFRR/FS.CP2.VII Wzmacnianie ochrony i zachowania przyrody, różnorodności biologicznej oraz zielonej infrastruktury, w tym na obszarach miejskich, oraz ograniczanie wszelkich rodzajów zanieczyszczenia",null,null,"Instytucje nauki i edukacji","Zarządzający portami morskimi i wodnymi śródlądowymi","FEDS.02.05","EFRR","II kwartał 2026"]
["FEPM","11","11","FEDS.02.06","Gospodarka ściekowa - ZIT",null,"EFRR/FS.CP2.VIII","RSO2.8","Wspieranie zrównoważonej multimodalnej mobilności miejskiej jako elementu transformacji w kierunku gospodarki zeroemisyjnej","EFRR/FS.CP2.VIII Wspieranie zrównoważonej multimodalnej mobilności miejskiej jako elementu transformacji w kierunku gospodarki zeroemisyjnej",null,null,"Partnerzy społeczni","Organizatorzy i operatorzy publicznego transportu zbiorowego","FEDS.02.06","EFRR","III kwartał 2026"]
["FEPZ","12","12","FEDS.02.07","Ochrona przyrody i klimatu",null,"EFRR/FS.CP3.II","RSO3.2","Rozwój i udoskonalanie zrównoważonej, odpornej na zmiany klimatu, inteligentnej i intermodalnej mobilności na poziomie krajowym, regionalnym i lokalnym, w tym poprawę dostępu do TEN-T oraz mobilności transgranicznej","EFRR/FS.CP3.II Rozwój i udoskonalanie zrównoważonej, odpornej na zmiany klimatu, inteligentnej i intermodalnej mobilności na poziomie krajowym, regionalnym i lokalnym, w tym poprawę dostępu do TEN-T oraz mobilności transgranicznej",null,null,"Zintegrowane Inwestycje Terytorialne (ZIT)","Spółki wodne","FEDS.02.07","EFRR","IV kwartał 2026"]
["FESL","13","13","FEDS.02.08","Efektywność energetyczna w budynkach publicznych - ZIT",null,"EFRR.CP4.II","RSO4.2","Poprawa równego dostępu do wysokiej jakości usług sprzyjających włączeniu społecznemu w zakresie kształcenia, szkoleń i uczenia się przez całe życie poprzez rozwój łatwo dostępnej infrastruktury, w tym poprzez wspieranie odporności w zakresie kształcenia i szkolenia na odległość oraz online","EFRR.CP4.II Poprawa równego dostępu do wysokiej jakości usług sprzyjających włączeniu społecznemu w zakresie kształcenia, szkoleń i uczenia się przez całe życie poprzez rozwój łatwo dostępnej infrastruktury, w tym poprzez wspieranie odporności w zakresie kształcenia i szkolenia na odległość oraz online",null,null,"Rozwój lokalny kierowany przez społeczność (RLKS)","Zarządcy infrastruktury dworcowej","FEDS.02.08","EFRR","I kwartał 2027"]
["FESW","14","14","FEDS.02.09","Gospodarka ściekowa - IIT",null,"EFRR.CP4.III","RSO4.3","Wspieranie włączenia społeczno-gospodarczego społeczności marginalizowanych, gospodarstw domowych o niskich dochodach oraz grup w niekorzystnej sytuacji, w tym osób o szczególnych potrzebach, dzięki zintegrowanym działaniom obejmującym usługi mieszkaniowe i usługi społeczne","EFRR.CP4.III Wspieranie włączenia społeczno-gospodarczego społeczności marginalizowanych, gospodarstw domowych o niskich dochodach oraz grup w niekorzystnej sytuacji, w tym osób o szczególnych potrzebach, dzięki zintegrowanym działaniom obejmującym usługi mieszkaniowe i usługi społeczne",null,null,null,"Przedsiębiorstwa kolejowych przewozów pasażerskich","FEDS.02.09","EFRR","II kwartał 2027"]
["FEWM",null,"15","FEDS.02.10","Ochrona przyrody i klimatu - ZIT",null,"EFRR.CP4.IV","RSO4.4","Wspieranie integracji społeczno-gospodarczej obywateli państw trzecich, w tym migrantów, dzięki zintegrowanym działaniom obejmującym usługi mieszkaniowe i usługi społeczne","EFRR.CP4.IV Wspieranie integracji społeczno-gospodarczej obywateli państw trzecich, w tym migrantów, dzięki zintegrowanym działaniom obejmującym usługi mieszkaniowe i usługi społeczne",null,null,null,"Przedsiębiorstwa działające w zakresie transportu intermodalnego","FEDS.02.10","EFRR","III kwartał 2027"]
["FEWP",null,"16","FEDS.03.01","Ekotransport miejski i podmiejski – ZIT",null,"EFRR.CP4.V","RSO4.5","Zapewnianie równego dostępu do opieki zdrowotnej i wspieranie odporności systemów opieki zdrowotnej, w tym podstawowej opieki zdrowotnej, oraz wspieranie przechodzenia od opieki instytucjonalnej do opieki rodzinnej i środowiskowej","EFRR.CP4.V Zapewnianie równego dostępu do opieki zdrowotnej i wspieranie odporności systemów opieki zdrowotnej, w tym podstawowej opieki zdrowotnej, oraz wspieranie przechodzenia od opieki instytucjonalnej do opieki rodzinnej i środowiskowej",null,null,null,"Przedsiębiorstwa wodociągowo-kanalizacyjne","FEDS.03.01","EFRR","IV kwartał 2027"]
[null,null,"17","FEDS.03.02","Ekotransport miejski i podmiejski - IIT",null,"EFRR.CP4.VI","RSO4.6","Wzmacnianie roli kultury i zrównoważonej turystyki w rozwoju gospodarczym, włączeniu społecznym i innowacjach społecznych","EFRR.CP4.VI Wzmacnianie roli kultury i zrównoważonej turystyki w rozwoju gospodarczym, włączeniu społecznym i innowacjach społecznych",null,null,null,"Przedsiębiorstwa świadczące kompleksowe usługi sanatoryjne/uzdrowiskowe/zakłady lecznictwa uzdrowiskowego","FEDS.03.02","EFRR"]
[null,null,"18","FEDS.04.01","Infrastruktura drogowa i kolejowa",null,"EFRR.CP5.I","RSO5.1","Wspieranie zintegrowanego i sprzyjającego włączeniu społecznemu rozwoju społecznego, gospodarczego i środowiskowego, kultury, dziedzictwa naturalnego, zrównoważonej turystyki i bezpieczeństwa na obszarach miejskich","EFRR.CP5.I Wspieranie zintegrowanego i sprzyjającego włączeniu społecznemu rozwoju społecznego, gospodarczego i środowiskowego, kultury, dziedzictwa naturalnego, zrównoważonej turystyki i bezpieczeństwa na obszarach miejskich",null,null,null,"Przedsiębiorstwa energetyczne","FEDS.04.01","EFRR"]
[null,null,"19","FEDS.05.01","Infrastruktura ochrony zdrowia",null,"EFRR.CP5.II","RSO5.2","Wspieranie zintegrowanego i sprzyjającego włączeniu społecznemu rozwoju społecznego, gospodarczego i środowiskowego, na poziomie lokalnym, kultury, dziedzictwa naturalnego, zrównoważonej turystyki i bezpieczeństwa na obszarach innych niż miejskie","EFRR.CP5.II Wspieranie zintegrowanego i sprzyjającego włączeniu społecznemu rozwoju społecznego, gospodarczego i środowiskowego, na poziomie lokalnym, kultury, dziedzictwa naturalnego, zrównoważonej turystyki i bezpieczeństwa na obszarach innych niż miejskie",null,null,null,"Przedsiębiorstwa gospodarujące odpadami","FEDS.05.01","EFRR"]
[null,null,"20","FEDS.05.02","Kultura i turystyka",null,"EFS+.CP4.A","ESO4.1","Poprawa dostępu do zatrudnienia i działań aktywizujących dla wszystkich osób poszukujących pracy, w szczególności osób młodych, zwłaszcza poprzez wdrażanie gwarancji dla młodzieży, długotrwale bezrobotnych oraz grup znajdujących się w niekorzystnej sytuacji na rynku pracy, jak również dla osób biernych zawodowo, a także poprzez promowanie samozatrudnienia i ekonomii społecznej","EFS+.CP4.A Poprawa dostępu do zatrudnienia i działań aktywizujących dla wszystkich osób poszukujących pracy, w szczególności osób młodych, zwłaszcza poprzez wdrażanie gwarancji dla młodzieży, długotrwale bezrobotnych oraz grup znajdujących się w niekorzystnej sytuacji na rynku pracy, jak również dla osób biernych zawodowo, a także poprzez promowanie samozatrudnienia i ekonomii społecznej",null,null,null,"Instytucje finansowe","FEDS.05.02","EFRR"]
[null,null,"21","FEDS.06.01","Rozwój lokalny - strategie ZIT",null,"EFS+.CP4.B","ESO4.2","Modernizacja instytucji i służb rynków pracy celem oceny i przewidywania zapotrzebowania na umiejętności oraz zapewnienia terminowej i odpowiednio dopasowanej pomocy i wsparcia na rzecz dostosowania umiejętności i kwalifikacji zawodowych do potrzeb rynku pracy oraz na rzecz przepływów i mobilności na rynku pracy","EFS+.CP4.B Modernizacja instytucji i służb rynków pracy celem oceny i przewidywania zapotrzebowania na umiejętności oraz zapewnienia terminowej i odpowiednio dopasowanej pomocy i wsparcia na rzecz dostosowania umiejętności i kwalifikacji zawodowych do potrzeb rynku pracy oraz na rzecz przepływów i mobilności na rynku pracy",null,null,null,"Instytucje otoczenia biznesu","FEDS.06.01","EFRR"]
[null,null,"22","FEDS.06.02","Rozwój lokalny - strategie IIT",null,"EFS+.CP4.C","ESO4.3","Wspieranie zrównoważonego pod względem płci uczestnictwa w rynku pracy, równych warunków pracy oraz lepszej równowagi między życiem zawodowym a prywatnym, w tym poprzez dostęp do przystępnej cenowo opieki nad dziećmi i osobami wymagającymi wsparcia w codziennym funkcjonowaniu","EFS+.CP4.C Wspieranie zrównoważonego pod względem płci uczestnictwa w rynku pracy, równych warunków pracy oraz lepszej równowagi między życiem zawodowym a prywatnym, w tym poprzez dostęp do przystępnej cenowo opieki nad dziećmi i osobami wymagającymi wsparcia w codziennym funkcjonowaniu",null,null,null,"Izby gospodarcze","FEDS.06.02","EFRR"]
[null,null,"23","FEDS.07.01","Projekty Powiatowych Urzędów Pracy",null,"EFS+.CP4.D","ESO4.4","Wspieranie dostosowania pracowników, przedsiębiorstw i przedsiębiorców do zmian, wspieranie aktywnego i zdrowego starzenia się oraz zdrowego i dobrze dostosowanego środowiska pracy, które uwzględnia zagrożenia dla zdrowia","EFS+.CP4.D Wspieranie dostosowania pracowników, przedsiębiorstw i przedsiębiorców do zmian, wspieranie aktywnego i zdrowego starzenia się oraz zdrowego i dobrze dostosowanego środowiska pracy, które uwzględnia zagrożenia dla zdrowia",null,null,null,"Partnerzy gospodarczy","FEDS.07.01","EFS+"]
[null,null,"24","FEDS.07.02","Rozwój instytucji rynku pracy",null,"EFS+.CP4.E","ESO4.5","Poprawa jakości, poziomu włączenia społecznego i skuteczności systemów kształcenia i szkolenia oraz ich powiązania z rynkiem pracy – w tym przez walidację uczenia się pozaformalnego i nieformalnego, w celu wspierania nabywania kompetencji kluczowych, w tym umiejętności w zakresie przedsiębiorczości i kompetencji cyfrowych, oraz przez wspieranie wprowadzania dualnych systemów szkolenia i przygotowania zawodowego","EFS+.CP4.E Poprawa jakości, poziomu włączenia społecznego i skuteczności systemów kształcenia i szkolenia oraz ich powiązania z rynkiem pracy – w tym przez walidację uczenia się pozaformalnego i nieformalnego, w celu wspierania nabywania kompetencji kluczowych, w tym umiejętności w zakresie przedsiębiorczości i kompetencji cyfrowych, oraz przez wspieranie wprowadzania dualnych systemów szkolenia i przygotowania zawodowego",null,null,null,"Bank Gospodarstwa Krajowego","FEDS.07.02","EFS+"]
[null,null,"25","FEDS.07.03","Równe szanse",null,"EFS+.CP4.F","ESO4.6","Wspieranie równego dostępu do dobrej jakości, włączającego kształcenia i szkolenia oraz możliwości ich ukończenia, w szczególności w odniesieniu do grup w niekorzystnej sytuacji, od wczesnej edukacji i opieki nad dzieckiem przez ogólne i zawodowe kształcenie i szkolenie, po szkolnictwo wyższe, a także kształcenie i uczenie się dorosłych, w tym ułatwianie mobilności edukacyjnej dla wszystkich i dostępności dla osób z niepełnosprawnościami","EFS+.CP4.F Wspieranie równego dostępu do dobrej jakości, włączającego kształcenia i szkolenia oraz możliwości ich ukończenia, w szczególności w odniesieniu do grup w niekorzystnej sytuacji, od wczesnej edukacji i opieki nad dzieckiem przez ogólne i zawodowe kształcenie i szkolenie, po szkolnictwo wyższe, a także kształcenie i uczenie się dorosłych, w tym ułatwianie mobilności edukacyjnej dla wszystkich i dostępności dla osób z niepełnosprawnościami",null,null,null,"Ośrodki innowacji","FEDS.07.03","EFS+"]
[null,null,"26","FEDS.07.04","Adaptacja do zmian na rynku pracy",null,"EFS+.CP4.G","ESO4.7","Wspieranie uczenia się przez całe życie, w szczególności elastycznych możliwości podnoszenia i zmiany kwalifikacji dla wszystkich, z uwzględnieniem umiejętności w zakresie przedsiębiorczości i kompetencji cyfrowych, lepsze przewidywanie zmian i zapotrzebowania na nowe umiejętności na podstawie potrzeb rynku pracy, ułatwianie zmian ścieżki kariery zawodowej i wspieranie mobilności zawodowej","EFS+.CP4.G Wspieranie uczenia się przez całe życie, w szczególności elastycznych możliwości podnoszenia i zmiany kwalifikacji dla wszystkich, z uwzględnieniem umiejętności w zakresie przedsiębiorczości i kompetencji cyfrowych, lepsze przewidywanie zmian i zapotrzebowania na nowe umiejętności na podstawie potrzeb rynku pracy, ułatwianie zmian ścieżki kariery zawodowej i wspieranie mobilności zawodowej",null,null,null,"Europejskie ugrupowanie współpracy terytorialnej","FEDS.07.04","EFS+"]
[null,null,"27","FEDS.07.05","Aktywna integracja",null,"EFS+.CP4.H","ESO4.8","Wspieranie aktywnego włączenia społecznego w celu promowania równości szans, niedyskryminacji i aktywnego uczestnictwa, oraz zwiększanie zdolności do zatrudnienia, w szczególności grup w niekorzystnej sytuacji","EFS+.CP4.H Wspieranie aktywnego włączenia społecznego w celu promowania równości szans, niedyskryminacji i aktywnego uczestnictwa, oraz zwiększanie zdolności do zatrudnienia, w szczególności grup w niekorzystnej sytuacji",null,null,null,"Klastry","FEDS.07.05","EFS+"]
[null,null,"28","FEDS.07.06","Integracja migrantów",null,"EFS+.CP4.I","ESO4.9","Wspieranie integracji społeczno-gospodarczej obywateli państw trzecich, w tym migrantów","EFS+.CP4.I Wspieranie integracji społeczno-gospodarczej obywateli państw trzecich, w tym migrantów",null,null,null,"Konsorcja naukowo-przemysłowe","FEDS.07.06","EFS+"]
[null,null,"29","FEDS.07.07","Rozwój usług społecznych i zdrowotnych",null,"EFS+.CP4.J","ESO4.10","Wspieranie integracji społeczno-gospodarczej społeczności marginalizowanych, takich jak Romowie","EFS+.CP4.J Wspieranie integracji społeczno-gospodarczej społeczności marginalizowanych, takich jak Romowie",null,null,null,"Partnerstwa Publiczno-Prywatne","FEDS.07.07","EFS+"]
[null,null,"30","FEDS.07.08","Wspieranie włączenia społecznego",null,"EFS+.CP4.K","ESO4.11","Zwiększanie równego i szybkiego dostępu do dobrej jakości, trwałych i przystępnych cenowo usług, w tym usług, które wspierają dostęp do mieszkań oraz opieki skoncentrowanej na osobie, w tym opieki zdrowotnej; modernizacja systemów ochrony socjalnej, w tym wspieranie dostępu do ochrony socjalnej, ze szczególnym uwzględnieniem dzieci i grup w niekorzystnej sytuacji; poprawa dostępności, w tym dla osób z niepełnosprawnościami, skuteczności i odporności systemów ochrony zdrowia i usług opieki długoterminowej","EFS+.CP4.K Zwiększanie równego i szybkiego dostępu do dobrej jakości, trwałych i przystępnych cenowo usług, w tym usług, które wspierają dostęp do mieszkań oraz opieki skoncentrowanej na osobie, w tym opieki zdrowotnej; modernizacja systemów ochrony socjalnej, w tym wspieranie dostępu do ochrony socjalnej, ze szczególnym uwzględnieniem dzieci i grup w niekorzystnej sytuacji; poprawa dostępności, w tym dla osób z niepełnosprawnościami, skuteczności i odporności systemów ochrony zdrowia i usług opieki długoterminowej",null,null,null,"Grupy Producentów","FEDS.07.08","EFS+"]
[null,null,null,"FEDS.07.09","Aktywizacja osób na rynku pracy",null,"EFS+.CP4.L","ESO4.12","Wspieranie integracji społecznej osób zagrożonych ubóstwem lub wykluczeniem społecznym, w tym osób najbardziej potrzebujących i dzieci","EFS+.CP4.L Wspieranie integracji społecznej osób zagrożonych ubóstwem lub wykluczeniem społecznym, w tym osób najbardziej potrzebujących i dzieci",null,null,null,"Partnerstwa instytucji pozarządowych","FEDS.07.09","EFS+"]
[null,null,null,"FEDS.07.10","Rozwój usług społecznych i zdrowotnych - ZIT",null,"FST.CP6.I","JSO8.1","Umożliwienie regionom i ludności łagodzenia wpływających na społeczeństwo, zatrudnienie, gospodarkę i środowisko skutków transformacji w kierunku osiągnięcia celów Unii na rok 2030 w dziedzinie energii i klimatu oraz w kierunku neutralnej dla klimatu gospodarki Unii do roku 2050 w oparciu o porozumienie paryskie.","FST.CP6.I Umożliwienie regionom i ludności łagodzenia wpływających na społeczeństwo, zatrudnienie, gospodarkę i środowisko skutków transformacji w kierunku osiągnięcia celów Unii na rok 2030 w dziedzinie energii i klimatu oraz w kierunku neutralnej dla klimatu gospodarki Unii do roku 2050 w oparciu o porozumienie paryskie.",null,null,null,"Wspólnoty energetyczne, w tym klastry energii i spółdzielnie energetyczne","FEDS.07.10","EFS+"]
[null,null,null,"FEDS.08.01","Dostęp do edukacji",null,"PT.1","PT","Pomoc Techniczna","PT.1 Pomoc Techniczna",null,null,null,"Instytucje integracji i pomocy społecznej","FEDS.08.01","EFS+"]
[null,null,null,"FEDS.08.02","Uczenie się przez całe życie",null,null,null,null,null,null,null,null,"Instytucje kultury","FEDS.08.02","EFS+"]
[null,null,null,"FEDS.08.03","Dostęp do edukacji - ZIT",null,null,null,null,null,null,null,null,"Instytucje odpowiedzialne za gospodarkę wodną","FEDS.08.03","EFS+"]
[null,null,null,"FEDS.09.01","Transformacja społeczna",null,null,null,null,null,null,null,null,"Instytucje rynku pracy","FEDS.09.01","FST"]
[null,null,null,"FEDS.09.02","Transformacja infrastruktury społecznej i edukacyjnej",null,null,null,null,null,null,null,null,"Jednostki rządowe i samorządowe ochrony środowiska","FEDS.09.02","FST"]
[null,null,null,"FEDS.09.03","Transformacja w edukacji",null,null,null,null,null,null,null,null,"Lasy Państwowe, parki narodowe i krajobrazowe","FEDS.09.03","FST"]
[null,null,null,"FEDS.09.04","Transformacja gospodarcza",null,null,null,null,null,null,null,null,"Rządowe organizacje turystyczne","FEDS.09.04","FST"]
[null,null,null,"FEDS.09.05","Transformacja środowiskowa",null,null,null,null,null,null,null,null,"Policja, straż pożarna i służby ratownicze","FEDS.09.05","FST"]
[null,null,null,"FEDS.09.06","Transformacja środowiskowa - ZIT",null,null,null,null,null,null,null,null,"Urzędy Morskie","FEDS.09.06","FST"]
[null,null,null,"FEDS.10.01","Pomoc Techniczna EFRR",null,null,null,null,null,null,null,null,"Wymiar sprawiedliwości","FEDS.10.01","EFRR PT"]
[null,null,null,"FEDS.11.01","Pomoc Techniczna EFS+",null,null,null,null,null,null,null,null,"Zarządcy dróg publicznych","FEDS.11.01","EFS+ PT"]
[null,null,null,"FEDS.12.01","Pomoc Techniczna FST",null,null,null,null,null,null,null,null,"Jednostki doradztwa rolniczego","FEDS.12.01","FST PT"]
[null,null,null,"FEKP.01.01","WZMOCNIENIE POTENCJAŁU BADAWCZEGO I INNOWACJI",null,null,null,null,null,null,null,null,"Jednostki organizacyjne działające w imieniu jednostek samorządu terytorialnego","FEKP.01.01","EFRR"]
[null,null,null,"FEKP.01.02","CYFROWY REGION",null,null,null,null,null,null,null,null,"Podmioty świadczące usługi publiczne w ramach realizacji obowiązków własnych jednostek samorządu terytorialnego","FEKP.01.02","EFRR"]
[null,null,null,"FEKP.01.03","WSPARCIE MŚP",null,null,null,null,null,null,null,null,"Prokuratura","FEKP.01.03","EFRR"]
[null,null,null,"FEKP.01.04","WSPARCIE WZROSTU PRODUKTYWNOŚCI MŚP POPRZEZ INSTRUMENTY FINANSOWE",null,null,null,null,null,null,null,null,"Instytucje sportu","FEKP.01.04","EFRR"]
[null,null,null,"FEKP.01.05","ROZWÓJ INFRASTRUKTURY NA RZECZ ROZWOJU GOSPODARCZEGO BYDOF-IP",null,null,null,null,null,null,null,null,"Niepubliczne zakłady opieki zdrowotnej","FEKP.01.05","EFRR"]
[null,null,null,"FEKP.01.06","ROZWÓJ INFRASTRUKTURY NA RZECZ ROZWOJU GOSPODARCZEGO ZITY REGIONALNE",null,null,null,null,null,null,null,null,"Publiczne zakłady opieki zdrowotnej","FEKP.01.06","EFRR"]
[null,null,null,"FEKP.01.07","DZIAŁANIA NA RZECZ ROZWOJU RIS, W TYM PROFESJONALIZACJA IOB",null,null,null,null,null,null,null,null,"Uzdrowiska","FEKP.01.07","EFRR"]
[null,null,null,"FEKP.01.08","ROZWÓJ INFRASTRUKTURY NA RZECZ ROZWOJU GOSPODARCZEGO OPPT",null,null,null,null,null,null,null,null,"Inne instytucje systemu ochrony zdrowia","FEKP.01.08","EFRR"]
[null,null,null,"FEKP.02.01","EFEKTYWNOŚĆ ENERGETYCZNA BYDOF I ZITY REGIONALNE",null,null,null,null,null,null,null,null,"Centra aktywności lokalnej","FEKP.02.01","EFRR"]
[null,null,null,"FEKP.02.02","CIEPŁOWNIE, SIECI CIEPŁOWNICZE I EFEKTYWNOŚĆ ENERGETYCZNA BUDYNKÓW KOMUNALNYCH BYDOF-IP",null,null,null,null,null,null,null,null,"Kluby sportowe, centra sportu","FEKP.02.02","EFRR"]
[null,null,null,"FEKP.02.03","CIEPŁOWNIE, SIECI CIEPŁOWNICZE I EFEKTYWNOŚĆ ENERGETYCZNA BUDYNKÓW KOMUNALNYCH ZITY REGIONALNE",null,null,null,null,null,null,null,null,"Kościoły i związki wyznaniowe","FEKP.02.03","EFRR"]
[null,null,null,"FEKP.02.04","CIEPŁOWNIE, SIECI CIEPŁOWNICZE I EFEKTYWNOŚĆ ENERGETYCZNA BUDYNKÓW ZABYTKOWYCH",null,null,null,null,null,null,null,null,"Niepubliczne instytucje kultury","FEKP.02.04","EFRR"]
[null,null,null,"FEKP.02.05","ROZWÓJ INSTALACJI OZE",null,null,null,null,null,null,null,null,"Niepubliczne podmioty integracji i pomocy społecznej","FEKP.02.05","EFRR"]
[null,null,null,"FEKP.02.06","ADAPTACJA DO ZMIAN KLIMATU W MIASTACH BYDOF-IP",null,null,null,null,null,null,null,null,"Organizacje pozarządowe","FEKP.02.06","EFRR"]
[null,null,null,"FEKP.02.07","ADAPTACJA DO ZMIAN KLIMATU W MIASTACH ZITY REGIONALNE",null,null,null,null,null,null,null,null,"Podmioty ekonomii społecznej","FEKP.02.07","EFRR"]
[null,null,null,"FEKP.02.08","WSPARCIE SŁUŻB RATOWNICZYCH",null,null,null,null,null,null,null,null,"Wspólnoty, spółdzielnie mieszkaniowe i TBS","FEKP.02.08","EFRR"]
[null,null,null,"FEKP.02.09","MAŁA RETENCJA I ADAPTACJA DO ZMIAN KLIMATU W REGIONIE",null,null,null,null,null,null,null,null,"Pozarządowe organizacje turystyczne","FEKP.02.09","EFRR"]
[null,null,null,"FEKP.02.10","EFEKTYWNE GOSPODAROWANIE WODĄ DO SPOŻYCIA I POPRAWA JEJ JAKOŚCI BYDOF-IP",null,null,null,null,null,null,null,null,"Lokalne Grupy Działania","FEKP.02.10","EFRR"]
[null,null,null,"FEKP.02.11","EFEKTYWNE GOSPODAROWANIE WODĄ DO SPOŻYCIA I POPRAWA JEJ JAKOŚCI ZITY REGIONALNE",null,null,null,null,null,null,null,null,"Izby Rolnicze","FEKP.02.11","EFRR"]
[null,null,null,"FEKP.02.12","WSPARCIE INFRASTRUKTURY KANALIZACYJNEJ ORAZ OCZYSZCZANIA ŚCIEKÓW KOMUNALNYCH",null,null,null,null,null,null,null,null,"Niepubliczne instytucje sportu","FEKP.02.12","EFRR"]
[null,null,null,"FEKP.02.13","GOSPODARKA ODPADAMI",null,null,null,null,null,null,null,null,"Ośrodki Wsparcia Ekonomii Społecznej","FEKP.02.13","EFRR"]
[null,null,null,"FEKP.02.14","GOZ W PRZEDSIĘBIORSTWACH",null,null,null,null,null,null,null,null,"Jednostki naukowe","FEKP.02.14","EFRR"]
[null,null,null,"FEKP.02.15","ZWIĘKSZENIE POTENCJAŁU PRZYRODNICZEGO W REGIONIE",null,null,null,null,null,null,null,null,"Ośrodki kształcenia dorosłych","FEKP.02.15","EFRR"]
[null,null,null,"FEKP.02.16","EFEKTYWNOŚĆ ENERGETYCZNA",null,null,null,null,null,null,null,null,"Przedszkola i inne formy wychowania przedszkolnego","FEKP.02.16","EFRR"]
[null,null,null,"FEKP.02.17","EFEKTYWNOŚĆ ENERGETYCZNA OPPT",null,null,null,null,null,null,null,null,"Szkoły i inne placówki systemu oświaty","FEKP.02.17","EFRR"]
[null,null,null,"FEKP.02.18","CIEPŁOWNIE, SIECI CIEPŁOWNICZE I EFEKTYWNOŚĆ ENERGETYCZNA BUDYNKÓW KOMUNALNYCH OPPT",null,null,null,null,null,null,null,null,"Uczelnie","FEKP.02.18","EFRR"]
[null,null,null,"FEKP.02.19","ADAPTACJA DO ZMIAN KLIMATU W MIASTACH OPPT",null,null,null,null,null,null,null,null,"Organizacje badawcze","FEKP.02.19","EFRR"]
[null,null,null,"FEKP.02.20","EFEKTYWNE GOSPODAROWANIE WODĄ DO SPOŻYCIA I POPRAWA JEJ JAKOŚCI OPPT",null,null,null,null,null,null,null,null,"Inne podmioty systemu szkolnictwa wyższego i nauki","FEKP.02.20","EFRR"]
[null,null,null,"FEKP.03.01","ROZWÓJ I USPRAWNIENIE MOBILNOŚCI MIEJSKIEJ I PODMIEJSKIEJ BYDOF-IP",null,null,null,null,null,null,null,null,"Organizacje zrzeszające pracodawców","FEKP.03.01","EFRR"]
[null,null,null,"FEKP.03.02","ROZWÓJ I USPRAWNIENIE MOBILNOŚCI MIEJSKIEJ I PODMIEJSKIEJ ZITY REGIONALNE",null,null,null,null,null,null,null,null,"Związki zawodowe","FEKP.03.02","EFRR"]
[null,null,null,"FEKP.03.03","ROZWÓJ I USPRAWNIENIE MOBILNOŚCI MIEJSKIEJ I PODMIEJSKIEJ OPPT",null,null,null,null,null,null,null,null,"Samorządy zawodowe","FEKP.03.03","EFRR"]
[null,null,null,"FEKP.04.01","ZAKUP TABORU KOLEJOWEGO",null,null,null,null,null,null,null,null,"Zintegrowane Inwestycje Terytorialne (ZIT)","FEKP.04.01","EFRR"]
[null,null,null,"FEKP.04.02","ROZWÓJ I POPRAWA ZRÓWNOWAŻONEJ MOBILNOŚCI NA SZCZEBLU REGIONALNYM I LOKALNYM",null,null,null,null,null,null,null,null,"Rozwój lokalny kierowany przez społeczność (RLKS)","FEKP.04.02","EFRR"]
[null,null,null,"FEKP.04.03","INFRASTRUKTURA DROGOWA",null,null,null,null,null,null,null,null,null,"FEKP.04.03","EFRR"]
[null,null,null,"FEKP.05.01","WSPARCIE INSTYTUCJI KULTURY BYDOF-IP",null,null,null,null,null,null,null,null,null,"FEKP.05.01","EFRR"]
[null,null,null,"FEKP.05.02","WSPARCIE INSTYTUCJI KULTURY ZITY REGIONALNE",null,null,null,null,null,null,null,null,null,"FEKP.05.02","EFRR"]
[null,null,null,"FEKP.05.03","WSPARCIE ROZWOJU TURYSTYKI BYDOF-IP",null,null,null,null,null,null,null,null,null,"FEKP.05.03","EFRR"]
[null,null,null,"FEKP.05.04","WSPARCIE ROZWOJU TURYSTYKI ZITY REGIONALNE",null,null,null,null,null,null,null,null,null,"FEKP.05.04","EFRR"]
[null,null,null,"FEKP.05.05","WSPARCIE ROZWOJU UZDROWISK",null,null,null,null,null,null,null,null,null,"FEKP.05.05","EFRR"]
[null,null,null,"FEKP.05.06","ODNOWA PRZESTRZENI PUBLICZNYCH BYDOF-IP",null,null,null,null,null,null,null,null,null,"FEKP.05.06","EFRR"]
[null,null,null,"FEKP.05.07","ODNOWA PRZESTRZENI PUBLICZNYCH ZITY REGIONALNE",null,null,null,null,null,null,null,null,null,"FEKP.05.07","EFRR"]
[null,null,null,"FEKP.05.08","REWITALIZACJA MIAST PREZYDENCKICH",null,null,null,null,null,null,null,null,null,"FEKP.05.08","EFRR"]
[null,null,null,"FEKP.05.09","TERENY INWESTYCYJNE BYDOF-IP",null,null,null,null,null,null,null,null,null,"FEKP.05.09","EFRR"]
[null,null,null,"FEKP.05.10","TERENY INWESTYCYJNE ZITY REGIONALNE",null,null,null,null,null,null,null,null,null,"FEKP.05.10","EFRR"]
[null,null,null,"FEKP.05.11","WSPARCIE ADMINISTRACYJNE GMIN ZITY REGIONALNE",null,null,null,null,null,null,null,null,null,"FEKP.05.11","EFRR"]
[null,null,null,"FEKP.05.12","WSPARCIE INSTYTUCJI KULTURY OPPT",null,null,null,null,null,null,null,null,null,"FEKP.05.12","EFRR"]
[null,null,null,"FEKP.05.13","WSPARCIE ROZWOJU TURYSTYKI OPPT",null,null,null,null,null,null,null,null,null,"FEKP.05.13","EFRR"]
[null,null,null,"FEKP.05.14","ODNOWA PRZESTRZENI PUBLICZNYCH OPPT",null,null,null,null,null,null,null,null,null,"FEKP.05.14","EFRR"]
[null,null,null,"FEKP.05.15","TERENY INWESTYCYJNE OPPT",null,null,null,null,null,null,null,null,null,"FEKP.05.15","EFRR"]
[null,null,null,"FEKP.05.16","WSPARCIE ADMINISTRACYJNE GMIN OPPT",null,null,null,null,null,null,null,null,null,"FEKP.05.16","EFRR"]
[null,null,null,"FEKP.06.01","INWESTYCJE W INFRASTRUKTURĘ PRZEDSZKOLNĄ BYDOF-IP",null,null,null,null,null,null,null,null,null,"FEKP.06.01","EFRR"]
[null,null,null,"FEKP.06.02","INWESTYCJE W INFRASTRUKTURĘ PRZEDSZKOLNĄ ZITY REGIONALNE",null,null,null,null,null,null,null,null,null,"FEKP.06.02","EFRR"]
[null,null,null,"FEKP.06.03","INWESTYCJE W ZAKRESIE DOSTĘPNOŚCI SZKÓŁ I PLACÓWEK, W TYM EDUKACYJNA BAZA SPORTOWA BYDOF-IP",null,null,null,null,null,null,null,null,null,"FEKP.06.03","EFRR"]
[null,null,null,"FEKP.06.04","INWESTYCJE W ZAKRESIE DOSTĘPNOŚCI SZKÓŁ I PLACÓWEK, W TYM EDUKACYJNA BAZA SPORTOWA ZITY REGIONALNE",null,null,null,null,null,null,null,null,null,"FEKP.06.04","EFRR"]
[null,null,null,"FEKP.06.05","INWESTYCJE W INFRASTRUKTURĘ KSZTAŁCENIA ZAWODOWEGO BYDOF-IP",null,null,null,null,null,null,null,null,null,"FEKP.06.05","EFRR"]
[null,null,null,"FEKP.06.06","INWESTYCJE W INFRASTRUKTURĘ KSZTAŁCENIA ZAWODOWEGO ZITY REGIONALNE",null,null,null,null,null,null,null,null,null,"FEKP.06.06","EFRR"]
[null,null,null,"FEKP.06.07","INWESTYCJE W INFRASTRUKTURĘ KSZTAŁCENIA ZAWODOWEGO W TYM PUZ",null,null,null,null,null,null,null,null,null,"FEKP.06.07","EFRR"]
[null,null,null,"FEKP.06.08","INWESTYCJE W INFRASTRUKTURĘ SPOŁECZNĄ",null,null,null,null,null,null,null,null,null,"FEKP.06.08","EFRR"]
[null,null,null,"FEKP.06.09","INWESTYCJE W INFRASTRUKTURĘ ZDROWOTNĄ",null,null,null,null,null,null,null,null,null,"FEKP.06.09","EFRR"]
[null,null,null,"FEKP.06.10","INWESTYCJE W INFRASTRUKTURĘ ZDROWOTNĄ ZITY REGIONALNE",null,null,null,null,null,null,null,null,null,"FEKP.06.10","EFRR"]
[null,null,null,"FEKP.06.11","RESTAURACJA I ADAPTACJA OBIEKTÓW DZIEDZICTWA KULTUROWEGO I NATURALNEGO",null,null,null,null,null,null,null,null,null,"FEKP.06.11","EFRR"]
[null,null,null,"FEKP.06.12","WSPARCIE INSTYTUCJI KULTURY",null,null,null,null,null,null,null,null,null,"FEKP.06.12","EFRR"]
[null,null,null,"FEKP.06.13","INWESTYCJE W INFRASTRUKTURĘ PRZEDSZKOLNĄ OPPT",null,null,null,null,null,null,null,null,null,"FEKP.06.13","EFRR"]
[null,null,null,"FEKP.06.14","INWESTYCJE W ZAKRESIE DOSTĘPNOŚCI SZKÓŁ I PLACÓWEK, W TYM EDUKACYJNA BAZA SPORTOWA OPPT",null,null,null,null,null,null,null,null,null,"FEKP.06.14","EFRR"]
[null,null,null,"FEKP.06.15","INWESTYCJE W INFRASTRUKTURĘ KSZTAŁCENIA ZAWODOWEGO OPPT",null,null,null,null,null,null,null,null,null,"FEKP.06.15","EFRR"]
[null,null,null,"FEKP.06.16","INWESTYCJE W INFRASTRUKTURĘ ZDROWOTNĄ OPPT",null,null,null,null,null,null,null,null,null,"FEKP.06.16","EFRR"]
[null,null,null,"FEKP.07.01","PRZEŁAMYWANIE STEREOTYPÓW ZWIĄZANYCH Z PŁCIĄ",null,null,null,null,null,null,null,null,null,"FEKP.07.01","EFS+"]
[null,null,null,"FEKP.07.02","WSPARCIE DZIECI I MŁODZIEŻY POZA EDUKACJĄ FORMALNĄ",null,null,null,null,null,null,null,null,null,"FEKP.07.02","EFS+"]
[null,null,null,"FEKP.07.03","AKTYWIZACJA EDUKACYJNA OSÓB DOROSŁYCH",null,null,null,null,null,null,null,null,null,"FEKP.07.03","EFS+"]
[null,null,null,"FEKP.07.04","WSPIERANIE INTEGRACJI SPOŁECZNEJ",null,null,null,null,null,null,null,null,null,"FEKP.07.04","EFS+"]
[null,null,null,"FEKP.08.01","PODNIESIENIE AKTYWNOŚCI ZAWODOWEJ KLIENTÓW PUBLICZNYCH SŁUŻB ZATRUDNIENIA",null,null,null,null,null,null,null,null,null,"FEKP.08.01","EFS+"]
[null,null,null,"FEKP.08.02","WSPARCIE INDYWIDUALNEJ I KOMPLEKSOWEJ AKTYWIZACJI ZAWODOWO-EDUKACYJNEJ OSÓB MŁODYCH REALIZOWANE PRZEZ OHP",null,null,null,null,null,null,null,null,null,"FEKP.08.02","EFS+"]
[null,null,null,"FEKP.08.03","WSPARCIE OSÓB PRACUJĄCYCH ZNAJDUJĄCYCH SIĘ W NIEKORZYSTNEJ SYTUACJI NA RYNKU PRACY",null,null,null,null,null,null,null,null,null,"FEKP.08.03","EFS+"]
[null,null,null,"FEKP.08.04","MŁODZI-AKTYWNI POTENCJAŁEM REGIONALNEGO RYNKU PRACY",null,null,null,null,null,null,null,null,null,"FEKP.08.04","EFS+"]
[null,null,null,"FEKP.08.05","WSPARCIE DOSTĘPU DO USŁUG ROZWOJOWYCH",null,null,null,null,null,null,null,null,null,"FEKP.08.05","EFS+"]
[null,null,null,"FEKP.08.06","WSPARCIE W OBSZARZE ADAPTACYJNOŚCI",null,null,null,null,null,null,null,null,null,"FEKP.08.06","EFS+"]
[null,null,null,"FEKP.08.07","DZIAŁANIA W ZAKRESIE WZMOCNIENIA POTENCJAŁU PARTNERÓW SPOŁECZNYCH",null,null,null,null,null,null,null,null,null,"FEKP.08.07","EFS+"]
[null,null,null,"FEKP.08.08","WSPARCIE W OBSZARZE ZDROWIA",null,null,null,null,null,null,null,null,null,"FEKP.08.08","EFS+"]
[null,null,null,"FEKP.08.09","WYCHOWANIE PRZEDSZKOLNE BYDOF-IP",null,null,null,null,null,null,null,null,null,"FEKP.08.09","EFS+"]
[null,null,null,"FEKP.08.10","WYCHOWANIE PRZEDSZKOLNE ZITY REGIONALNE",null,null,null,null,null,null,null,null,null,"FEKP.08.10","EFS+"]
[null,null,null,"FEKP.08.11","WYCHOWANIE PRZEDSZKOLNE",null,null,null,null,null,null,null,null,null,"FEKP.08.11","EFS+"]
[null,null,null,"FEKP.08.12","KSZTAŁCENIE OGÓLNE BYDOF-IP",null,null,null,null,null,null,null,null,null,"FEKP.08.12","EFS+"]
[null,null,null,"FEKP.08.13","KSZTAŁCENIE OGÓLNE ZITY REGIONALNE",null,null,null,null,null,null,null,null,null,"FEKP.08.13","EFS+"]
[null,null,null,"FEKP.08.14","KSZTAŁCENIE OGÓLNE",null,null,null,null,null,null,null,null,null,"FEKP.08.14","EFS+"]
[null,null,null,"FEKP.08.15","KSZTAŁCENIE ZAWODOWE BYDOF-IP",null,null,null,null,null,null,null,null,null,"FEKP.08.15","EFS+"]
[null,null,null,"FEKP.08.16","KSZTAŁCENIE ZAWODOWE ZITY REGIONALNE",null,null,null,null,null,null,null,null,null,"FEKP.08.16","EFS+"]
[null,null,null,"FEKP.08.17","KSZTAŁCENIE ZAWODOWE",null,null,null,null,null,null,null,null,null,"FEKP.08.17","EFS+"]
[null,null,null,"FEKP.08.18","STYPENDIA DLA UCZNIÓW",null,null,null,null,null,null,null,null,null,"FEKP.08.18","EFS+"]
[null,null,null,"FEKP.08.19","UCZENIE SIĘ DOROSŁYCH",null,null,null,null,null,null,null,null,null,"FEKP.08.19","EFS+"]
[null,null,null,"FEKP.08.20","AKTYWNE WŁĄCZENIE SPOŁECZNE",null,null,null,null,null,null,null,null,null,"FEKP.08.20","EFS+"]
[null,null,null,"FEKP.08.21","DZIAŁANIA NA RZECZ BUDOWANIA ZDOLNOŚCI ORGANIZACJI SPOŁECZEŃSTWA OBYWATELSKIEGO",null,null,null,null,null,null,null,null,null,"FEKP.08.21","EFS+"]
[null,null,null,"FEKP.08.22","EKONOMIA SPOŁECZNA",null,null,null,null,null,null,null,null,null,"FEKP.08.22","EFS+"]
[null,null,null,"FEKP.08.23","WSPIERANIE INTEGRACJI OBYWATELI PAŃSTW TRZECICH",null,null,null,null,null,null,null,null,null,"FEKP.08.23","EFS+"]
[null,null,null,"FEKP.08.24","USŁUGI SPOŁECZNE I ZDROWOTNE",null,null,null,null,null,null,null,null,null,"FEKP.08.24","EFS+"]
[null,null,null,"FEKP.08.25","USŁUGI WSPARCIA RODZINY I PIECZY ZASTĘPCZEJ",null,null,null,null,null,null,null,null,null,"FEKP.08.25","EFS+"]
[null,null,null,"FEKP.08.26","WYCHOWANIE PRZEDSZKOLNE OPPT",null,null,null,null,null,null,null,null,null,"FEKP.08.26","EFS+"]
[null,null,null,"FEKP.08.27","KSZTAŁCENIE OGÓLNE OPPT",null,null,null,null,null,null,null,null,null,"FEKP.08.27","EFS+"]
[null,null,null,"FEKP.08.28","KSZTAŁCENIE ZAWODOWE OPPT",null,null,null,null,null,null,null,null,null,"FEKP.08.28","EFS+"]
[null,null,null,"FEKP.09.01","WSPARCIE PROCESU ZARZĄDZANIA I WDRAŻANIA FEDKP",null,null,null,null,null,null,null,null,null,"FEKP.09.01","EFRR PT"]
[null,null,null,"FEKP.09.02","SKUTECZNA INFORMACJA I KOMUNIKACJA FEDKP",null,null,null,null,null,null,null,null,null,"FEKP.09.02","EFRR PT"]
[null,null,null,"FEKP.10.01","WSPARCIE PROCESU ZARZĄDZANIA I WDRAŻANIA FEDKP",null,null,null,null,null,null,null,null,null,"FEKP.10.01","EFS+ PT"]
[null,null,null,"FEKP.10.02","SKUTECZNA INFORMACJA I KOMUNIKACJA FEDKP",null,null,null,null,null,null,null,null,null,"FEKP.10.02","EFS+ PT"]
[null,null,null,"FELB.01.01","Badania i innowacje",null,null,null,null,null,null,null,null,null,"FELB.01.01","EFRR"]
[null,null,null,"FELB.01.02","Cyfrowe lubuskie – dotacje",null,null,null,null,null,null,null,null,null,"FELB.01.02","EFRR"]
[null,null,null,"FELB.01.03","Cyfrowe lubuskie – instrumenty zwrotne",null,null,null,null,null,null,null,null,null,"FELB.01.03","EFRR"]
[null,null,null,"FELB.01.04","Cyfrowe lubuskie - ZIT",null,null,null,null,null,null,null,null,null,"FELB.01.04","EFRR"]
[null,null,null,"FELB.01.05","Rozwój przedsiębiorczości – dotacje",null,null,null,null,null,null,null,null,null,"FELB.01.05","EFRR"]
[null,null,null,"FELB.01.06","Rozwój przedsiębiorczości – instrumenty zwrotne",null,null,null,null,null,null,null,null,null,"FELB.01.06","EFRR"]
[null,null,null,"FELB.01.07","Rozwój przedsiębiorczości -  ZIT",null,null,null,null,null,null,null,null,null,"FELB.01.07","EFRR"]
[null,null,null,"FELB.01.08","Rozwój inteligentnych specjalizacji",null,null,null,null,null,null,null,null,null,"FELB.01.08","EFRR"]
[null,null,null,"FELB.01.09","Cyfrowe lubuskie - IIT",null,null,null,null,null,null,null,null,null,"FELB.01.09","EFRR"]
[null,null,null,"FELB.01.10","Rozwój przedsiębiorczości -  IIT",null,null,null,null,null,null,null,null,null,"FELB.01.10","EFRR"]
[null,null,null,"FELB.02.01","Efektywność energetyczna – dotacje",null,null,null,null,null,null,null,null,null,"FELB.02.01","EFRR"]
[null,null,null,"FELB.02.02","Efektywność energetyczna – instrumenty zwrotne",null,null,null,null,null,null,null,null,null,"FELB.02.02","EFRR"]
[null,null,null,"FELB.02.03","Odnawialne źródła energii - dotacje",null,null,null,null,null,null,null,null,null,"FELB.02.03","EFRR"]
[null,null,null,"FELB.02.04","Odnawialne źródła energii – instrumenty zwrotne",null,null,null,null,null,null,null,null,null,"FELB.02.04","EFRR"]
[null,null,null,"FELB.02.05","Odnawialne źródła energii -  ZIT",null,null,null,null,null,null,null,null,null,"FELB.02.05","EFRR"]
[null,null,null,"FELB.02.06","Adaptacja do zmian klimatu",null,null,null,null,null,null,null,null,null,"FELB.02.06","EFRR"]
[null,null,null,"FELB.02.07","Adaptacja do zmian klimatu -  ZIT",null,null,null,null,null,null,null,null,null,"FELB.02.07","EFRR"]
[null,null,null,"FELB.02.08","Gospodarka wodno – ściekowa",null,null,null,null,null,null,null,null,null,"FELB.02.08","EFRR"]
[null,null,null,"FELB.02.09","Gospodarka odpadami",null,null,null,null,null,null,null,null,null,"FELB.02.09","EFRR"]
[null,null,null,"FELB.02.10","Ochrona przyrody",null,null,null,null,null,null,null,null,null,"FELB.02.10","EFRR"]
[null,null,null,"FELB.02.11","Ochrona przyrody -  ZIT",null,null,null,null,null,null,null,null,null,"FELB.02.11","EFRR"]
[null,null,null,"FELB.02.12","Odnawialne źródła energii -  IIT",null,null,null,null,null,null,null,null,null,"FELB.02.12","EFRR"]
[null,null,null,"FELB.02.13","Adaptacja do zmian klimatu -  IIT",null,null,null,null,null,null,null,null,null,"FELB.02.13","EFRR"]
[null,null,null,"FELB.02.14","Ochrona przyrody -  IIT",null,null,null,null,null,null,null,null,null,"FELB.02.14","EFRR"]
[null,null,null,"FELB.03.01","Mobilność miejska",null,null,null,null,null,null,null,null,null,"FELB.03.01","EFRR"]
[null,null,null,"FELB.03.02","Mobilność miejska -  ZIT",null,null,null,null,null,null,null,null,null,"FELB.03.02","EFRR"]
[null,null,null,"FELB.03.03","Mobilność miejska -  IIT",null,null,null,null,null,null,null,null,null,"FELB.03.03","EFRR"]
[null,null,null,"FELB.04.01","Infrastruktura drogowa",null,null,null,null,null,null,null,null,null,"FELB.04.01","EFRR"]
[null,null,null,"FELB.04.02","Pozostała infrastruktura transportowa",null,null,null,null,null,null,null,null,null,"FELB.04.02","EFRR"]
[null,null,null,"FELB.05.01","Infrastruktura edukacyjna",null,null,null,null,null,null,null,null,null,"FELB.05.01","EFRR"]
[null,null,null,"FELB.05.02","Infrastruktura włączenia społecznego",null,null,null,null,null,null,null,null,null,"FELB.05.02","EFRR"]
[null,null,null,"FELB.05.03","Infrastruktura zdrowotna",null,null,null,null,null,null,null,null,null,"FELB.05.03","EFRR"]
[null,null,null,"FELB.05.04","Infrastruktura kulturowa i turystyczna",null,null,null,null,null,null,null,null,null,"FELB.05.04","EFRR"]
[null,null,null,"FELB.06.01","Aktywizacja zawodowa osób pozostających bez pracy zarejestrowanych w powiatowych urzędach pracy",null,null,null,null,null,null,null,null,null,"FELB.06.01","EFS+"]
[null,null,null,"FELB.06.02","Realizacja działań na rzecz osób znajdujących się w niekorzystnej sytuacji na rynku pracy",null,null,null,null,null,null,null,null,null,"FELB.06.02","EFS+"]
[null,null,null,"FELB.06.03","Zdrowy, aktywny i kompetentny pracownik",null,null,null,null,null,null,null,null,null,"FELB.06.03","EFS+"]
[null,null,null,"FELB.06.04","Edukacja podstawowa i ponadpodstawowa",null,null,null,null,null,null,null,null,null,"FELB.06.04","EFS+"]
[null,null,null,"FELB.06.05","Kształcenie zawodowe",null,null,null,null,null,null,null,null,null,"FELB.06.05","EFS+"]
[null,null,null,"FELB.06.06","Profesjonalny nauczyciel",null,null,null,null,null,null,null,null,null,"FELB.06.06","EFS+"]
[null,null,null,"FELB.06.07","Edukacja -  ZIT",null,null,null,null,null,null,null,null,null,"FELB.06.07","EFS+"]
[null,null,null,"FELB.06.08","Edukacja dorosłych",null,null,null,null,null,null,null,null,null,"FELB.06.08","EFS+"]
[null,null,null,"FELB.06.09","Aktywna integracja społeczno-zawodowa",null,null,null,null,null,null,null,null,null,"FELB.06.09","EFS+"]
[null,null,null,"FELB.06.10","Przedsiębiorczość społeczna",null,null,null,null,null,null,null,null,null,"FELB.06.10","EFS+"]
[null,null,null,"FELB.06.11","Aktywna integracja społeczno-zawodowa -  ZIT",null,null,null,null,null,null,null,null,null,"FELB.06.11","EFS+"]
[null,null,null,"FELB.06.12","Integracja obywateli państw trzecich",null,null,null,null,null,null,null,null,null,"FELB.06.12","EFS+"]
[null,null,null,"FELB.06.13","Usługi społeczne i zdrowotne",null,null,null,null,null,null,null,null,null,"FELB.06.13","EFS+"]
[null,null,null,"FELB.06.14","Aktywizacja społeczna, mieszkalnictwo i wsparcie rodziny",null,null,null,null,null,null,null,null,null,"FELB.06.14","EFS+"]
[null,null,null,"FELB.06.15","Edukacja -  IIT",null,null,null,null,null,null,null,null,null,"FELB.06.15","EFS+"]
[null,null,null,"FELB.06.16","Aktywna integracja społeczno-zawodowa -  IIT",null,null,null,null,null,null,null,null,null,"FELB.06.16","EFS+"]
[null,null,null,"FELB.07.01","Aktywizacja społeczności lokalnej w placówkach edukacyjnych",null,null,null,null,null,null,null,null,null,"FELB.07.01","EFS+"]
[null,null,null,"FELB.07.02","Lokalne kształcenie dorosłych",null,null,null,null,null,null,null,null,null,"FELB.07.02","EFS+"]
[null,null,null,"FELB.07.03","Rozwój gospodarstw zielonych",null,null,null,null,null,null,null,null,null,"FELB.07.03","EFS+"]
[null,null,null,"FELB.07.04","Rozwój potencjału społeczności lokalnych",null,null,null,null,null,null,null,null,null,"FELB.07.04","EFS+"]
[null,null,null,"FELB.08.01","Wsparcie terytorialne obszarów miejskich - rewitalizacja",null,null,null,null,null,null,null,null,null,"FELB.08.01","EFRR"]
[null,null,null,"FELB.08.02","Wsparcie terytorialne obszarów miejskich -  ZIT",null,null,null,null,null,null,null,null,null,"FELB.08.02","EFRR"]
[null,null,null,"FELB.08.03","Wsparcie terytorialne obszarów innych niż miejskie - rewitalizacja",null,null,null,null,null,null,null,null,null,"FELB.08.03","EFRR"]
[null,null,null,"FELB.08.04","Wsparcie terytorialne obszarów innych niż miejskie -  IIT",null,null,null,null,null,null,null,null,null,"FELB.08.04","EFRR"]
[null,null,null,"FELB.09.01","Pomoc techniczna - Europejski Fundusz Rozwoju Regionalnego",null,null,null,null,null,null,null,null,null,"FELB.09.01","EFRR PT"]
[null,null,null,"FELB.10.01","Pomoc techniczna - Europejski Fundusz Społeczny +",null,null,null,null,null,null,null,null,null,"FELB.10.01","EFS+ PT"]
[null,null,null,"FELD.01.01","Publiczna infrastruktura badawcza",null,null,null,null,null,null,null,null,null,"FELD.01.01","EFRR"]
[null,null,null,"FELD.01.02","Inwestycje przedsiębiorstw w badania i innowacje",null,null,null,null,null,null,null,null,null,"FELD.01.02","EFRR"]
[null,null,null,"FELD.01.03","PPO",null,null,null,null,null,null,null,null,null,"FELD.01.03","EFRR"]
[null,null,null,"FELD.01.04","Cyfryzacja",null,null,null,null,null,null,null,null,null,"FELD.01.04","EFRR"]
[null,null,null,"FELD.01.05","Konkurencyjność MŚP",null,null,null,null,null,null,null,null,null,"FELD.01.05","EFRR"]
[null,null,null,"FELD.01.06","Inwestycje w MŚP – IF",null,null,null,null,null,null,null,null,null,"FELD.01.06","EFRR"]
[null,null,null,"FELD.02.01","Efektywność energetyczna",null,null,null,null,null,null,null,null,null,"FELD.02.01","EFRR"]
[null,null,null,"FELD.02.02","Efektywność energetyczna – ZIT Łódzki Obszar Metropolitalny",null,null,null,null,null,null,null,null,null,"FELD.02.02","EFRR"]
[null,null,null,"FELD.02.03","Efektywność energetyczna – IF",null,null,null,null,null,null,null,null,null,"FELD.02.03","EFRR"]
[null,null,null,"FELD.02.04","Budynki pasywne",null,null,null,null,null,null,null,null,null,"FELD.02.04","EFRR"]
[null,null,null,"FELD.02.05","Odnawialne źródła energii",null,null,null,null,null,null,null,null,null,"FELD.02.05","EFRR"]
[null,null,null,"FELD.02.06","Odnawialne źródła energii – ZIT Łódzki Obszar Metropolitalny",null,null,null,null,null,null,null,null,null,"FELD.02.06","EFRR"]
[null,null,null,"FELD.02.07","Odnawialne źródła energii – IF",null,null,null,null,null,null,null,null,null,"FELD.02.07","EFRR"]
[null,null,null,"FELD.02.08","Dostosowanie do zmian klimatu, zapobieganie klęskom i katastrofom",null,null,null,null,null,null,null,null,null,"FELD.02.08","EFRR"]
[null,null,null,"FELD.02.09","Dostosowanie do zmian klimatu, zapobieganie klęskom i katastrofom – ZIT Łódzki Obszar Metropolitalny",null,null,null,null,null,null,null,null,null,"FELD.02.09","EFRR"]
[null,null,null,"FELD.02.10","Gospodarka wodno‐ściekowa – aglomeracje 10-15 tys. RLM",null,null,null,null,null,null,null,null,null,"FELD.02.10","EFRR"]
[null,null,null,"FELD.02.11","Gospodarka wodno‐ściekowa – aglomeracje 2-10 tys. RLM",null,null,null,null,null,null,null,null,null,"FELD.02.11","EFRR"]
[null,null,null,"FELD.02.12","Gospodarowanie wodą",null,null,null,null,null,null,null,null,null,"FELD.02.12","EFRR"]
[null,null,null,"FELD.02.13","Gospodarka o obiegu zamkniętym",null,null,null,null,null,null,null,null,null,"FELD.02.13","EFRR"]
[null,null,null,"FELD.02.14","Gospodarka o obiegu zamkniętym – IF",null,null,null,null,null,null,null,null,null,"FELD.02.14","EFRR"]
[null,null,null,"FELD.02.15","Bioróżnorodność",null,null,null,null,null,null,null,null,null,"FELD.02.15","EFRR"]
[null,null,null,"FELD.02.16","Bioróżnorodność – ZIT Łódzki Obszar Metropolitalny",null,null,null,null,null,null,null,null,null,"FELD.02.16","EFRR"]
[null,null,null,"FELD.02.17","Ochrona przyrody",null,null,null,null,null,null,null,null,null,"FELD.02.17","EFRR"]
[null,null,null,"FELD.02.18","Ochrona przyrody – ZIT Łódzki Obszar Metropolitalny",null,null,null,null,null,null,null,null,null,"FELD.02.18","EFRR"]
[null,null,null,"FELD.02.19","Efektywność energetyczna – ZIT Sieradz-Zduńska Wola-Łask",null,null,null,null,null,null,null,null,null,"FELD.02.19","EFRR"]
[null,null,null,"FELD.02.20","Odnawialne źródła energii – ZIT Sieradz-Zduńska Wola-Łask",null,null,null,null,null,null,null,null,null,"FELD.02.20","EFRR"]
[null,null,null,"FELD.02.21","Dostosowanie do zmian klimatu, zapobieganie klęskom i katastrofom – ZIT Sieradz-Zduńska Wola-Łask",null,null,null,null,null,null,null,null,null,"FELD.02.21","EFRR"]
[null,null,null,"FELD.02.22","Ochrona przyrody – ZIT Sieradz-Zduńska Wola-Łask",null,null,null,null,null,null,null,null,null,"FELD.02.22","EFRR"]
[null,null,null,"FELD.02.23","Efektywność energetyczna – ZIT Radomsko-Piotrków Trybunalski-Bełchatów",null,null,null,null,null,null,null,null,null,"FELD.02.23","EFRR"]
[null,null,null,"FELD.02.24","Odnawialne źródła energii – ZIT Radomsko-Piotrków Trybunalski-Bełchatów",null,null,null,null,null,null,null,null,null,"FELD.02.24","EFRR"]
[null,null,null,"FELD.02.25","Dostosowanie do zmian klimatu, zapobieganie klęskom i katastrofom – ZIT Radomsko-Piotrków Trybunalski-Bełchatów",null,null,null,null,null,null,null,null,null,"FELD.02.25","EFRR"]
[null,null,null,"FELD.02.26","Bioróżnorodność – ZIT Radomsko-Piotrków Trybunalski-Bełchatów",null,null,null,null,null,null,null,null,null,"FELD.02.26","EFRR"]
[null,null,null,"FELD.02.27","Efektywność energetyczna – ZIT Tomaszów Mazowiecki-Opoczno",null,null,null,null,null,null,null,null,null,"FELD.02.27","EFRR"]
[null,null,null,"FELD.02.28","Odnawialne źródła energii – ZIT Tomaszów Mazowiecki-Opoczno",null,null,null,null,null,null,null,null,null,"FELD.02.28","EFRR"]
[null,null,null,"FELD.02.29","Dostosowanie do zmian klimatu, zapobieganie klęskom i katastrofom – ZIT Tomaszów Mazowiecki-Opoczno",null,null,null,null,null,null,null,null,null,"FELD.02.29","EFRR"]
[null,null,null,"FELD.02.30","Bioróżnorodność – ZIT Tomaszów Mazowiecki – Opoczno",null,null,null,null,null,null,null,null,null,"FELD.02.30","EFRR"]
[null,null,null,"FELD.03.01","Mobilność miejska",null,null,null,null,null,null,null,null,null,"FELD.03.01","EFRR"]
[null,null,null,"FELD.03.02","Mobilność miejska - ZIT Łódzki Obszar Metropolitalny",null,null,null,null,null,null,null,null,null,"FELD.03.02","EFRR"]
[null,null,null,"FELD.03.03","Mobilność miejska - ZIT Sieradz-Zduńska Wola-Łask",null,null,null,null,null,null,null,null,null,"FELD.03.03","EFRR"]
[null,null,null,"FELD.03.04","Mobilność miejska - ZIT Radomsko-Piotrków Trybunalski-Bełchatów",null,null,null,null,null,null,null,null,null,"FELD.03.04","EFRR"]
[null,null,null,"FELD.03.05","Mobilność miejska - ZIT Tomaszów Mazowiecki-Opoczno",null,null,null,null,null,null,null,null,null,"FELD.03.05","EFRR"]
[null,null,null,"FELD.04.01","Drogi wojewódzkie",null,null,null,null,null,null,null,null,null,"FELD.04.01","EFRR"]
[null,null,null,"FELD.04.02","Drogi lokalne",null,null,null,null,null,null,null,null,null,"FELD.04.02","EFRR"]
[null,null,null,"FELD.04.03","Transport kolejowy",null,null,null,null,null,null,null,null,null,"FELD.04.03","EFRR"]
[null,null,null,"FELD.04.04","Publiczny transport pozamiejski",null,null,null,null,null,null,null,null,null,"FELD.04.04","EFRR"]
[null,null,null,"FELD.04.05","Infrastruktura paliw alternatywnych",null,null,null,null,null,null,null,null,null,"FELD.04.05","EFRR"]
[null,null,null,"FELD.05.01","Kultura i turystyka - ZIT Łódzki Obszar Metropolitalny",null,null,null,null,null,null,null,null,null,"FELD.05.01","EFRR"]
[null,null,null,"FELD.05.02","Rewitalizacja obszarów miejskich",null,null,null,null,null,null,null,null,null,"FELD.05.02","EFRR"]
[null,null,null,"FELD.05.03","Rewitalizacja obszarów wiejskich",null,null,null,null,null,null,null,null,null,"FELD.05.03","EFRR"]
[null,null,null,"FELD.05.04","Kultura i turystyka - ZIT Sieradz-Zduńska Wola-Łask",null,null,null,null,null,null,null,null,null,"FELD.05.04","EFRR"]
[null,null,null,"FELD.05.05","Kultura i turystyka - ZIT Radomsko-Piotrków Trybunalski-Bełchatów",null,null,null,null,null,null,null,null,null,"FELD.05.05","EFRR"]
[null,null,null,"FELD.05.06","Kultura i turystyka - ZIT Tomaszów Mazowiecki-Opoczno",null,null,null,null,null,null,null,null,null,"FELD.05.06","EFRR"]
[null,null,null,"FELD.06.01","Infrastruktura edukacyjna",null,null,null,null,null,null,null,null,null,"FELD.06.01","EFRR"]
[null,null,null,"FELD.06.02","Infrastruktura społeczna",null,null,null,null,null,null,null,null,null,"FELD.06.02","EFRR"]
[null,null,null,"FELD.06.03","Infrastruktura zdrowotna",null,null,null,null,null,null,null,null,null,"FELD.06.03","EFRR"]
[null,null,null,"FELD.06.04","Kultura i turystyka",null,null,null,null,null,null,null,null,null,"FELD.06.04","EFRR"]
[null,null,null,"FELD.06.05","Kultura i turystyka – IF",null,null,null,null,null,null,null,null,null,"FELD.06.05","EFRR"]
[null,null,null,"FELD.07.01","Aktywizacja zawodowa – PUP",null,null,null,null,null,null,null,null,null,"FELD.07.01","EFS+"]
[null,null,null,"FELD.07.02","Aktywizacja zawodowa – OHP",null,null,null,null,null,null,null,null,null,"FELD.07.02","EFS+"]
[null,null,null,"FELD.07.03","Aktywizacja zawodowa – WUP",null,null,null,null,null,null,null,null,null,"FELD.07.03","EFS+"]
[null,null,null,"FELD.07.04","Kadry PSZ",null,null,null,null,null,null,null,null,null,"FELD.07.04","EFS+"]
[null,null,null,"FELD.07.05","Integracja i społeczeństwo obywatelskie",null,null,null,null,null,null,null,null,null,"FELD.07.05","EFS+"]
[null,null,null,"FELD.07.06","Ekonomia społeczna",null,null,null,null,null,null,null,null,null,"FELD.07.06","EFS+"]
[null,null,null,"FELD.07.07","Integracja obywateli państw trzecich",null,null,null,null,null,null,null,null,null,"FELD.07.07","EFS+"]
[null,null,null,"FELD.07.08","Integracja obywateli państw trzecich - ZIT Łódzki Obszar Metropolitalny",null,null,null,null,null,null,null,null,null,"FELD.07.08","EFS+"]
[null,null,null,"FELD.07.09","Usługi społeczne i zdrowotne",null,null,null,null,null,null,null,null,null,"FELD.07.09","EFS+"]
[null,null,null,"FELD.07.10","Usługi społeczne i zdrowotne - ZIT Łódzki Obszar Metropolitalny",null,null,null,null,null,null,null,null,null,"FELD.07.10","EFS+"]
[null,null,null,"FELD.07.11","Profilaktyka zdrowotna i standardy dostępności",null,null,null,null,null,null,null,null,null,"FELD.07.11","EFS+"]
[null,null,null,"FELD.07.12","Usługi na rzecz rodziny",null,null,null,null,null,null,null,null,null,"FELD.07.12","EFS+"]
[null,null,null,"FELD.07.13","Włączenie społeczne",null,null,null,null,null,null,null,null,null,"FELD.07.13","EFS+"]
[null,null,null,"FELD.07.14","Włączenie społeczne - ZIT Łódzki Obszar Metropolitalny",null,null,null,null,null,null,null,null,null,"FELD.07.14","EFS+"]
[null,null,null,"FELD.08.01","Wzmocnienie równości płci",null,null,null,null,null,null,null,null,null,"FELD.08.01","EFS+"]
[null,null,null,"FELD.08.02","Usługi rozwojowe dla pracowników",null,null,null,null,null,null,null,null,null,"FELD.08.02","EFS+"]
[null,null,null,"FELD.08.03","Outplacement",null,null,null,null,null,null,null,null,null,"FELD.08.03","EFS+"]
[null,null,null,"FELD.08.04","Zdrowy pracownik",null,null,null,null,null,null,null,null,null,"FELD.08.04","EFS+"]
[null,null,null,"FELD.08.05","Poprawa organizacji pracy",null,null,null,null,null,null,null,null,null,"FELD.08.05","EFS+"]
[null,null,null,"FELD.08.06","Edukacja przedszkolna",null,null,null,null,null,null,null,null,null,"FELD.08.06","EFS+"]
[null,null,null,"FELD.08.07","Kształcenie ogólne",null,null,null,null,null,null,null,null,null,"FELD.08.07","EFS+"]
[null,null,null,"FELD.08.08","Kształcenie zawodowe",null,null,null,null,null,null,null,null,null,"FELD.08.08","EFS+"]
[null,null,null,"FELD.08.09","Kształcenie zawodowe – stypendia",null,null,null,null,null,null,null,null,null,"FELD.08.09","EFS+"]
[null,null,null,"FELD.08.10","Edukacja włączająca",null,null,null,null,null,null,null,null,null,"FELD.08.10","EFS+"]
[null,null,null,"FELD.08.11","Usługi rozwojowe dla osób dorosłych",null,null,null,null,null,null,null,null,null,"FELD.08.11","EFS+"]
[null,null,null,"FELD.08.12","Aktywność edukacyjna",null,null,null,null,null,null,null,null,null,"FELD.08.12","EFS+"]
[null,null,null,"FELD.09.01","Gospodarka w transformacji",null,null,null,null,null,null,null,null,null,"FELD.09.01","FST"]
[null,null,null,"FELD.09.02","Społeczeństwo w transformacji",null,null,null,null,null,null,null,null,null,"FELD.09.02","FST"]
[null,null,null,"FELD.09.03","Przestrzeń w transformacji",null,null,null,null,null,null,null,null,null,"FELD.09.03","FST"]
[null,null,null,"FELD.09.04","Mobilność lokalna w transformacji",null,null,null,null,null,null,null,null,null,"FELD.09.04","FST"]
[null,null,null,"FELD.09.05","Tereny zdegradowane w transformacji",null,null,null,null,null,null,null,null,null,"FELD.09.05","FST"]
[null,null,null,"FELD.09.06","B+R dla transformacji",null,null,null,null,null,null,null,null,null,"FELD.09.06","FST"]
[null,null,null,"FELD.10.01","Pomoc techniczna EFRR",null,null,null,null,null,null,null,null,null,"FELD.10.01","EFRR PT"]
[null,null,null,"FELD.11.01","Pomoc techniczna EFS+",null,null,null,null,null,null,null,null,null,"FELD.11.01","EFS+ PT"]
[null,null,null,"FELD.12.01","Pomoc techniczna FST",null,null,null,null,null,null,null,null,null,"FELD.12.01","FST PT"]
[null,null,null,"FELU.01.01","Regionalna infrastruktura badawczo-rozwojowa",null,null,null,null,null,null,null,null,null,"FELU.01.01","EFRR"]
[null,null,null,"FELU.01.02","Infrastruktura wspomagająca rozwój technologiczny przedsiębiorstw",null,null,null,null,null,null,null,null,null,"FELU.01.02","EFRR"]
[null,null,null,"FELU.01.03","Badania i innowacje w sektorze przedsiębiorstw",null,null,null,null,null,null,null,null,null,"FELU.01.03","EFRR"]
[null,null,null,"FELU.01.04","Transfer technologii i komercjalizacja badań",null,null,null,null,null,null,null,null,null,"FELU.01.04","EFRR"]
[null,null,null,"FELU.01.05","Specjalizacja gospodarki regionalnej",null,null,null,null,null,null,null,null,null,"FELU.01.05","EFRR"]
[null,null,null,"FELU.01.06","Wsparcie regionalnych ekosystemów innowacji",null,null,null,null,null,null,null,null,null,"FELU.01.06","EFRR"]
[null,null,null,"FELU.02.01","Cyfrowe Lubelskie",null,null,null,null,null,null,null,null,null,"FELU.02.01","EFRR"]
[null,null,null,"FELU.02.02","Cyfrowe Lubelskie w ramach Zintegrowanych Inwestycji Terytorialnych Miejskich Obszarów Funkcjonalnych",null,null,null,null,null,null,null,null,null,"FELU.02.02","EFRR"]
[null,null,null,"FELU.02.03","Cyfrowe Lubelskie w ochronie zdrowia",null,null,null,null,null,null,null,null,null,"FELU.02.03","EFRR"]
[null,null,null,"FELU.02.04","Cyfryzacja lubelskich MŚP",null,null,null,null,null,null,null,null,null,"FELU.02.04","EFRR"]
[null,null,null,"FELU.02.05","Usługi dla MŚP",null,null,null,null,null,null,null,null,null,"FELU.02.05","EFRR"]
[null,null,null,"FELU.02.06","Inwestycje rozwojowe w MŚP",null,null,null,null,null,null,null,null,null,"FELU.02.06","EFRR"]
[null,null,null,"FELU.02.07","Lubelskie MŚP na rynkach zagranicznych",null,null,null,null,null,null,null,null,null,"FELU.02.07","EFRR"]
[null,null,null,"FELU.02.08","Budowa i rozwój powiązań klastrowych",null,null,null,null,null,null,null,null,null,"FELU.02.08","EFRR"]
[null,null,null,"FELU.03.01","Bezpieczeństwo ekologiczne",null,null,null,null,null,null,null,null,null,"FELU.03.01","EFRR"]
[null,null,null,"FELU.03.02","Dostosowanie do zmian klimatu i zapobieganie powodziom i suszy",null,null,null,null,null,null,null,null,null,"FELU.03.02","EFRR"]
[null,null,null,"FELU.03.03","Bezpieczeństwo ekologiczne oraz dostosowanie do zmian klimatu i zapobieganie powodziom i suszy w ramach Zintegrowanych Inwestycji Terytorialnych Miejskich Obszarów Funkcjonalnych",null,null,null,null,null,null,null,null,null,"FELU.03.03","EFRR"]
[null,null,null,"FELU.03.04","Zrównoważona gospodarka wodno-ściekowa",null,null,null,null,null,null,null,null,null,"FELU.03.04","EFRR"]
[null,null,null,"FELU.03.05","Zrównoważona gospodarka wodno-ściekowa w ramach Zintegrowanych Inwestycji Terytorialnych",null,null,null,null,null,null,null,null,null,"FELU.03.05","EFRR"]
[null,null,null,"FELU.03.06","Gospodarka odpadami w sektorze publicznym",null,null,null,null,null,null,null,null,null,"FELU.03.06","EFRR"]
[null,null,null,"FELU.03.07","Gospodarka odpadami w sektorze publicznym w ramach Zintegrowanych Inwestycji Terytorialnych Miejskich Obszarów Funkcjonalnych",null,null,null,null,null,null,null,null,null,"FELU.03.07","EFRR"]
[null,null,null,"FELU.03.08","GOZ w przedsiębiorstwach",null,null,null,null,null,null,null,null,null,"FELU.03.08","EFRR"]
[null,null,null,"FELU.03.09","Ochrona bioróżnorodności na obszarach objętych formami ochrony przyrody",null,null,null,null,null,null,null,null,null,"FELU.03.09","EFRR"]
[null,null,null,"FELU.03.10","Ochrona bioróżnorodności na obszarach poza formami ochrony przyrody",null,null,null,null,null,null,null,null,null,"FELU.03.10","EFRR"]
[null,null,null,"FELU.03.11","Ochrona bioróżnorodności w ramach Zintegrowanych Inwestycji Terytorialnych Miejskich Obszarów Funkcjonalnych",null,null,null,null,null,null,null,null,null,"FELU.03.11","EFRR"]
[null,null,null,"FELU.04.01","Wspieranie efektywności energetycznej w budynkach",null,null,null,null,null,null,null,null,null,"FELU.04.01","EFRR"]
[null,null,null,"FELU.04.02","Wspieranie efektywności energetycznej w sektorze mieszkaniowym",null,null,null,null,null,null,null,null,null,"FELU.04.02","EFRR"]
[null,null,null,"FELU.04.03","Wspieranie efektywności energetycznej i energooszczędności w ramach Zintegrowanych Inwestycji Terytorialnych",null,null,null,null,null,null,null,null,null,"FELU.04.03","EFRR"]
[null,null,null,"FELU.04.04","Wspieranie efektywności energetycznej i energooszczędności w ramach Innych Instrumentów Terytorialnych",null,null,null,null,null,null,null,null,null,"FELU.04.04","EFRR"]
[null,null,null,"FELU.04.05","Wspieranie energooszczędności",null,null,null,null,null,null,null,null,null,"FELU.04.05","EFRR"]
[null,null,null,"FELU.04.06","Efektywne energetycznie przedsiębiorstwa",null,null,null,null,null,null,null,null,null,"FELU.04.06","EFRR"]
[null,null,null,"FELU.04.07","Zwiększenie wykorzystania Odnawialnych Źródeł Energii",null,null,null,null,null,null,null,null,null,"FELU.04.07","EFRR"]
[null,null,null,"FELU.04.08","Zwiększenie wykorzystania Odnawialnych Źródeł Energii w ramach Zintegrowanych Inwestycji Terytorialnych",null,null,null,null,null,null,null,null,null,"FELU.04.08","EFRR"]
[null,null,null,"FELU.04.09","Zwiększenie wykorzystania Odnawialnych Źródeł Energii w ramach Innych Instrumentów Terytorialnych",null,null,null,null,null,null,null,null,null,"FELU.04.09","EFRR"]
[null,null,null,"FELU.04.10","Wykorzystanie OZE w gospodarce",null,null,null,null,null,null,null,null,null,"FELU.04.10","EFRR"]
[null,null,null,"FELU.05.01","Niskoemisyjny transport miejski",null,null,null,null,null,null,null,null,null,"FELU.05.01","EFRR"]
[null,null,null,"FELU.05.02","Niskoemisyjny transport miejski w ramach Zintegrowanych Inwestycji Terytorialnych",null,null,null,null,null,null,null,null,null,"FELU.05.02","EFRR"]
[null,null,null,"FELU.05.03","Wspieranie strategii niskoemisyjnych",null,null,null,null,null,null,null,null,null,"FELU.05.03","EFRR"]
[null,null,null,"FELU.06.01","Poprawa regionalnej dostępności transportowej",null,null,null,null,null,null,null,null,null,"FELU.06.01","EFRR"]
[null,null,null,"FELU.06.02","Kolejowy transport zbiorowy",null,null,null,null,null,null,null,null,null,"FELU.06.02","EFRR"]
[null,null,null,"FELU.06.03","Publiczny autobusowy transport zbiorowy",null,null,null,null,null,null,null,null,null,"FELU.06.03","EFRR"]
[null,null,null,"FELU.07.01","Infrastruktura przedszkolna",null,null,null,null,null,null,null,null,null,"FELU.07.01","EFRR"]
[null,null,null,"FELU.07.02","Infrastruktura edukacji ogólnej",null,null,null,null,null,null,null,null,null,"FELU.07.02","EFRR"]
[null,null,null,"FELU.07.03","Infrastruktura kształcenia zawodowego i ustawicznego",null,null,null,null,null,null,null,null,null,"FELU.07.03","EFRR"]
[null,null,null,"FELU.07.04","Infrastruktura szkół wyższych",null,null,null,null,null,null,null,null,null,"FELU.07.04","EFRR"]
[null,null,null,"FELU.07.05","Infrastruktura edukacyjna w ramach Zintegrowanych Inwestycji Terytorialnych",null,null,null,null,null,null,null,null,null,"FELU.07.05","EFRR"]
[null,null,null,"FELU.07.06","Infrastruktura usług i integracji społecznej",null,null,null,null,null,null,null,null,null,"FELU.07.06","EFRR"]
[null,null,null,"FELU.07.07","Infrastruktura usług i integracji społecznej w ramach Zintegrowanych Inwestycji Terytorialnych",null,null,null,null,null,null,null,null,null,"FELU.07.07","EFRR"]
[null,null,null,"FELU.07.08","Infrastruktura ochrony zdrowia",null,null,null,null,null,null,null,null,null,"FELU.07.08","EFRR"]
[null,null,null,"FELU.07.09","Zrównoważony rozwój dziedzictwa kulturowego",null,null,null,null,null,null,null,null,null,"FELU.07.09","EFRR"]
[null,null,null,"FELU.07.10","Turystyczne Lubelskie",null,null,null,null,null,null,null,null,null,"FELU.07.10","EFRR"]
[null,null,null,"FELU.08.01","Aktywizacja społeczna i zawodowa",null,null,null,null,null,null,null,null,null,"FELU.08.01","EFS+"]
[null,null,null,"FELU.08.02","Ekonomia społeczna",null,null,null,null,null,null,null,null,null,"FELU.08.02","EFS+"]
[null,null,null,"FELU.08.03","Integracja społeczno-gospodarcza obywateli państw trzecich",null,null,null,null,null,null,null,null,null,"FELU.08.03","EFS+"]
[null,null,null,"FELU.08.04","Integracja społeczno-gospodarcza społeczności marginalizowanych",null,null,null,null,null,null,null,null,null,"FELU.08.04","EFS+"]
[null,null,null,"FELU.08.05","Usługi społeczne",null,null,null,null,null,null,null,null,null,"FELU.08.05","EFS+"]
[null,null,null,"FELU.08.06","Usługi zdrowotne",null,null,null,null,null,null,null,null,null,"FELU.08.06","EFS+"]
[null,null,null,"FELU.08.07","Usługi społeczne w ramach Zintegrowanych Inwestycji Terytorialnych",null,null,null,null,null,null,null,null,null,"FELU.08.07","EFS+"]
[null,null,null,"FELU.08.08","Wsparcie rodziny i pieczy zastępczej",null,null,null,null,null,null,null,null,null,"FELU.08.08","EFS+"]
[null,null,null,"FELU.08.09","Integracja społeczna osób najbardziej potrzebujących wsparcia",null,null,null,null,null,null,null,null,null,"FELU.08.09","EFS+"]
[null,null,null,"FELU.09.01","Aktywizacja zawodowa – projekty PUP",null,null,null,null,null,null,null,null,null,"FELU.09.01","EFS+"]
[null,null,null,"FELU.09.02","Aktywizacja zawodowa",null,null,null,null,null,null,null,null,null,"FELU.09.02","EFS+"]
[null,null,null,"FELU.09.03","Wsparcie instytucji rynku pracy",null,null,null,null,null,null,null,null,null,"FELU.09.03","EFS+"]
[null,null,null,"FELU.09.04","Zrównoważony rynek pracy",null,null,null,null,null,null,null,null,null,"FELU.09.04","EFS+"]
[null,null,null,"FELU.09.05","Ochrona środowiska pracy",null,null,null,null,null,null,null,null,null,"FELU.09.05","EFS+"]
[null,null,null,"FELU.09.06","Adaptacyjność pracodawców i pracowników do zmian",null,null,null,null,null,null,null,null,null,"FELU.09.06","EFS+"]
[null,null,null,"FELU.09.07","Outplacement",null,null,null,null,null,null,null,null,null,"FELU.09.07","EFS+"]
[null,null,null,"FELU.09.08","Aktywizacja zawodowa - projekty OHP",null,null,null,null,null,null,null,null,null,"FELU.09.08","EFS+"]
[null,null,null,"FELU.10.01","Skuteczna edukacja",null,null,null,null,null,null,null,null,null,"FELU.10.01","EFS+"]
[null,null,null,"FELU.10.02","Edukacja przedszkolna",null,null,null,null,null,null,null,null,null,"FELU.10.02","EFS+"]
[null,null,null,"FELU.10.03","Kształcenie ogólne",null,null,null,null,null,null,null,null,null,"FELU.10.03","EFS+"]
[null,null,null,"FELU.10.04","Kształcenie zawodowe",null,null,null,null,null,null,null,null,null,"FELU.10.04","EFS+"]
[null,null,null,"FELU.10.05","Wsparcie edukacji w ramach Zintegrowanych Inwestycji Terytorialnych",null,null,null,null,null,null,null,null,null,"FELU.10.05","EFS+"]
[null,null,null,"FELU.10.06","Uczenie się osób dorosłych",null,null,null,null,null,null,null,null,null,"FELU.10.06","EFS+"]
[null,null,null,"FELU.11.01","Rewitalizacja zdegradowanych obszarów miejskich",null,null,null,null,null,null,null,null,null,"FELU.11.01","EFRR"]
[null,null,null,"FELU.11.02","Ochrona dziedzictwa naturalnego, bezpieczeństwo i zrównoważony rozwój turystyki obszarów miejskich i ich obszarów funkcjonalnych w ramach Zintegrowanych Inwestycji Terytorialnych",null,null,null,null,null,null,null,null,null,"FELU.11.02","EFRR"]
[null,null,null,"FELU.11.03","Ochrona dziedzictwa kulturowego obszarów miejskich i ich obszarów funkcjonalnych w ramach Zintegrowanych Inwestycji Terytorialnych",null,null,null,null,null,null,null,null,null,"FELU.11.03","EFRR"]
[null,null,null,"FELU.11.04","Rewitalizacja obszarów innych niż miejskie",null,null,null,null,null,null,null,null,null,"FELU.11.04","EFRR"]
[null,null,null,"FELU.11.05","Ochrona dziedzictwa naturalnego, bezpieczeństwo i rozwój zrównoważonej turystyki obszarów innych niż miejskie",null,null,null,null,null,null,null,null,null,"FELU.11.05","EFRR"]
[null,null,null,"FELU.11.06","Ochrona dziedzictwa kulturowego obszarów innych niż miejskie",null,null,null,null,null,null,null,null,null,"FELU.11.06","EFRR"]
[null,null,null,"FELU.12.01","Wsparcie wdrażania Funduszy Europejskich dla Lubelskiego 2021-2027 w ramach EFS+",null,null,null,null,null,null,null,null,null,"FELU.12.01","EFS+ PT"]
[null,null,null,"FELU.13.01","Wsparcie wdrażania Funduszy Europejskich dla Lubelskiego 2021-2027 w ramach EFRR",null,null,null,null,null,null,null,null,null,"FELU.13.01","EFRR PT"]
[null,null,null,"FEMA.01.01","Badania, rozwój i innowacje przedsiębiorstw",null,null,null,null,null,null,null,null,null,"FEMA.01.01","EFRR"]
[null,null,null,"FEMA.01.02","E-usługi",null,null,null,null,null,null,null,null,null,"FEMA.01.02","EFRR"]
[null,null,null,"FEMA.01.03","Innowacyjność i konkurencyjność MŚP",null,null,null,null,null,null,null,null,null,"FEMA.01.03","EFRR"]
[null,null,null,"FEMA.02.01","Efektywność energetyczna",null,null,null,null,null,null,null,null,null,"FEMA.02.01","EFRR"]
[null,null,null,"FEMA.02.02","Efektywność energetyczna w ZIT",null,null,null,null,null,null,null,null,null,"FEMA.02.02","EFRR"]
[null,null,null,"FEMA.02.03","Odnawialne źródła energii",null,null,null,null,null,null,null,null,null,"FEMA.02.03","EFRR"]
[null,null,null,"FEMA.02.04","Dostosowanie do zmian klimatu",null,null,null,null,null,null,null,null,null,"FEMA.02.04","EFRR"]
[null,null,null,"FEMA.02.05","Gospodarka wodno-ściekowa",null,null,null,null,null,null,null,null,null,"FEMA.02.05","EFRR"]
[null,null,null,"FEMA.02.06","Gospodarka o obiegu zamkniętym",null,null,null,null,null,null,null,null,null,"FEMA.02.06","EFRR"]
[null,null,null,"FEMA.02.07","Bioróżnorodność",null,null,null,null,null,null,null,null,null,"FEMA.02.07","EFRR"]
[null,null,null,"FEMA.03.01","Mobilność miejska",null,null,null,null,null,null,null,null,null,"FEMA.03.01","EFRR"]
[null,null,null,"FEMA.03.02","Mobilność miejska w ZIT",null,null,null,null,null,null,null,null,null,"FEMA.03.02","EFRR"]
[null,null,null,"FEMA.04.01","Transport regionalny i lokalny",null,null,null,null,null,null,null,null,null,"FEMA.04.01","EFRR"]
[null,null,null,"FEMA.05.01","Dostępność szkół dla osób ze specjalnymi potrzebami",null,null,null,null,null,null,null,null,null,"FEMA.05.01","EFRR"]
[null,null,null,"FEMA.05.02","Dostępność szkół dla osób ze specjalnymi potrzebami w ZIT",null,null,null,null,null,null,null,null,null,"FEMA.05.02","EFRR"]
[null,null,null,"FEMA.05.03","Infrastruktura w edukacji zawodowej",null,null,null,null,null,null,null,null,null,"FEMA.05.03","EFRR"]
[null,null,null,"FEMA.05.04","Infrastruktura w edukacji zawodowej w ZIT",null,null,null,null,null,null,null,null,null,"FEMA.05.04","EFRR"]
[null,null,null,"FEMA.05.05","Infrastruktura społeczna",null,null,null,null,null,null,null,null,null,"FEMA.05.05","EFRR"]
[null,null,null,"FEMA.05.06","Ochrona zdrowia",null,null,null,null,null,null,null,null,null,"FEMA.05.06","EFRR"]
[null,null,null,"FEMA.05.07","Kultura i turystyka",null,null,null,null,null,null,null,null,null,"FEMA.05.07","EFRR"]
[null,null,null,"FEMA.06.01","Aktywizacja zawodowa osób bezrobotnych",null,null,null,null,null,null,null,null,null,"FEMA.06.01","EFS+"]
[null,null,null,"FEMA.06.02","Aktywizacja zawodowa osób młodych przez OHP",null,null,null,null,null,null,null,null,null,"FEMA.06.02","EFS+"]
[null,null,null,"FEMA.06.03","Nowoczesne, regionalne służby zatrudnienia",null,null,null,null,null,null,null,null,null,"FEMA.06.03","EFS+"]
[null,null,null,"FEMA.06.04","Aktywizacja zawodowa biernych zawodowo kobiet",null,null,null,null,null,null,null,null,null,"FEMA.06.04","EFS+"]
[null,null,null,"FEMA.06.05","Wsparcie dla pracodawców i pracowników",null,null,null,null,null,null,null,null,null,"FEMA.06.05","EFS+"]
[null,null,null,"FEMA.06.06","Zdrowie pracowników",null,null,null,null,null,null,null,null,null,"FEMA.06.06","EFS+"]
[null,null,null,"FEMA.07.01","Edukacja przedszkolna",null,null,null,null,null,null,null,null,null,"FEMA.07.01","EFS+"]
[null,null,null,"FEMA.07.02","Wzmocnienie kompetencji uczniów",null,null,null,null,null,null,null,null,null,"FEMA.07.02","EFS+"]
[null,null,null,"FEMA.07.03","Wzmocnienie kompetencji uczniów w ZIT",null,null,null,null,null,null,null,null,null,"FEMA.07.03","EFS+"]
[null,null,null,"FEMA.07.04","Edukacja osób dorosłych",null,null,null,null,null,null,null,null,null,"FEMA.07.04","EFS+"]
[null,null,null,"FEMA.07.05","Edukacja osób dorosłych poza PSF",null,null,null,null,null,null,null,null,null,"FEMA.07.05","EFS+"]
[null,null,null,"FEMA.08.01","Aktywizacja społeczna i zawodowa",null,null,null,null,null,null,null,null,null,"FEMA.08.01","EFS+"]
[null,null,null,"FEMA.08.02","Ekonomia społeczna",null,null,null,null,null,null,null,null,null,"FEMA.08.02","EFS+"]
[null,null,null,"FEMA.08.03","Potencjał partnerów społecznych i organizacji pozarządowych",null,null,null,null,null,null,null,null,null,"FEMA.08.03","EFS+"]
[null,null,null,"FEMA.08.04","Integracja społeczno-zawodowa obywateli państw trzecich",null,null,null,null,null,null,null,null,null,"FEMA.08.04","EFS+"]
[null,null,null,"FEMA.08.05","Usługi społeczne i zdrowotne",null,null,null,null,null,null,null,null,null,"FEMA.08.05","EFS+"]
[null,null,null,"FEMA.08.06","Usługi społeczne na rzecz rodzin",null,null,null,null,null,null,null,null,null,"FEMA.08.06","EFS+"]
[null,null,null,"FEMA.08.07","Integracja społeczna osób w kryzysie bezdomności i zagrożonych bezdomnością",null,null,null,null,null,null,null,null,null,"FEMA.08.07","EFS+"]
[null,null,null,"FEMA.08.08","Integracja społeczna Romów",null,null,null,null,null,null,null,null,null,"FEMA.08.08","EFS+"]
[null,null,null,"FEMA.09.01","Rewitalizacja miast",null,null,null,null,null,null,null,null,null,"FEMA.09.01","EFRR"]
[null,null,null,"FEMA.09.02","Rewitalizacja obszarów innych niż miejskie",null,null,null,null,null,null,null,null,null,"FEMA.09.02","EFRR"]
[null,null,null,"FEMA.09.03","Mazowieckie Centrum Wsparcia Doradczego",null,null,null,null,null,null,null,null,null,"FEMA.09.03","EFRR"]
[null,null,null,"FEMA.09.04","Metropolitalne Centrum Wsparcia Doradczego",null,null,null,null,null,null,null,null,null,"FEMA.09.04","EFRR"]
[null,null,null,"FEMA.10.01","Pomoc techniczna EFRR",null,null,null,null,null,null,null,null,null,"FEMA.10.01","EFRR PT"]
[null,null,null,"FEMA.11.01","Pomoc techniczna EFS+",null,null,null,null,null,null,null,null,null,"FEMA.11.01","EFS+ PT"]
[null,null,null,"FEMP.01.01","Projekty badawczo-rozwojowe przedsiębiorstw",null,null,null,null,null,null,null,null,null,"FEMP.01.01","EFRR"]
[null,null,null,"FEMP.01.02","Bony na innowacje dla MŚP",null,null,null,null,null,null,null,null,null,"FEMP.01.02","EFRR"]
[null,null,null,"FEMP.01.03","Infrastruktura badawczo-rozwojowa przedsiębiorstw",null,null,null,null,null,null,null,null,null,"FEMP.01.03","EFRR"]
[null,null,null,"FEMP.01.04","Infrastruktura badawcza sektora nauki",null,null,null,null,null,null,null,null,null,"FEMP.01.04","EFRR"]
[null,null,null,"FEMP.01.05","Regionalny ekosystem innowacji",null,null,null,null,null,null,null,null,null,"FEMP.01.05","EFRR"]
[null,null,null,"FEMP.01.06","Cyfrowe rozwiązania w e-administracji",null,null,null,null,null,null,null,null,null,"FEMP.01.06","EFRR"]
[null,null,null,"FEMP.01.07","Cyfrowe rozwiązania dla geodezji",null,null,null,null,null,null,null,null,null,"FEMP.01.07","EFRR"]
[null,null,null,"FEMP.01.08","Rozwój e-zdrowia w województwie małopolskim",null,null,null,null,null,null,null,null,null,"FEMP.01.08","EFRR"]
[null,null,null,"FEMP.01.09","Rozwój e-kultury w województwie małopolskim",null,null,null,null,null,null,null,null,null,"FEMP.01.09","EFRR"]
[null,null,null,"FEMP.01.10","Inwestycje rozwojowe przedsiębiorstw - Instrumenty Finansowe",null,null,null,null,null,null,null,null,null,"FEMP.01.10","EFRR"]
[null,null,null,"FEMP.01.11","Rozwój MŚP w obszarze cyfryzacji i Przemysłu 4.0.",null,null,null,null,null,null,null,null,null,"FEMP.01.11","EFRR"]
[null,null,null,"FEMP.01.12","Wdrażanie innowacji",null,null,null,null,null,null,null,null,null,"FEMP.01.12","EFRR"]
[null,null,null,"FEMP.01.13","Wsparcie dla firm we wczesnej fazie rozwoju",null,null,null,null,null,null,null,null,null,"FEMP.01.13","EFRR"]
[null,null,null,"FEMP.01.14","Internacjonalizacja MŚP",null,null,null,null,null,null,null,null,null,"FEMP.01.14","EFRR"]
[null,null,null,"FEMP.01.15","Umiędzynarodowienie małopolskiej gospodarki",null,null,null,null,null,null,null,null,null,"FEMP.01.15","EFRR"]
[null,null,null,"FEMP.02.01","Poprawa efektywności energetycznej - Instrumenty finansowe",null,null,null,null,null,null,null,null,null,"FEMP.02.01","EFRR"]
[null,null,null,"FEMP.02.02","Poprawa efektywności energetycznej - dotacja",null,null,null,null,null,null,null,null,null,"FEMP.02.02","EFRR"]
[null,null,null,"FEMP.02.03","Model szkół neutralnych klimatycznie",null,null,null,null,null,null,null,null,null,"FEMP.02.03","EFRR"]
[null,null,null,"FEMP.02.04","Rozwój sieci ciepłowniczych",null,null,null,null,null,null,null,null,null,"FEMP.02.04","EFRR"]
[null,null,null,"FEMP.02.05","Wdrażanie Programu ochrony powietrza",null,null,null,null,null,null,null,null,null,"FEMP.02.05","EFRR"]
[null,null,null,"FEMP.02.06","Rozpowszechnianie rozwoju OZE - dotacja",null,null,null,null,null,null,null,null,null,"FEMP.02.06","EFRR"]
[null,null,null,"FEMP.02.07","Wsparcie rozwoju OZE - dotacja",null,null,null,null,null,null,null,null,null,"FEMP.02.07","EFRR"]
[null,null,null,"FEMP.02.08","Wsparcie rozwoju OZE - Instrumenty finansowe",null,null,null,null,null,null,null,null,null,"FEMP.02.08","EFRR"]
[null,null,null,"FEMP.02.09","Gospodarowanie wodami",null,null,null,null,null,null,null,null,null,"FEMP.02.09","EFRR"]
[null,null,null,"FEMP.02.10","Przeciwdziałanie klęskom żywiołowym",null,null,null,null,null,null,null,null,null,"FEMP.02.10","EFRR"]
[null,null,null,"FEMP.02.11","Wsparcie służb ratunkowych",null,null,null,null,null,null,null,null,null,"FEMP.02.11","EFRR"]
[null,null,null,"FEMP.02.12","Rozwijanie systemu gospodarki wodno-ściekowej",null,null,null,null,null,null,null,null,null,"FEMP.02.12","EFRR"]
[null,null,null,"FEMP.02.13","Rozwijanie systemu gospodarki odpadami",null,null,null,null,null,null,null,null,null,"FEMP.02.13","EFRR"]
[null,null,null,"FEMP.02.14","Ochrona różnorodności biologicznej",null,null,null,null,null,null,null,null,null,"FEMP.02.14","EFRR"]
[null,null,null,"FEMP.02.15","Rozwój zielonej i niebieskiej infrastruktury w miastach",null,null,null,null,null,null,null,null,null,"FEMP.02.15","EFRR"]
[null,null,null,"FEMP.02.16","Rekultywacja terenów zdegradowanych",null,null,null,null,null,null,null,null,null,"FEMP.02.16","EFRR"]
[null,null,null,"FEMP.02.17","Likwidacja odpadów niebezpiecznych",null,null,null,null,null,null,null,null,null,"FEMP.02.17","EFRR"]
[null,null,null,"FEMP.02.18","Poprawa efektywności energetycznej ZIT - Instrument finansowy",null,null,null,null,null,null,null,null,null,"FEMP.02.18","EFRR"]
[null,null,null,"FEMP.02.19","Poprawa efektywności energetycznej -  ZIT - dotacja",null,null,null,null,null,null,null,null,null,"FEMP.02.19","EFRR"]
[null,null,null,"FEMP.02.20","Rozwój sieci ciepłowniczych - ZIT",null,null,null,null,null,null,null,null,null,"FEMP.02.20","EFRR"]
[null,null,null,"FEMP.02.21","Wsparcie rozwoju OZE - ZIT - dotacja",null,null,null,null,null,null,null,null,null,"FEMP.02.21","EFRR"]
[null,null,null,"FEMP.02.22","Wsparcie rozwoju OZE - ZIT - Instrumenty finansowe",null,null,null,null,null,null,null,null,null,"FEMP.02.22","EFRR"]
[null,null,null,"FEMP.02.23","Gospodarowanie wodami - ZIT",null,null,null,null,null,null,null,null,null,"FEMP.02.23","EFRR"]
[null,null,null,"FEMP.02.24","Rozwijanie systemu gospodarki wodno-ściekowej - ZIT",null,null,null,null,null,null,null,null,null,"FEMP.02.24","EFRR"]
[null,null,null,"FEMP.02.25","Rozwijanie systemu gospodarki odpadami - ZIT",null,null,null,null,null,null,null,null,null,"FEMP.02.25","EFRR"]
[null,null,null,"FEMP.02.26","Rozwój zielonej i niebieskiej infrastruktury w miastach – ZIT",null,null,null,null,null,null,null,null,null,"FEMP.02.26","EFRR"]
[null,null,null,"FEMP.02.27","Gospodarowanie wodami – IIT OPK",null,null,null,null,null,null,null,null,null,"FEMP.02.27","EFRR"]
[null,null,null,"FEMP.02.28","Rozwijanie systemu gospodarki wodno-ściekowej – IIT OPK",null,null,null,null,null,null,null,null,null,"FEMP.02.28","EFRR"]
[null,null,null,"FEMP.02.29","Rozwijanie systemu gospodarki odpadami – IIT OPK",null,null,null,null,null,null,null,null,null,"FEMP.02.29","EFRR"]
[null,null,null,"FEMP.02.30","Rozwój zielonej i niebieskiej infrastruktury w miastach oraz rekultywacja terenów zdegradowanych – IIT OPK",null,null,null,null,null,null,null,null,null,"FEMP.02.30","EFRR"]
[null,null,null,"FEMP.03.01","Transport miejski - ZIT",null,null,null,null,null,null,null,null,null,"FEMP.03.01","EFRR"]
[null,null,null,"FEMP.03.02","Transport miejski",null,null,null,null,null,null,null,null,null,"FEMP.03.02","EFRR"]
[null,null,null,"FEMP.03.03","Transport miejski – IIT OPK",null,null,null,null,null,null,null,null,null,"FEMP.03.03","EFRR"]
[null,null,null,"FEMP.04.01","Drogi regionalne",null,null,null,null,null,null,null,null,null,"FEMP.04.01","EFRR"]
[null,null,null,"FEMP.04.02","Bezpieczeństwo ruchu",null,null,null,null,null,null,null,null,null,"FEMP.04.02","EFRR"]
[null,null,null,"FEMP.04.03","Drogi powiatowe",null,null,null,null,null,null,null,null,null,"FEMP.04.03","EFRR"]
[null,null,null,"FEMP.04.04","Transport kolejowy",null,null,null,null,null,null,null,null,null,"FEMP.04.04","EFRR"]
[null,null,null,"FEMP.04.05","Transport pozamiejski - tabor",null,null,null,null,null,null,null,null,null,"FEMP.04.05","EFRR"]
[null,null,null,"FEMP.04.06","Transport pozamiejski - infrastruktura",null,null,null,null,null,null,null,null,null,"FEMP.04.06","EFRR"]
[null,null,null,"FEMP.04.07","Drogi powiatowe - ZIT",null,null,null,null,null,null,null,null,null,"FEMP.04.07","EFRR"]
[null,null,null,"FEMP.05.01","Infrastruktura szkół podstawowych i ponadpodstawowych prowadzących kształcenie ogólne",null,null,null,null,null,null,null,null,null,"FEMP.05.01","EFRR"]
[null,null,null,"FEMP.05.02","Infrastruktura ośrodków wychowania przedszkolnego",null,null,null,null,null,null,null,null,null,"FEMP.05.02","EFRR"]
[null,null,null,"FEMP.05.03","Infrastruktura kształcenia zawodowego",null,null,null,null,null,null,null,null,null,"FEMP.05.03","EFRR"]
[null,null,null,"FEMP.05.04","Infrastruktura szkoleniowa",null,null,null,null,null,null,null,null,null,"FEMP.05.04","EFRR"]
[null,null,null,"FEMP.05.05","Infrastruktura edukacji - ZIT",null,null,null,null,null,null,null,null,null,"FEMP.05.05","EFRR"]
[null,null,null,"FEMP.05.06","Infrastruktura opieki w społeczności lokalnej",null,null,null,null,null,null,null,null,null,"FEMP.05.06","EFRR"]
[null,null,null,"FEMP.05.07","Infrastruktura związana z zapewnieniem opieki w społeczności lokalnej - ZIT",null,null,null,null,null,null,null,null,null,"FEMP.05.07","EFRR"]
[null,null,null,"FEMP.05.08","Opieka długoterminowa, paliatywna i hospicyjna",null,null,null,null,null,null,null,null,null,"FEMP.05.08","EFRR"]
[null,null,null,"FEMP.05.09","Mieszkalnictwo wspomagane i treningowe",null,null,null,null,null,null,null,null,null,"FEMP.05.09","EFRR"]
[null,null,null,"FEMP.05.10","Infrastruktura podmiotów reintegracji",null,null,null,null,null,null,null,null,null,"FEMP.05.10","EFRR"]
[null,null,null,"FEMP.05.11","Wsparcie Podstawowej Opieki Zdrowotnej / Ambulatoryjnej Opieki Specjalistycznej / leczenia jednego dnia",null,null,null,null,null,null,null,null,null,"FEMP.05.11","EFRR"]
[null,null,null,"FEMP.05.12","Wsparcie Podstawowej Opieki Zdrowotnej / Ambulatoryjnej Opieki Specjalistycznej / leczenia jednego dnia – ZIT",null,null,null,null,null,null,null,null,null,"FEMP.05.12","EFRR"]
[null,null,null,"FEMP.05.13","Środowiskowa opieka psychiatryczna dla dzieci, młodzieży i dorosłych",null,null,null,null,null,null,null,null,null,"FEMP.05.13","EFRR"]
[null,null,null,"FEMP.05.14","Środowiskowa opieka psychiatryczna dla dzieci, młodzieży i dorosłych – ZIT",null,null,null,null,null,null,null,null,null,"FEMP.05.14","EFRR"]
[null,null,null,"FEMP.05.15","Dzienne Domy Opieki Medycznej",null,null,null,null,null,null,null,null,null,"FEMP.05.15","EFRR"]
[null,null,null,"FEMP.05.16","Dzienne Domy Opieki Medycznej - ZIT",null,null,null,null,null,null,null,null,null,"FEMP.05.16","EFRR"]
[null,null,null,"FEMP.05.17","Infrastruktura regionalnych instytucji kultury",null,null,null,null,null,null,null,null,null,"FEMP.05.17","EFRR"]
[null,null,null,"FEMP.05.18","Regionalna oferta turystyczna",null,null,null,null,null,null,null,null,null,"FEMP.05.18","EFRR"]
[null,null,null,"FEMP.05.19","Regionalne ścieżki rowerowe VeloMałopolska",null,null,null,null,null,null,null,null,null,"FEMP.05.19","EFRR"]
[null,null,null,"FEMP.06.01","Aktywizacja zawodowa – projekty powiatowych urzędów pracy",null,null,null,null,null,null,null,null,null,"FEMP.06.01","EFS+"]
[null,null,null,"FEMP.06.02","Aktywizacja zawodowa – projekty Komendy Wojewódzkiej Ochotniczych Hufców Pracy",null,null,null,null,null,null,null,null,null,"FEMP.06.02","EFS+"]
[null,null,null,"FEMP.06.03","Wsparcie dla reemigrantów",null,null,null,null,null,null,null,null,null,"FEMP.06.03","EFS+"]
[null,null,null,"FEMP.06.04","Działania na rzecz poprawy sytuacji osób na rynku pracy",null,null,null,null,null,null,null,null,null,"FEMP.06.04","EFS+"]
[null,null,null,"FEMP.06.05","Wsparcie na rzecz równouprawnienia oraz godzenia życia zawodowego z prywatnym",null,null,null,null,null,null,null,null,null,"FEMP.06.05","EFS+"]
[null,null,null,"FEMP.06.06","Rozwój kompetencji kadr i adaptacja do zmian",null,null,null,null,null,null,null,null,null,"FEMP.06.06","EFS+"]
[null,null,null,"FEMP.06.07","Wsparcie na rzecz zarządzania różnorodnością u pracodawców",null,null,null,null,null,null,null,null,null,"FEMP.06.07","EFS+"]
[null,null,null,"FEMP.06.08","Programy zdrowotne",null,null,null,null,null,null,null,null,null,"FEMP.06.08","EFS+"]
[null,null,null,"FEMP.06.09","Wsparcie wychowania przedszkolnego",null,null,null,null,null,null,null,null,null,"FEMP.06.09","EFS+"]
[null,null,null,"FEMP.06.10","Wsparcie kształcenia ogólnego",null,null,null,null,null,null,null,null,null,"FEMP.06.10","EFS+"]
[null,null,null,"FEMP.06.11","Wsparcie kształcenia zawodowego",null,null,null,null,null,null,null,null,null,"FEMP.06.11","EFS+"]
[null,null,null,"FEMP.06.12","Edukacja - projekty Województwa Małopolskiego",null,null,null,null,null,null,null,null,null,"FEMP.06.12","EFS+"]
[null,null,null,"FEMP.06.13","Lokalne inicjatywy edukacyjne",null,null,null,null,null,null,null,null,null,"FEMP.06.13","EFS+"]
[null,null,null,"FEMP.06.14","Kształcenie osób dorosłych w systemie popytowym",null,null,null,null,null,null,null,null,null,"FEMP.06.14","EFS+"]
[null,null,null,"FEMP.06.15","Kształcenie osób dorosłych poza systemem popytowym",null,null,null,null,null,null,null,null,null,"FEMP.06.15","EFS+"]
[null,null,null,"FEMP.06.16","Aktywizacja społeczno-zawodowa",null,null,null,null,null,null,null,null,null,"FEMP.06.16","EFS+"]
[null,null,null,"FEMP.06.17","Aktywizacja społeczno-zawodowa - RLKS",null,null,null,null,null,null,null,null,null,"FEMP.06.17","EFS+"]
[null,null,null,"FEMP.06.18","Wsparcie podmiotów ekonomii społecznej oraz przedsiębiorstw społecznych",null,null,null,null,null,null,null,null,null,"FEMP.06.18","EFS+"]
[null,null,null,"FEMP.06.19","Kompleksowe wsparcie obywateli państw trzecich",null,null,null,null,null,null,null,null,null,"FEMP.06.19","EFS+"]
[null,null,null,"FEMP.06.20","Wsparcie społeczności romskiej",null,null,null,null,null,null,null,null,null,"FEMP.06.20","EFS+"]
[null,null,null,"FEMP.06.21","Wsparcie usług społecznych w regionie",null,null,null,null,null,null,null,null,null,"FEMP.06.21","EFS+"]
[null,null,null,"FEMP.06.22","Wsparcie usług społecznych i zdrowotnych w regionie - RLKS",null,null,null,null,null,null,null,null,null,"FEMP.06.22","EFS+"]
[null,null,null,"FEMP.06.23","Włączenie społeczne - projekty Województwa Małopolskiego",null,null,null,null,null,null,null,null,null,"FEMP.06.23","EFS+"]
[null,null,null,"FEMP.06.24","Programy zdrowotne",null,null,null,null,null,null,null,null,null,"FEMP.06.24","EFS+"]
[null,null,null,"FEMP.06.25","Wsparcie usług zdrowotnych - konkursy",null,null,null,null,null,null,null,null,null,"FEMP.06.25","EFS+"]
[null,null,null,"FEMP.06.26","Integracja społeczna osób w szczególnie trudnej sytuacji życiowej",null,null,null,null,null,null,null,null,null,"FEMP.06.26","EFS+"]
[null,null,null,"FEMP.06.27","Budowanie potencjału partnerów i organizacji społeczeństwa obywatelskiego w obszarach wsparcia EFS+",null,null,null,null,null,null,null,null,null,"FEMP.06.27","EFS+"]
[null,null,null,"FEMP.06.28","Nauka i innowacja w małopolskich szkołach",null,null,null,null,null,null,null,null,null,"FEMP.06.28","EFS+"]
[null,null,null,"FEMP.06.29","Wsparcie wychowania przedszkolnego - ZIT",null,null,null,null,null,null,null,null,null,"FEMP.06.29","EFS+"]
[null,null,null,"FEMP.06.30","Wsparcie kształcenia ogólnego - ZIT",null,null,null,null,null,null,null,null,null,"FEMP.06.30","EFS+"]
[null,null,null,"FEMP.06.31","Wsparcie kształcenia zawodowego - ZIT",null,null,null,null,null,null,null,null,null,"FEMP.06.31","EFS+"]
[null,null,null,"FEMP.06.32","Aktywizacja społeczno-zawodowa - ZIT",null,null,null,null,null,null,null,null,null,"FEMP.06.32","EFS+"]
[null,null,null,"FEMP.06.33","Wsparcie usług społecznych w regionie - ZIT",null,null,null,null,null,null,null,null,null,"FEMP.06.33","EFS+"]
[null,null,null,"FEMP.06.34","Wsparcie usług zdrowotnych - ZIT",null,null,null,null,null,null,null,null,null,"FEMP.06.34","EFS+"]
[null,null,null,"FEMP.06.35","Transformacja cyfrowa szkół",null,null,null,null,null,null,null,null,null,"FEMP.06.35","EFS+"]
[null,null,null,"FEMP.06.36","Wsparcie wychowania przedszkolnego – IIT OPK",null,null,null,null,null,null,null,null,null,"FEMP.06.36","EFS+"]
[null,null,null,"FEMP.06.37","Wsparcie kształcenia ogólnego – IIT OPK",null,null,null,null,null,null,null,null,null,"FEMP.06.37","EFS+"]
[null,null,null,"FEMP.07.01","IIT - Wsparcie oddolnych inicjatyw na obszarach miejskich",null,null,null,null,null,null,null,null,null,"FEMP.07.01","EFRR"]
[null,null,null,"FEMP.07.02","ZIT - Wsparcie oddolnych inicjatyw na obszarach miejskich",null,null,null,null,null,null,null,null,null,"FEMP.07.02","EFRR"]
[null,null,null,"FEMP.07.03","IIT - Tereny inwestycyjne",null,null,null,null,null,null,null,null,null,"FEMP.07.03","EFRR"]
[null,null,null,"FEMP.07.04","IIT- Rewitalizacja",null,null,null,null,null,null,null,null,null,"FEMP.07.04","EFRR"]
[null,null,null,"FEMP.07.05","IIT- Obszary uzdrowiskowe",null,null,null,null,null,null,null,null,null,"FEMP.07.05","EFRR"]
[null,null,null,"FEMP.07.06","RLKS - Wsparcie oddolnych inicjatyw na obszarach wiejskich",null,null,null,null,null,null,null,null,null,"FEMP.07.06","EFRR"]
[null,null,null,"FEMP.08.01","Działania na rzecz poprawy sytuacji na rynku pracy",null,null,null,null,null,null,null,null,null,"FEMP.08.01","FST"]
[null,null,null,"FEMP.08.02","Edukacja dla transformacji",null,null,null,null,null,null,null,null,null,"FEMP.08.02","FST"]
[null,null,null,"FEMP.08.03","Wsparcie MŚP we wczesnej fazie funkcjonowania",null,null,null,null,null,null,null,null,null,"FEMP.08.03","FST"]
[null,null,null,"FEMP.08.04","Inicjatywy lokalne na rzecz transformacji",null,null,null,null,null,null,null,null,null,"FEMP.08.04","FST"]
[null,null,null,"FEMP.08.05","Wsparcie procesu sprawiedliwej transformacji",null,null,null,null,null,null,null,null,null,"FEMP.08.05","FST"]
[null,null,null,"FEMP.08.06","Opieka nad osobami potrzebującymi wsparcia w codziennym funkcjonowaniu",null,null,null,null,null,null,null,null,null,"FEMP.08.06","FST"]
[null,null,null,"FEMP.08.07","Rozwój firm wspierający sprawiedliwą transformację",null,null,null,null,null,null,null,null,null,"FEMP.08.07","FST"]
[null,null,null,"FEMP.08.08","Pozyskiwanie inwestycji tworzących miejsca pracy",null,null,null,null,null,null,null,null,null,"FEMP.08.08","FST"]
[null,null,null,"FEMP.08.09","Rozwój klastrów",null,null,null,null,null,null,null,null,null,"FEMP.08.09","FST"]
[null,null,null,"FEMP.08.10","Gospodarka obiegu zamkniętego",null,null,null,null,null,null,null,null,null,"FEMP.08.10","FST"]
[null,null,null,"FEMP.08.11","Transformacja energetyczna",null,null,null,null,null,null,null,null,null,"FEMP.08.11","FST"]
[null,null,null,"FEMP.08.12","Transformacja transportu",null,null,null,null,null,null,null,null,null,"FEMP.08.12","FST"]
[null,null,null,"FEMP.08.13","Zagospodarowanie terenów i obiektów zdegradowanych",null,null,null,null,null,null,null,null,null,"FEMP.08.13","FST"]
[null,null,null,"FEMP.08.14","Transformacja klimatyczna",null,null,null,null,null,null,null,null,null,"FEMP.08.14","FST"]
[null,null,null,"FEMP.09.01","Wsparcie wdrażania programu z FST",null,null,null,null,null,null,null,null,null,"FEMP.09.01","FST PT"]
[null,null,null,"FEMP.10.01","Wsparcie wdrażania programu z EFRR",null,null,null,null,null,null,null,null,null,"FEMP.10.01","EFRR PT"]
[null,null,null,"FEMP.11.01","Wsparcie wdrażania programu z EFS+",null,null,null,null,null,null,null,null,null,"FEMP.11.01","EFS+ PT"]
[null,null,null,"FEOP.01.01","Prace B+R i infrastruktura w MŚP",null,null,null,null,null,null,null,null,null,"FEOP.01.01","EFRR"]
[null,null,null,"FEOP.01.02","Opolskie innowacyjne",null,null,null,null,null,null,null,null,null,"FEOP.01.02","EFRR"]
[null,null,null,"FEOP.01.03","Infrastruktura B+R organizacji badawczych",null,null,null,null,null,null,null,null,null,"FEOP.01.03","EFRR"]
[null,null,null,"FEOP.01.04","Cyfryzacja i e-usługi publiczne",null,null,null,null,null,null,null,null,null,"FEOP.01.04","EFRR"]
[null,null,null,"FEOP.01.05","Wsparcie dla nowopowstałych MŚP",null,null,null,null,null,null,null,null,null,"FEOP.01.05","EFRR"]
[null,null,null,"FEOP.01.06","Promocja MŚP, w tym wsparcie internacjonalizacji oraz promocji eksportu",null,null,null,null,null,null,null,null,null,"FEOP.01.06","EFRR"]
[null,null,null,"FEOP.01.07","Opolskie konkurencyjne",null,null,null,null,null,null,null,null,null,"FEOP.01.07","EFRR"]
[null,null,null,"FEOP.01.08","Wsparcie instytucji otoczenia biznesu",null,null,null,null,null,null,null,null,null,"FEOP.01.08","EFRR"]
[null,null,null,"FEOP.01.09","Wdrożenie B+R przez MŚP",null,null,null,null,null,null,null,null,null,"FEOP.01.09","EFRR"]
[null,null,null,"FEOP.01.10","Programy rozwojowe dla MŚP",null,null,null,null,null,null,null,null,null,"FEOP.01.10","EFRR"]
[null,null,null,"FEOP.01.11","Instrumenty finansowe w gospodarce",null,null,null,null,null,null,null,null,null,"FEOP.01.11","EFRR"]
[null,null,null,"FEOP.02.01","Poprawa efektywności energetycznej w województwie opolskim",null,null,null,null,null,null,null,null,null,"FEOP.02.01","EFRR"]
[null,null,null,"FEOP.02.02","Europejska Inicjatywa Społeczna dla klimatu",null,null,null,null,null,null,null,null,null,"FEOP.02.02","EFRR"]
[null,null,null,"FEOP.02.03","Zapobieganie zagrożeniom związanym ze zmianą klimatu",null,null,null,null,null,null,null,null,null,"FEOP.02.03","EFRR"]
[null,null,null,"FEOP.02.04","Gospodarka wodno - ściekowa",null,null,null,null,null,null,null,null,null,"FEOP.02.04","EFRR"]
[null,null,null,"FEOP.02.05","Odpady i gospodarka o obiegu zamkniętym",null,null,null,null,null,null,null,null,null,"FEOP.02.05","EFRR"]
[null,null,null,"FEOP.02.06","Ochrona różnorodności biologicznej",null,null,null,null,null,null,null,null,null,"FEOP.02.06","EFRR"]
[null,null,null,"FEOP.02.07","Instrumenty finansowe w obszarze środowiska",null,null,null,null,null,null,null,null,null,"FEOP.02.07","EFRR"]
[null,null,null,"FEOP.03.01","Mobilność miejska",null,null,null,null,null,null,null,null,null,"FEOP.03.01","EFRR"]
[null,null,null,"FEOP.03.02","Mobilność miejska w ZIT",null,null,null,null,null,null,null,null,null,"FEOP.03.02","EFRR"]
[null,null,null,"FEOP.04.01","Infrastruktura drogowa",null,null,null,null,null,null,null,null,null,"FEOP.04.01","EFRR"]
[null,null,null,"FEOP.04.02","Mobilność mieszkańców",null,null,null,null,null,null,null,null,null,"FEOP.04.02","EFRR"]
[null,null,null,"FEOP.04.03","Tabor kolejowy",null,null,null,null,null,null,null,null,null,"FEOP.04.03","EFRR"]
[null,null,null,"FEOP.05.01","Aktywizacja zawodowa osób pozostających bez zatrudnienia realizowana przez PUP",null,null,null,null,null,null,null,null,null,"FEOP.05.01","EFS+"]
[null,null,null,"FEOP.05.02","Aktywizacja zawodowa realizowana poza PUP",null,null,null,null,null,null,null,null,null,"FEOP.05.02","EFS+"]
[null,null,null,"FEOP.05.03","Wyrównywanie szans kobiet i mężczyzn na rynku pracy",null,null,null,null,null,null,null,null,null,"FEOP.05.03","EFS+"]
[null,null,null,"FEOP.05.04","Usługi zdrowotne dla pracujących i bezrobotnych",null,null,null,null,null,null,null,null,null,"FEOP.05.04","EFS+"]
[null,null,null,"FEOP.05.05","Adaptacyjność pracodawców i pracowników oraz elastyczne formy zatrudnienia",null,null,null,null,null,null,null,null,null,"FEOP.05.05","EFS+"]
[null,null,null,"FEOP.05.06","Edukacja przedszkolna",null,null,null,null,null,null,null,null,null,"FEOP.05.06","EFS+"]
[null,null,null,"FEOP.05.07","Kształcenie ogólne",null,null,null,null,null,null,null,null,null,"FEOP.05.07","EFS+"]
[null,null,null,"FEOP.05.08","Program pomocy stypendialnej",null,null,null,null,null,null,null,null,null,"FEOP.05.08","EFS+"]
[null,null,null,"FEOP.05.09","Kształcenie zawodowe",null,null,null,null,null,null,null,null,null,"FEOP.05.09","EFS+"]
[null,null,null,"FEOP.05.10","Edukacja włączająca",null,null,null,null,null,null,null,null,null,"FEOP.05.10","EFS+"]
[null,null,null,"FEOP.05.11","Kształcenie ustawiczne",null,null,null,null,null,null,null,null,null,"FEOP.05.11","EFS+"]
[null,null,null,"FEOP.06.01","Wsparcie ekonomii społecznej",null,null,null,null,null,null,null,null,null,"FEOP.06.01","EFS+"]
[null,null,null,"FEOP.06.02","Aktywizacja społeczno-zawodowa osób zagrożonych ubóstwem i wykluczeniem społecznym",null,null,null,null,null,null,null,null,null,"FEOP.06.02","EFS+"]
[null,null,null,"FEOP.06.03","Budowanie potencjału partnerów społecznych oraz organizacji społeczeństwa obywatelskiego",null,null,null,null,null,null,null,null,null,"FEOP.06.03","EFS+"]
[null,null,null,"FEOP.06.04","Wspieranie integracji społeczno-gospodarczej obywateli państw trzecich, w tym migrantów",null,null,null,null,null,null,null,null,null,"FEOP.06.04","EFS+"]
[null,null,null,"FEOP.06.05","Wsparcie integracji społecznej społeczności romskiej",null,null,null,null,null,null,null,null,null,"FEOP.06.05","EFS+"]
[null,null,null,"FEOP.06.06","Wsparcie osób w kryzysie bezdomności",null,null,null,null,null,null,null,null,null,"FEOP.06.06","EFS+"]
[null,null,null,"FEOP.06.07","Wsparcie rodziny i pieczy zastępczej",null,null,null,null,null,null,null,null,null,"FEOP.06.07","EFS+"]
[null,null,null,"FEOP.06.08","Profilaktyka zachowań społecznych dzieci i młodzieży",null,null,null,null,null,null,null,null,null,"FEOP.06.08","EFS+"]
[null,null,null,"FEOP.07.01","Usługi zdrowotne i społeczne oraz opieka długoterminowa",null,null,null,null,null,null,null,null,null,"FEOP.07.01","EFS+"]
[null,null,null,"FEOP.08.01","Europejski Budżet Obywatelski",null,null,null,null,null,null,null,null,null,"FEOP.08.01","EFS+"]
[null,null,null,"FEOP.09.01","Inwestycje w infrastrukturę edukacyjną",null,null,null,null,null,null,null,null,null,"FEOP.09.01","EFRR"]
[null,null,null,"FEOP.09.02","Inwestycje w infrastrukturę społeczną",null,null,null,null,null,null,null,null,null,"FEOP.09.02","EFRR"]
[null,null,null,"FEOP.09.03","Inwestycje w infrastrukturę zdrowotną",null,null,null,null,null,null,null,null,null,"FEOP.09.03","EFRR"]
[null,null,null,"FEOP.10.01","Dziedzictwo kulturowe i kultura, rozwój turystyki na obszarach miejskich - Aglomeracja Opolska",null,null,null,null,null,null,null,null,null,"FEOP.10.01","EFRR"]
[null,null,null,"FEOP.10.02","Rewitalizacja na obszarach miejskich",null,null,null,null,null,null,null,null,null,"FEOP.10.02","EFRR"]
[null,null,null,"FEOP.10.03","Europejska Inicjatywa Społeczna - Aglomeracja Opolska",null,null,null,null,null,null,null,null,null,"FEOP.10.03","EFRR"]
[null,null,null,"FEOP.10.04","Dziedzictwo kulturowe i kultura, rozwój turystyki na obszarach innych niż miejskie - 4 subregiony",null,null,null,null,null,null,null,null,null,"FEOP.10.04","EFRR"]
[null,null,null,"FEOP.10.05","Rewitalizacja na obszarach innych niż miejskie",null,null,null,null,null,null,null,null,null,"FEOP.10.05","EFRR"]
[null,null,null,"FEOP.10.06","Europejska Inicjatywa Społeczna - 4 subregiony",null,null,null,null,null,null,null,null,null,"FEOP.10.06","EFRR"]
[null,null,null,"FEOP.11.01","Pomoc techniczna EFRR",null,null,null,null,null,null,null,null,null,"FEOP.11.01","EFRR PT"]
[null,null,null,"FEOP.12.01","Pomoc techniczna EFS+",null,null,null,null,null,null,null,null,null,"FEOP.12.01","EFS+ PT"]
[null,null,null,"FEPD.01.01","Rozwój regionalnego potencjału B+R",null,null,null,null,null,null,null,null,null,"FEPD.01.01","EFRR"]
[null,null,null,"FEPD.01.02","Rozwój przez cyfryzację",null,null,null,null,null,null,null,null,null,"FEPD.01.02","EFRR"]
[null,null,null,"FEPD.01.03","Pożyczki na cyfryzację",null,null,null,null,null,null,null,null,null,"FEPD.01.03","EFRR"]
[null,null,null,"FEPD.01.04","Zintegrowana terytorialnie cyfryzacja",null,null,null,null,null,null,null,null,null,"FEPD.01.04","EFRR"]
[null,null,null,"FEPD.01.05","Wzrost konkurencyjności podlaskich przedsiębiorstw",null,null,null,null,null,null,null,null,null,"FEPD.01.05","EFRR"]
[null,null,null,"FEPD.01.06","Wsparcie zwrotne na innowacje",null,null,null,null,null,null,null,null,null,"FEPD.01.06","EFRR"]
[null,null,null,"FEPD.02.01","Efektywność energetyczna",null,null,null,null,null,null,null,null,null,"FEPD.02.01","EFRR"]
[null,null,null,"FEPD.02.02","Pożyczki na efektywność energetyczną",null,null,null,null,null,null,null,null,null,"FEPD.02.02","EFRR"]
[null,null,null,"FEPD.02.03","Zintegrowana terytorialnie efektywność energetyczna",null,null,null,null,null,null,null,null,null,"FEPD.02.03","EFRR"]
[null,null,null,"FEPD.02.04","Energia odnawialna",null,null,null,null,null,null,null,null,null,"FEPD.02.04","EFRR"]
[null,null,null,"FEPD.02.05","Pożyczki na energię odnawialną",null,null,null,null,null,null,null,null,null,"FEPD.02.05","EFRR"]
[null,null,null,"FEPD.02.06","Zintegrowana terytorialnie energia odnawialna",null,null,null,null,null,null,null,null,null,"FEPD.02.06","EFRR"]
[null,null,null,"FEPD.02.07","Adaptacja do zmian klimatu",null,null,null,null,null,null,null,null,null,"FEPD.02.07","EFRR"]
[null,null,null,"FEPD.02.08","Zintegrowana terytorialnie adaptacja do zmian klimatu",null,null,null,null,null,null,null,null,null,"FEPD.02.08","EFRR"]
[null,null,null,"FEPD.02.09","Gospodarka wodna i ściekowa",null,null,null,null,null,null,null,null,null,"FEPD.02.09","EFRR"]
[null,null,null,"FEPD.02.10","Gospodarka o obiegu zamkniętym",null,null,null,null,null,null,null,null,null,"FEPD.02.10","EFRR"]
[null,null,null,"FEPD.02.11","Ochrona przyrody",null,null,null,null,null,null,null,null,null,"FEPD.02.11","EFRR"]
[null,null,null,"FEPD.02.12","Zintegrowana terytorialnie ochrona przyrody",null,null,null,null,null,null,null,null,null,"FEPD.02.12","EFRR"]
[null,null,null,"FEPD.03.01","Transport regionalny",null,null,null,null,null,null,null,null,null,"FEPD.03.01","EFRR"]
[null,null,null,"FEPD.04.01","Inwestycje w edukację",null,null,null,null,null,null,null,null,null,"FEPD.04.01","EFRR"]
[null,null,null,"FEPD.04.02","Zintegrowane terytorialnie inwestycje w edukację",null,null,null,null,null,null,null,null,null,"FEPD.04.02","EFRR"]
[null,null,null,"FEPD.04.03","Inwestycje społeczne",null,null,null,null,null,null,null,null,null,"FEPD.04.03","EFRR"]
[null,null,null,"FEPD.04.04","Zintegrowane terytorialnie inwestycje społeczne",null,null,null,null,null,null,null,null,null,"FEPD.04.04","EFRR"]
[null,null,null,"FEPD.04.05","Inwestycje w ochronę zdrowia",null,null,null,null,null,null,null,null,null,"FEPD.04.05","EFRR"]
[null,null,null,"FEPD.04.06","Inwestycje w kulturę i turystykę",null,null,null,null,null,null,null,null,null,"FEPD.04.06","EFRR"]
[null,null,null,"FEPD.05.01","Rewitalizacja miejska",null,null,null,null,null,null,null,null,null,"FEPD.05.01","EFRR"]
[null,null,null,"FEPD.05.02","Zintegrowana terytorialnie kultura i turystyka miejska",null,null,null,null,null,null,null,null,null,"FEPD.05.02","EFRR"]
[null,null,null,"FEPD.05.03","Lokalna rewitalizacja",null,null,null,null,null,null,null,null,null,"FEPD.05.03","EFRR"]
[null,null,null,"FEPD.05.04","Lokalna kultura i turystyka",null,null,null,null,null,null,null,null,null,"FEPD.05.04","EFRR"]
[null,null,null,"FEPD.06.01","Mobilność miejska",null,null,null,null,null,null,null,null,null,"FEPD.06.01","EFRR"]
[null,null,null,"FEPD.06.02","Zintegrowana terytorialnie mobilność miejska",null,null,null,null,null,null,null,null,null,"FEPD.06.02","EFRR"]
[null,null,null,"FEPD.07.01","Wspieranie zatrudnienia w regionie",null,null,null,null,null,null,null,null,null,"FEPD.07.01","EFS+"]
[null,null,null,"FEPD.07.02","Wspieranie równego dostępu do rynku pracy",null,null,null,null,null,null,null,null,null,"FEPD.07.02","EFS+"]
[null,null,null,"FEPD.07.03","Rozwój kadr regionalnej gospodarki",null,null,null,null,null,null,null,null,null,"FEPD.07.03","EFS+"]
[null,null,null,"FEPD.07.04","Wspieranie uczenia się przez całe życie",null,null,null,null,null,null,null,null,null,"FEPD.07.04","EFS+"]
[null,null,null,"FEPD.07.05","Wspieranie zatrudnienia w regionie – projekty podmiotów innych niż PUP",null,null,null,null,null,null,null,null,null,"FEPD.07.05","EFS+"]
[null,null,null,"FEPD.08.01","Rozwój edukacji i kształcenia",null,null,null,null,null,null,null,null,null,"FEPD.08.01","EFS+"]
[null,null,null,"FEPD.08.02","Zintegrowany terytorialnie rozwój edukacji i kształcenia",null,null,null,null,null,null,null,null,null,"FEPD.08.02","EFS+"]
[null,null,null,"FEPD.08.03","Zwiększenie aktywności społeczno-zawodowej",null,null,null,null,null,null,null,null,null,"FEPD.08.03","EFS+"]
[null,null,null,"FEPD.08.04","Wzrost dostępności usług społecznych",null,null,null,null,null,null,null,null,null,"FEPD.08.04","EFS+"]
[null,null,null,"FEPD.08.05","Wzmocnienie aktywnej integracji społecznej",null,null,null,null,null,null,null,null,null,"FEPD.08.05","EFS+"]
[null,null,null,"FEPD.09.01","Rozwój lokalnej edukacji i kształcenia",null,null,null,null,null,null,null,null,null,"FEPD.09.01","EFS+"]
[null,null,null,"FEPD.09.02","Zwiększenie lokalnej aktywności społeczno-zawodowej",null,null,null,null,null,null,null,null,null,"FEPD.09.02","EFS+"]
[null,null,null,"FEPD.09.03","Wzrost dostępności lokalnych usług społecznych",null,null,null,null,null,null,null,null,null,"FEPD.09.03","EFS+"]
[null,null,null,"FEPD.09.04","Wzmocnienie lokalnej aktywnej integracji społecznej",null,null,null,null,null,null,null,null,null,"FEPD.09.04","EFS+"]
[null,null,null,"FEPD.10.01","Lokalna energia odnawialna",null,null,null,null,null,null,null,null,null,"FEPD.10.01","EFRR"]
[null,null,null,"FEPD.11.01","Pomoc techniczna EFRR",null,null,null,null,null,null,null,null,null,"FEPD.11.01","EFRR PT"]
[null,null,null,"FEPD.12.01","Pomoc techniczna EFS+",null,null,null,null,null,null,null,null,null,"FEPD.12.01","EFS+ PT"]
[null,null,null,"FEPK.01.01","Badania i rozwój",null,null,null,null,null,null,null,null,null,"FEPK.01.01","EFRR"]
[null,null,null,"FEPK.01.02","Cyfryzacja",null,null,null,null,null,null,null,null,null,"FEPK.01.02","EFRR"]
[null,null,null,"FEPK.01.03","Wsparcie MŚP -dotacja",null,null,null,null,null,null,null,null,null,"FEPK.01.03","EFRR"]
[null,null,null,"FEPK.01.04","Wsparcie MŚP – IF",null,null,null,null,null,null,null,null,null,"FEPK.01.04","EFRR"]
[null,null,null,"FEPK.01.05","Regionalne Inteligentne Specjalizacje",null,null,null,null,null,null,null,null,null,"FEPK.01.05","EFRR"]
[null,null,null,"FEPK.02.01","Poprawa jakości powietrza – dotacja",null,null,null,null,null,null,null,null,null,"FEPK.02.01","EFRR"]
[null,null,null,"FEPK.02.02","Poprawa jakości powietrza – IF",null,null,null,null,null,null,null,null,null,"FEPK.02.02","EFRR"]
[null,null,null,"FEPK.02.03","Odnawialne źródła energii – dotacja",null,null,null,null,null,null,null,null,null,"FEPK.02.03","EFRR"]
[null,null,null,"FEPK.02.04","Odnawialne źródła energii – IF",null,null,null,null,null,null,null,null,null,"FEPK.02.04","EFRR"]
[null,null,null,"FEPK.02.05","Adaptacja do zmian klimatu",null,null,null,null,null,null,null,null,null,"FEPK.02.05","EFRR"]
[null,null,null,"FEPK.02.06","Zrównoważona gospodarka wodno - ściekowa",null,null,null,null,null,null,null,null,null,"FEPK.02.06","EFRR"]
[null,null,null,"FEPK.02.07","Gospodarka o obiegu zamkniętym",null,null,null,null,null,null,null,null,null,"FEPK.02.07","EFRR"]
[null,null,null,"FEPK.02.08","Ochrona przyrody i różnorodności biologicznej",null,null,null,null,null,null,null,null,null,"FEPK.02.08","EFRR"]
[null,null,null,"FEPK.03.01","Zrównoważona mobilność miejska – ZIT",null,null,null,null,null,null,null,null,null,"FEPK.03.01","EFRR"]
[null,null,null,"FEPK.04.01","Drogi wojewódzkie",null,null,null,null,null,null,null,null,null,"FEPK.04.01","EFRR"]
[null,null,null,"FEPK.04.02","Tabor kolejowy",null,null,null,null,null,null,null,null,null,"FEPK.04.02","EFRR"]
[null,null,null,"FEPK.04.03","Zrównoważony transport pozamiejski",null,null,null,null,null,null,null,null,null,"FEPK.04.03","EFRR"]
[null,null,null,"FEPK.05.01","Edukacja",null,null,null,null,null,null,null,null,null,"FEPK.05.01","EFRR"]
[null,null,null,"FEPK.05.02","Włączenie społeczne",null,null,null,null,null,null,null,null,null,"FEPK.05.02","EFRR"]
[null,null,null,"FEPK.05.03","Dostępność",null,null,null,null,null,null,null,null,null,"FEPK.05.03","EFRR"]
[null,null,null,"FEPK.05.04","Ochrona zdrowia",null,null,null,null,null,null,null,null,null,"FEPK.05.04","EFRR"]
[null,null,null,"FEPK.05.05","Kultura",null,null,null,null,null,null,null,null,null,"FEPK.05.05","EFRR"]
[null,null,null,"FEPK.05.06","Szlaki turystyczne",null,null,null,null,null,null,null,null,null,"FEPK.05.06","EFRR"]
[null,null,null,"FEPK.06.01","Zrównoważony rozwój miejskich obszarów funkcjonalnych",null,null,null,null,null,null,null,null,null,"FEPK.06.01","EFRR"]
[null,null,null,"FEPK.06.02","Zrównoważony rozwój obszarów wiejskich i małych miast",null,null,null,null,null,null,null,null,null,"FEPK.06.02","EFRR"]
[null,null,null,"FEPK.07.01","Aktywizacja zawodowa osób pozostających bez pracy",null,null,null,null,null,null,null,null,null,"FEPK.07.01","EFS+"]
[null,null,null,"FEPK.07.02","Aktywizacja młodzieży w szczególnie trudnej sytuacji",null,null,null,null,null,null,null,null,null,"FEPK.07.02","EFS+"]
[null,null,null,"FEPK.07.03","Aktywizacja osób młodych pozostających bez pracy/ wsparcie rozwoju przedsiębiorczości",null,null,null,null,null,null,null,null,null,"FEPK.07.03","EFS+"]
[null,null,null,"FEPK.07.04","Poprawa sytuacji na rynku pracy osób ubogich pracujących, oraz odchodzących z rolnictwa",null,null,null,null,null,null,null,null,null,"FEPK.07.04","EFS+"]
[null,null,null,"FEPK.07.05","Inicjatywa ALMA",null,null,null,null,null,null,null,null,null,"FEPK.07.05","EFS+"]
[null,null,null,"FEPK.07.06","Wsparcie Publicznych Służb Zatrudnienia oraz innych Instytucji rynku pracy",null,null,null,null,null,null,null,null,null,"FEPK.07.06","EFS+"]
[null,null,null,"FEPK.07.07","Aktywizacja zdrowotna pracowników",null,null,null,null,null,null,null,null,null,"FEPK.07.07","EFS+"]
[null,null,null,"FEPK.07.08","Wsparcie procesów adaptacyjnych i modernizacyjnych pracowników oraz przedsiębiorców",null,null,null,null,null,null,null,null,null,"FEPK.07.08","EFS+"]
[null,null,null,"FEPK.07.09","Rozwój kwalifikacji i kompetencji kadr",null,null,null,null,null,null,null,null,null,"FEPK.07.09","EFS+"]
[null,null,null,"FEPK.07.10","Kształtowanie kompetencji w zakresie robotyki i programowania",null,null,null,null,null,null,null,null,null,"FEPK.07.10","EFS+"]
[null,null,null,"FEPK.07.11","Edukacja przedszkolna",null,null,null,null,null,null,null,null,null,"FEPK.07.11","EFS+"]
[null,null,null,"FEPK.07.12","Szkolnictwo ogólne",null,null,null,null,null,null,null,null,null,"FEPK.07.12","EFS+"]
[null,null,null,"FEPK.07.13","Szkolnictwo zawodowe",null,null,null,null,null,null,null,null,null,"FEPK.07.13","EFS+"]
[null,null,null,"FEPK.07.14","Wsparcie osób dorosłych w zdobywaniu i uzupełnianiu kwalifikacji i kompetencji",null,null,null,null,null,null,null,null,null,"FEPK.07.14","EFS+"]
[null,null,null,"FEPK.07.15","Aktywna integracja",null,null,null,null,null,null,null,null,null,"FEPK.07.15","EFS+"]
[null,null,null,"FEPK.07.16","Ekonomia społeczna",null,null,null,null,null,null,null,null,null,"FEPK.07.16","EFS+"]
[null,null,null,"FEPK.07.17","Integracja społeczno-gospodarcza obywateli państw trzecich",null,null,null,null,null,null,null,null,null,"FEPK.07.17","EFS+"]
[null,null,null,"FEPK.07.18","Usługi społeczne i zdrowotne świadczone w społeczności lokalnej",null,null,null,null,null,null,null,null,null,"FEPK.07.18","EFS+"]
[null,null,null,"FEPK.07.19","Integracja społeczna",null,null,null,null,null,null,null,null,null,"FEPK.07.19","EFS+"]
[null,null,null,"FEPK.08.01","Rozwój zdolności uczniów poza edukacją formalną",null,null,null,null,null,null,null,null,null,"FEPK.08.01","EFS+"]
[null,null,null,"FEPK.08.02","Zarządzanie Lokalną Strategią Rozwoju",null,null,null,null,null,null,null,null,null,"FEPK.08.02","EFS+"]
[null,null,null,"FEPK.08.03","Wsparcie jakości edukacji",null,null,null,null,null,null,null,null,null,"FEPK.08.03","EFS+"]
[null,null,null,"FEPK.08.04","Wsparcie osób dorosłych w zdobywaniu kompetencji",null,null,null,null,null,null,null,null,null,"FEPK.08.04","EFS+"]
[null,null,null,"FEPK.08.05","Usługi społeczne świadczone w społeczności lokalnej",null,null,null,null,null,null,null,null,null,"FEPK.08.05","EFS+"]
[null,null,null,"FEPK.08.06","Integracja społeczna",null,null,null,null,null,null,null,null,null,"FEPK.08.06","EFS+"]
[null,null,null,"FEPK.09.01","Pomoc techniczna EFRR",null,null,null,null,null,null,null,null,null,"FEPK.09.01","EFRR PT"]
[null,null,null,"FEPK.10.01","Pomoc techniczna EFS+",null,null,null,null,null,null,null,null,null,"FEPK.10.01","EFS+ PT"]
[null,null,null,"FEPM.01.01","Badania i innowacje w przedsiębiorstwach",null,null,null,null,null,null,null,null,null,"FEPM.01.01","EFRR"]
[null,null,null,"FEPM.01.02","Badania i innowacje w przedsiębiorstwach – wsparcie pozadotacyjne",null,null,null,null,null,null,null,null,null,"FEPM.01.02","EFRR"]
[null,null,null,"FEPM.01.05","Wsparcie przedsiębiorstw",null,null,null,null,null,null,null,null,null,"FEPM.01.05","EFRR"]
[null,null,null,"FEPM.01.06","Wsparcie MŚP – wsparcie pozadotacyjne",null,null,null,null,null,null,null,null,null,"FEPM.01.06","EFRR"]
[null,null,null,"FEPM.02.01","Efektywność energetyczna",null,null,null,null,null,null,null,null,null,"FEPM.02.01","EFRR"]
[null,null,null,"FEPM.02.02","Efektywność energetyczna – ZIT na terenie obszaru metropolitalnego",null,null,null,null,null,null,null,null,null,"FEPM.02.02","EFRR"]
[null,null,null,"FEPM.02.03","Efektywność energetyczna – ZIT poza terenem obszaru metropolitalnego",null,null,null,null,null,null,null,null,null,"FEPM.02.03","EFRR"]
[null,null,null,"FEPM.02.04","Efektywność energetyczna – programy rewitalizacji",null,null,null,null,null,null,null,null,null,"FEPM.02.04","EFRR"]
[null,null,null,"FEPM.02.05","Efektywność energetyczna – wsparcie pozadotacyjne",null,null,null,null,null,null,null,null,null,"FEPM.02.05","EFRR"]
[null,null,null,"FEPM.02.07","Odnawialne źródła energii – RLKS",null,null,null,null,null,null,null,null,null,"FEPM.02.07","EFRR"]
[null,null,null,"FEPM.02.08","Odnawialne źródła energii – wsparcie pozadotacyjne",null,null,null,null,null,null,null,null,null,"FEPM.02.08","EFRR"]
[null,null,null,"FEPM.02.09","Przystosowanie do zmian klimatu",null,null,null,null,null,null,null,null,null,"FEPM.02.09","EFRR"]
[null,null,null,"FEPM.02.10","Przystosowanie do zmian klimatu – ZIT na terenie obszaru metropolitalnego",null,null,null,null,null,null,null,null,null,"FEPM.02.10","EFRR"]
[null,null,null,"FEPM.02.11","Przystosowanie do zmian klimatu – ZIT poza terenem obszaru metropolitalnego",null,null,null,null,null,null,null,null,null,"FEPM.02.11","EFRR"]
[null,null,null,"FEPM.02.12","Zrównoważona gospodarka wodna",null,null,null,null,null,null,null,null,null,"FEPM.02.12","EFRR"]
[null,null,null,"FEPM.02.13","Gospodarka o obiegu zamkniętym",null,null,null,null,null,null,null,null,null,"FEPM.02.13","EFRR"]
[null,null,null,"FEPM.02.14","Gospodarka o obiegu zamkniętym – wsparcie pozadotacyjne",null,null,null,null,null,null,null,null,null,"FEPM.02.14","EFRR"]
[null,null,null,"FEPM.02.15","Różnorodność biologiczna i krajobrazu",null,null,null,null,null,null,null,null,null,"FEPM.02.15","EFRR"]
[null,null,null,"FEPM.02.16","Różnorodność biologiczna i krajobrazu – ZIT poza terenem obszaru metropolitalnego",null,null,null,null,null,null,null,null,null,"FEPM.02.16","EFRR"]
[null,null,null,"FEPM.02.17","Różnorodność biologiczna i krajobrazu – RLKS",null,null,null,null,null,null,null,null,null,"FEPM.02.17","EFRR"]
[null,null,null,"FEPM.03.01","Mobilność miejska",null,null,null,null,null,null,null,null,null,"FEPM.03.01","EFRR"]
[null,null,null,"FEPM.03.02","Mobilność miejska – ZIT na terenie obszaru metropolitalnego",null,null,null,null,null,null,null,null,null,"FEPM.03.02","EFRR"]
[null,null,null,"FEPM.03.03","Mobilność miejska – ZIT poza terenem obszaru metropolitalnego",null,null,null,null,null,null,null,null,null,"FEPM.03.03","EFRR"]
[null,null,null,"FEPM.04.01","Infrastruktura drogowa",null,null,null,null,null,null,null,null,null,"FEPM.04.01","EFRR"]
[null,null,null,"FEPM.04.02","Tabor kolejowy",null,null,null,null,null,null,null,null,null,"FEPM.04.02","EFRR"]
[null,null,null,"FEPM.05.01","Rynek pracy",null,null,null,null,null,null,null,null,null,"FEPM.05.01","EFS+"]
[null,null,null,"FEPM.05.02","Rynek pracy – projekty powiatowych urzędów pracy",null,null,null,null,null,null,null,null,null,"FEPM.05.02","EFS+"]
[null,null,null,"FEPM.05.03","Modernizacja instytucji rynku pracy",null,null,null,null,null,null,null,null,null,"FEPM.05.03","EFS+"]
[null,null,null,"FEPM.05.04","Kobiety na rynku pracy",null,null,null,null,null,null,null,null,null,"FEPM.05.04","EFS+"]
[null,null,null,"FEPM.05.05","Aktywne i zdrowe starzenie się",null,null,null,null,null,null,null,null,null,"FEPM.05.05","EFS+"]
[null,null,null,"FEPM.05.06","Adaptacyjność pracowników i pracodawców",null,null,null,null,null,null,null,null,null,"FEPM.05.06","EFS+"]
[null,null,null,"FEPM.05.07","Edukacja przedszkolna",null,null,null,null,null,null,null,null,null,"FEPM.05.07","EFS+"]
[null,null,null,"FEPM.05.08","Edukacja ogólna i zawodowa",null,null,null,null,null,null,null,null,null,"FEPM.05.08","EFS+"]
[null,null,null,"FEPM.05.09","Kształcenie ustawiczne",null,null,null,null,null,null,null,null,null,"FEPM.05.09","EFS+"]
[null,null,null,"FEPM.05.10","Kształcenie ustawiczne – wsparcie pozadotacyjne",null,null,null,null,null,null,null,null,null,"FEPM.05.10","EFS+"]
[null,null,null,"FEPM.05.11","Aktywne włączenie społeczne",null,null,null,null,null,null,null,null,null,"FEPM.05.11","EFS+"]
[null,null,null,"FEPM.05.12","Aktywne włączenie społeczne – programy rewitalizacji",null,null,null,null,null,null,null,null,null,"FEPM.05.12","EFS+"]
[null,null,null,"FEPM.05.13","Rozwój ekonomii społecznej",null,null,null,null,null,null,null,null,null,"FEPM.05.13","EFS+"]
[null,null,null,"FEPM.05.14","Integracja migrantów",null,null,null,null,null,null,null,null,null,"FEPM.05.14","EFS+"]
[null,null,null,"FEPM.05.15","Integracja migrantów – ZIT na terenie obszaru metropolitalnego",null,null,null,null,null,null,null,null,null,"FEPM.05.15","EFS+"]
[null,null,null,"FEPM.05.16","Integracja migrantów – ZIT poza terenem obszaru metropolitalnego",null,null,null,null,null,null,null,null,null,"FEPM.05.16","EFS+"]
[null,null,null,"FEPM.05.17","Usługi społeczne i zdrowotne",null,null,null,null,null,null,null,null,null,"FEPM.05.17","EFS+"]
[null,null,null,"FEPM.05.18","Usługi społeczne i zdrowotne – ZIT na terenie obszaru metropolitalnego",null,null,null,null,null,null,null,null,null,"FEPM.05.18","EFS+"]
[null,null,null,"FEPM.05.19","Usługi społeczne i zdrowotne – programy rewitalizacji",null,null,null,null,null,null,null,null,null,"FEPM.05.19","EFS+"]
[null,null,null,"FEPM.05.20","Usługi społeczne i zdrowotne – RLKS",null,null,null,null,null,null,null,null,null,"FEPM.05.20","EFS+"]
[null,null,null,"FEPM.05.21","Aktywność obywatelska",null,null,null,null,null,null,null,null,null,"FEPM.05.21","EFS+"]
[null,null,null,"FEPM.06.01","Infrastruktura edukacji przedszkolnej",null,null,null,null,null,null,null,null,null,"FEPM.06.01","EFRR"]
[null,null,null,"FEPM.06.02","Infrastruktura edukacji włączającej i zawodowej",null,null,null,null,null,null,null,null,null,"FEPM.06.02","EFRR"]
[null,null,null,"FEPM.06.03","Infrastruktura społeczna",null,null,null,null,null,null,null,null,null,"FEPM.06.03","EFRR"]
[null,null,null,"FEPM.06.04","Infrastruktura społeczna – ZIT na terenie obszaru metropolitalnego",null,null,null,null,null,null,null,null,null,"FEPM.06.04","EFRR"]
[null,null,null,"FEPM.06.05","Infrastruktura społeczna – programy rewitalizacji",null,null,null,null,null,null,null,null,null,"FEPM.06.05","EFRR"]
[null,null,null,"FEPM.06.06","Infrastruktura społeczna – RLKS",null,null,null,null,null,null,null,null,null,"FEPM.06.06","EFRR"]
[null,null,null,"FEPM.06.08","Infrastruktura zdrowia – ZIT na terenie obszaru metropolitalnego",null,null,null,null,null,null,null,null,null,"FEPM.06.08","EFRR"]
[null,null,null,"FEPM.06.09","Infrastruktura zdrowia – ZIT poza terenem obszaru metropolitalnego",null,null,null,null,null,null,null,null,null,"FEPM.06.09","EFRR"]
[null,null,null,"FEPM.06.10","Infrastruktura kultury",null,null,null,null,null,null,null,null,null,"FEPM.06.10","EFRR"]
[null,null,null,"FEPM.06.11","Infrastruktura turystyki",null,null,null,null,null,null,null,null,null,"FEPM.06.11","EFRR"]
[null,null,null,"FEPM.06.12","Infrastruktura turystyki – RLKS",null,null,null,null,null,null,null,null,null,"FEPM.06.12","EFRR"]
[null,null,null,"FEPM.07.01","Rewitalizacja zdegradowanych obszarów miejskich",null,null,null,null,null,null,null,null,null,"FEPM.07.01","EFRR"]
[null,null,null,"FEPM.08.01","Pomoc Techniczna EFS+",null,null,null,null,null,null,null,null,null,"FEPM.08.01","EFS+ PT"]
[null,null,null,"FEPM.09.01","Pomoc Techniczna EFRR",null,null,null,null,null,null,null,null,null,"FEPM.09.01","EFRR PT"]
[null,null,null,"FEPZ.01.01","Kompleksowe projekty B+R przedsiębiorstw",null,null,null,null,null,null,null,null,null,"FEPZ.01.01","EFRR"]
[null,null,null,"FEPZ.01.02","Małe projekty B+R",null,null,null,null,null,null,null,null,null,"FEPZ.01.02","EFRR"]
[null,null,null,"FEPZ.01.04","Wzmocnienie procesu przedsiębiorczego odkrywania i rozwój ekosystemu innowacji",null,null,null,null,null,null,null,null,null,"FEPZ.01.03","EFRR"]
[null,null,null,"FEPZ.01.05","Rozwój i podnoszenie jakości e-usług sektora publicznego",null,null,null,null,null,null,null,null,null,"FEPZ.01.04","EFRR"]
[null,null,null,"FEPZ.01.06","Wsparcie innowacyjnych inwestycji przedsiębiorstw",null,null,null,null,null,null,null,null,null,"FEPZ.01.05","EFRR"]
[null,null,null,"FEPZ.01.07","Wsparcie rozwoju przedsiębiorstw poprzez instrumenty finansowe",null,null,null,null,null,null,null,null,null,"FEPZ.01.06","EFRR"]
[null,null,null,"FEPZ.01.08","Promocja innowacji i przedsiębiorczości oraz profesjonalizacja obsługi inwestorów",null,null,null,null,null,null,null,null,null,"FEPZ.01.07","EFRR"]
[null,null,null,"FEPZ.01.09","Przygotowanie i wdrożenie nowych modeli biznesowych przedsiębiorstw (w tym wspólne projekty przedsiębiorstw i IOB)",null,null,null,null,null,null,null,null,null,"FEPZ.01.08","EFRR"]
[null,null,null,"FEPZ.02.01","Wsparcie efektywności energetycznej poprzez instrumenty finansowe",null,null,null,null,null,null,null,null,null,"FEPZ.01.09","EFRR"]
[null,null,null,"FEPZ.02.03","Zwiększenie efektywności energetycznej budynków mieszkalnych",null,null,null,null,null,null,null,null,null,"FEPZ.02.01","EFRR"]
[null,null,null,"FEPZ.02.04","Efektywne systemy ciepłownicze",null,null,null,null,null,null,null,null,null,"FEPZ.02.03","EFRR"]
[null,null,null,"FEPZ.02.07","Zwiększenie efektywności energetycznej budynków użyteczności publicznej (ZIT)",null,null,null,null,null,null,null,null,null,"FEPZ.02.04","EFRR"]
[null,null,null,"FEPZ.02.08","Zwiększenie efektywności energetycznej budynków użyteczności publicznej (IIT)",null,null,null,null,null,null,null,null,null,"FEPZ.02.07","EFRR"]
[null,null,null,"FEPZ.02.09","Wsparcie rozwoju OZE poprzez instrumenty finansowe",null,null,null,null,null,null,null,null,null,"FEPZ.02.08","EFRR"]
[null,null,null,"FEPZ.02.12","Adaptacja do zmian klimatu",null,null,null,null,null,null,null,null,null,"FEPZ.02.09","EFRR"]
[null,null,null,"FEPZ.02.13","Adaptacja do zmian klimatu (ZIT)",null,null,null,null,null,null,null,null,null,"FEPZ.02.12","EFRR"]
[null,null,null,"FEPZ.02.14","Adaptacja do zmian klimatu (IIT)",null,null,null,null,null,null,null,null,null,"FEPZ.02.13","EFRR"]
[null,null,null,"FEPZ.02.15","Wzmocnienie służb ratownictwa",null,null,null,null,null,null,null,null,null,"FEPZ.02.14","EFRR"]
[null,null,null,"FEPZ.02.16","Odprowadzanie i oczyszczanie ścieków",null,null,null,null,null,null,null,null,null,"FEPZ.02.15","EFRR"]
[null,null,null,"FEPZ.02.17","Ograniczenie strat wody i poprawa jakości wody",null,null,null,null,null,null,null,null,null,"FEPZ.02.16","EFRR"]
[null,null,null,"FEPZ.02.18","Gospodarowanie odpadami komunalnymi",null,null,null,null,null,null,null,null,null,"FEPZ.02.17","EFRR"]
[null,null,null,"FEPZ.02.19","Gospodarowanie odpadami przemysłowymi i niebezpiecznymi",null,null,null,null,null,null,null,null,null,"FEPZ.02.18","EFRR"]
[null,null,null,"FEPZ.02.20","Wsparcie transformacji w kierunku GOZ poprzez instrumenty finansowe",null,null,null,null,null,null,null,null,null,"FEPZ.02.19","EFRR"]
[null,null,null,"FEPZ.02.23","Ochrona przyrody i jej zasobów",null,null,null,null,null,null,null,null,null,"FEPZ.02.20","EFRR"]
[null,null,null,"FEPZ.02.25","Ochrona powierzchni ziemi i ograniczenie zanieczyszczeń",null,null,null,null,null,null,null,null,null,"FEPZ.02.23","EFRR"]
[null,null,null,"FEPZ.03.01","Czysty transport miejski (ZIT)",null,null,null,null,null,null,null,null,null,"FEPZ.02.24","EFRR"]
[null,null,null,"FEPZ.04.01","Infrastruktura transportowa",null,null,null,null,null,null,null,null,null,"FEPZ.02.25","EFRR"]
[null,null,null,"FEPZ.04.02","Infrastruktura rowerowa",null,null,null,null,null,null,null,null,null,"FEPZ.03.01","EFRR"]
[null,null,null,"FEPZ.04.03","Zakup taboru kolejowego na potrzeby przewozów regionalnych",null,null,null,null,null,null,null,null,null,"FEPZ.04.01","EFRR"]
[null,null,null,"FEPZ.05.01","Infrastruktura wychowania przedszkolnego",null,null,null,null,null,null,null,null,null,"FEPZ.04.02","EFRR"]
[null,null,null,"FEPZ.05.02","Poprawa dostępności infrastruktury edukacji ogólnej",null,null,null,null,null,null,null,null,null,"FEPZ.04.03","EFRR"]
[null,null,null,"FEPZ.05.03","Infrastruktura szkolnictwa wyższego",null,null,null,null,null,null,null,null,null,"FEPZ.05.01","EFRR"]
[null,null,null,"FEPZ.05.04","Rozwój mieszkalnictwa wspomaganego i treningowego",null,null,null,null,null,null,null,null,null,"FEPZ.05.02","EFRR"]
[null,null,null,"FEPZ.05.05","Zintegrowane działania na rzecz włączenia społeczno-gospodarczego",null,null,null,null,null,null,null,null,null,"FEPZ.05.03","EFRR"]
[null,null,null,"FEPZ.05.06","Wsparcie infrastruktury rodzinnych domów dziecka",null,null,null,null,null,null,null,null,null,"FEPZ.05.04","EFRR"]
[null,null,null,"FEPZ.05.08","Integracja społeczno-gospodarcza obywateli państw trzecich",null,null,null,null,null,null,null,null,null,"FEPZ.05.05","EFRR"]
[null,null,null,"FEPZ.05.09","Dostępne i efektywne usługi zdrowotne",null,null,null,null,null,null,null,null,null,"FEPZ.05.06","EFRR"]
[null,null,null,"FEPZ.05.10","Rozwój i wzmocnienie potencjału turystycznego regionu",null,null,null,null,null,null,null,null,null,"FEPZ.05.08","EFRR"]
[null,null,null,"FEPZ.05.11","Włączenie społeczne poprzez kulturę",null,null,null,null,null,null,null,null,null,"FEPZ.05.09","EFRR"]
[null,null,null,"FEPZ.06.01","Aktywizacja zawodowa osób pozostających bez pracy - projekty Powiatowych Urzędów Pracy",null,null,null,null,null,null,null,null,null,"FEPZ.05.10","EFRR"]
[null,null,null,"FEPZ.06.02","Aktywizacja zawodowo-edukacyjna osób młodych - projekty realizowane przez Ochotnicze Hufce Pracy",null,null,null,null,null,null,null,null,null,"FEPZ.05.11","EFRR"]
[null,null,null,"FEPZ.06.03","Aktywizacja zawodowa osób pozostających bez pracy, w tym znajdujących się w trudnej sytuacji na rynku pracy",null,null,null,null,null,null,null,null,null,"FEPZ.06.01","EFS+"]
[null,null,null,"FEPZ.06.04","Wzmocnienie potencjału Publicznych Służb Zatrudnienia",null,null,null,null,null,null,null,null,null,"FEPZ.06.02","EFS+"]
[null,null,null,"FEPZ.06.05","Promowanie aktywności zawodowej kobiet oraz zasad równościowych",null,null,null,null,null,null,null,null,null,"FEPZ.06.03","EFS+"]
[null,null,null,"FEPZ.06.06","Rozwój pracowników, przedsiębiorstw i przedsiębiorców w regionie",null,null,null,null,null,null,null,null,null,"FEPZ.06.04","EFS+"]
[null,null,null,"FEPZ.06.07","Aktywne starzenie się w dobrym zdrowiu",null,null,null,null,null,null,null,null,null,"FEPZ.06.05","EFS+"]
[null,null,null,"FEPZ.06.08","Edukacja przedszkolna",null,null,null,null,null,null,null,null,null,"FEPZ.06.06","EFS+"]
[null,null,null,"FEPZ.06.09","Edukacja ogólna",null,null,null,null,null,null,null,null,null,"FEPZ.06.07","EFS+"]
[null,null,null,"FEPZ.06.10","Edukacja zawodowa (ZIT)",null,null,null,null,null,null,null,null,null,"FEPZ.06.08","EFS+"]
[null,null,null,"FEPZ.06.11","Edukacja zawodowa (IIT)",null,null,null,null,null,null,null,null,null,"FEPZ.06.09","EFS+"]
[null,null,null,"FEPZ.06.12","Edukacja osób dorosłych",null,null,null,null,null,null,null,null,null,"FEPZ.06.10","EFS+"]
[null,null,null,"FEPZ.06.13","Aktywna integracja w regionie",null,null,null,null,null,null,null,null,null,"FEPZ.06.11","EFS+"]
[null,null,null,"FEPZ.06.14","Aktywna integracja na obszarach objętych Lokalną Strategią Rozwoju",null,null,null,null,null,null,null,null,null,"FEPZ.06.12","EFS+"]
[null,null,null,"FEPZ.06.15","Kompleksowe wsparcie ekonomii społecznej i przedsiębiorstw społecznych",null,null,null,null,null,null,null,null,null,"FEPZ.06.13","EFS+"]
[null,null,null,"FEPZ.06.16","Wspieranie podnoszenia potencjału partnerów społecznych oraz organizacji społeczeństwa obywatelskiego",null,null,null,null,null,null,null,null,null,"FEPZ.06.14","EFS+"]
[null,null,null,"FEPZ.06.17","Integracja społeczno-ekonomiczna obywateli państw trzecich w regionie",null,null,null,null,null,null,null,null,null,"FEPZ.06.15","EFS+"]
[null,null,null,"FEPZ.06.18","Rozwój usług społecznych, w tym świadczonych w społeczności lokalnej",null,null,null,null,null,null,null,null,null,"FEPZ.06.16","EFS+"]
[null,null,null,"FEPZ.06.19","Rozwój usług społecznych, w tym usług świadczonych w społeczności lokalnej (ZIT)",null,null,null,null,null,null,null,null,null,"FEPZ.06.17","EFS+"]
[null,null,null,"FEPZ.06.20","Rozwój usług społecznych, w tym usług świadczonych w społeczności lokalnej (IIT)",null,null,null,null,null,null,null,null,null,"FEPZ.06.18","EFS+"]
[null,null,null,"FEPZ.06.21","Zwiększenie dostępności usług zdrowotnych i usług opieki długoterminowej",null,null,null,null,null,null,null,null,null,"FEPZ.06.19","EFS+"]
[null,null,null,"FEPZ.06.22","Kompleksowe wsparcie na rzecz rodziny",null,null,null,null,null,null,null,null,null,"FEPZ.06.20","EFS+"]
[null,null,null,"FEPZ.06.23","Usługi wczesnej interwencji kryzysowej oraz usługi dla osób w kryzysie bezdomności i zagrożonych wykluczeniem mieszkaniowym",null,null,null,null,null,null,null,null,null,"FEPZ.06.21","EFS+"]
[null,null,null,"FEPZ.07.01","Rozwój obszarów miejskich (ZIT)",null,null,null,null,null,null,null,null,null,"FEPZ.06.22","EFS+"]
[null,null,null,"FEPZ.07.02","Rozwój obszarów innych niż miejskie (IIT)",null,null,null,null,null,null,null,null,null,"FEPZ.06.23","EFS+"]
[null,null,null,"FEPZ.08.01","Pomoc techniczna (EFRR)",null,null,null,null,null,null,null,null,null,"FEPZ.07.01","EFRR"]
[null,null,null,"FEPZ.09.01","Pomoc Techniczna (EFS+)",null,null,null,null,null,null,null,null,null,"FEPZ.07.02","EFRR"]
[null,null,null,"FESL.01.01","B+R - organizacje badawcze",null,null,null,null,null,null,null,null,null,"FEPZ.08.01","EFRR PT"]
[null,null,null,"FESL.01.02","Badania, rozwój i innowacje w przedsiębiorstwach",null,null,null,null,null,null,null,null,null,"FEPZ.09.01","EFS+ PT"]
[null,null,null,"FESL.01.03","Ekosystem RIS",null,null,null,null,null,null,null,null,null,"FESL.01.01","EFRR"]
[null,null,null,"FESL.01.04","Cyfryzacja administracji publicznej",null,null,null,null,null,null,null,null,null,"FESL.01.02","EFRR"]
[null,null,null,"FESL.01.05","Innowacyjne rozwiązania cyfrowe w ochronie zdrowia",null,null,null,null,null,null,null,null,null,"FESL.01.03","EFRR"]
[null,null,null,"FESL.01.06","Rozwój przedsiębiorczości - EFRR",null,null,null,null,null,null,null,null,null,"FESL.01.04","EFRR"]
[null,null,null,"FESL.01.07","Klastry",null,null,null,null,null,null,null,null,null,"FESL.01.05","EFRR"]
[null,null,null,"FESL.01.08","Innowacje cyfrowe w MŚP",null,null,null,null,null,null,null,null,null,"FESL.01.06","EFRR"]
[null,null,null,"FESL.01.09","Konkurencyjność przedsiębiorstw (IF)",null,null,null,null,null,null,null,null,null,"FESL.01.07","EFRR"]
[null,null,null,"FESL.01.10","Promocja eksportu i internacjonalizacja MŚP",null,null,null,null,null,null,null,null,null,"FESL.01.08","EFRR"]
[null,null,null,"FESL.02.01","Efektywność energetyczna budynków użyteczności publicznej",null,null,null,null,null,null,null,null,null,"FESL.01.09","EFRR"]
[null,null,null,"FESL.02.02","Efektywność energetyczna budynków użyteczności publicznej – ZIT",null,null,null,null,null,null,null,null,null,"FESL.01.10","EFRR"]
[null,null,null,"FESL.02.03","Efektywność energetyczna budynków mieszkalnych",null,null,null,null,null,null,null,null,null,"FESL.02.01","EFRR"]
[null,null,null,"FESL.02.04","Efektywność energetyczna budynków mieszkalnych – ZIT",null,null,null,null,null,null,null,null,null,"FESL.02.02","EFRR"]
[null,null,null,"FESL.02.05","Efektywność energetyczna budynków użyteczności publicznej, mieszkalnych i przedsiębiorstw (IF)",null,null,null,null,null,null,null,null,null,"FESL.02.03","EFRR"]
[null,null,null,"FESL.02.06","Odnawialne źródła energii",null,null,null,null,null,null,null,null,null,"FESL.02.04","EFRR"]
[null,null,null,"FESL.02.07","Odnawialne źródła energii (IF)",null,null,null,null,null,null,null,null,null,"FESL.02.05","EFRR"]
[null,null,null,"FESL.02.08","Wsparcie dla klimatu",null,null,null,null,null,null,null,null,null,"FESL.02.06","EFRR"]
[null,null,null,"FESL.02.09","Wsparcie dla klimatu - ZIT",null,null,null,null,null,null,null,null,null,"FESL.02.07","EFRR"]
[null,null,null,"FESL.02.10","Wzmocnienie potencjału służb ratowniczych",null,null,null,null,null,null,null,null,null,"FESL.02.08","EFRR"]
[null,null,null,"FESL.02.11","Infrastruktura wodno-kanalizacyjna",null,null,null,null,null,null,null,null,null,"FESL.02.09","EFRR"]
[null,null,null,"FESL.02.12","Gospodarka odpadami komunalnymi",null,null,null,null,null,null,null,null,null,"FESL.02.10","EFRR"]
[null,null,null,"FESL.02.13","Gospodarka o obiegu zamkniętym (IF)",null,null,null,null,null,null,null,null,null,"FESL.02.11","EFRR"]
[null,null,null,"FESL.02.14","Ochrona przyrody i bioróżnorodność",null,null,null,null,null,null,null,null,null,"FESL.02.12","EFRR"]
[null,null,null,"FESL.02.15","Ochrona przyrody i bioróżnorodność - ZIT",null,null,null,null,null,null,null,null,null,"FESL.02.13","EFRR"]
[null,null,null,"FESL.02.16","Rekultywacja terenów zdegradowanych",null,null,null,null,null,null,null,null,null,"FESL.02.14","EFRR"]
[null,null,null,"FESL.03.01","Zakup taboru autobusowego/ trolejbusowego - ZIT",null,null,null,null,null,null,null,null,null,"FESL.02.15","EFRR"]
[null,null,null,"FESL.03.02","Zrównoważona multimodalna mobilność miejska - ZIT",null,null,null,null,null,null,null,null,null,"FESL.02.16","EFRR"]
[null,null,null,"FESL.03.03","Regionalne Trasy Rowerowe - ZIT",null,null,null,null,null,null,null,null,null,"FESL.03.01","EFRR"]
[null,null,null,"FESL.04.01","Drogi wojewódzkie",null,null,null,null,null,null,null,null,null,"FESL.03.02","EFRR"]
[null,null,null,"FESL.04.02","Drogi gminne i powiatowe",null,null,null,null,null,null,null,null,null,"FESL.03.03","EFRR"]
[null,null,null,"FESL.04.03","Regionalny tabor kolejowy",null,null,null,null,null,null,null,null,null,"FESL.04.01","EFRR"]
[null,null,null,"FESL.05.01","Aktywizacja zawodowa poprzez PUP",null,null,null,null,null,null,null,null,null,"FESL.04.02","EFRR"]
[null,null,null,"FESL.05.02","Aktywizacja zawodowa poprzez OHP",null,null,null,null,null,null,null,null,null,"FESL.04.03","EFRR"]
[null,null,null,"FESL.05.03","ALMA - staże zagraniczne dla młodych",null,null,null,null,null,null,null,null,null,"FESL.05.01","EFS+"]
[null,null,null,"FESL.05.04","Aktywizacja zawodowa osób pracujących",null,null,null,null,null,null,null,null,null,"FESL.05.02","EFS+"]
[null,null,null,"FESL.05.05","Usługi EURES",null,null,null,null,null,null,null,null,null,"FESL.05.03","EFS+"]
[null,null,null,"FESL.05.06","Szkolenia dla pracowników IRP",null,null,null,null,null,null,null,null,null,"FESL.05.04","EFS+"]
[null,null,null,"FESL.05.07","Opracowanie modelu prognozowania i monitorowania zmian na rynku pracy",null,null,null,null,null,null,null,null,null,"FESL.05.05","EFS+"]
[null,null,null,"FESL.05.08","Budowanie sieci współpracy międzyinstytucjonalnej i promocji w zakresie poradnictwa zawodowego",null,null,null,null,null,null,null,null,null,"FESL.05.06","EFS+"]
[null,null,null,"FESL.05.09","EURES-T Beskydy",null,null,null,null,null,null,null,null,null,"FESL.05.07","EFS+"]
[null,null,null,"FESL.05.10","EURES dla PSZ",null,null,null,null,null,null,null,null,null,"FESL.05.08","EFS+"]
[null,null,null,"FESL.05.11","Równość szans na rynku pracy",null,null,null,null,null,null,null,null,null,"FESL.05.09","EFS+"]
[null,null,null,"FESL.05.12","Regionalne programy zdrowotne",null,null,null,null,null,null,null,null,null,"FESL.05.10","EFS+"]
[null,null,null,"FESL.05.13","Zdrowy pracownik",null,null,null,null,null,null,null,null,null,"FESL.05.11","EFS+"]
[null,null,null,"FESL.05.14","Usługi rozwojowe dla kadr administracji samorządowej",null,null,null,null,null,null,null,null,null,"FESL.05.12","EFS+"]
[null,null,null,"FESL.05.15","Usługi rozwojowe dla przedsiębiorców - PSF",null,null,null,null,null,null,null,null,null,"FESL.05.13","EFS+"]
[null,null,null,"FESL.05.16","Outplacement EFS+",null,null,null,null,null,null,null,null,null,"FESL.05.14","EFS+"]
[null,null,null,"FESL.06.01","Edukacja przedszkolna",null,null,null,null,null,null,null,null,null,"FESL.05.15","EFS+"]
[null,null,null,"FESL.06.02","Kształcenie ogólne",null,null,null,null,null,null,null,null,null,"FESL.05.16","EFS+"]
[null,null,null,"FESL.06.03","Kształcenie zawodowe",null,null,null,null,null,null,null,null,null,"FESL.06.01","EFS+"]
[null,null,null,"FESL.06.04","Strategiczne projekty dla obszaru edukacji",null,null,null,null,null,null,null,null,null,"FESL.06.02","EFS+"]
[null,null,null,"FESL.06.05","Wsparcie edukacyjne społeczności objętych LSR",null,null,null,null,null,null,null,null,null,"FESL.06.03","EFS+"]
[null,null,null,"FESL.06.06","Kształcenie osób dorosłych - EFS+",null,null,null,null,null,null,null,null,null,"FESL.06.04","EFS+"]
[null,null,null,"FESL.06.07","Upskilling pathways - RLKS",null,null,null,null,null,null,null,null,null,"FESL.06.05","EFS+"]
[null,null,null,"FESL.06.08","Upskilling pathways",null,null,null,null,null,null,null,null,null,"FESL.06.06","EFS+"]
[null,null,null,"FESL.06.09","Lokalne Ośrodki Wiedzy i Edukacji - LOWE",null,null,null,null,null,null,null,null,null,"FESL.06.07","EFS+"]
[null,null,null,"FESL.07.01","Ekonomia społeczna",null,null,null,null,null,null,null,null,null,"FESL.06.08","EFS+"]
[null,null,null,"FESL.07.02","Aktywna integracja",null,null,null,null,null,null,null,null,null,"FESL.06.09","EFS+"]
[null,null,null,"FESL.07.03","Integracja społeczno - gospodarcza cudzoziemców",null,null,null,null,null,null,null,null,null,"FESL.07.01","EFS+"]
[null,null,null,"FESL.07.04","Usługi społeczne",null,null,null,null,null,null,null,null,null,"FESL.07.02","EFS+"]
[null,null,null,"FESL.07.05","Strategiczne projekty dla obszaru usług społecznych",null,null,null,null,null,null,null,null,null,"FESL.07.03","EFS+"]
[null,null,null,"FESL.07.06","Ochrona zdrowia",null,null,null,null,null,null,null,null,null,"FESL.07.04","EFS+"]
[null,null,null,"FESL.07.07","Wsparcie rodziny, dzieci i młodzieży oraz deinstytucjonalizacja pieczy zastępczej",null,null,null,null,null,null,null,null,null,"FESL.07.05","EFS+"]
[null,null,null,"FESL.07.08","Strategiczne projekty dla obszaru wsparcia rodziny",null,null,null,null,null,null,null,null,null,"FESL.07.06","EFS+"]
[null,null,null,"FESL.07.09","Usługi dla osób w kryzysie bezdomności, dotkniętych wykluczeniem z dostępu do mieszkań lub zagrożonych bezdomnością",null,null,null,null,null,null,null,null,null,"FESL.07.07","EFS+"]
[null,null,null,"FESL.07.10","Wsparcie społeczności objętych LSR",null,null,null,null,null,null,null,null,null,"FESL.07.08","EFS+"]
[null,null,null,"FESL.07.11","Wsparcie społeczności mniejszościowych, w tym społeczności romskich",null,null,null,null,null,null,null,null,null,"FESL.07.09","EFS+"]
[null,null,null,"FESL.07.12","Rozwój dialogu obywatelskiego",null,null,null,null,null,null,null,null,null,"FESL.07.10","EFS+"]
[null,null,null,"FESL.08.01","Infrastruktura szkolnictwa wyższego",null,null,null,null,null,null,null,null,null,"FESL.07.11","EFS+"]
[null,null,null,"FESL.08.02","Edukacja włączająca",null,null,null,null,null,null,null,null,null,"FESL.07.12","EFS+"]
[null,null,null,"FESL.08.03","Infrastruktura szkolnictwa zawodowego - ZIT",null,null,null,null,null,null,null,null,null,"FESL.08.01","EFRR"]
[null,null,null,"FESL.08.04","Infrastruktura usług społecznych",null,null,null,null,null,null,null,null,null,"FESL.08.02","EFRR"]
[null,null,null,"FESL.08.05","E-zdrowie",null,null,null,null,null,null,null,null,null,"FESL.08.03","EFRR"]
[null,null,null,"FESL.08.06","Infrastruktura ochrony zdrowia",null,null,null,null,null,null,null,null,null,"FESL.08.04","EFRR"]
[null,null,null,"FESL.08.07","Kultura i turystyka szczebla regionalnego",null,null,null,null,null,null,null,null,null,"FESL.08.05","EFRR"]
[null,null,null,"FESL.08.08","Infrastruktura szkolnictwa zawodowego",null,null,null,null,null,null,null,null,null,"FESL.08.06","EFRR"]
[null,null,null,"FESL.09.01","Zwiększenie roli kultury i turystyki w rozwoju subregionalnym - ZIT",null,null,null,null,null,null,null,null,null,"FESL.08.07","EFRR"]
[null,null,null,"FESL.09.02","Rozwój ZIT",null,null,null,null,null,null,null,null,null,"FESL.08.08","EFRR"]
[null,null,null,"FESL.09.03","Rewitalizacja obszarów miejskich",null,null,null,null,null,null,null,null,null,"FESL.09.01","EFRR"]
[null,null,null,"FESL.09.04","Rewitalizacja obszarów miejskich (IF)",null,null,null,null,null,null,null,null,null,"FESL.09.02","EFRR"]
[null,null,null,"FESL.09.05","Rewitalizacja obszarów wiejskich",null,null,null,null,null,null,null,null,null,"FESL.09.03","EFRR"]
[null,null,null,"FESL.10.01","Wykorzystanie terenów zdegradowanych w celu rozwoju regionu poprzez inwestycje przedsiębiorstw",null,null,null,null,null,null,null,null,null,"FESL.09.04","EFRR"]
[null,null,null,"FESL.10.02","Badania, rozwój i innowacje w przedsiębiorstwach na rzecz transformacji",null,null,null,null,null,null,null,null,null,"FESL.09.05","EFRR"]
[null,null,null,"FESL.10.03","Wsparcie MŚP na rzecz transformacji",null,null,null,null,null,null,null,null,null,"FESL.10.01","FST"]
[null,null,null,"FESL.10.04","Wsparcie dużych przedsiębiorstw na rzecz transformacji",null,null,null,null,null,null,null,null,null,"FESL.10.02","FST"]
[null,null,null,"FESL.10.05","Innowacyjna infrastruktura wspierająca gospodarkę",null,null,null,null,null,null,null,null,null,"FESL.10.03","FST"]
[null,null,null,"FESL.10.06","Rozwój energetyki rozproszonej opartej o odnawialne źródła energii",null,null,null,null,null,null,null,null,null,"FESL.10.04","FST"]
[null,null,null,"FESL.10.07","Rekultywacja terenów poprzemysłowych, zdewastowanych, zdegradowanych na cele środowiskowe",null,null,null,null,null,null,null,null,null,"FESL.10.05","FST"]
[null,null,null,"FESL.10.08","Poprawa stosunków wodnych na obszarze oddziaływania kopalń ",null,null,null,null,null,null,null,null,null,"FESL.10.06","FST"]
[null,null,null,"FESL.10.09","Ponowne wykorzystanie terenów poprzemysłowych, zdewastowanych, zdegradowanych na cele rozwojowe regionu",null,null,null,null,null,null,null,null,null,"FESL.10.07","FST"]
[null,null,null,"FESL.10.10","Wsparcie planowania transformacji",null,null,null,null,null,null,null,null,null,"FESL.10.08","FST"]
[null,null,null,"FESL.10.11","Systemowe zarządzanie terenami poprzemysłowymi",null,null,null,null,null,null,null,null,null,"FESL.10.09","FST"]
[null,null,null,"FESL.10.12","Poprawa mobilności mieszkańców regionu i spójności transportowej podregionów górniczych",null,null,null,null,null,null,null,null,null,"FESL.10.10","FST"]
[null,null,null,"FESL.10.13","Infrastruktura szkolnictwa wyższego na potrzeby transformacji",null,null,null,null,null,null,null,null,null,"FESL.10.11","FST"]
[null,null,null,"FESL.10.14","Infrastruktura kształcenia zawodowego",null,null,null,null,null,null,null,null,null,"FESL.10.12","FST"]
[null,null,null,"FESL.10.15","Wykorzystanie endogenicznego potencjału podregionów górniczych",null,null,null,null,null,null,null,null,null,"FESL.10.13","FST"]
[null,null,null,"FESL.10.16","Rozwój przedsiębiorczości FST",null,null,null,null,null,null,null,null,null,"FESL.10.14","FST"]
[null,null,null,"FESL.10.17","Kształcenie osób dorosłych FST",null,null,null,null,null,null,null,null,null,"FESL.10.15","FST"]
[null,null,null,"FESL.10.18","Redeployment",null,null,null,null,null,null,null,null,null,"FESL.10.16","FST"]
[null,null,null,"FESL.10.19","Outplacement FST",null,null,null,null,null,null,null,null,null,"FESL.10.17","FST"]
[null,null,null,"FESL.10.20","Wsparcie na założenie działalności gospodarczej",null,null,null,null,null,null,null,null,null,"FESL.10.18","FST"]
[null,null,null,"FESL.10.21","Wsparcie pracowników zaangażowanych w proces transformacji",null,null,null,null,null,null,null,null,null,"FESL.10.19","FST"]
[null,null,null,"FESL.10.22","Regionalne Obserwatorium Procesu Transformacji - FST",null,null,null,null,null,null,null,null,null,"FESL.10.20","FST"]
[null,null,null,"FESL.10.23","Edukacja zawodowa w procesie sprawiedliwej transformacji regionu",null,null,null,null,null,null,null,null,null,"FESL.10.21","FST"]
[null,null,null,"FESL.10.24","Włączenie społeczne - wzmocnienie procesu sprawiedliwej transformacji",null,null,null,null,null,null,null,null,null,"FESL.10.22","FST"]
[null,null,null,"FESL.10.25","Rozwój kształcenia wyższego zgodnie z potrzebami zielonej gospodarki",null,null,null,null,null,null,null,null,null,"FESL.10.23","FST"]
[null,null,null,"FESL.10.26","Wzmocnienie procesu sprawiedliwej transformacji w regionie",null,null,null,null,null,null,null,null,null,"FESL.10.24","FST"]
[null,null,null,"FESL.11.01","Pomoc Techniczna EFRR",null,null,null,null,null,null,null,null,null,"FESL.10.25","FST"]
[null,null,null,"FESL.12.01","Pomoc Techniczna EFS+",null,null,null,null,null,null,null,null,null,"FESL.10.26","FST"]
[null,null,null,"FESL.13.01","Pomoc Techniczna FST",null,null,null,null,null,null,null,null,null,"FESL.11.01","EFRR PT"]
[null,null,null,"FESW.01.01","Wsparcie infrastruktury B+R organizacji badawczych",null,null,null,null,null,null,null,null,null,"FESL.12.01","EFS+ PT"]
[null,null,null,"FESW.01.02","Wsparcie działalności przedsiębiorstw w zakresie B+R",null,null,null,null,null,null,null,null,null,"FESL.13.01","FST PT"]
[null,null,null,"FESW.01.03","Budowanie potencjału IOB",null,null,null,null,null,null,null,null,null,"FESW.01.01","EFRR"]
[null,null,null,"FESW.01.05","Zwiększenie potencjału MŚP i rozwój regionalnego ekosystemu innowacji",null,null,null,null,null,null,null,null,null,"FESW.01.02","EFRR"]
[null,null,null,"FESW.01.06","Cyfryzacja w sektorze usług publicznych",null,null,null,null,null,null,null,null,null,"FESW.01.03","EFRR"]
[null,null,null,"FESW.01.07","Wsparcie internacjonalizacji przedsiębiorstw i infrastruktury biznesu",null,null,null,null,null,null,null,null,null,"FESW.01.05","EFRR"]
[null,null,null,"FESW.01.08","Kapitał dla MŚP",null,null,null,null,null,null,null,null,null,"FESW.01.06","EFRR"]
[null,null,null,"FESW.02.01","Efektywność energetyczna – dotacje",null,null,null,null,null,null,null,null,null,"FESW.01.07","EFRR"]
[null,null,null,"FESW.02.02","Efektywność energetyczna – IF",null,null,null,null,null,null,null,null,null,"FESW.01.08","EFRR"]
[null,null,null,"FESW.02.03","Zielona energia – dotacje",null,null,null,null,null,null,null,null,null,"FESW.02.01","EFRR"]
[null,null,null,"FESW.02.04","Zielona energia – IF",null,null,null,null,null,null,null,null,null,"FESW.02.02","EFRR"]
[null,null,null,"FESW.02.05","Gospodarowanie zasobami wody i przeciwdziałanie klęskom żywiołowym",null,null,null,null,null,null,null,null,null,"FESW.02.03","EFRR"]
[null,null,null,"FESW.02.06","Infrastruktura wodno-ściekowa",null,null,null,null,null,null,null,null,null,"FESW.02.04","EFRR"]
[null,null,null,"FESW.02.07","Gospodarowanie odpadami – dotacje",null,null,null,null,null,null,null,null,null,"FESW.02.05","EFRR"]
[null,null,null,"FESW.02.08","Gospodarowanie odpadami – IF",null,null,null,null,null,null,null,null,null,"FESW.02.06","EFRR"]
[null,null,null,"FESW.02.09","Ochrona dziedzictwa i różnorodności biologicznej",null,null,null,null,null,null,null,null,null,"FESW.02.07","EFRR"]
[null,null,null,"FESW.03.01","Mobilność miejska w MOF (ZIT)",null,null,null,null,null,null,null,null,null,"FESW.02.08","EFRR"]
[null,null,null,"FESW.03.02","Mobilność miejska",null,null,null,null,null,null,null,null,null,"FESW.02.09","EFRR"]
[null,null,null,"FESW.04.01","Infrastruktura drogowa",null,null,null,null,null,null,null,null,null,"FESW.03.01","EFRR"]
[null,null,null,"FESW.04.02","Rozwój transportu zbiorowego i poprawa bezpieczeństwa ruchu",null,null,null,null,null,null,null,null,null,"FESW.03.02","EFRR"]
[null,null,null,"FESW.05.01","Infrastruktura edukacyjna",null,null,null,null,null,null,null,null,null,"FESW.04.01","EFRR"]
[null,null,null,"FESW.05.02","Infrastruktura społeczna",null,null,null,null,null,null,null,null,null,"FESW.04.02","EFRR"]
[null,null,null,"FESW.05.03","Infrastruktura zdrowotna",null,null,null,null,null,null,null,null,null,"FESW.05.01","EFRR"]
[null,null,null,"FESW.05.04","Infrastruktura w turystyce i kulturze",null,null,null,null,null,null,null,null,null,"FESW.05.02","EFRR"]
[null,null,null,"FESW.06.01","Rozwój miast i miejskich obszarów funkcjonalnych (ZIT)",null,null,null,null,null,null,null,null,null,"FESW.05.03","EFRR"]
[null,null,null,"FESW.06.02","Rewitalizacja miast",null,null,null,null,null,null,null,null,null,"FESW.05.04","EFRR"]
[null,null,null,"FESW.06.03","Wzmacnianie lokalnych potencjałów na obszarach innych niż obszary miejskie",null,null,null,null,null,null,null,null,null,"FESW.06.01","EFRR"]
[null,null,null,"FESW.06.04","Rozwój Lokalny Kierowany przez Społeczność",null,null,null,null,null,null,null,null,null,"FESW.06.02","EFRR"]
[null,null,null,"FESW.06.05","Rewitalizacja obszarów innych niż obszary miejskie",null,null,null,null,null,null,null,null,null,"FESW.06.03","EFRR"]
[null,null,null,"FESW.07.01","Wsparcie zdrowotne świętokrzyskich pracowników",null,null,null,null,null,null,null,null,null,"FESW.06.04","EFRR"]
[null,null,null,"FESW.07.02","Programy rehabilitacyjne ułatwiające powrót na rynek pracy",null,null,null,null,null,null,null,null,null,"FESW.06.05","EFRR"]
[null,null,null,"FESW.08.01","Wsparcie edukacji przedszkolnej",null,null,null,null,null,null,null,null,null,"FESW.07.01","EFS+"]
[null,null,null,"FESW.08.02","Podnoszenie jakości kształcenia podstawowego",null,null,null,null,null,null,null,null,null,"FESW.07.02","EFS+"]
[null,null,null,"FESW.08.03","Wysoka jakość edukacji ponadpodstawowej ogólnej",null,null,null,null,null,null,null,null,null,"FESW.08.01","EFS+"]
[null,null,null,"FESW.08.04","Rozwój szkolnictwa branżowego",null,null,null,null,null,null,null,null,null,"FESW.08.02","EFS+"]
[null,null,null,"FESW.08.05","Wsparcie edukacji osób dorosłych",null,null,null,null,null,null,null,null,null,"FESW.08.03","EFS+"]
[null,null,null,"FESW.09.01","Aktywna integracja społeczna i zawodowa",null,null,null,null,null,null,null,null,null,"FESW.08.04","EFS+"]
[null,null,null,"FESW.09.02","Kompleksowe wsparcie sektora ekonomii społecznej",null,null,null,null,null,null,null,null,null,"FESW.08.05","EFS+"]
[null,null,null,"FESW.09.03","Aktywna integracja społeczna i zawodowa obywateli państw trzecich",null,null,null,null,null,null,null,null,null,"FESW.09.01","EFS+"]
[null,null,null,"FESW.09.04","Zwiększenie dostępności usług społecznych i zdrowotnych",null,null,null,null,null,null,null,null,null,"FESW.09.02","EFS+"]
[null,null,null,"FESW.09.05","Wsparcie rodzin oraz pieczy zastępczej",null,null,null,null,null,null,null,null,null,"FESW.09.03","EFS+"]
[null,null,null,"FESW.09.06","Podnoszenie potencjału partnerów społecznych i organizacji społeczeństwa obywatelskiego",null,null,null,null,null,null,null,null,null,"FESW.09.04","EFS+"]
[null,null,null,"FESW.10.01","Aktywizacja zawodowa osób bezrobotnych i poszukujących pracy",null,null,null,null,null,null,null,null,null,"FESW.09.05","EFS+"]
[null,null,null,"FESW.10.02","Wsparcie osób młodych na regionalnym rynku pracy",null,null,null,null,null,null,null,null,null,"FESW.09.06","EFS+"]
[null,null,null,"FESW.10.03","Wsparcie osób młodych z grupy NEET- Inicjatywa ALMA",null,null,null,null,null,null,null,null,null,"FESW.10.01","EFS+"]
[null,null,null,"FESW.10.04","Kompetentne kadry instytucji rynku pracy w regionie",null,null,null,null,null,null,null,null,null,"FESW.10.02","EFS+"]
[null,null,null,"FESW.10.05","Zrównoważony rynek pracy – nowa „JA”",null,null,null,null,null,null,null,null,null,"FESW.10.03","EFS+"]
[null,null,null,"FESW.10.06","Konkurencyjne kadry świętokrzyskich pracodawców i przedsiębiorstw",null,null,null,null,null,null,null,null,null,"FESW.10.04","EFS+"]
[null,null,null,"FESW.10.07","Działania na rzecz osób zagrożonych utratą pracy",null,null,null,null,null,null,null,null,null,"FESW.10.05","EFS+"]
[null,null,null,"FESW.10.08","Zwiększenie możliwości zawodowych osób zatrudnionych",null,null,null,null,null,null,null,null,null,"FESW.10.06","EFS+"]
[null,null,null,"FESW.10.09","Podnoszenie kwalifikacji i umiejętności osób dorosłych w regionie",null,null,null,null,null,null,null,null,null,"FESW.10.07","EFS+"]
[null,null,null,"FESW.10.10","Zwiększenie możliwości zawodowych osób ubogich pracujących",null,null,null,null,null,null,null,null,null,"FESW.10.08","EFS+"]
[null,null,null,"FESW.10.11","Wsparcie osób powracających z zagranicy - EURES",null,null,null,null,null,null,null,null,null,"FESW.10.09","EFS+"]
[null,null,null,"FESW.11.01","Pomoc Techniczna EFRR",null,null,null,null,null,null,null,null,null,"FESW.10.10","EFS+"]
[null,null,null,"FESW.12.01","Pomoc Techniczna EFS+",null,null,null,null,null,null,null,null,null,"FESW.10.11","EFS+"]
[null,null,null,"FEWM.01.01","Publiczna infrastruktura naukowo-badawcza",null,null,null,null,null,null,null,null,null,"FESW.11.01","EFRR PT"]
[null,null,null,"FEWM.01.02","Działalność B+R+I przedsiębiorstw",null,null,null,null,null,null,null,null,null,"FESW.12.01","EFS+ PT"]
[null,null,null,"FEWM.01.03","Transfer technologii",null,null,null,null,null,null,null,null,null,"FEWM.01.01","EFRR"]
[null,null,null,"FEWM.01.04","Transformacja cyfrowa MŚP",null,null,null,null,null,null,null,null,null,"FEWM.01.02","EFRR"]
[null,null,null,"FEWM.01.05","Nowe e-usługi dla firm",null,null,null,null,null,null,null,null,null,"FEWM.01.03","EFRR"]
[null,null,null,"FEWM.01.06","E-usługi publiczne",null,null,null,null,null,null,null,null,null,"FEWM.01.04","EFRR"]
[null,null,null,"FEWM.01.07","E-zdrowie",null,null,null,null,null,null,null,null,null,"FEWM.01.05","EFRR"]
[null,null,null,"FEWM.01.08","Profesjonalizacja usług dla MŚP",null,null,null,null,null,null,null,null,null,"FEWM.01.06","EFRR"]
[null,null,null,"FEWM.01.09","Konkurencyjne i innowacyjne MŚP",null,null,null,null,null,null,null,null,null,"FEWM.01.07","EFRR"]
[null,null,null,"FEWM.01.10","Rozwój przedsiębiorczości (IF)",null,null,null,null,null,null,null,null,null,"FEWM.01.08","EFRR"]
[null,null,null,"FEWM.01.11","Kompetencje dla gospodarki przyszłości",null,null,null,null,null,null,null,null,null,"FEWM.01.09","EFRR"]
[null,null,null,"FEWM.01.12","Cyfrowe MŚP",null,null,null,null,null,null,null,null,null,"FEWM.01.10","EFRR"]
[null,null,null,"FEWM.02.01","Efektywność energetyczna",null,null,null,null,null,null,null,null,null,"FEWM.01.11","EFRR"]
[null,null,null,"FEWM.02.02","Efektywność energetyczna – ZIT",null,null,null,null,null,null,null,null,null,"FEWM.01.12","EFRR"]
[null,null,null,"FEWM.02.03","Efektywność energetyczna – IIT",null,null,null,null,null,null,null,null,null,"FEWM.02.01","EFRR"]
[null,null,null,"FEWM.02.04","Efektywność energetyczna IF",null,null,null,null,null,null,null,null,null,"FEWM.02.02","EFRR"]
[null,null,null,"FEWM.02.05","Odnawialne źródła energii",null,null,null,null,null,null,null,null,null,"FEWM.02.03","EFRR"]
[null,null,null,"FEWM.02.06","Odnawialne źródła energii IF",null,null,null,null,null,null,null,null,null,"FEWM.02.04","EFRR"]
[null,null,null,"FEWM.02.07","Adaptacja do zmian klimatu",null,null,null,null,null,null,null,null,null,"FEWM.02.05","EFRR"]
[null,null,null,"FEWM.02.08","Gospodarka wodno-ściekowa",null,null,null,null,null,null,null,null,null,"FEWM.02.06","EFRR"]
[null,null,null,"FEWM.02.09","Gospodarka wodno-ściekowa – ZIT",null,null,null,null,null,null,null,null,null,"FEWM.02.07","EFRR"]
[null,null,null,"FEWM.02.10","Gospodarka odpadowa",null,null,null,null,null,null,null,null,null,"FEWM.02.08","EFRR"]
[null,null,null,"FEWM.02.11","Gospodarka o obiegu zamkniętym",null,null,null,null,null,null,null,null,null,"FEWM.02.09","EFRR"]
[null,null,null,"FEWM.02.12","Ochrona bioróżnorodności",null,null,null,null,null,null,null,null,null,"FEWM.02.10","EFRR"]
[null,null,null,"FEWM.03.01","Mobilność miejska",null,null,null,null,null,null,null,null,null,"FEWM.02.11","EFRR"]
[null,null,null,"FEWM.03.02","Mobilność miejska – ZIT",null,null,null,null,null,null,null,null,null,"FEWM.02.12","EFRR"]
[null,null,null,"FEWM.03.03","Mobilność miejska – IIT",null,null,null,null,null,null,null,null,null,"FEWM.03.01","EFRR"]
[null,null,null,"FEWM.04.01","Infrastruktura dla mobilności regionalnej i bezpieczeństwa",null,null,null,null,null,null,null,null,null,"FEWM.03.02","EFRR"]
[null,null,null,"FEWM.04.02","Publiczny transport zbiorowy",null,null,null,null,null,null,null,null,null,"FEWM.03.03","EFRR"]
[null,null,null,"FEWM.04.03","Zarządzanie ruchem lotniczym",null,null,null,null,null,null,null,null,null,"FEWM.04.01","EFRR"]
[null,null,null,"FEWM.04.04","Cyfryzacja w transporcie",null,null,null,null,null,null,null,null,null,"FEWM.04.02","EFRR"]
[null,null,null,"FEWM.05.01","Infrastruktura edukacyjna",null,null,null,null,null,null,null,null,null,"FEWM.04.03","EFRR"]
[null,null,null,"FEWM.05.02","Infrastruktura edukacyjna - ZIT",null,null,null,null,null,null,null,null,null,"FEWM.04.04","EFRR"]
[null,null,null,"FEWM.06.01","Kompetencje dla regionu",null,null,null,null,null,null,null,null,null,"FEWM.05.01","EFRR"]
[null,null,null,"FEWM.06.02","Edukacja przedszkolna",null,null,null,null,null,null,null,null,null,"FEWM.05.02","EFRR"]
[null,null,null,"FEWM.06.03","Edukacja ogólnokształcąca",null,null,null,null,null,null,null,null,null,"FEWM.06.01","EFS+"]
[null,null,null,"FEWM.06.04","Edukacja zawodowa",null,null,null,null,null,null,null,null,null,"FEWM.06.02","EFS+"]
[null,null,null,"FEWM.06.05","Edukacja przez całe życie",null,null,null,null,null,null,null,null,null,"FEWM.06.03","EFS+"]
[null,null,null,"FEWM.06.06","Edukacja w ZIT Ełk i Olsztyn",null,null,null,null,null,null,null,null,null,"FEWM.06.04","EFS+"]
[null,null,null,"FEWM.07.01","Aktywizacja zawodowa osób bezrobotnych – PUP",null,null,null,null,null,null,null,null,null,"FEWM.06.05","EFS+"]
[null,null,null,"FEWM.07.02","Poprawa sytuacji zawodowej osób pracujących",null,null,null,null,null,null,null,null,null,"FEWM.06.06","EFS+"]
[null,null,null,"FEWM.07.03","Profesjonalizacja kadr instytucji rynku pracy",null,null,null,null,null,null,null,null,null,"FEWM.07.01","EFS+"]
[null,null,null,"FEWM.07.04","Zdrowie w pracy",null,null,null,null,null,null,null,null,null,"FEWM.07.02","EFS+"]
[null,null,null,"FEWM.07.05","Usługi rozwojowe",null,null,null,null,null,null,null,null,null,"FEWM.07.03","EFS+"]
[null,null,null,"FEWM.07.06","Adaptacja do zmian",null,null,null,null,null,null,null,null,null,"FEWM.07.04","EFS+"]
[null,null,null,"FEWM.07.07","Outplacement",null,null,null,null,null,null,null,null,null,"FEWM.07.05","EFS+"]
[null,null,null,"FEWM.07.08","Integracja obywateli państw trzecich na rynku pracy",null,null,null,null,null,null,null,null,null,"FEWM.07.06","EFS+"]
[null,null,null,"FEWM.08.01","Infrastruktura społeczna",null,null,null,null,null,null,null,null,null,"FEWM.07.07","EFS+"]
[null,null,null,"FEWM.08.02","Infrastruktura systemu pieczy zastępczej",null,null,null,null,null,null,null,null,null,"FEWM.07.08","EFS+"]
[null,null,null,"FEWM.09.01","Aktywna integracja",null,null,null,null,null,null,null,null,null,"FEWM.08.01","EFRR"]
[null,null,null,"FEWM.09.02","Ekonomia społeczna",null,null,null,null,null,null,null,null,null,"FEWM.08.02","EFRR"]
[null,null,null,"FEWM.09.03","Integracja obywateli państw trzecich w środowisku lokalnym",null,null,null,null,null,null,null,null,null,"FEWM.09.01","EFS+"]
[null,null,null,"FEWM.09.04","Usługi społeczne dla osób potrzebujących wsparcia w codziennym funkcjonowaniu",null,null,null,null,null,null,null,null,null,"FEWM.09.02","EFS+"]
[null,null,null,"FEWM.09.05","Usługi społeczne dla osób potrzebujących wsparcia w codziennym funkcjonowaniu – ZIT",null,null,null,null,null,null,null,null,null,"FEWM.09.03","EFS+"]
[null,null,null,"FEWM.09.06","Usługi zdrowotne",null,null,null,null,null,null,null,null,null,"FEWM.09.04","EFS+"]
[null,null,null,"FEWM.09.07","Usługi społeczne na rzecz rodzin i osób w kryzysie bezdomności",null,null,null,null,null,null,null,null,null,"FEWM.09.05","EFS+"]
[null,null,null,"FEWM.09.08","Usługi społeczne na rzecz rodzin i osób w kryzysie bezdomności – ZIT",null,null,null,null,null,null,null,null,null,"FEWM.09.06","EFS+"]
[null,null,null,"FEWM.09.09","System pieczy zastępczej",null,null,null,null,null,null,null,null,null,"FEWM.09.07","EFS+"]
[null,null,null,"FEWM.10.01","Infrastruktura zdrowia",null,null,null,null,null,null,null,null,null,"FEWM.09.08","EFS+"]
[null,null,null,"FEWM.11.01","Infrastruktura kultury",null,null,null,null,null,null,null,null,null,"FEWM.09.09","EFS+"]
[null,null,null,"FEWM.11.02","Publiczna oferta turystyczna",null,null,null,null,null,null,null,null,null,"FEWM.10.01","EFRR"]
[null,null,null,"FEWM.11.03","Szlaki turystyczne",null,null,null,null,null,null,null,null,null,"FEWM.11.01","EFRR"]
[null,null,null,"FEWM.12.01","Rewitalizacja obszarów miejskich",null,null,null,null,null,null,null,null,null,"FEWM.11.02","EFRR"]
[null,null,null,"FEWM.12.02","Uzdrowiska",null,null,null,null,null,null,null,null,null,"FEWM.11.03","EFRR"]
[null,null,null,"FEWM.12.03","Tereny inwestycyjne",null,null,null,null,null,null,null,null,null,"FEWM.12.01","EFRR"]
[null,null,null,"FEWM.13.01","Pomoc techniczna EFRR",null,null,null,null,null,null,null,null,null,"FEWM.12.02","EFRR"]
[null,null,null,"FEWM.14.01","Pomoc techniczna EFS+",null,null,null,null,null,null,null,null,null,"FEWM.12.03","EFRR"]
[null,null,null,"FEWP.01.01","Wsparcie potencjału B+R podmiotów badawczych w regionie",null,null,null,null,null,null,null,null,null,"FEWM.13.01","EFRR PT"]
[null,null,null,"FEWP.01.02","Wsparcie działalności B+R przedsiębiorstw i konsorcjów przedsiębiorstw z organizacjami badawczymi, w tym w zakresie infrastruktury B+R",null,null,null,null,null,null,null,null,null,"FEWM.14.01","EFS+ PT"]
[null,null,null,"FEWP.01.03","Rozwój e-usług i e-zasobów publicznych",null,null,null,null,null,null,null,null,null,"FEWP.01.01","EFRR"]
[null,null,null,"FEWP.01.04","Rozwój e-usług i e-zasobów publicznych w ramach ZIT",null,null,null,null,null,null,null,null,null,"FEWP.01.02","EFRR"]
[null,null,null,"FEWP.01.05","Wsparcie konkurencyjności i rozwoju przedsiębiorstw w dostosowaniu do wyzwań gospodarki - Instrumenty finansowe",null,null,null,null,null,null,null,null,null,"FEWP.01.03","EFRR"]
[null,null,null,"FEWP.01.06","Rozwój przedsiębiorstw poprzez wsparcie IOB/Klastry oraz wsparcie ich potencjału",null,null,null,null,null,null,null,null,null,"FEWP.01.04","EFRR"]
[null,null,null,"FEWP.01.07","Wzmocnienie procesu przedsiębiorczego odkrywania i promocja gospodarki w regionie",null,null,null,null,null,null,null,null,null,"FEWP.01.05","EFRR"]
[null,null,null,"FEWP.02.01","Wspieranie efektywności energetycznej i redukcji emisji gazów cieplarnianych",null,null,null,null,null,null,null,null,null,"FEWP.01.06","EFRR"]
[null,null,null,"FEWP.02.02","Wspieranie efektywności energetycznej i redukcji emisji gazów cieplarnianych - Instrumenty finansowe",null,null,null,null,null,null,null,null,null,"FEWP.01.07","EFRR"]
[null,null,null,"FEWP.02.03","Rozwój energii odnawialnej (OZE)",null,null,null,null,null,null,null,null,null,"FEWP.02.01","EFRR"]
[null,null,null,"FEWP.02.04","Rozwój energii odnawialnej (OZE) – Instrumenty Finansowe",null,null,null,null,null,null,null,null,null,"FEWP.02.02","EFRR"]
[null,null,null,"FEWP.02.05","Zwiększanie odporności na zmiany klimatu i klęski żywiołowe",null,null,null,null,null,null,null,null,null,"FEWP.02.03","EFRR"]
[null,null,null,"FEWP.02.06","Zwiększanie odporności na zmiany klimatu i klęski żywiołowe w ramach ZIT",null,null,null,null,null,null,null,null,null,"FEWP.02.04","EFRR"]
[null,null,null,"FEWP.02.07","Rozwój zrównoważonej gospodarki wodno – ściekowej",null,null,null,null,null,null,null,null,null,"FEWP.02.05","EFRR"]
[null,null,null,"FEWP.02.08","Wspieranie transformacji w kierunku gospodarki o obiegu zamkniętym i gospodarki zasobooszczędnej",null,null,null,null,null,null,null,null,null,"FEWP.02.06","EFRR"]
[null,null,null,"FEWP.02.09","Wspieranie transformacji w kierunku gospodarki o obiegu zamkniętym i gospodarki zasobooszczędnej – Instrumenty Finansowe",null,null,null,null,null,null,null,null,null,"FEWP.02.07","EFRR"]
[null,null,null,"FEWP.02.10","Ochrona i zachowanie przyrody wraz z rozwojem zielonej infrastruktury oraz ograniczeniem zanieczyszczeń",null,null,null,null,null,null,null,null,null,"FEWP.02.08","EFRR"]
[null,null,null,"FEWP.03.01","Rozwój zrównoważonej mobilności miejskiej",null,null,null,null,null,null,null,null,null,"FEWP.02.09","EFRR"]
[null,null,null,"FEWP.03.02","Rozwój zrównoważonej mobilności miejskiej w ramach ZIT",null,null,null,null,null,null,null,null,null,"FEWP.02.10","EFRR"]
[null,null,null,"FEWP.04.01","Infrastruktura drogowa",null,null,null,null,null,null,null,null,null,"FEWP.03.01","EFRR"]
[null,null,null,"FEWP.04.02","Transport kolejowy",null,null,null,null,null,null,null,null,null,"FEWP.03.02","EFRR"]
[null,null,null,"FEWP.05.01","Poprawa równego dostępu do wysokiej jakości kształcenia, szkolenia i uczenia się przez całe życie poprzez wsparcie infrastruktury edukacyjnej",null,null,null,null,null,null,null,null,null,"FEWP.04.01","EFRR"]
[null,null,null,"FEWP.05.02","Infrastruktura społeczna przyczyniająca się do włączenia społecznego",null,null,null,null,null,null,null,null,null,"FEWP.04.02","EFRR"]
[null,null,null,"FEWP.05.03","Infrastruktura ochrony zdrowia",null,null,null,null,null,null,null,null,null,"FEWP.05.01","EFRR"]
[null,null,null,"FEWP.05.04","Kultura i zrównoważona turystyka",null,null,null,null,null,null,null,null,null,"FEWP.05.02","EFRR"]
[null,null,null,"FEWP.06.01","Aktywizacja zawodowa osób bezrobotnych i poszukujących pracy – projekty PUP",null,null,null,null,null,null,null,null,null,"FEWP.05.03","EFRR"]
[null,null,null,"FEWP.06.02","Wsparcie w ramach OHP i mobilność w ramach sieci EURES",null,null,null,null,null,null,null,null,null,"FEWP.05.04","EFRR"]
[null,null,null,"FEWP.06.03","Wyrównywanie szans kobiet i mężczyzn na rynku pracy",null,null,null,null,null,null,null,null,null,"FEWP.06.01","EFS+"]
[null,null,null,"FEWP.06.04","Wsparcie pracowników i pracodawców",null,null,null,null,null,null,null,null,null,"FEWP.06.02","EFS+"]
[null,null,null,"FEWP.06.05","Wsparcie pracowników i pracodawców w ramach ZIT",null,null,null,null,null,null,null,null,null,"FEWP.06.03","EFS+"]
[null,null,null,"FEWP.06.06","Wsparcie systemu szkolnictwa ogólnego oraz systemu szkolnictwa zawodowego",null,null,null,null,null,null,null,null,null,"FEWP.06.04","EFS+"]
[null,null,null,"FEWP.06.07","Edukacja przedszkolna, ogólna oraz kształcenie zawodowe",null,null,null,null,null,null,null,null,null,"FEWP.06.05","EFS+"]
[null,null,null,"FEWP.06.08","Edukacja przedszkolna, ogólna oraz kształcenie zawodowe w ramach ZIT",null,null,null,null,null,null,null,null,null,"FEWP.06.06","EFS+"]
[null,null,null,"FEWP.06.09","Wspieranie uczenia się przez całe życie",null,null,null,null,null,null,null,null,null,"FEWP.06.07","EFS+"]
[null,null,null,"FEWP.06.10","Aktywna integracja",null,null,null,null,null,null,null,null,null,"FEWP.06.08","EFS+"]
[null,null,null,"FEWP.06.11","Podmioty ekonomii społecznej",null,null,null,null,null,null,null,null,null,"FEWP.06.09","EFS+"]
[null,null,null,"FEWP.06.12","Integracja społeczno-gospodarcza obywateli państw trzecich, w tym migrantów",null,null,null,null,null,null,null,null,null,"FEWP.06.10","EFS+"]
[null,null,null,"FEWP.06.13","Usługi społeczne i zdrowotne",null,null,null,null,null,null,null,null,null,"FEWP.06.11","EFS+"]
[null,null,null,"FEWP.06.14","Usługi społeczne i zdrowotne w ramach ZIT",null,null,null,null,null,null,null,null,null,"FEWP.06.12","EFS+"]
[null,null,null,"FEWP.06.15","Wsparcie rodziny i systemu pieczy zastępczej",null,null,null,null,null,null,null,null,null,"FEWP.06.13","EFS+"]
[null,null,null,"FEWP.06.16","Integracja społeczna i aktywizacja społeczna",null,null,null,null,null,null,null,null,null,"FEWP.06.14","EFS+"]
[null,null,null,"FEWP.06.17","Budowanie potencjału społeczeństwa obywatelskiego i partnerów społecznych",null,null,null,null,null,null,null,null,null,"FEWP.06.15","EFS+"]
[null,null,null,"FEWP.06.18","Integracja i aktywizacja społeczna oraz wsparcie potencjału w ramach ZIT",null,null,null,null,null,null,null,null,null,"FEWP.06.16","EFS+"]
[null,null,null,"FEWP.07.01","Rewitalizacja",null,null,null,null,null,null,null,null,null,"FEWP.06.17","EFS+"]
[null,null,null,"FEWP.07.02","Rewitalizacja – Instrumenty finansowe",null,null,null,null,null,null,null,null,null,"FEWP.06.18","EFS+"]
[null,null,null,"FEWP.07.03","Kultura i turystyka",null,null,null,null,null,null,null,null,null,"FEWP.07.01","EFRR"]
[null,null,null,"FEWP.07.04","Wspieranie instrumentów terytorialnych ZIT",null,null,null,null,null,null,null,null,null,"FEWP.07.02","EFRR"]
[null,null,null,"FEWP.08.01","Wspieranie rozwoju programowanego w Lokalnych Strategiach Rozwoju (RLKS)",null,null,null,null,null,null,null,null,null,"FEWP.07.03","EFRR"]
[null,null,null,"FEWP.09.01","Wsparcie pracowników i pracodawców w ramach rozwoju lokalnego",null,null,null,null,null,null,null,null,null,"FEWP.07.04","EFRR"]
[null,null,null,"FEWP.09.02","Edukacja przedszkolna, ogólna oraz kształcenie zawodowe w ramach rozwoju lokalnego",null,null,null,null,null,null,null,null,null,"FEWP.08.01","EFRR"]
[null,null,null,"FEWP.09.03","Uczenie się przez całe życie w ramach rozwoju lokalnego",null,null,null,null,null,null,null,null,null,"FEWP.09.01","EFS+"]
[null,null,null,"FEWP.09.04","Usługi społeczne i zdrowotne w ramach rozwoju lokalnego",null,null,null,null,null,null,null,null,null,"FEWP.09.02","EFS+"]
[null,null,null,"FEWP.09.05","Zarządzanie Lokalnymi Strategiami Rozwoju",null,null,null,null,null,null,null,null,null,"FEWP.09.03","EFS+"]
[null,null,null,"FEWP.09.06","Aktywizacja społeczna osób najbardziej zagrożonych wykluczeniem społecznym, budowanie lokalnego potencjału społeczeństwa obywatelskiego",null,null,null,null,null,null,null,null,null,"FEWP.09.04","EFS+"]
[null,null,null,"FEWP.10.01","Rynek pracy, kształcenie i aktywne społeczeństwo wspierające transformację gospodarki",null,null,null,null,null,null,null,null,null,"FEWP.09.05","EFS+"]
[null,null,null,"FEWP.10.02","Wsparcie inwestycji w MŚP i dużych przedsiębiorstwach",null,null,null,null,null,null,null,null,null,"FEWP.09.06","EFS+"]
[null,null,null,"FEWP.10.03","Budowa ekosystemu instytucji otoczenia biznesu oraz wsparcie publicznej infrastruktury B+R i cyfryzacji administracji publicznej",null,null,null,null,null,null,null,null,null,"FEWP.10.01","FST"]
[null,null,null,"FEWP.10.04","Zregenerowane środowisko przyrodnicze",null,null,null,null,null,null,null,null,null,"FEWP.10.02","FST"]
[null,null,null,"FEWP.10.05","Sprawnie funkcjonujący i zdekarbonizowany transport publiczny",null,null,null,null,null,null,null,null,null,"FEWP.10.03","FST"]
[null,null,null,"FEWP.10.06","Przybliżenie Wielkopolski Wschodniej do osiągniecia neutralności klimatycznej",null,null,null,null,null,null,null,null,null,"FEWP.10.04","FST"]
[null,null,null,"FEWP.10.07","Infrastruktura na rzecz aktywnego społeczeństwa, edukacyjna oraz rewitalizacja wspierające transformację gospodarki",null,null,null,null,null,null,null,null,null,"FEWP.10.05","FST"]
[null,null,null,"FEWP.11.01","Wsparcie instytucji, beneficjentów i partnerów oraz informacja i komunikacja o Programie",null,null,null,null,null,null,null,null,null,"FEWP.10.06","FST"]
[null,null,null,"FEWP.12.01","Zatrudnienie",null,null,null,null,null,null,null,null,null,"FEWP.10.07","FST"]
[null,null,null,"FEWP.13.01","Wsparcie instytucji, beneficjentów i partnerów oraz informacja i komunikacja o Programie",null,null,null,null,null,null,null,null,null,"FEWP.11.01","EFRR PT"]
[null,null,null,null,null,null,null,null,null,null,null,null,null,null,"FEWP.12.01","EFS+ PT"]
[null,null,null,null,null,null,null,null,null,null,null,null,null,null,"FEWP.13.01","FST PT"]